{"text_format":"1","workbook":"xlsx","n_sheets":13,"sheets":["Lifting","Setup","Lists","DATA","Weigh-In","QuickPrint","Awards","SpeakersCard","ContestResults","ContestLog","KG Records","LB Records","Quick-Reference"],"not_rendered":{"charts":1,"images":30,"macros":1,"external_links":3,"defined_names":4,"comments":3,"pivot_tables":0},"unopened":[],"bounds":{"document_bytes":16777216,"sheet_cells":100000,"rows_first":2000,"rows_last":500,"rows_between":2000,"halvings":0,"cell_chars":16384,"cell_head_chars":4096},"cells_cut":0,"cells_raw":0,"read":"whole","date_system":"1900"}

{"sheet":"Lifting","index":0,"n_rows":134,"n_cols":83,"rows_kept":134,"cut":false,"hidden":false,"merged":[[4,0,4,1],[5,0,5,1],[3,2,3,3],[3,4,3,5],[4,2,4,3],[4,4,4,5],[5,2,5,3],[0,0,0,5],[1,3,1,4],[2,0,2,1],[1,0,1,2],[3,0,3,1],[5,4,5,5],[3,6,5,6],[9,35,9,37],[9,47,9,49],[2,2,2,3]]}
["Linda Odum",null,null,null,null,null,null,null,null,null,null,null,null,null,null,null,null,null,null,null,null,null,null,null,null,null,null,null,null,null,null,null,null,null,null,null,null,null,"Best BP","BP"]
[{"$f":"IFERROR(VLOOKUP(INDIRECT(ADDRESS(MATCH(A1,INDIRECT(CONCATENATE(\"B12:B50\")),0)+11,3)),Setup!M1:N200,2,FALSE),\"-\")","v":"Virginia"},null,null,{"$f":"INDIRECT(CONCATENATE(\"F\",MATCH(A1,B:B,0)))","v":84},null,{"$f":"CONCATENATE(RIGHT(E11,2),\" Cls\")","v":"kg Cls"},null,null,null,null,null,null,null,null,null,null,null,null,null,null,null,null,null,null,null,null,null,null,null,null,null,null,null,null,null,null,null,null,"Best DL","DL"]
["Deadlift 3",null,{"$f":"Lists!B36","v":105},null,{"$f":"Setup!G15","v":"Kg"},{"$f":"IF(E3=\"Kg\",C3*2.2046,C3/2.2046)","v":231.483},{"$f":"IF(E3=\"Kg\",\"Lb\",\"Kg\")","v":"Lb"},null,null,null,null,null,null,null,null,null,null,null,null,null,null,null,null,null,null,null,null,null,null,null,null,null,null,null,null,null,null,null,"Best SQ","SQ"]
[{"$f":"VLOOKUP(INDIRECT(ADDRESS(MATCH(A1,INDIRECT(CONCATENATE(\"B12:B50\")),0)+11,4)),Setup!I5:J93,2,FALSE)","v":"Raw Women (70-79)"},null,"Event",null,{"$f":"IF(Setup!B9=\"Powerlifting (3 lift meet)\",\"PL Total\",\"\")","v":"PL Total"},null,{"$f":"IFERROR(IF(OR(C3>C5+G8,C3>C6+G8,G9>E5,G9>E6),\"Record Attempt\",\"\"),\"\")","v":"Record Attempt"},null,null,null,null,null,null,null,null,null,null,null,null,null,null,null,null,null,null,null,null,null,null,null,null,null,null,null,null,null,null,null,"PL Total","PL"]
["Open",null,{"$f":"IFERROR(Lists!F51,10000)","v":175},null,{"$f":"IF(OR(E4=\"\",LEFT(A3,1)=\"S\",LEFT(A3,1)=\"B\"),10000,IFERROR(Lists!F53,10000))","v":402.5},null,null,null,null,null,null,null,null,null,null,null,null,null,null,null,null,null,null,null,null,null,null,null,null,null,null,null,null,null,null,null,null,null,"PP Total","PP"]
[{"$f":"IFERROR(IF(INDIRECT(ADDRESS(MATCH(A1,INDIRECT(CONCATENATE(\"B12:B40\")),0)+11,9))=\"\",\"O\",VLOOKUP(INDIRECT(ADDRESS(MATCH(A1,INDIRECT(CONCATENATE(\"B12:B40\")),0)+11,45)),DATA!E35:F53,2)),\"\")","v":""},null,{"$f":"IFERROR(IF(A6=\"O\",10000,Lists!E51),10000)","v":0},null,{"$f":"IF(OR(E4=\"\",LEFT(A3,1)=\"S\",LEFT(A3,1)=\"B\"),10000,IFERROR(IF(A6=\"O\",10000,Lists!E53),10000))","v":0},null,null,null,null,null,null,null,null,null,null,null,null,null,null,null,null,null,null,null,null,null,null,null,null,null,null,null,null,null,null,null,null,null,"DQ","DQ"]
[null,"Current Status","Good","NoLift","Next","Auto",1,null,null,null,null,null,null,null,null,null,null,null,null,null,null,null,null,null,null,null,null,null,null,null,null,null,null,null,null,null,null,null,"Drug Test","DT",null,null,null,"2018-03-24",null,null,null,null,null,null,null,null,null,null,null,null,null,null,null,null,null,null,null,null,null,null,"div","cls"]
[null,null,{"$f":"CONCATENATE(\"Setup!Q5:Q\",COUNTA(Setup!Q:Q)+4)","v":"Setup!Q5:Q17"},null,null,"Min Increment",{"$f":"IF(Setup!G15=\"Kg\",0.5,1)","v":0.5}]
[null,null,{"$f":"CONCATENATE(\"Lists!E2:E\",COUNTIF(Lists!E1:E12,\"<>\"\"\"))","v":"Lists!E2:E12"},null,null,"Forecast total",{"$f":"INDIRECT(ADDRESS(Lists!B25,51,,,\"Lifting\"))","v":200},null,null,null,null,null,null,null,null,null,null,null,null,null,null,null,null,null,null,null,null,null,null,null,null,null,null,null,"sort",null,null,null,null,null,null,null,null,null,null,null,null,null,null,null,null,null,null,null,null,null,null,null,null,{"$f":"NOW()-TODAY()","v":"17:32:18.020"}]
[{"$f":"CONCATENATE(\"Setup!P5:P\",COUNTA(Setup!Q:Q)+3)","v":"Setup!P5:P16"},{"$f":"CONCATENATE(\"B13:B\",12+COUNTIF(A:A,RIGHT(A11,LEN(A11)-FIND(\" \",A11))))","v":"B13:B26"},{"$f":"CONCATENATE(\"Setup!M6:M\",COUNTA(Setup!M:M)+3)","v":"Setup!M6:M19"},{"$f":"CONCATENATE(\"Setup!I6:I\",COUNTA(Setup!I:I)+3)","v":"Setup!I6:I76"},null,null,{"$f":"INDIRECT(ADDRESS(Lists!B25,26,,,\"Lifting\"))","v":"1/FR-M4a//PL"},null,null,null,null,null,null,null,null,null,null,null,null,null,null,null,null,null,null,null,null,null,null,null,null,null,null,null,"on","Assigned Macro values",null,null,null,null,null,null,null,null,null,null,null,"Forecasts"]
["Flt 2A","Name","Team","Div",{"$f":"'Weigh-In'!F2","v":"Bwt - kg"},{"$f":"IF(Setup!E39=\"IPF Wt Classes\",\"IPF Wt Cls\",\"Hi Sch Wt Cls\")","v":"IPF Wt Cls"},"lot#","Wilks Coeff","DOB","SQ rack","SQ-1","SQ-2","SQ-3","Best SQ","BP rack","BP-1","BP-2","BP-3","Best BP","Sub Total","DL-1","DL-2","DL-3","Best DL","PL Total","Pl/Div/Cls/Event","Forecast\nScore","F'cast Place","Wilks Pts","Age-Wilks","Events Entered","MemberID","State","Flight Sorting",{"$f":"Lists!B31","v":"W"},"SQ time rank","BP time rank","DL/TL rank",{"$f":"VLOOKUP(Y11,AM1:AN7,2,FALSE)","v":"PL"},"Pl Code","tl or coef score",null,"Div Order","DB Div",null,"Wt Cls order",null,"SQ","BP","DL","tl or event","wilks score","wilks & age","score value",null,null,null,null,null,null,null,"Active Lifter Row",{"$f":"Lists!B25","v":48},"Active Lifter Col",{"$f":"Lists!B24","v":23},{"$f":"Lists!B23","v":"DL-3"},{"$f":"Lists!B40","v":"FR-M4a"},{"$f":"Lists!B39","v":84},null,null,null,null,null,null,null,null,null,"Drug tested",null,"Div-Cls","event time","Place","Forecast Place"]
[null,null,null,null,null,{"$f":"IFERROR(VLOOKUP(E12,DATA!$E$2:$G$22,IF(LEFT(D12,1)=\"M\",2,3)),\"\")","v":""},null,{"$f":"IFERROR(IF(LEFT(D12,1)=\"M\",Wilks_Men(IF($E$11=\"Bwt - Lb\",E12/2.2046,E12)),Wilks_Women(IF($E$11=\"Bwt - Lb\",E12/2.2046,E12))),\"\")","v":0},null,null,null,null,null,{"$f":"IF(MAX(K12:M12)<=0,0,MAX(CELL(\"color\",K12)*K12,CELL(\"color\",L12)*L12,CELL(\"color\",M12)*M12))","v":0},null,null,null,null,{"$f":"IF(MAX(P12:R12)<=0,0,MAX(CELL(\"color\",P12)*P12,CELL(\"color\",Q12)*Q12,CELL(\"color\",R12)*R12))","v":0},{"$f":"IF(OR(N12=0,S12=0),0,N12+S12)","v":0},null,null,null,{"$f":"IF(MAX(U12:W12)<=0,0,MAX(CELL(\"color\",U12)*U12,CELL(\"color\",V12)*V12,CELL(\"color\",W12)*W12))","v":0},{"$f":"AM12*IF($AM$11=\"SQ\",N12,IF($AM$11=\"BP\",S12,IF($AM$11=\"DL\",X12,IF($AM$11=\"PP\",IF(OR(S12=0,X12=0),0,S12+X12),IF(OR(T12=0,X12=0),0,T12+X12)))))","v":0},{"$f":"IF(Y12=0,\"\",CONCATENATE(CD12,\"/\",IF(AN12=4,\"Wilks\",D12),\"/\",IF(AN12>1,\"\",F12),\"/\",$AM$11))","v":""},{"$f":"BB12","v":0},{"$f":"IF(AA12=0,\"\",CE12)","v":""},{"$f":"H12*IF($E$3=\"Kg\",Y12,Y12/2.2046)","v":0},{"$f":"IFERROR(VLOOKUP(AS12,DATA!$A$2:$B$63,2,TRUE),0)*AC12","v":0},null,null,null,{"$f":"IFERROR(VLOOKUP(A12,Setup!$Q$5:$R$20,2,FALSE),\"\")","v":""},{"$f":"IF(VALUE(INDIRECT(CONCATENATE($AI$11,ROW())))=0,\"\",ABS(INDIRECT(CONCATENATE($AI$11,ROW())))+0.000001*G12)","v":""},0,0,0,{"$f":"IF(ISERROR(SEARCH($AM$11,AE12)),0,1)","v":0},{"$f":"VLOOKUP(D12,Setup!$I$6:$K$93,3,FALSE)","v":{"$error":"#N/A"}},{"$f":"ROUND(IFERROR(IF(AN12=1,Y12,IF(AN12=2,AC12,IF(AN12=3,AD12,AC12))),0),5)","v":0},null,{"$f":"IFERROR(MATCH(D12,Setup!$I$6:$I$93,0),\"\")","v":""},{"$f":"IFERROR(CONCATENATE(LEFT(D12,FIND(\"-\",D12)),IF(AS12=\"\",\"O\",VLOOKUP(AS12,DATA!$E$35:$F$53,2,TRUE))),\"\")","v":""},{"$f":"IF(YEAR($AR$7)-YEAR(I12)<40,DATEDIF(I12,$AR$7,\"Y\"),YEAR($AR$7)-YEAR(I12))","v":118},{"$f":"IF(AN12=1,MATCH(F12,DATA!$AB$2:$AB$34,0),0)","v":{"$error":"#N/A"}},null,{"$f":"IF(MAX(K12:M12)>0,MAX(K12:M12),0)","v":0},{"$f":"IF(MAX(P12:R12)>0,MAX(P12:R12),0)","v":0},{"$f":"IF(MAX(U12:W12)>0,MAX(U12:W12),0)","v":0},{"$f":"AM12*IF($AM$11=\"PL\",IF(MIN(AV12:AX12)=0,0,AV12+AW12+AX12),IF($AM$11=\"PP\",IF(MIN(AW12:AX12)=0,0,AW12+AX12),IF($AM$11=\"BP\",AW12,IF($AM$11=\"DL\",AX12,AV12))))","v":0},{"$f":"ROUND(AY12*H12,5)","v":0},{"$f":"ROUND(IFERROR(VLOOKUP(AS12,DATA!$A$2:$B$63,2,FALSE),1)*AZ12,5)","v":0},{"$f":"IFERROR(IF(AN12=1,AY12,IF(AN12=2,AZ12,IF(AN12=3,BA12,AZ12))),0)","v":0},null,null,null,null,null,null,null,null,null,null,null,null,null,null,null,null,null,null,null,null,null,null,null,{"$f":"IFERROR(IF(FIND(\"DT\",AE12),\"Y\",\"\"),\"\")","v":""},null,{"$f":"CONCATENATE(IF(AN12=4,\"\",D12),IF(AN12=1,F12,\"\"))","v":{"$error":"#N/A"}},{"$f":"IF($AM$11=\"SQ\",AJ12,IF($AM$11=\"BP\",AK12,AL12))","v":0},{"$f":"1+COUNTIFS(INDIRECT(\"AN12:AN500\"),AN12,INDIRECT(\"CB12:CB500\"),CB12,INDIRECT(\"AO12:AO500\"),\">\"&AO12)\n+COUNTIFS(INDIRECT(\"AO12:AO500\"),AO12,INDIRECT(\"AN12:AN500\"),1,INDIRECT(\"CB12:CB500\"),CB12,INDIRECT(\"E12:E500\"),\"<\"&E12)\n+COUNTIFS(INDIRECT(\"AO12:AO500\"),AO12,INDIRECT(\"AN12:AN500\"),1,INDIRECT(\"CB12:CB500\"),CB12,INDIRECT(\"E12:E500\"),E12,INDIRECT(\"CC12:CC500\"),\"<\"&CC12)","v":1},{"$f":"1+COUNTIFS(INDIRECT(\"AN12:AN500\"),AN12,INDIRECT(\"CB12:CB500\"),CB12,INDIRECT(\"BB12:BB500\"),\">\"&BB12)\n+COUNTIFS(INDIRECT(\"BB12:BB500\"),BB12,INDIRECT(\"AN12:AN500\"),1,INDIRECT(\"CB12:CB500\"),CB12,INDIRECT(\"E12:E500\"),\"<\"&E12)","v":1}]
["2A","Heather Faas","SC","FR-O",51.8,{"$f":"IFERROR(VLOOKUP(E13,DATA!$E$2:$G$22,IF(LEFT(D13,1)=\"M\",2,3)),\"\")","v":52},301,{"$f":"IFERROR(IF(LEFT(D13,1)=\"M\",Wilks_Men(IF($E$11=\"Bwt - Lb\",E13/2.2046,E13)),Wilks_Women(IF($E$11=\"Bwt - Lb\",E13/2.2046,E13))),\"\")","v":1.2503999471664429},"1983-04-08","9",117.5,122.5,125,{"$f":"IF(MAX(K13:M13)<=0,0,MAX(CELL(\"color\",K13)*K13,CELL(\"color\",L13)*L13,CELL(\"color\",M13)*M13))","v":125},"8-3",62.5,65,67.5,{"$f":"IF(MAX(P13:R13)<=0,0,MAX(CELL(\"color\",P13)*P13,CELL(\"color\",Q13)*Q13,CELL(\"color\",R13)*R13))","v":67.5},{"$f":"IF(OR(N13=0,S13=0),0,N13+S13)","v":192.5},150,157.5,-165,{"$f":"IF(MAX(U13:W13)<=0,0,MAX(CELL(\"color\",U13)*U13,CELL(\"color\",V13)*V13,CELL(\"color\",W13)*W13))","v":157.5},{"$f":"AM13*IF($AM$11=\"SQ\",N13,IF($AM$11=\"BP\",S13,IF($AM$11=\"DL\",X13,IF($AM$11=\"PP\",IF(OR(S13=0,X13=0),0,S13+X13),IF(OR(T13=0,X13=0),0,T13+X13)))))","v":350},{"$f":"IF(Y13=0,\"\",CONCATENATE(CD13,\"/\",IF(AN13=4,\"Wilks\",D13),\"/\",IF(AN13>1,\"\",F13),\"/\",$AM$11))","v":"1/FR-O/52/PL"},{"$f":"BB13","v":350},{"$f":"IF(AA13=0,\"\",CE13)","v":1},{"$f":"H13*IF($E$3=\"Kg\",Y13,Y13/2.2046)","v":437.639981508255},{"$f":"IFERROR(VLOOKUP(AS13,DATA!$A$2:$B$63,2,TRUE),0)*AC13","v":437.639981508255},"PL",908764,"SC",{"$f":"IFERROR(VLOOKUP(A13,Setup!$Q$5:$R$20,2,FALSE),\"\")","v":0},{"$f":"IF(VALUE(INDIRECT(CONCATENATE($AI$11,ROW())))=0,\"\",ABS(INDIRECT(CONCATENATE($AI$11,ROW())))+0.000001*G13)","v":165.00030100000001},35,24,25,{"$f":"IF(ISERROR(SEARCH($AM$11,AE13)),0,1)","v":1},{"$f":"VLOOKUP(D13,Setup!$I$6:$K$93,3,FALSE)","v":1},{"$f":"ROUND(IFERROR(IF(AN13=1,Y13,IF(AN13=2,AC13,IF(AN13=3,AD13,AC13))),0),5)","v":350},null,{"$f":"IFERROR(MATCH(D13,Setup!$I$6:$I$93,0),\"\")","v":8},{"$f":"IFERROR(CONCATENATE(LEFT(D13,FIND(\"-\",D13)),IF(AS13=\"\",\"O\",VLOOKUP(AS13,DATA!$E$35:$F$53,2,TRUE))),\"\")","v":"FR-O"},{"$f":"IF(YEAR($AR$7)-YEAR(I13)<40,DATEDIF(I13,$AR$7,\"Y\"),YEAR($AR$7)-YEAR(I13))","v":34},{"$f":"IF(AN13=1,MATCH(F13,DATA!$AB$2:$AB$34,0),0)","v":8},null,{"$f":"IF(MAX(K13:M13)>0,MAX(K13:M13),0)","v":125},{"$f":"IF(MAX(P13:R13)>0,MAX(P13:R13),0)","v":67.5},{"$f":"IF(MAX(U13:W13)>0,MAX(U13:W13),0)","v":157.5},{"$f":"AM13*IF($AM$11=\"PL\",IF(MIN(AV13:AX13)=0,0,AV13+AW13+AX13),IF($AM$11=\"PP\",IF(MIN(AW13:AX13)=0,0,AW13+AX13),IF($AM$11=\"BP\",AW13,IF($AM$11=\"DL\",AX13,AV13))))","v":350},{"$f":"ROUND(AY13*H13,5)","v":437.63997999999998},{"$f":"ROUND(IFERROR(VLOOKUP(AS13,DATA!$A$2:$B$63,2,FALSE),1)*AZ13,5)","v":437.63997999999998},{"$f":"IFERROR(IF(AN13=1,AY13,IF(AN13=2,AZ13,IF(AN13=3,BA13,AZ13))),0)","v":350},null,null,null,null,null,null,null,null,null,null,null,null,null,null,null,null,null,null,null,null,null,null,null,{"$f":"IFERROR(IF(FIND(\"DT\",AE13),\"Y\",\"\"),\"\")","v":""},null,{"$f":"CONCATENATE(IF(AN13=4,\"\",D13),IF(AN13=1,F13,\"\"))","v":"FR-O52"},{"$f":"IF($AM$11=\"SQ\",AJ13,IF($AM$11=\"BP\",AK13,AL13))","v":25},{"$f":"1+COUNTIFS(INDIRECT(\"AN12:AN500\"),AN13,INDIRECT(\"CB12:CB500\"),CB13,INDIRECT(\"AO12:AO500\"),\">\"&AO13)\n+COUNTIFS(INDIRECT(\"AO12:AO500\"),AO13,INDIRECT(\"AN12:AN500\"),1,INDIRECT(\"CB12:CB500\"),CB13,INDIRECT(\"E12:E500\"),\"<\"&E13)\n+COUNTIFS(INDIRECT(\"AO12:AO500\"),AO13,INDIRECT(\"AN12:AN500\"),1,INDIRECT(\"CB12:CB500\"),CB13,INDIRECT(\"E12:E500\"),E13,INDIRECT(\"CC12:CC500\"),\"<\"&CC13)","v":1},{"$f":"1+COUNTIFS(INDIRECT(\"AN12:AN500\"),AN13,INDIRECT(\"CB12:CB500\"),CB13,INDIRECT(\"BB12:BB500\"),\">\"&BB13)\n+COUNTIFS(INDIRECT(\"BB12:BB500\"),BB13,INDIRECT(\"AN12:AN500\"),1,INDIRECT(\"CB12:CB500\"),CB13,INDIRECT(\"E12:E500\"),\"<\"&E13)","v":1}]
["2A","Karen Naegel","SC","FR-O",55.9,{"$f":"IFERROR(VLOOKUP(E14,DATA!$E$2:$G$22,IF(LEFT(D14,1)=\"M\",2,3)),\"\")","v":57},310,{"$f":"IFERROR(IF(LEFT(D14,1)=\"M\",Wilks_Men(IF($E$11=\"Bwt - Lb\",E14/2.2046,E14)),Wilks_Women(IF($E$11=\"Bwt - Lb\",E14/2.2046,E14))),\"\")","v":1.1783000230789185},"1972-07-21","11",-95,95,97.5,{"$f":"IF(MAX(K14:M14)<=0,0,MAX(CELL(\"color\",K14)*K14,CELL(\"color\",L14)*L14,CELL(\"color\",M14)*M14))","v":97.5},"12-5",57.5,-60,-60,{"$f":"IF(MAX(P14:R14)<=0,0,MAX(CELL(\"color\",P14)*P14,CELL(\"color\",Q14)*Q14,CELL(\"color\",R14)*R14))","v":57.5},{"$f":"IF(OR(N14=0,S14=0),0,N14+S14)","v":155},130,135,142.5,{"$f":"IF(MAX(U14:W14)<=0,0,MAX(CELL(\"color\",U14)*U14,CELL(\"color\",V14)*V14,CELL(\"color\",W14)*W14))","v":142.5},{"$f":"AM14*IF($AM$11=\"SQ\",N14,IF($AM$11=\"BP\",S14,IF($AM$11=\"DL\",X14,IF($AM$11=\"PP\",IF(OR(S14=0,X14=0),0,S14+X14),IF(OR(T14=0,X14=0),0,T14+X14)))))","v":297.5},{"$f":"IF(Y14=0,\"\",CONCATENATE(CD14,\"/\",IF(AN14=4,\"Wilks\",D14),\"/\",IF(AN14>1,\"\",F14),\"/\",$AM$11))","v":"1/FR-O/57/PL"},{"$f":"BB14","v":297.5},{"$f":"IF(AA14=0,\"\",CE14)","v":1},{"$f":"H14*IF($E$3=\"Kg\",Y14,Y14/2.2046)","v":350.54425686597824},{"$f":"IFERROR(VLOOKUP(AS14,DATA!$A$2:$B$63,2,TRUE),0)*AC14","v":374.38126633286475},"PL",1003204,"SC",{"$f":"IFERROR(VLOOKUP(A14,Setup!$Q$5:$R$20,2,FALSE),\"\")","v":0},{"$f":"IF(VALUE(INDIRECT(CONCATENATE($AI$11,ROW())))=0,\"\",ABS(INDIRECT(CONCATENATE($AI$11,ROW())))+0.000001*G14)","v":142.50031000000001},28,8,37,{"$f":"IF(ISERROR(SEARCH($AM$11,AE14)),0,1)","v":1},{"$f":"VLOOKUP(D14,Setup!$I$6:$K$93,3,FALSE)","v":1},{"$f":"ROUND(IFERROR(IF(AN14=1,Y14,IF(AN14=2,AC14,IF(AN14=3,AD14,AC14))),0),5)","v":297.5},null,{"$f":"IFERROR(MATCH(D14,Setup!$I$6:$I$93,0),\"\")","v":8},{"$f":"IFERROR(CONCATENATE(LEFT(D14,FIND(\"-\",D14)),IF(AS14=\"\",\"O\",VLOOKUP(AS14,DATA!$E$35:$F$53,2,TRUE))),\"\")","v":"FR-M1b"},{"$f":"IF(YEAR($AR$7)-YEAR(I14)<40,DATEDIF(I14,$AR$7,\"Y\"),YEAR($AR$7)-YEAR(I14))","v":46},{"$f":"IF(AN14=1,MATCH(F14,DATA!$AB$2:$AB$34,0),0)","v":11},null,{"$f":"IF(MAX(K14:M14)>0,MAX(K14:M14),0)","v":97.5},{"$f":"IF(MAX(P14:R14)>0,MAX(P14:R14),0)","v":57.5},{"$f":"IF(MAX(U14:W14)>0,MAX(U14:W14),0)","v":142.5},{"$f":"AM14*IF($AM$11=\"PL\",IF(MIN(AV14:AX14)=0,0,AV14+AW14+AX14),IF($AM$11=\"PP\",IF(MIN(AW14:AX14)=0,0,AW14+AX14),IF($AM$11=\"BP\",AW14,IF($AM$11=\"DL\",AX14,AV14))))","v":297.5},{"$f":"ROUND(AY14*H14,5)","v":350.54426000000001},{"$f":"ROUND(IFERROR(VLOOKUP(AS14,DATA!$A$2:$B$63,2,FALSE),1)*AZ14,5)","v":374.38126999999997},{"$f":"IFERROR(IF(AN14=1,AY14,IF(AN14=2,AZ14,IF(AN14=3,BA14,AZ14))),0)","v":297.5},null,null,null,null,null,null,null,null,null,null,null,null,null,null,null,null,null,null,null,null,null,null,null,{"$f":"IFERROR(IF(FIND(\"DT\",AE14),\"Y\",\"\"),\"\")","v":""},null,{"$f":"CONCATENATE(IF(AN14=4,\"\",D14),IF(AN14=1,F14,\"\"))","v":"FR-O57"},{"$f":"IF($AM$11=\"SQ\",AJ14,IF($AM$11=\"BP\",AK14,AL14))","v":37},{"$f":"1+COUNTIFS(INDIRECT(\"AN12:AN500\"),AN14,INDIRECT(\"CB12:CB500\"),CB14,INDIRECT(\"AO12:AO500\"),\">\"&AO14)\n+COUNTIFS(INDIRECT(\"AO12:AO500\"),AO14,INDIRECT(\"AN12:AN500\"),1,INDIRECT(\"CB12:CB500\"),CB14,INDIRECT(\"E12:E500\"),\"<\"&E14)\n+COUNTIFS(INDIRECT(\"AO12:AO500\"),AO14,INDIRECT(\"AN12:AN500\"),1,INDIRECT(\"CB12:CB500\"),CB14,INDIRECT(\"E12:E500\"),E14,INDIRECT(\"CC12:CC500\"),\"<\"&CC14)","v":1},{"$f":"1+COUNTIFS(INDIRECT(\"AN12:AN500\"),AN14,INDIRECT(\"CB12:CB500\"),CB14,INDIRECT(\"BB12:BB500\"),\">\"&BB14)\n+COUNTIFS(INDIRECT(\"BB12:BB500\"),BB14,INDIRECT(\"AN12:AN500\"),1,INDIRECT(\"CB12:CB500\"),CB14,INDIRECT(\"E12:E500\"),\"<\"&E14)","v":1}]
["2A","Lisa Womble","NC","FR-O",55.4,{"$f":"IFERROR(VLOOKUP(E15,DATA!$E$2:$G$22,IF(LEFT(D15,1)=\"M\",2,3)),\"\")","v":57},305,{"$f":"IFERROR(IF(LEFT(D15,1)=\"M\",Wilks_Men(IF($E$11=\"Bwt - Lb\",E15/2.2046,E15)),Wilks_Women(IF($E$11=\"Bwt - Lb\",E15/2.2046,E15))),\"\")","v":1.1865999698638916},"1977-03-29","11",95,-100,105,{"$f":"IF(MAX(K15:M15)<=0,0,MAX(CELL(\"color\",K15)*K15,CELL(\"color\",L15)*L15,CELL(\"color\",M15)*M15))","v":105},"14-4",52.5,57.5,-60,{"$f":"IF(MAX(P15:R15)<=0,0,MAX(CELL(\"color\",P15)*P15,CELL(\"color\",Q15)*Q15,CELL(\"color\",R15)*R15))","v":57.5},{"$f":"IF(OR(N15=0,S15=0),0,N15+S15)","v":162.5},112.5,122.5,130,{"$f":"IF(MAX(U15:W15)<=0,0,MAX(CELL(\"color\",U15)*U15,CELL(\"color\",V15)*V15,CELL(\"color\",W15)*W15))","v":130},{"$f":"AM15*IF($AM$11=\"SQ\",N15,IF($AM$11=\"BP\",S15,IF($AM$11=\"DL\",X15,IF($AM$11=\"PP\",IF(OR(S15=0,X15=0),0,S15+X15),IF(OR(T15=0,X15=0),0,T15+X15)))))","v":292.5},{"$f":"IF(Y15=0,\"\",CONCATENATE(CD15,\"/\",IF(AN15=4,\"Wilks\",D15),\"/\",IF(AN15>1,\"\",F15),\"/\",$AM$11))","v":"2/FR-O/57/PL"},{"$f":"BB15","v":292.5},{"$f":"IF(AA15=0,\"\",CE15)","v":2},{"$f":"H15*IF($E$3=\"Kg\",Y15,Y15/2.2046)","v":347.08049118518829},{"$f":"IFERROR(VLOOKUP(AS15,DATA!$A$2:$B$63,2,TRUE),0)*AC15","v":350.55129609704017},"PL",992752,"NC",{"$f":"IFERROR(VLOOKUP(A15,Setup!$Q$5:$R$20,2,FALSE),\"\")","v":0},{"$f":"IF(VALUE(INDIRECT(CONCATENATE($AI$11,ROW())))=0,\"\",ABS(INDIRECT(CONCATENATE($AI$11,ROW())))+0.000001*G15)","v":130.000305},30,15,32,{"$f":"IF(ISERROR(SEARCH($AM$11,AE15)),0,1)","v":1},{"$f":"VLOOKUP(D15,Setup!$I$6:$K$93,3,FALSE)","v":1},{"$f":"ROUND(IFERROR(IF(AN15=1,Y15,IF(AN15=2,AC15,IF(AN15=3,AD15,AC15))),0),5)","v":292.5},null,{"$f":"IFERROR(MATCH(D15,Setup!$I$6:$I$93,0),\"\")","v":8},{"$f":"IFERROR(CONCATENATE(LEFT(D15,FIND(\"-\",D15)),IF(AS15=\"\",\"O\",VLOOKUP(AS15,DATA!$E$35:$F$53,2,TRUE))),\"\")","v":"FR-M1a"},{"$f":"IF(YEAR($AR$7)-YEAR(I15)<40,DATEDIF(I15,$AR$7,\"Y\"),YEAR($AR$7)-YEAR(I15))","v":41},{"$f":"IF(AN15=1,MATCH(F15,DATA!$AB$2:$AB$34,0),0)","v":11},null,{"$f":"IF(MAX(K15:M15)>0,MAX(K15:M15),0)","v":105},{"$f":"IF(MAX(P15:R15)>0,MAX(P15:R15),0)","v":57.5},{"$f":"IF(MAX(U15:W15)>0,MAX(U15:W15),0)","v":130},{"$f":"AM15*IF($AM$11=\"PL\",IF(MIN(AV15:AX15)=0,0,AV15+AW15+AX15),IF($AM$11=\"PP\",IF(MIN(AW15:AX15)=0,0,AW15+AX15),IF($AM$11=\"BP\",AW15,IF($AM$11=\"DL\",AX15,AV15))))","v":292.5},{"$f":"ROUND(AY15*H15,5)","v":347.08049},{"$f":"ROUND(IFERROR(VLOOKUP(AS15,DATA!$A$2:$B$63,2,FALSE),1)*AZ15,5)","v":350.55128999999999},{"$f":"IFERROR(IF(AN15=1,AY15,IF(AN15=2,AZ15,IF(AN15=3,BA15,AZ15))),0)","v":292.5},null,null,null,null,null,null,null,null,null,null,null,null,null,null,null,null,null,null,null,null,null,null,null,{"$f":"IFERROR(IF(FIND(\"DT\",AE15),\"Y\",\"\"),\"\")","v":""},null,{"$f":"CONCATENATE(IF(AN15=4,\"\",D15),IF(AN15=1,F15,\"\"))","v":"FR-O57"},{"$f":"IF($AM$11=\"SQ\",AJ15,IF($AM$11=\"BP\",AK15,AL15))","v":32},{"$f":"1+COUNTIFS(INDIRECT(\"AN12:AN500\"),AN15,INDIRECT(\"CB12:CB500\"),CB15,INDIRECT(\"AO12:AO500\"),\">\"&AO15)\n+COUNTIFS(INDIRECT(\"AO12:AO500\"),AO15,INDIRECT(\"AN12:AN500\"),1,INDIRECT(\"CB12:CB500\"),CB15,INDIRECT(\"E12:E500\"),\"<\"&E15)\n+COUNTIFS(INDIRECT(\"AO12:AO500\"),AO15,INDIRECT(\"AN12:AN500\"),1,INDIRECT(\"CB12:CB500\"),CB15,INDIRECT(\"E12:E500\"),E15,INDIRECT(\"CC12:CC500\"),\"<\"&CC15)","v":2},{"$f":"1+COUNTIFS(INDIRECT(\"AN12:AN500\"),AN15,INDIRECT(\"CB12:CB500\"),CB15,INDIRECT(\"BB12:BB500\"),\">\"&BB15)\n+COUNTIFS(INDIRECT(\"BB12:BB500\"),BB15,INDIRECT(\"AN12:AN500\"),1,INDIRECT(\"CB12:CB500\"),CB15,INDIRECT(\"E12:E500\"),\"<\"&E15)","v":2}]
["2A","Arielle Patra","NC","FR-O",56.85,{"$f":"IFERROR(VLOOKUP(E16,DATA!$E$2:$G$22,IF(LEFT(D16,1)=\"M\",2,3)),\"\")","v":57},302,{"$f":"IFERROR(IF(LEFT(D16,1)=\"M\",Wilks_Men(IF($E$11=\"Bwt - Lb\",E16/2.2046,E16)),Wilks_Women(IF($E$11=\"Bwt - Lb\",E16/2.2046,E16))),\"\")","v":1.1627999544143677},"1997-05-16","12",85,100,105,{"$f":"IF(MAX(K16:M16)<=0,0,MAX(CELL(\"color\",K16)*K16,CELL(\"color\",L16)*L16,CELL(\"color\",M16)*M16))","v":105},"11-5",42.5,47.5,-55,{"$f":"IF(MAX(P16:R16)<=0,0,MAX(CELL(\"color\",P16)*P16,CELL(\"color\",Q16)*Q16,CELL(\"color\",R16)*R16))","v":47.5},{"$f":"IF(OR(N16=0,S16=0),0,N16+S16)","v":152.5},-115,125,140,{"$f":"IF(MAX(U16:W16)<=0,0,MAX(CELL(\"color\",U16)*U16,CELL(\"color\",V16)*V16,CELL(\"color\",W16)*W16))","v":140},{"$f":"AM16*IF($AM$11=\"SQ\",N16,IF($AM$11=\"BP\",S16,IF($AM$11=\"DL\",X16,IF($AM$11=\"PP\",IF(OR(S16=0,X16=0),0,S16+X16),IF(OR(T16=0,X16=0),0,T16+X16)))))","v":292.5},{"$f":"IF(Y16=0,\"\",CONCATENATE(CD16,\"/\",IF(AN16=4,\"Wilks\",D16),\"/\",IF(AN16>1,\"\",F16),\"/\",$AM$11))","v":"3/FR-O/57/PL"},{"$f":"BB16","v":292.5},{"$f":"IF(AA16=0,\"\",CE16)","v":3},{"$f":"H16*IF($E$3=\"Kg\",Y16,Y16/2.2046)","v":340.11898666620255},{"$f":"IFERROR(VLOOKUP(AS16,DATA!$A$2:$B$63,2,TRUE),0)*AC16","v":350.32255626618866},"PL",null,"NC",{"$f":"IFERROR(VLOOKUP(A16,Setup!$Q$5:$R$20,2,FALSE),\"\")","v":0},{"$f":"IF(VALUE(INDIRECT(CONCATENATE($AI$11,ROW())))=0,\"\",ABS(INDIRECT(CONCATENATE($AI$11,ROW())))+0.000001*G16)","v":140.000302},29,14,36,{"$f":"IF(ISERROR(SEARCH($AM$11,AE16)),0,1)","v":1},{"$f":"VLOOKUP(D16,Setup!$I$6:$K$93,3,FALSE)","v":1},{"$f":"ROUND(IFERROR(IF(AN16=1,Y16,IF(AN16=2,AC16,IF(AN16=3,AD16,AC16))),0),5)","v":292.5},null,{"$f":"IFERROR(MATCH(D16,Setup!$I$6:$I$93,0),\"\")","v":8},{"$f":"IFERROR(CONCATENATE(LEFT(D16,FIND(\"-\",D16)),IF(AS16=\"\",\"O\",VLOOKUP(AS16,DATA!$E$35:$F$53,2,TRUE))),\"\")","v":"FR-Jr"},{"$f":"IF(YEAR($AR$7)-YEAR(I16)<40,DATEDIF(I16,$AR$7,\"Y\"),YEAR($AR$7)-YEAR(I16))","v":20},{"$f":"IF(AN16=1,MATCH(F16,DATA!$AB$2:$AB$34,0),0)","v":11},null,{"$f":"IF(MAX(K16:M16)>0,MAX(K16:M16),0)","v":105},{"$f":"IF(MAX(P16:R16)>0,MAX(P16:R16),0)","v":47.5},{"$f":"IF(MAX(U16:W16)>0,MAX(U16:W16),0)","v":140},{"$f":"AM16*IF($AM$11=\"PL\",IF(MIN(AV16:AX16)=0,0,AV16+AW16+AX16),IF($AM$11=\"PP\",IF(MIN(AW16:AX16)=0,0,AW16+AX16),IF($AM$11=\"BP\",AW16,IF($AM$11=\"DL\",AX16,AV16))))","v":292.5},{"$f":"ROUND(AY16*H16,5)","v":340.11899},{"$f":"ROUND(IFERROR(VLOOKUP(AS16,DATA!$A$2:$B$63,2,FALSE),1)*AZ16,5)","v":350.32256000000001},{"$f":"IFERROR(IF(AN16=1,AY16,IF(AN16=2,AZ16,IF(AN16=3,BA16,AZ16))),0)","v":292.5},null,null,null,null,null,null,null,null,null,null,null,null,null,null,null,null,null,null,null,null,null,null,null,{"$f":"IFERROR(IF(FIND(\"DT\",AE16),\"Y\",\"\"),\"\")","v":""},null,{"$f":"CONCATENATE(IF(AN16=4,\"\",D16),IF(AN16=1,F16,\"\"))","v":"FR-O57"},{"$f":"IF($AM$11=\"SQ\",AJ16,IF($AM$11=\"BP\",AK16,AL16))","v":36},{"$f":"1+COUNTIFS(INDIRECT(\"AN12:AN500\"),AN16,INDIRECT(\"CB12:CB500\"),CB16,INDIRECT(\"AO12:AO500\"),\">\"&AO16)\n+COUNTIFS(INDIRECT(\"AO12:AO500\"),AO16,INDIRECT(\"AN12:AN500\"),1,INDIRECT(\"CB12:CB500\"),CB16,INDIRECT(\"E12:E500\"),\"<\"&E16)\n+COUNTIFS(INDIRECT(\"AO12:AO500\"),AO16,INDIRECT(\"AN12:AN500\"),1,INDIRECT(\"CB12:CB500\"),CB16,INDIRECT(\"E12:E500\"),E16,INDIRECT(\"CC12:CC500\"),\"<\"&CC16)","v":3},{"$f":"1+COUNTIFS(INDIRECT(\"AN12:AN500\"),AN16,INDIRECT(\"CB12:CB500\"),CB16,INDIRECT(\"BB12:BB500\"),\">\"&BB16)\n+COUNTIFS(INDIRECT(\"BB12:BB500\"),BB16,INDIRECT(\"AN12:AN500\"),1,INDIRECT(\"CB12:CB500\"),CB16,INDIRECT(\"E12:E500\"),\"<\"&E16)","v":3}]
["2A","Jerri Lamar","NC","FR-O",56.5,{"$f":"IFERROR(VLOOKUP(E17,DATA!$E$2:$G$22,IF(LEFT(D17,1)=\"M\",2,3)),\"\")","v":57},303,{"$f":"IFERROR(IF(LEFT(D17,1)=\"M\",Wilks_Men(IF($E$11=\"Bwt - Lb\",E17/2.2046,E17)),Wilks_Women(IF($E$11=\"Bwt - Lb\",E17/2.2046,E17))),\"\")","v":1.1684000492095947},"1989-05-04","10",102.5,107.5,-110,{"$f":"IF(MAX(K17:M17)<=0,0,MAX(CELL(\"color\",K17)*K17,CELL(\"color\",L17)*L17,CELL(\"color\",M17)*M17))","v":107.5},"11-4",-55,-55,-55,{"$f":"IF(MAX(P17:R17)<=0,0,MAX(CELL(\"color\",P17)*P17,CELL(\"color\",Q17)*Q17,CELL(\"color\",R17)*R17))","v":0},{"$f":"IF(OR(N17=0,S17=0),0,N17+S17)","v":0},110,112.5,115,{"$f":"IF(MAX(U17:W17)<=0,0,MAX(CELL(\"color\",U17)*U17,CELL(\"color\",V17)*V17,CELL(\"color\",W17)*W17))","v":115},{"$f":"AM17*IF($AM$11=\"SQ\",N17,IF($AM$11=\"BP\",S17,IF($AM$11=\"DL\",X17,IF($AM$11=\"PP\",IF(OR(S17=0,X17=0),0,S17+X17),IF(OR(T17=0,X17=0),0,T17+X17)))))","v":0},{"$f":"IF(Y17=0,\"\",CONCATENATE(CD17,\"/\",IF(AN17=4,\"Wilks\",D17),\"/\",IF(AN17>1,\"\",F17),\"/\",$AM$11))","v":""},{"$f":"BB17","v":0},{"$f":"IF(AA17=0,\"\",CE17)","v":""},{"$f":"H17*IF($E$3=\"Kg\",Y17,Y17/2.2046)","v":0},{"$f":"IFERROR(VLOOKUP(AS17,DATA!$A$2:$B$63,2,TRUE),0)*AC17","v":0},"PL",959966,"NC",{"$f":"IFERROR(VLOOKUP(A17,Setup!$Q$5:$R$20,2,FALSE),\"\")","v":0},{"$f":"IF(VALUE(INDIRECT(CONCATENATE($AI$11,ROW())))=0,\"\",ABS(INDIRECT(CONCATENATE($AI$11,ROW())))+0.000001*G17)","v":115.000303},20,0,28,{"$f":"IF(ISERROR(SEARCH($AM$11,AE17)),0,1)","v":1},{"$f":"VLOOKUP(D17,Setup!$I$6:$K$93,3,FALSE)","v":1},{"$f":"ROUND(IFERROR(IF(AN17=1,Y17,IF(AN17=2,AC17,IF(AN17=3,AD17,AC17))),0),5)","v":0},null,{"$f":"IFERROR(MATCH(D17,Setup!$I$6:$I$93,0),\"\")","v":8},{"$f":"IFERROR(CONCATENATE(LEFT(D17,FIND(\"-\",D17)),IF(AS17=\"\",\"O\",VLOOKUP(AS17,DATA!$E$35:$F$53,2,TRUE))),\"\")","v":"FR-O"},{"$f":"IF(YEAR($AR$7)-YEAR(I17)<40,DATEDIF(I17,$AR$7,\"Y\"),YEAR($AR$7)-YEAR(I17))","v":28},{"$f":"IF(AN17=1,MATCH(F17,DATA!$AB$2:$AB$34,0),0)","v":11},null,{"$f":"IF(MAX(K17:M17)>0,MAX(K17:M17),0)","v":107.5},{"$f":"IF(MAX(P17:R17)>0,MAX(P17:R17),0)","v":0},{"$f":"IF(MAX(U17:W17)>0,MAX(U17:W17),0)","v":115},{"$f":"AM17*IF($AM$11=\"PL\",IF(MIN(AV17:AX17)=0,0,AV17+AW17+AX17),IF($AM$11=\"PP\",IF(MIN(AW17:AX17)=0,0,AW17+AX17),IF($AM$11=\"BP\",AW17,IF($AM$11=\"DL\",AX17,AV17))))","v":0},{"$f":"ROUND(AY17*H17,5)","v":0},{"$f":"ROUND(IFERROR(VLOOKUP(AS17,DATA!$A$2:$B$63,2,FALSE),1)*AZ17,5)","v":0},{"$f":"IFERROR(IF(AN17=1,AY17,IF(AN17=2,AZ17,IF(AN17=3,BA17,AZ17))),0)","v":0},null,null,null,null,null,null,null,null,null,null,null,null,null,null,null,null,null,null,null,null,null,null,null,{"$f":"IFERROR(IF(FIND(\"DT\",AE17),\"Y\",\"\"),\"\")","v":""},null,{"$f":"CONCATENATE(IF(AN17=4,\"\",D17),IF(AN17=1,F17,\"\"))","v":"FR-O57"},{"$f":"IF($AM$11=\"SQ\",AJ17,IF($AM$11=\"BP\",AK17,AL17))","v":28},{"$f":"1+COUNTIFS(INDIRECT(\"AN12:AN500\"),AN17,INDIRECT(\"CB12:CB500\"),CB17,INDIRECT(\"AO12:AO500\"),\">\"&AO17)\n+COUNTIFS(INDIRECT(\"AO12:AO500\"),AO17,INDIRECT(\"AN12:AN500\"),1,INDIRECT(\"CB12:CB500\"),CB17,INDIRECT(\"E12:E500\"),\"<\"&E17)\n+COUNTIFS(INDIRECT(\"AO12:AO500\"),AO17,INDIRECT(\"AN12:AN500\"),1,INDIRECT(\"CB12:CB500\"),CB17,INDIRECT(\"E12:E500\"),E17,INDIRECT(\"CC12:CC500\"),\"<\"&CC17)","v":4},{"$f":"1+COUNTIFS(INDIRECT(\"AN12:AN500\"),AN17,INDIRECT(\"CB12:CB500\"),CB17,INDIRECT(\"BB12:BB500\"),\">\"&BB17)\n+COUNTIFS(INDIRECT(\"BB12:BB500\"),BB17,INDIRECT(\"AN12:AN500\"),1,INDIRECT(\"CB12:CB500\"),CB17,INDIRECT(\"E12:E500\"),\"<\"&E17)","v":4}]
["2A","Amy Mason","NC","FR-O",62.4,{"$f":"IFERROR(VLOOKUP(E18,DATA!$E$2:$G$22,IF(LEFT(D18,1)=\"M\",2,3)),\"\")","v":63},309,{"$f":"IFERROR(IF(LEFT(D18,1)=\"M\",Wilks_Men(IF($E$11=\"Bwt - Lb\",E18/2.2046,E18)),Wilks_Women(IF($E$11=\"Bwt - Lb\",E18/2.2046,E18))),\"\")","v":1.0817999839782715},"1976-03-17","6",132.5,137.5,-140,{"$f":"IF(MAX(K18:M18)<=0,0,MAX(CELL(\"color\",K18)*K18,CELL(\"color\",L18)*L18,CELL(\"color\",M18)*M18))","v":137.5},"9-4",62.5,65,-67.5,{"$f":"IF(MAX(P18:R18)<=0,0,MAX(CELL(\"color\",P18)*P18,CELL(\"color\",Q18)*Q18,CELL(\"color\",R18)*R18))","v":65},{"$f":"IF(OR(N18=0,S18=0),0,N18+S18)","v":202.5},150,157.5,165,{"$f":"IF(MAX(U18:W18)<=0,0,MAX(CELL(\"color\",U18)*U18,CELL(\"color\",V18)*V18,CELL(\"color\",W18)*W18))","v":165},{"$f":"AM18*IF($AM$11=\"SQ\",N18,IF($AM$11=\"BP\",S18,IF($AM$11=\"DL\",X18,IF($AM$11=\"PP\",IF(OR(S18=0,X18=0),0,S18+X18),IF(OR(T18=0,X18=0),0,T18+X18)))))","v":367.5},{"$f":"IF(Y18=0,\"\",CONCATENATE(CD18,\"/\",IF(AN18=4,\"Wilks\",D18),\"/\",IF(AN18>1,\"\",F18),\"/\",$AM$11))","v":"1/FR-O/63/PL"},{"$f":"BB18","v":367.5},{"$f":"IF(AA18=0,\"\",CE18)","v":1},{"$f":"H18*IF($E$3=\"Kg\",Y18,Y18/2.2046)","v":397.56149411201477},{"$f":"IFERROR(VLOOKUP(AS18,DATA!$A$2:$B$63,2,TRUE),0)*AC18","v":405.51272399425505},"PL",961103,"NC",{"$f":"IFERROR(VLOOKUP(A18,Setup!$Q$5:$R$20,2,FALSE),\"\")","v":0},{"$f":"IF(VALUE(INDIRECT(CONCATENATE($AI$11,ROW())))=0,\"\",ABS(INDIRECT(CONCATENATE($AI$11,ROW())))+0.000001*G18)","v":165.00030899999999},24,21,38,{"$f":"IF(ISERROR(SEARCH($AM$11,AE18)),0,1)","v":1},{"$f":"VLOOKUP(D18,Setup!$I$6:$K$93,3,FALSE)","v":1},{"$f":"ROUND(IFERROR(IF(AN18=1,Y18,IF(AN18=2,AC18,IF(AN18=3,AD18,AC18))),0),5)","v":367.5},null,{"$f":"IFERROR(MATCH(D18,Setup!$I$6:$I$93,0),\"\")","v":8},{"$f":"IFERROR(CONCATENATE(LEFT(D18,FIND(\"-\",D18)),IF(AS18=\"\",\"O\",VLOOKUP(AS18,DATA!$E$35:$F$53,2,TRUE))),\"\")","v":"FR-M1a"},{"$f":"IF(YEAR($AR$7)-YEAR(I18)<40,DATEDIF(I18,$AR$7,\"Y\"),YEAR($AR$7)-YEAR(I18))","v":42},{"$f":"IF(AN18=1,MATCH(F18,DATA!$AB$2:$AB$34,0),0)","v":14},null,{"$f":"IF(MAX(K18:M18)>0,MAX(K18:M18),0)","v":137.5},{"$f":"IF(MAX(P18:R18)>0,MAX(P18:R18),0)","v":65},{"$f":"IF(MAX(U18:W18)>0,MAX(U18:W18),0)","v":165},{"$f":"AM18*IF($AM$11=\"PL\",IF(MIN(AV18:AX18)=0,0,AV18+AW18+AX18),IF($AM$11=\"PP\",IF(MIN(AW18:AX18)=0,0,AW18+AX18),IF($AM$11=\"BP\",AW18,IF($AM$11=\"DL\",AX18,AV18))))","v":367.5},{"$f":"ROUND(AY18*H18,5)","v":397.56148999999999},{"$f":"ROUND(IFERROR(VLOOKUP(AS18,DATA!$A$2:$B$63,2,FALSE),1)*AZ18,5)","v":405.51272},{"$f":"IFERROR(IF(AN18=1,AY18,IF(AN18=2,AZ18,IF(AN18=3,BA18,AZ18))),0)","v":367.5},null,null,null,null,null,null,null,null,null,null,null,null,null,null,null,null,null,null,null,null,null,null,null,{"$f":"IFERROR(IF(FIND(\"DT\",AE18),\"Y\",\"\"),\"\")","v":""},null,{"$f":"CONCATENATE(IF(AN18=4,\"\",D18),IF(AN18=1,F18,\"\"))","v":"FR-O63"},{"$f":"IF($AM$11=\"SQ\",AJ18,IF($AM$11=\"BP\",AK18,AL18))","v":38},{"$f":"1+COUNTIFS(INDIRECT(\"AN12:AN500\"),AN18,INDIRECT(\"CB12:CB500\"),CB18,INDIRECT(\"AO12:AO500\"),\">\"&AO18)\n+COUNTIFS(INDIRECT(\"AO12:AO500\"),AO18,INDIRECT(\"AN12:AN500\"),1,INDIRECT(\"CB12:CB500\"),CB18,INDIRECT(\"E12:E500\"),\"<\"&E18)\n+COUNTIFS(INDIRECT(\"AO12:AO500\"),AO18,INDIRECT(\"AN12:AN500\"),1,INDIRECT(\"CB12:CB500\"),CB18,INDIRECT(\"E12:E500\"),E18,INDIRECT(\"CC12:CC500\"),\"<\"&CC18)","v":1},{"$f":"1+COUNTIFS(INDIRECT(\"AN12:AN500\"),AN18,INDIRECT(\"CB12:CB500\"),CB18,INDIRECT(\"BB12:BB500\"),\">\"&BB18)\n+COUNTIFS(INDIRECT(\"BB12:BB500\"),BB18,INDIRECT(\"AN12:AN500\"),1,INDIRECT(\"CB12:CB500\"),CB18,INDIRECT(\"E12:E500\"),\"<\"&E18)","v":1}]
["2A","Brianna Green","NC","FR-O",62.8,{"$f":"IFERROR(VLOOKUP(E19,DATA!$E$2:$G$22,IF(LEFT(D19,1)=\"M\",2,3)),\"\")","v":63},307,{"$f":"IFERROR(IF(LEFT(D19,1)=\"M\",Wilks_Men(IF($E$11=\"Bwt - Lb\",E19/2.2046,E19)),Wilks_Women(IF($E$11=\"Bwt - Lb\",E19/2.2046,E19))),\"\")","v":1.0765000581741333},"1994-08-02","12",97.5,105,110,{"$f":"IF(MAX(K19:M19)<=0,0,MAX(CELL(\"color\",K19)*K19,CELL(\"color\",L19)*L19,CELL(\"color\",M19)*M19))","v":110},"14-6",65,70,-72.5,{"$f":"IF(MAX(P19:R19)<=0,0,MAX(CELL(\"color\",P19)*P19,CELL(\"color\",Q19)*Q19,CELL(\"color\",R19)*R19))","v":70},{"$f":"IF(OR(N19=0,S19=0),0,N19+S19)","v":180},125,135,-142.5,{"$f":"IF(MAX(U19:W19)<=0,0,MAX(CELL(\"color\",U19)*U19,CELL(\"color\",V19)*V19,CELL(\"color\",W19)*W19))","v":135},{"$f":"AM19*IF($AM$11=\"SQ\",N19,IF($AM$11=\"BP\",S19,IF($AM$11=\"DL\",X19,IF($AM$11=\"PP\",IF(OR(S19=0,X19=0),0,S19+X19),IF(OR(T19=0,X19=0),0,T19+X19)))))","v":315},{"$f":"IF(Y19=0,\"\",CONCATENATE(CD19,\"/\",IF(AN19=4,\"Wilks\",D19),\"/\",IF(AN19>1,\"\",F19),\"/\",$AM$11))","v":"2/FR-O/63/PL"},{"$f":"BB19","v":315},{"$f":"IF(AA19=0,\"\",CE19)","v":2},{"$f":"H19*IF($E$3=\"Kg\",Y19,Y19/2.2046)","v":339.09751832485199},{"$f":"IFERROR(VLOOKUP(AS19,DATA!$A$2:$B$63,2,TRUE),0)*AC19","v":339.09751832485199},"PL",1005553,"NC",{"$f":"IFERROR(VLOOKUP(A19,Setup!$Q$5:$R$20,2,FALSE),\"\")","v":0},{"$f":"IF(VALUE(INDIRECT(CONCATENATE($AI$11,ROW())))=0,\"\",ABS(INDIRECT(CONCATENATE($AI$11,ROW())))+0.000001*G19)","v":142.50030699999999},32,23,23,{"$f":"IF(ISERROR(SEARCH($AM$11,AE19)),0,1)","v":1},{"$f":"VLOOKUP(D19,Setup!$I$6:$K$93,3,FALSE)","v":1},{"$f":"ROUND(IFERROR(IF(AN19=1,Y19,IF(AN19=2,AC19,IF(AN19=3,AD19,AC19))),0),5)","v":315},null,{"$f":"IFERROR(MATCH(D19,Setup!$I$6:$I$93,0),\"\")","v":8},{"$f":"IFERROR(CONCATENATE(LEFT(D19,FIND(\"-\",D19)),IF(AS19=\"\",\"O\",VLOOKUP(AS19,DATA!$E$35:$F$53,2,TRUE))),\"\")","v":"FR-Jr"},{"$f":"IF(YEAR($AR$7)-YEAR(I19)<40,DATEDIF(I19,$AR$7,\"Y\"),YEAR($AR$7)-YEAR(I19))","v":23},{"$f":"IF(AN19=1,MATCH(F19,DATA!$AB$2:$AB$34,0),0)","v":14},null,{"$f":"IF(MAX(K19:M19)>0,MAX(K19:M19),0)","v":110},{"$f":"IF(MAX(P19:R19)>0,MAX(P19:R19),0)","v":70},{"$f":"IF(MAX(U19:W19)>0,MAX(U19:W19),0)","v":135},{"$f":"AM19*IF($AM$11=\"PL\",IF(MIN(AV19:AX19)=0,0,AV19+AW19+AX19),IF($AM$11=\"PP\",IF(MIN(AW19:AX19)=0,0,AW19+AX19),IF($AM$11=\"BP\",AW19,IF($AM$11=\"DL\",AX19,AV19))))","v":315},{"$f":"ROUND(AY19*H19,5)","v":339.09751999999997},{"$f":"ROUND(IFERROR(VLOOKUP(AS19,DATA!$A$2:$B$63,2,FALSE),1)*AZ19,5)","v":339.09751999999997},{"$f":"IFERROR(IF(AN19=1,AY19,IF(AN19=2,AZ19,IF(AN19=3,BA19,AZ19))),0)","v":315},null,null,null,null,null,null,null,null,null,null,null,null,null,null,null,null,null,null,null,null,null,null,null,{"$f":"IFERROR(IF(FIND(\"DT\",AE19),\"Y\",\"\"),\"\")","v":""},null,{"$f":"CONCATENATE(IF(AN19=4,\"\",D19),IF(AN19=1,F19,\"\"))","v":"FR-O63"},{"$f":"IF($AM$11=\"SQ\",AJ19,IF($AM$11=\"BP\",AK19,AL19))","v":23},{"$f":"1+COUNTIFS(INDIRECT(\"AN12:AN500\"),AN19,INDIRECT(\"CB12:CB500\"),CB19,INDIRECT(\"AO12:AO500\"),\">\"&AO19)\n+COUNTIFS(INDIRECT(\"AO12:AO500\"),AO19,INDIRECT(\"AN12:AN500\"),1,INDIRECT(\"CB12:CB500\"),CB19,INDIRECT(\"E12:E500\"),\"<\"&E19)\n+COUNTIFS(INDIRECT(\"AO12:AO500\"),AO19,INDIRECT(\"AN12:AN500\"),1,INDIRECT(\"CB12:CB500\"),CB19,INDIRECT(\"E12:E500\"),E19,INDIRECT(\"CC12:CC500\"),\"<\"&CC19)","v":2},{"$f":"1+COUNTIFS(INDIRECT(\"AN12:AN500\"),AN19,INDIRECT(\"CB12:CB500\"),CB19,INDIRECT(\"BB12:BB500\"),\">\"&BB19)\n+COUNTIFS(INDIRECT(\"BB12:BB500\"),BB19,INDIRECT(\"AN12:AN500\"),1,INDIRECT(\"CB12:CB500\"),CB19,INDIRECT(\"E12:E500\"),\"<\"&E19)","v":2}]
["2A","Betty Polenik","SC","FR-O",61.45,{"$f":"IFERROR(VLOOKUP(E20,DATA!$E$2:$G$22,IF(LEFT(D20,1)=\"M\",2,3)),\"\")","v":63},312,{"$f":"IFERROR(IF(LEFT(D20,1)=\"M\",Wilks_Men(IF($E$11=\"Bwt - Lb\",E20/2.2046,E20)),Wilks_Women(IF($E$11=\"Bwt - Lb\",E20/2.2046,E20))),\"\")","v":1.094499945640564},"1958-01-25","8",100,107.5,110,{"$f":"IF(MAX(K20:M20)<=0,0,MAX(CELL(\"color\",K20)*K20,CELL(\"color\",L20)*L20,CELL(\"color\",M20)*M20))","v":110},"10-6",55,-60,-60,{"$f":"IF(MAX(P20:R20)<=0,0,MAX(CELL(\"color\",P20)*P20,CELL(\"color\",Q20)*Q20,CELL(\"color\",R20)*R20))","v":55},{"$f":"IF(OR(N20=0,S20=0),0,N20+S20)","v":165},112.5,122.5,127.5,{"$f":"IF(MAX(U20:W20)<=0,0,MAX(CELL(\"color\",U20)*U20,CELL(\"color\",V20)*V20,CELL(\"color\",W20)*W20))","v":127.5},{"$f":"AM20*IF($AM$11=\"SQ\",N20,IF($AM$11=\"BP\",S20,IF($AM$11=\"DL\",X20,IF($AM$11=\"PP\",IF(OR(S20=0,X20=0),0,S20+X20),IF(OR(T20=0,X20=0),0,T20+X20)))))","v":292.5},{"$f":"IF(Y20=0,\"\",CONCATENATE(CD20,\"/\",IF(AN20=4,\"Wilks\",D20),\"/\",IF(AN20>1,\"\",F20),\"/\",$AM$11))","v":"3/FR-O/63/PL"},{"$f":"BB20","v":292.5},{"$f":"IF(AA20=0,\"\",CE20)","v":3},{"$f":"H20*IF($E$3=\"Kg\",Y20,Y20/2.2046)","v":320.14123409986496},{"$f":"IFERROR(VLOOKUP(AS20,DATA!$A$2:$B$63,2,TRUE),0)*AC20","v":428.98925369381908},"PL",1029185,"SC",{"$f":"IFERROR(VLOOKUP(A20,Setup!$Q$5:$R$20,2,FALSE),\"\")","v":0},{"$f":"IF(VALUE(INDIRECT(CONCATENATE($AI$11,ROW())))=0,\"\",ABS(INDIRECT(CONCATENATE($AI$11,ROW())))+0.000001*G20)","v":127.50031199999999},33,6,30,{"$f":"IF(ISERROR(SEARCH($AM$11,AE20)),0,1)","v":1},{"$f":"VLOOKUP(D20,Setup!$I$6:$K$93,3,FALSE)","v":1},{"$f":"ROUND(IFERROR(IF(AN20=1,Y20,IF(AN20=2,AC20,IF(AN20=3,AD20,AC20))),0),5)","v":292.5},null,{"$f":"IFERROR(MATCH(D20,Setup!$I$6:$I$93,0),\"\")","v":8},{"$f":"IFERROR(CONCATENATE(LEFT(D20,FIND(\"-\",D20)),IF(AS20=\"\",\"O\",VLOOKUP(AS20,DATA!$E$35:$F$53,2,TRUE))),\"\")","v":"FR-M3a"},{"$f":"IF(YEAR($AR$7)-YEAR(I20)<40,DATEDIF(I20,$AR$7,\"Y\"),YEAR($AR$7)-YEAR(I20))","v":60},{"$f":"IF(AN20=1,MATCH(F20,DATA!$AB$2:$AB$34,0),0)","v":14},null,{"$f":"IF(MAX(K20:M20)>0,MAX(K20:M20),0)","v":110},{"$f":"IF(MAX(P20:R20)>0,MAX(P20:R20),0)","v":55},{"$f":"IF(MAX(U20:W20)>0,MAX(U20:W20),0)","v":127.5},{"$f":"AM20*IF($AM$11=\"PL\",IF(MIN(AV20:AX20)=0,0,AV20+AW20+AX20),IF($AM$11=\"PP\",IF(MIN(AW20:AX20)=0,0,AW20+AX20),IF($AM$11=\"BP\",AW20,IF($AM$11=\"DL\",AX20,AV20))))","v":292.5},{"$f":"ROUND(AY20*H20,5)","v":320.14123000000001},{"$f":"ROUND(IFERROR(VLOOKUP(AS20,DATA!$A$2:$B$63,2,FALSE),1)*AZ20,5)","v":428.98925000000003},{"$f":"IFERROR(IF(AN20=1,AY20,IF(AN20=2,AZ20,IF(AN20=3,BA20,AZ20))),0)","v":292.5},null,null,null,null,null,null,null,null,null,null,null,null,null,null,null,null,null,null,null,null,null,null,null,{"$f":"IFERROR(IF(FIND(\"DT\",AE20),\"Y\",\"\"),\"\")","v":""},null,{"$f":"CONCATENATE(IF(AN20=4,\"\",D20),IF(AN20=1,F20,\"\"))","v":"FR-O63"},{"$f":"IF($AM$11=\"SQ\",AJ20,IF($AM$11=\"BP\",AK20,AL20))","v":30},{"$f":"1+COUNTIFS(INDIRECT(\"AN12:AN500\"),AN20,INDIRECT(\"CB12:CB500\"),CB20,INDIRECT(\"AO12:AO500\"),\">\"&AO20)\n+COUNTIFS(INDIRECT(\"AO12:AO500\"),AO20,INDIRECT(\"AN12:AN500\"),1,INDIRECT(\"CB12:CB500\"),CB20,INDIRECT(\"E12:E500\"),\"<\"&E20)\n+COUNTIFS(INDIRECT(\"AO12:AO500\"),AO20,INDIRECT(\"AN12:AN500\"),1,INDIRECT(\"CB12:CB500\"),CB20,INDIRECT(\"E12:E500\"),E20,INDIRECT(\"CC12:CC500\"),\"<\"&CC20)","v":3},{"$f":"1+COUNTIFS(INDIRECT(\"AN12:AN500\"),AN20,INDIRECT(\"CB12:CB500\"),CB20,INDIRECT(\"BB12:BB500\"),\">\"&BB20)\n+COUNTIFS(INDIRECT(\"BB12:BB500\"),BB20,INDIRECT(\"AN12:AN500\"),1,INDIRECT(\"CB12:CB500\"),CB20,INDIRECT(\"E12:E500\"),\"<\"&E20)","v":3}]
["2A","Leslie Snapper","NC","FR-O",61.1,{"$f":"IFERROR(VLOOKUP(E21,DATA!$E$2:$G$22,IF(LEFT(D21,1)=\"M\",2,3)),\"\")","v":63},308,{"$f":"IFERROR(IF(LEFT(D21,1)=\"M\",Wilks_Men(IF($E$11=\"Bwt - Lb\",E21/2.2046,E21)),Wilks_Women(IF($E$11=\"Bwt - Lb\",E21/2.2046,E21))),\"\")","v":1.0994000434875488},"1993-01-02","14",85,100,-105,{"$f":"IF(MAX(K21:M21)<=0,0,MAX(CELL(\"color\",K21)*K21,CELL(\"color\",L21)*L21,CELL(\"color\",M21)*M21))","v":100},"10-7",60,65,70,{"$f":"IF(MAX(P21:R21)<=0,0,MAX(CELL(\"color\",P21)*P21,CELL(\"color\",Q21)*Q21,CELL(\"color\",R21)*R21))","v":70},{"$f":"IF(OR(N21=0,S21=0),0,N21+S21)","v":170},97.5,105,115,{"$f":"IF(MAX(U21:W21)<=0,0,MAX(CELL(\"color\",U21)*U21,CELL(\"color\",V21)*V21,CELL(\"color\",W21)*W21))","v":115},{"$f":"AM21*IF($AM$11=\"SQ\",N21,IF($AM$11=\"BP\",S21,IF($AM$11=\"DL\",X21,IF($AM$11=\"PP\",IF(OR(S21=0,X21=0),0,S21+X21),IF(OR(T21=0,X21=0),0,T21+X21)))))","v":285},{"$f":"IF(Y21=0,\"\",CONCATENATE(CD21,\"/\",IF(AN21=4,\"Wilks\",D21),\"/\",IF(AN21>1,\"\",F21),\"/\",$AM$11))","v":"4/FR-O/63/PL"},{"$f":"BB21","v":285},{"$f":"IF(AA21=0,\"\",CE21)","v":4},{"$f":"H21*IF($E$3=\"Kg\",Y21,Y21/2.2046)","v":313.32901239395142},{"$f":"IFERROR(VLOOKUP(AS21,DATA!$A$2:$B$63,2,TRUE),0)*AC21","v":313.32901239395142},"PL BP",null,"NC",{"$f":"IFERROR(VLOOKUP(A21,Setup!$Q$5:$R$20,2,FALSE),\"\")","v":0},{"$f":"IF(VALUE(INDIRECT(CONCATENATE($AI$11,ROW())))=0,\"\",ABS(INDIRECT(CONCATENATE($AI$11,ROW())))+0.000001*G21)","v":115.000308},18,25,29,{"$f":"IF(ISERROR(SEARCH($AM$11,AE21)),0,1)","v":1},{"$f":"VLOOKUP(D21,Setup!$I$6:$K$93,3,FALSE)","v":1},{"$f":"ROUND(IFERROR(IF(AN21=1,Y21,IF(AN21=2,AC21,IF(AN21=3,AD21,AC21))),0),5)","v":285},null,{"$f":"IFERROR(MATCH(D21,Setup!$I$6:$I$93,0),\"\")","v":8},{"$f":"IFERROR(CONCATENATE(LEFT(D21,FIND(\"-\",D21)),IF(AS21=\"\",\"O\",VLOOKUP(AS21,DATA!$E$35:$F$53,2,TRUE))),\"\")","v":"FR-O"},{"$f":"IF(YEAR($AR$7)-YEAR(I21)<40,DATEDIF(I21,$AR$7,\"Y\"),YEAR($AR$7)-YEAR(I21))","v":25},{"$f":"IF(AN21=1,MATCH(F21,DATA!$AB$2:$AB$34,0),0)","v":14},null,{"$f":"IF(MAX(K21:M21)>0,MAX(K21:M21),0)","v":100},{"$f":"IF(MAX(P21:R21)>0,MAX(P21:R21),0)","v":70},{"$f":"IF(MAX(U21:W21)>0,MAX(U21:W21),0)","v":115},{"$f":"AM21*IF($AM$11=\"PL\",IF(MIN(AV21:AX21)=0,0,AV21+AW21+AX21),IF($AM$11=\"PP\",IF(MIN(AW21:AX21)=0,0,AW21+AX21),IF($AM$11=\"BP\",AW21,IF($AM$11=\"DL\",AX21,AV21))))","v":285},{"$f":"ROUND(AY21*H21,5)","v":313.32900999999998},{"$f":"ROUND(IFERROR(VLOOKUP(AS21,DATA!$A$2:$B$63,2,FALSE),1)*AZ21,5)","v":313.32900999999998},{"$f":"IFERROR(IF(AN21=1,AY21,IF(AN21=2,AZ21,IF(AN21=3,BA21,AZ21))),0)","v":285},null,null,null,null,null,null,null,null,null,null,null,null,null,null,null,null,null,null,null,null,null,null,null,{"$f":"IFERROR(IF(FIND(\"DT\",AE21),\"Y\",\"\"),\"\")","v":""},null,{"$f":"CONCATENATE(IF(AN21=4,\"\",D21),IF(AN21=1,F21,\"\"))","v":"FR-O63"},{"$f":"IF($AM$11=\"SQ\",AJ21,IF($AM$11=\"BP\",AK21,AL21))","v":29},{"$f":"1+COUNTIFS(INDIRECT(\"AN12:AN500\"),AN21,INDIRECT(\"CB12:CB500\"),CB21,INDIRECT(\"AO12:AO500\"),\">\"&AO21)\n+COUNTIFS(INDIRECT(\"AO12:AO500\"),AO21,INDIRECT(\"AN12:AN500\"),1,INDIRECT(\"CB12:CB500\"),CB21,INDIRECT(\"E12:E500\"),\"<\"&E21)\n+COUNTIFS(INDIRECT(\"AO12:AO500\"),AO21,INDIRECT(\"AN12:AN500\"),1,INDIRECT(\"CB12:CB500\"),CB21,INDIRECT(\"E12:E500\"),E21,INDIRECT(\"CC12:CC500\"),\"<\"&CC21)","v":4},{"$f":"1+COUNTIFS(INDIRECT(\"AN12:AN500\"),AN21,INDIRECT(\"CB12:CB500\"),CB21,INDIRECT(\"BB12:BB500\"),\">\"&BB21)\n+COUNTIFS(INDIRECT(\"BB12:BB500\"),BB21,INDIRECT(\"AN12:AN500\"),1,INDIRECT(\"CB12:CB500\"),CB21,INDIRECT(\"E12:E500\"),\"<\"&E21)","v":4}]
["2A","Michele Moe","NC","FR-O",62.1,{"$f":"IFERROR(VLOOKUP(E22,DATA!$E$2:$G$22,IF(LEFT(D22,1)=\"M\",2,3)),\"\")","v":63},311,{"$f":"IFERROR(IF(LEFT(D22,1)=\"M\",Wilks_Men(IF($E$11=\"Bwt - Lb\",E22/2.2046,E22)),Wilks_Women(IF($E$11=\"Bwt - Lb\",E22/2.2046,E22))),\"\")","v":1.0858000516891479},"1969-06-20","10",80,85,92.5,{"$f":"IF(MAX(K22:M22)<=0,0,MAX(CELL(\"color\",K22)*K22,CELL(\"color\",L22)*L22,CELL(\"color\",M22)*M22))","v":92.5},"9-6",52.5,57.5,-60,{"$f":"IF(MAX(P22:R22)<=0,0,MAX(CELL(\"color\",P22)*P22,CELL(\"color\",Q22)*Q22,CELL(\"color\",R22)*R22))","v":57.5},{"$f":"IF(OR(N22=0,S22=0),0,N22+S22)","v":150},115,125,132.5,{"$f":"IF(MAX(U22:W22)<=0,0,MAX(CELL(\"color\",U22)*U22,CELL(\"color\",V22)*V22,CELL(\"color\",W22)*W22))","v":132.5},{"$f":"AM22*IF($AM$11=\"SQ\",N22,IF($AM$11=\"BP\",S22,IF($AM$11=\"DL\",X22,IF($AM$11=\"PP\",IF(OR(S22=0,X22=0),0,S22+X22),IF(OR(T22=0,X22=0),0,T22+X22)))))","v":282.5},{"$f":"IF(Y22=0,\"\",CONCATENATE(CD22,\"/\",IF(AN22=4,\"Wilks\",D22),\"/\",IF(AN22>1,\"\",F22),\"/\",$AM$11))","v":"5/FR-O/63/PL"},{"$f":"BB22","v":282.5},{"$f":"IF(AA22=0,\"\",CE22)","v":5},{"$f":"H22*IF($E$3=\"Kg\",Y22,Y22/2.2046)","v":306.7385146021843},{"$f":"IFERROR(VLOOKUP(AS22,DATA!$A$2:$B$63,2,TRUE),0)*AC22","v":341.39996675223114},"PL",1009213,"NC",{"$f":"IFERROR(VLOOKUP(A22,Setup!$Q$5:$R$20,2,FALSE),\"\")","v":0},{"$f":"IF(VALUE(INDIRECT(CONCATENATE($AI$11,ROW())))=0,\"\",ABS(INDIRECT(CONCATENATE($AI$11,ROW())))+0.000001*G22)","v":132.50031100000001},26,17,34,{"$f":"IF(ISERROR(SEARCH($AM$11,AE22)),0,1)","v":1},{"$f":"VLOOKUP(D22,Setup!$I$6:$K$93,3,FALSE)","v":1},{"$f":"ROUND(IFERROR(IF(AN22=1,Y22,IF(AN22=2,AC22,IF(AN22=3,AD22,AC22))),0),5)","v":282.5},null,{"$f":"IFERROR(MATCH(D22,Setup!$I$6:$I$93,0),\"\")","v":8},{"$f":"IFERROR(CONCATENATE(LEFT(D22,FIND(\"-\",D22)),IF(AS22=\"\",\"O\",VLOOKUP(AS22,DATA!$E$35:$F$53,2,TRUE))),\"\")","v":"FR-M1b"},{"$f":"IF(YEAR($AR$7)-YEAR(I22)<40,DATEDIF(I22,$AR$7,\"Y\"),YEAR($AR$7)-YEAR(I22))","v":49},{"$f":"IF(AN22=1,MATCH(F22,DATA!$AB$2:$AB$34,0),0)","v":14},null,{"$f":"IF(MAX(K22:M22)>0,MAX(K22:M22),0)","v":92.5},{"$f":"IF(MAX(P22:R22)>0,MAX(P22:R22),0)","v":57.5},{"$f":"IF(MAX(U22:W22)>0,MAX(U22:W22),0)","v":132.5},{"$f":"AM22*IF($AM$11=\"PL\",IF(MIN(AV22:AX22)=0,0,AV22+AW22+AX22),IF($AM$11=\"PP\",IF(MIN(AW22:AX22)=0,0,AW22+AX22),IF($AM$11=\"BP\",AW22,IF($AM$11=\"DL\",AX22,AV22))))","v":282.5},{"$f":"ROUND(AY22*H22,5)","v":306.73851000000002},{"$f":"ROUND(IFERROR(VLOOKUP(AS22,DATA!$A$2:$B$63,2,FALSE),1)*AZ22,5)","v":341.39996000000002},{"$f":"IFERROR(IF(AN22=1,AY22,IF(AN22=2,AZ22,IF(AN22=3,BA22,AZ22))),0)","v":282.5},null,null,null,null,null,null,null,null,null,null,null,null,null,null,null,null,null,null,null,null,null,null,null,{"$f":"IFERROR(IF(FIND(\"DT\",AE22),\"Y\",\"\"),\"\")","v":""},null,{"$f":"CONCATENATE(IF(AN22=4,\"\",D22),IF(AN22=1,F22,\"\"))","v":"FR-O63"},{"$f":"IF($AM$11=\"SQ\",AJ22,IF($AM$11=\"BP\",AK22,AL22))","v":34},{"$f":"1+COUNTIFS(INDIRECT(\"AN12:AN500\"),AN22,INDIRECT(\"CB12:CB500\"),CB22,INDIRECT(\"AO12:AO500\"),\">\"&AO22)\n+COUNTIFS(INDIRECT(\"AO12:AO500\"),AO22,INDIRECT(\"AN12:AN500\"),1,INDIRECT(\"CB12:CB500\"),CB22,INDIRECT(\"E12:E500\"),\"<\"&E22)\n+COUNTIFS(INDIRECT(\"AO12:AO500\"),AO22,INDIRECT(\"AN12:AN500\"),1,INDIRECT(\"CB12:CB500\"),CB22,INDIRECT(\"E12:E500\"),E22,INDIRECT(\"CC12:CC500\"),\"<\"&CC22)","v":5},{"$f":"1+COUNTIFS(INDIRECT(\"AN12:AN500\"),AN22,INDIRECT(\"CB12:CB500\"),CB22,INDIRECT(\"BB12:BB500\"),\">\"&BB22)\n+COUNTIFS(INDIRECT(\"BB12:BB500\"),BB22,INDIRECT(\"AN12:AN500\"),1,INDIRECT(\"CB12:CB500\"),CB22,INDIRECT(\"E12:E500\"),\"<\"&E22)","v":5}]
["2B","Tracy Cook","NC","FR-O",70.2,{"$f":"IFERROR(VLOOKUP(E23,DATA!$E$2:$G$22,IF(LEFT(D23,1)=\"M\",2,3)),\"\")","v":72},407,{"$f":"IFERROR(IF(LEFT(D23,1)=\"M\",Wilks_Men(IF($E$11=\"Bwt - Lb\",E23/2.2046,E23)),Wilks_Women(IF($E$11=\"Bwt - Lb\",E23/2.2046,E23))),\"\")","v":0.99290001392364502},"1970-07-10","9",127.5,137.5,-140,{"$f":"IF(MAX(K23:M23)<=0,0,MAX(CELL(\"color\",K23)*K23,CELL(\"color\",L23)*L23,CELL(\"color\",M23)*M23))","v":137.5},"11-6",72.5,75,80,{"$f":"IF(MAX(P23:R23)<=0,0,MAX(CELL(\"color\",P23)*P23,CELL(\"color\",Q23)*Q23,CELL(\"color\",R23)*R23))","v":80},{"$f":"IF(OR(N23=0,S23=0),0,N23+S23)","v":217.5},155,165,170,{"$f":"IF(MAX(U23:W23)<=0,0,MAX(CELL(\"color\",U23)*U23,CELL(\"color\",V23)*V23,CELL(\"color\",W23)*W23))","v":170},{"$f":"AM23*IF($AM$11=\"SQ\",N23,IF($AM$11=\"BP\",S23,IF($AM$11=\"DL\",X23,IF($AM$11=\"PP\",IF(OR(S23=0,X23=0),0,S23+X23),IF(OR(T23=0,X23=0),0,T23+X23)))))","v":387.5},{"$f":"IF(Y23=0,\"\",CONCATENATE(CD23,\"/\",IF(AN23=4,\"Wilks\",D23),\"/\",IF(AN23>1,\"\",F23),\"/\",$AM$11))","v":"1/FR-O/72/PL"},{"$f":"BB23","v":387.5},{"$f":"IF(AA23=0,\"\",CE23)","v":1},{"$f":"H23*IF($E$3=\"Kg\",Y23,Y23/2.2046)","v":384.74875539541245},{"$f":"IFERROR(VLOOKUP(AS23,DATA!$A$2:$B$63,2,TRUE),0)*AC23","v":422.06938466876744},"PL BP",920178,"NC",{"$f":"IFERROR(VLOOKUP(A23,Setup!$Q$5:$R$20,2,FALSE),\"\")","v":1},{"$f":"IF(VALUE(INDIRECT(CONCATENATE($AI$11,ROW())))=0,\"\",ABS(INDIRECT(CONCATENATE($AI$11,ROW())))+0.000001*G23)","v":170.000407},53,53,69,{"$f":"IF(ISERROR(SEARCH($AM$11,AE23)),0,1)","v":1},{"$f":"VLOOKUP(D23,Setup!$I$6:$K$93,3,FALSE)","v":1},{"$f":"ROUND(IFERROR(IF(AN23=1,Y23,IF(AN23=2,AC23,IF(AN23=3,AD23,AC23))),0),5)","v":387.5},null,{"$f":"IFERROR(MATCH(D23,Setup!$I$6:$I$93,0),\"\")","v":8},{"$f":"IFERROR(CONCATENATE(LEFT(D23,FIND(\"-\",D23)),IF(AS23=\"\",\"O\",VLOOKUP(AS23,DATA!$E$35:$F$53,2,TRUE))),\"\")","v":"FR-M1b"},{"$f":"IF(YEAR($AR$7)-YEAR(I23)<40,DATEDIF(I23,$AR$7,\"Y\"),YEAR($AR$7)-YEAR(I23))","v":48},{"$f":"IF(AN23=1,MATCH(F23,DATA!$AB$2:$AB$34,0),0)","v":17},null,{"$f":"IF(MAX(K23:M23)>0,MAX(K23:M23),0)","v":137.5},{"$f":"IF(MAX(P23:R23)>0,MAX(P23:R23),0)","v":80},{"$f":"IF(MAX(U23:W23)>0,MAX(U23:W23),0)","v":170},{"$f":"AM23*IF($AM$11=\"PL\",IF(MIN(AV23:AX23)=0,0,AV23+AW23+AX23),IF($AM$11=\"PP\",IF(MIN(AW23:AX23)=0,0,AW23+AX23),IF($AM$11=\"BP\",AW23,IF($AM$11=\"DL\",AX23,AV23))))","v":387.5},{"$f":"ROUND(AY23*H23,5)","v":384.74876},{"$f":"ROUND(IFERROR(VLOOKUP(AS23,DATA!$A$2:$B$63,2,FALSE),1)*AZ23,5)","v":422.06939},{"$f":"IFERROR(IF(AN23=1,AY23,IF(AN23=2,AZ23,IF(AN23=3,BA23,AZ23))),0)","v":387.5},null,null,null,null,null,null,null,null,null,null,null,null,null,null,null,null,null,null,null,null,null,null,null,{"$f":"IFERROR(IF(FIND(\"DT\",AE23),\"Y\",\"\"),\"\")","v":""},null,{"$f":"CONCATENATE(IF(AN23=4,\"\",D23),IF(AN23=1,F23,\"\"))","v":"FR-O72"},{"$f":"IF($AM$11=\"SQ\",AJ23,IF($AM$11=\"BP\",AK23,AL23))","v":69},{"$f":"1+COUNTIFS(INDIRECT(\"AN12:AN500\"),AN23,INDIRECT(\"CB12:CB500\"),CB23,INDIRECT(\"AO12:AO500\"),\">\"&AO23)\n+COUNTIFS(INDIRECT(\"AO12:AO500\"),AO23,INDIRECT(\"AN12:AN500\"),1,INDIRECT(\"CB12:CB500\"),CB23,INDIRECT(\"E12:E500\"),\"<\"&E23)\n+COUNTIFS(INDIRECT(\"AO12:AO500\"),AO23,INDIRECT(\"AN12:AN500\"),1,INDIRECT(\"CB12:CB500\"),CB23,INDIRECT(\"E12:E500\"),E23,INDIRECT(\"CC12:CC500\"),\"<\"&CC23)","v":1},{"$f":"1+COUNTIFS(INDIRECT(\"AN12:AN500\"),AN23,INDIRECT(\"CB12:CB500\"),CB23,INDIRECT(\"BB12:BB500\"),\">\"&BB23)\n+COUNTIFS(INDIRECT(\"BB12:BB500\"),BB23,INDIRECT(\"AN12:AN500\"),1,INDIRECT(\"CB12:CB500\"),CB23,INDIRECT(\"E12:E500\"),\"<\"&E23)","v":1}]
["2B","Meghan Bradsher-James","NC","FR-O",66.55,{"$f":"IFERROR(VLOOKUP(E24,DATA!$E$2:$G$22,IF(LEFT(D24,1)=\"M\",2,3)),\"\")","v":72},402,{"$f":"IFERROR(IF(LEFT(D24,1)=\"M\",Wilks_Men(IF($E$11=\"Bwt - Lb\",E24/2.2046,E24)),Wilks_Women(IF($E$11=\"Bwt - Lb\",E24/2.2046,E24))),\"\")","v":1.0311000347137451},"1991-10-22","11",117.5,125,130,{"$f":"IF(MAX(K24:M24)<=0,0,MAX(CELL(\"color\",K24)*K24,CELL(\"color\",L24)*L24,CELL(\"color\",M24)*M24))","v":130},"12-7",67.5,72.5,75,{"$f":"IF(MAX(P24:R24)<=0,0,MAX(CELL(\"color\",P24)*P24,CELL(\"color\",Q24)*Q24,CELL(\"color\",R24)*R24))","v":75},{"$f":"IF(OR(N24=0,S24=0),0,N24+S24)","v":205},155,165,167.5,{"$f":"IF(MAX(U24:W24)<=0,0,MAX(CELL(\"color\",U24)*U24,CELL(\"color\",V24)*V24,CELL(\"color\",W24)*W24))","v":167.5},{"$f":"AM24*IF($AM$11=\"SQ\",N24,IF($AM$11=\"BP\",S24,IF($AM$11=\"DL\",X24,IF($AM$11=\"PP\",IF(OR(S24=0,X24=0),0,S24+X24),IF(OR(T24=0,X24=0),0,T24+X24)))))","v":372.5},{"$f":"IF(Y24=0,\"\",CONCATENATE(CD24,\"/\",IF(AN24=4,\"Wilks\",D24),\"/\",IF(AN24>1,\"\",F24),\"/\",$AM$11))","v":"2/FR-O/72/PL"},{"$f":"BB24","v":372.5},{"$f":"IF(AA24=0,\"\",CE24)","v":2},{"$f":"H24*IF($E$3=\"Kg\",Y24,Y24/2.2046)","v":384.08476293087006},{"$f":"IFERROR(VLOOKUP(AS24,DATA!$A$2:$B$63,2,TRUE),0)*AC24","v":384.08476293087006},"PL",944717,"NC",{"$f":"IFERROR(VLOOKUP(A24,Setup!$Q$5:$R$20,2,FALSE),\"\")","v":1},{"$f":"IF(VALUE(INDIRECT(CONCATENATE($AI$11,ROW())))=0,\"\",ABS(INDIRECT(CONCATENATE($AI$11,ROW())))+0.000001*G24)","v":167.50040200000001},61,52,68,{"$f":"IF(ISERROR(SEARCH($AM$11,AE24)),0,1)","v":1},{"$f":"VLOOKUP(D24,Setup!$I$6:$K$93,3,FALSE)","v":1},{"$f":"ROUND(IFERROR(IF(AN24=1,Y24,IF(AN24=2,AC24,IF(AN24=3,AD24,AC24))),0),5)","v":372.5},null,{"$f":"IFERROR(MATCH(D24,Setup!$I$6:$I$93,0),\"\")","v":8},{"$f":"IFERROR(CONCATENATE(LEFT(D24,FIND(\"-\",D24)),IF(AS24=\"\",\"O\",VLOOKUP(AS24,DATA!$E$35:$F$53,2,TRUE))),\"\")","v":"FR-O"},{"$f":"IF(YEAR($AR$7)-YEAR(I24)<40,DATEDIF(I24,$AR$7,\"Y\"),YEAR($AR$7)-YEAR(I24))","v":26},{"$f":"IF(AN24=1,MATCH(F24,DATA!$AB$2:$AB$34,0),0)","v":17},null,{"$f":"IF(MAX(K24:M24)>0,MAX(K24:M24),0)","v":130},{"$f":"IF(MAX(P24:R24)>0,MAX(P24:R24),0)","v":75},{"$f":"IF(MAX(U24:W24)>0,MAX(U24:W24),0)","v":167.5},{"$f":"AM24*IF($AM$11=\"PL\",IF(MIN(AV24:AX24)=0,0,AV24+AW24+AX24),IF($AM$11=\"PP\",IF(MIN(AW24:AX24)=0,0,AW24+AX24),IF($AM$11=\"BP\",AW24,IF($AM$11=\"DL\",AX24,AV24))))","v":372.5},{"$f":"ROUND(AY24*H24,5)","v":384.08476000000002},{"$f":"ROUND(IFERROR(VLOOKUP(AS24,DATA!$A$2:$B$63,2,FALSE),1)*AZ24,5)","v":384.08476000000002},{"$f":"IFERROR(IF(AN24=1,AY24,IF(AN24=2,AZ24,IF(AN24=3,BA24,AZ24))),0)","v":372.5},null,null,null,null,null,null,null,null,null,null,null,null,null,null,null,null,null,null,null,null,null,null,null,{"$f":"IFERROR(IF(FIND(\"DT\",AE24),\"Y\",\"\"),\"\")","v":""},null,{"$f":"CONCATENATE(IF(AN24=4,\"\",D24),IF(AN24=1,F24,\"\"))","v":"FR-O72"},{"$f":"IF($AM$11=\"SQ\",AJ24,IF($AM$11=\"BP\",AK24,AL24))","v":68},{"$f":"1+COUNTIFS(INDIRECT(\"AN12:AN500\"),AN24,INDIRECT(\"CB12:CB500\"),CB24,INDIRECT(\"AO12:AO500\"),\">\"&AO24)\n+COUNTIFS(INDIRECT(\"AO12:AO500\"),AO24,INDIRECT(\"AN12:AN500\"),1,INDIRECT(\"CB12:CB500\"),CB24,INDIRECT(\"E12:E500\"),\"<\"&E24)\n+COUNTIFS(INDIRECT(\"AO12:AO500\"),AO24,INDIRECT(\"AN12:AN500\"),1,INDIRECT(\"CB12:CB500\"),CB24,INDIRECT(\"E12:E500\"),E24,INDIRECT(\"CC12:CC500\"),\"<\"&CC24)","v":2},{"$f":"1+COUNTIFS(INDIRECT(\"AN12:AN500\"),AN24,INDIRECT(\"CB12:CB500\"),CB24,INDIRECT(\"BB12:BB500\"),\">\"&BB24)\n+COUNTIFS(INDIRECT(\"BB12:BB500\"),BB24,INDIRECT(\"AN12:AN500\"),1,INDIRECT(\"CB12:CB500\"),CB24,INDIRECT(\"E12:E500\"),\"<\"&E24)","v":2}]
["2B","Jessica Dulkis","NC","FR-O",67.2,{"$f":"IFERROR(VLOOKUP(E25,DATA!$E$2:$G$22,IF(LEFT(D25,1)=\"M\",2,3)),\"\")","v":72},401,{"$f":"IFERROR(IF(LEFT(D25,1)=\"M\",Wilks_Men(IF($E$11=\"Bwt - Lb\",E25/2.2046,E25)),Wilks_Women(IF($E$11=\"Bwt - Lb\",E25/2.2046,E25))),\"\")","v":1.023900032043457},"1994-03-06","15",110,120,122.5,{"$f":"IF(MAX(K25:M25)<=0,0,MAX(CELL(\"color\",K25)*K25,CELL(\"color\",L25)*L25,CELL(\"color\",M25)*M25))","v":122.5},"12-5",80,85,87.5,{"$f":"IF(MAX(P25:R25)<=0,0,MAX(CELL(\"color\",P25)*P25,CELL(\"color\",Q25)*Q25,CELL(\"color\",R25)*R25))","v":87.5},{"$f":"IF(OR(N25=0,S25=0),0,N25+S25)","v":210},137.5,150,155,{"$f":"IF(MAX(U25:W25)<=0,0,MAX(CELL(\"color\",U25)*U25,CELL(\"color\",V25)*V25,CELL(\"color\",W25)*W25))","v":155},{"$f":"AM25*IF($AM$11=\"SQ\",N25,IF($AM$11=\"BP\",S25,IF($AM$11=\"DL\",X25,IF($AM$11=\"PP\",IF(OR(S25=0,X25=0),0,S25+X25),IF(OR(T25=0,X25=0),0,T25+X25)))))","v":365},{"$f":"IF(Y25=0,\"\",CONCATENATE(CD25,\"/\",IF(AN25=4,\"Wilks\",D25),\"/\",IF(AN25>1,\"\",F25),\"/\",$AM$11))","v":"3/FR-O/72/PL"},{"$f":"BB25","v":365},{"$f":"IF(AA25=0,\"\",CE25)","v":3},{"$f":"H25*IF($E$3=\"Kg\",Y25,Y25/2.2046)","v":373.72351169586182},{"$f":"IFERROR(VLOOKUP(AS25,DATA!$A$2:$B$63,2,TRUE),0)*AC25","v":373.72351169586182},"PL BP",1010365,"NC",{"$f":"IFERROR(VLOOKUP(A25,Setup!$Q$5:$R$20,2,FALSE),\"\")","v":1},{"$f":"IF(VALUE(INDIRECT(CONCATENATE($AI$11,ROW())))=0,\"\",ABS(INDIRECT(CONCATENATE($AI$11,ROW())))+0.000001*G25)","v":155.00040100000001},60,55,67,{"$f":"IF(ISERROR(SEARCH($AM$11,AE25)),0,1)","v":1},{"$f":"VLOOKUP(D25,Setup!$I$6:$K$93,3,FALSE)","v":1},{"$f":"ROUND(IFERROR(IF(AN25=1,Y25,IF(AN25=2,AC25,IF(AN25=3,AD25,AC25))),0),5)","v":365},null,{"$f":"IFERROR(MATCH(D25,Setup!$I$6:$I$93,0),\"\")","v":8},{"$f":"IFERROR(CONCATENATE(LEFT(D25,FIND(\"-\",D25)),IF(AS25=\"\",\"O\",VLOOKUP(AS25,DATA!$E$35:$F$53,2,TRUE))),\"\")","v":"FR-O"},{"$f":"IF(YEAR($AR$7)-YEAR(I25)<40,DATEDIF(I25,$AR$7,\"Y\"),YEAR($AR$7)-YEAR(I25))","v":24},{"$f":"IF(AN25=1,MATCH(F25,DATA!$AB$2:$AB$34,0),0)","v":17},null,{"$f":"IF(MAX(K25:M25)>0,MAX(K25:M25),0)","v":122.5},{"$f":"IF(MAX(P25:R25)>0,MAX(P25:R25),0)","v":87.5},{"$f":"IF(MAX(U25:W25)>0,MAX(U25:W25),0)","v":155},{"$f":"AM25*IF($AM$11=\"PL\",IF(MIN(AV25:AX25)=0,0,AV25+AW25+AX25),IF($AM$11=\"PP\",IF(MIN(AW25:AX25)=0,0,AW25+AX25),IF($AM$11=\"BP\",AW25,IF($AM$11=\"DL\",AX25,AV25))))","v":365},{"$f":"ROUND(AY25*H25,5)","v":373.72350999999998},{"$f":"ROUND(IFERROR(VLOOKUP(AS25,DATA!$A$2:$B$63,2,FALSE),1)*AZ25,5)","v":373.72350999999998},{"$f":"IFERROR(IF(AN25=1,AY25,IF(AN25=2,AZ25,IF(AN25=3,BA25,AZ25))),0)","v":365},null,null,null,null,null,null,null,null,null,null,null,null,null,null,null,null,null,null,null,null,null,null,null,{"$f":"IFERROR(IF(FIND(\"DT\",AE25),\"Y\",\"\"),\"\")","v":""},null,{"$f":"CONCATENATE(IF(AN25=4,\"\",D25),IF(AN25=1,F25,\"\"))","v":"FR-O72"},{"$f":"IF($AM$11=\"SQ\",AJ25,IF($AM$11=\"BP\",AK25,AL25))","v":67},{"$f":"1+COUNTIFS(INDIRECT(\"AN12:AN500\"),AN25,INDIRECT(\"CB12:CB500\"),CB25,INDIRECT(\"AO12:AO500\"),\">\"&AO25)\n+COUNTIFS(INDIRECT(\"AO12:AO500\"),AO25,INDIRECT(\"AN12:AN500\"),1,INDIRECT(\"CB12:CB500\"),CB25,INDIRECT(\"E12:E500\"),\"<\"&E25)\n+COUNTIFS(INDIRECT(\"AO12:AO500\"),AO25,INDIRECT(\"AN12:AN500\"),1,INDIRECT(\"CB12:CB500\"),CB25,INDIRECT(\"E12:E500\"),E25,INDIRECT(\"CC12:CC500\"),\"<\"&CC25)","v":3},{"$f":"1+COUNTIFS(INDIRECT(\"AN12:AN500\"),AN25,INDIRECT(\"CB12:CB500\"),CB25,INDIRECT(\"BB12:BB500\"),\">\"&BB25)\n+COUNTIFS(INDIRECT(\"BB12:BB500\"),BB25,INDIRECT(\"AN12:AN500\"),1,INDIRECT(\"CB12:CB500\"),CB25,INDIRECT(\"E12:E500\"),\"<\"&E25)","v":3}]
["2B","Linda Mertens","MN","FR-O",65.55,{"$f":"IFERROR(VLOOKUP(E26,DATA!$E$2:$G$22,IF(LEFT(D26,1)=\"M\",2,3)),\"\")","v":72},408,{"$f":"IFERROR(IF(LEFT(D26,1)=\"M\",Wilks_Men(IF($E$11=\"Bwt - Lb\",E26/2.2046,E26)),Wilks_Women(IF($E$11=\"Bwt - Lb\",E26/2.2046,E26))),\"\")","v":1.0426000356674194},"1966-03-30","8",90,97.5,102.5,{"$f":"IF(MAX(K26:M26)<=0,0,MAX(CELL(\"color\",K26)*K26,CELL(\"color\",L26)*L26,CELL(\"color\",M26)*M26))","v":102.5},null,47.5,52.5,57.5,{"$f":"IF(MAX(P26:R26)<=0,0,MAX(CELL(\"color\",P26)*P26,CELL(\"color\",Q26)*Q26,CELL(\"color\",R26)*R26))","v":57.5},{"$f":"IF(OR(N26=0,S26=0),0,N26+S26)","v":160},127.5,135,140,{"$f":"IF(MAX(U26:W26)<=0,0,MAX(CELL(\"color\",U26)*U26,CELL(\"color\",V26)*V26,CELL(\"color\",W26)*W26))","v":140},{"$f":"AM26*IF($AM$11=\"SQ\",N26,IF($AM$11=\"BP\",S26,IF($AM$11=\"DL\",X26,IF($AM$11=\"PP\",IF(OR(S26=0,X26=0),0,S26+X26),IF(OR(T26=0,X26=0),0,T26+X26)))))","v":300},{"$f":"IF(Y26=0,\"\",CONCATENATE(CD26,\"/\",IF(AN26=4,\"Wilks\",D26),\"/\",IF(AN26>1,\"\",F26),\"/\",$AM$11))","v":"4/FR-O/72/PL"},{"$f":"BB26","v":300},{"$f":"IF(AA26=0,\"\",CE26)","v":4},{"$f":"H26*IF($E$3=\"Kg\",Y26,Y26/2.2046)","v":312.78001070022583},{"$f":"IFERROR(VLOOKUP(AS26,DATA!$A$2:$B$63,2,TRUE),0)*AC26","v":364.38871246576309},"PL",1026356,"MN",{"$f":"IFERROR(VLOOKUP(A26,Setup!$Q$5:$R$20,2,FALSE),\"\")","v":1},{"$f":"IF(VALUE(INDIRECT(CONCATENATE($AI$11,ROW())))=0,\"\",ABS(INDIRECT(CONCATENATE($AI$11,ROW())))+0.000001*G26)","v":140.00040799999999},59,51,66,{"$f":"IF(ISERROR(SEARCH($AM$11,AE26)),0,1)","v":1},{"$f":"VLOOKUP(D26,Setup!$I$6:$K$93,3,FALSE)","v":1},{"$f":"ROUND(IFERROR(IF(AN26=1,Y26,IF(AN26=2,AC26,IF(AN26=3,AD26,AC26))),0),5)","v":300},null,{"$f":"IFERROR(MATCH(D26,Setup!$I$6:$I$93,0),\"\")","v":8},{"$f":"IFERROR(CONCATENATE(LEFT(D26,FIND(\"-\",D26)),IF(AS26=\"\",\"O\",VLOOKUP(AS26,DATA!$E$35:$F$53,2,TRUE))),\"\")","v":"FR-M2a"},{"$f":"IF(YEAR($AR$7)-YEAR(I26)<40,DATEDIF(I26,$AR$7,\"Y\"),YEAR($AR$7)-YEAR(I26))","v":52},{"$f":"IF(AN26=1,MATCH(F26,DATA!$AB$2:$AB$34,0),0)","v":17},null,{"$f":"IF(MAX(K26:M26)>0,MAX(K26:M26),0)","v":102.5},{"$f":"IF(MAX(P26:R26)>0,MAX(P26:R26),0)","v":57.5},{"$f":"IF(MAX(U26:W26)>0,MAX(U26:W26),0)","v":140},{"$f":"AM26*IF($AM$11=\"PL\",IF(MIN(AV26:AX26)=0,0,AV26+AW26+AX26),IF($AM$11=\"PP\",IF(MIN(AW26:AX26)=0,0,AW26+AX26),IF($AM$11=\"BP\",AW26,IF($AM$11=\"DL\",AX26,AV26))))","v":300},{"$f":"ROUND(AY26*H26,5)","v":312.78001},{"$f":"ROUND(IFERROR(VLOOKUP(AS26,DATA!$A$2:$B$63,2,FALSE),1)*AZ26,5)","v":364.38871},{"$f":"IFERROR(IF(AN26=1,AY26,IF(AN26=2,AZ26,IF(AN26=3,BA26,AZ26))),0)","v":300},null,null,null,null,null,null,null,null,null,null,null,null,null,null,null,null,null,null,null,null,null,null,null,{"$f":"IFERROR(IF(FIND(\"DT\",AE26),\"Y\",\"\"),\"\")","v":""},null,{"$f":"CONCATENATE(IF(AN26=4,\"\",D26),IF(AN26=1,F26,\"\"))","v":"FR-O72"},{"$f":"IF($AM$11=\"SQ\",AJ26,IF($AM$11=\"BP\",AK26,AL26))","v":66},{"$f":"1+COUNTIFS(INDIRECT(\"AN12:AN500\"),AN26,INDIRECT(\"CB12:CB500\"),CB26,INDIRECT(\"AO12:AO500\"),\">\"&AO26)\n+COUNTIFS(INDIRECT(\"AO12:AO500\"),AO26,INDIRECT(\"AN12:AN500\"),1,INDIRECT(\"CB12:CB500\"),CB26,INDIRECT(\"E12:E500\"),\"<\"&E26)\n+COUNTIFS(INDIRECT(\"AO12:AO500\"),AO26,INDIRECT(\"AN12:AN500\"),1,INDIRECT(\"CB12:CB500\"),CB26,INDIRECT(\"E12:E500\"),E26,INDIRECT(\"CC12:CC500\"),\"<\"&CC26)","v":4},{"$f":"1+COUNTIFS(INDIRECT(\"AN12:AN500\"),AN26,INDIRECT(\"CB12:CB500\"),CB26,INDIRECT(\"BB12:BB500\"),\">\"&BB26)\n+COUNTIFS(INDIRECT(\"BB12:BB500\"),BB26,INDIRECT(\"AN12:AN500\"),1,INDIRECT(\"CB12:CB500\"),CB26,INDIRECT(\"E12:E500\"),\"<\"&E26)","v":4}]
["2B","Rebecca Marino","NC","FR-O",68.400000000000006,{"$f":"IFERROR(VLOOKUP(E27,DATA!$E$2:$G$22,IF(LEFT(D27,1)=\"M\",2,3)),\"\")","v":72},405,{"$f":"IFERROR(IF(LEFT(D27,1)=\"M\",Wilks_Men(IF($E$11=\"Bwt - Lb\",E27/2.2046,E27)),Wilks_Women(IF($E$11=\"Bwt - Lb\",E27/2.2046,E27))),\"\")","v":1.0110000371932983},"1987-11-20","12",77.5,87.5,95,{"$f":"IF(MAX(K27:M27)<=0,0,MAX(CELL(\"color\",K27)*K27,CELL(\"color\",L27)*L27,CELL(\"color\",M27)*M27))","v":95},"12-5",57.5,60,-62.5,{"$f":"IF(MAX(P27:R27)<=0,0,MAX(CELL(\"color\",P27)*P27,CELL(\"color\",Q27)*Q27,CELL(\"color\",R27)*R27))","v":60},{"$f":"IF(OR(N27=0,S27=0),0,N27+S27)","v":155},117.5,127.5,137.5,{"$f":"IF(MAX(U27:W27)<=0,0,MAX(CELL(\"color\",U27)*U27,CELL(\"color\",V27)*V27,CELL(\"color\",W27)*W27))","v":137.5},{"$f":"AM27*IF($AM$11=\"SQ\",N27,IF($AM$11=\"BP\",S27,IF($AM$11=\"DL\",X27,IF($AM$11=\"PP\",IF(OR(S27=0,X27=0),0,S27+X27),IF(OR(T27=0,X27=0),0,T27+X27)))))","v":292.5},{"$f":"IF(Y27=0,\"\",CONCATENATE(CD27,\"/\",IF(AN27=4,\"Wilks\",D27),\"/\",IF(AN27>1,\"\",F27),\"/\",$AM$11))","v":"5/FR-O/72/PL"},{"$f":"BB27","v":292.5},{"$f":"IF(AA27=0,\"\",CE27)","v":5},{"$f":"H27*IF($E$3=\"Kg\",Y27,Y27/2.2046)","v":295.71751087903976},{"$f":"IFERROR(VLOOKUP(AS27,DATA!$A$2:$B$63,2,TRUE),0)*AC27","v":295.71751087903976},"PL",995471,"NC",{"$f":"IFERROR(VLOOKUP(A27,Setup!$Q$5:$R$20,2,FALSE),\"\")","v":1},{"$f":"IF(VALUE(INDIRECT(CONCATENATE($AI$11,ROW())))=0,\"\",ABS(INDIRECT(CONCATENATE($AI$11,ROW())))+0.000001*G27)","v":137.500405},57,42,63,{"$f":"IF(ISERROR(SEARCH($AM$11,AE27)),0,1)","v":1},{"$f":"VLOOKUP(D27,Setup!$I$6:$K$93,3,FALSE)","v":1},{"$f":"ROUND(IFERROR(IF(AN27=1,Y27,IF(AN27=2,AC27,IF(AN27=3,AD27,AC27))),0),5)","v":292.5},null,{"$f":"IFERROR(MATCH(D27,Setup!$I$6:$I$93,0),\"\")","v":8},{"$f":"IFERROR(CONCATENATE(LEFT(D27,FIND(\"-\",D27)),IF(AS27=\"\",\"O\",VLOOKUP(AS27,DATA!$E$35:$F$53,2,TRUE))),\"\")","v":"FR-O"},{"$f":"IF(YEAR($AR$7)-YEAR(I27)<40,DATEDIF(I27,$AR$7,\"Y\"),YEAR($AR$7)-YEAR(I27))","v":30},{"$f":"IF(AN27=1,MATCH(F27,DATA!$AB$2:$AB$34,0),0)","v":17},null,{"$f":"IF(MAX(K27:M27)>0,MAX(K27:M27),0)","v":95},{"$f":"IF(MAX(P27:R27)>0,MAX(P27:R27),0)","v":60},{"$f":"IF(MAX(U27:W27)>0,MAX(U27:W27),0)","v":137.5},{"$f":"AM27*IF($AM$11=\"PL\",IF(MIN(AV27:AX27)=0,0,AV27+AW27+AX27),IF($AM$11=\"PP\",IF(MIN(AW27:AX27)=0,0,AW27+AX27),IF($AM$11=\"BP\",AW27,IF($AM$11=\"DL\",AX27,AV27))))","v":292.5},{"$f":"ROUND(AY27*H27,5)","v":295.71751},{"$f":"ROUND(IFERROR(VLOOKUP(AS27,DATA!$A$2:$B$63,2,FALSE),1)*AZ27,5)","v":295.71751},{"$f":"IFERROR(IF(AN27=1,AY27,IF(AN27=2,AZ27,IF(AN27=3,BA27,AZ27))),0)","v":292.5},null,null,null,null,null,null,null,null,null,null,null,null,null,null,null,null,null,null,null,null,null,null,null,{"$f":"IFERROR(IF(FIND(\"DT\",AE27),\"Y\",\"\"),\"\")","v":""},null,{"$f":"CONCATENATE(IF(AN27=4,\"\",D27),IF(AN27=1,F27,\"\"))","v":"FR-O72"},{"$f":"IF($AM$11=\"SQ\",AJ27,IF($AM$11=\"BP\",AK27,AL27))","v":63},{"$f":"1+COUNTIFS(INDIRECT(\"AN12:AN500\"),AN27,INDIRECT(\"CB12:CB500\"),CB27,INDIRECT(\"AO12:AO500\"),\">\"&AO27)\n+COUNTIFS(INDIRECT(\"AO12:AO500\"),AO27,INDIRECT(\"AN12:AN500\"),1,INDIRECT(\"CB12:CB500\"),CB27,INDIRECT(\"E12:E500\"),\"<\"&E27)\n+COUNTIFS(INDIRECT(\"AO12:AO500\"),AO27,INDIRECT(\"AN12:AN500\"),1,INDIRECT(\"CB12:CB500\"),CB27,INDIRECT(\"E12:E500\"),E27,INDIRECT(\"CC12:CC500\"),\"<\"&CC27)","v":5},{"$f":"1+COUNTIFS(INDIRECT(\"AN12:AN500\"),AN27,INDIRECT(\"CB12:CB500\"),CB27,INDIRECT(\"BB12:BB500\"),\">\"&BB27)\n+COUNTIFS(INDIRECT(\"BB12:BB500\"),BB27,INDIRECT(\"AN12:AN500\"),1,INDIRECT(\"CB12:CB500\"),CB27,INDIRECT(\"E12:E500\"),\"<\"&E27)","v":5}]
["2B","Michelle Wittke","SC","FR-O",69.5,{"$f":"IFERROR(VLOOKUP(E28,DATA!$E$2:$G$22,IF(LEFT(D28,1)=\"M\",2,3)),\"\")","v":72},404,{"$f":"IFERROR(IF(LEFT(D28,1)=\"M\",Wilks_Men(IF($E$11=\"Bwt - Lb\",E28/2.2046,E28)),Wilks_Women(IF($E$11=\"Bwt - Lb\",E28/2.2046,E28))),\"\")","v":0.99980002641677856},"1988-10-10","12",92.5,102.5,-110,{"$f":"IF(MAX(K28:M28)<=0,0,MAX(CELL(\"color\",K28)*K28,CELL(\"color\",L28)*L28,CELL(\"color\",M28)*M28))","v":102.5},"11-5",47.5,52.5,55,{"$f":"IF(MAX(P28:R28)<=0,0,MAX(CELL(\"color\",P28)*P28,CELL(\"color\",Q28)*Q28,CELL(\"color\",R28)*R28))","v":55},{"$f":"IF(OR(N28=0,S28=0),0,N28+S28)","v":157.5},120,127.5,-137.5,{"$f":"IF(MAX(U28:W28)<=0,0,MAX(CELL(\"color\",U28)*U28,CELL(\"color\",V28)*V28,CELL(\"color\",W28)*W28))","v":127.5},{"$f":"AM28*IF($AM$11=\"SQ\",N28,IF($AM$11=\"BP\",S28,IF($AM$11=\"DL\",X28,IF($AM$11=\"PP\",IF(OR(S28=0,X28=0),0,S28+X28),IF(OR(T28=0,X28=0),0,T28+X28)))))","v":285},{"$f":"IF(Y28=0,\"\",CONCATENATE(CD28,\"/\",IF(AN28=4,\"Wilks\",D28),\"/\",IF(AN28>1,\"\",F28),\"/\",$AM$11))","v":"6/FR-O/72/PL"},{"$f":"BB28","v":285},{"$f":"IF(AA28=0,\"\",CE28)","v":6},{"$f":"H28*IF($E$3=\"Kg\",Y28,Y28/2.2046)","v":284.94300752878189},{"$f":"IFERROR(VLOOKUP(AS28,DATA!$A$2:$B$63,2,TRUE),0)*AC28","v":284.94300752878189},"PL",101072,"SC",{"$f":"IFERROR(VLOOKUP(A28,Setup!$Q$5:$R$20,2,FALSE),\"\")","v":1},{"$f":"IF(VALUE(INDIRECT(CONCATENATE($AI$11,ROW())))=0,\"\",ABS(INDIRECT(CONCATENATE($AI$11,ROW())))+0.000001*G28)","v":137.500404},50,49,64,{"$f":"IF(ISERROR(SEARCH($AM$11,AE28)),0,1)","v":1},{"$f":"VLOOKUP(D28,Setup!$I$6:$K$93,3,FALSE)","v":1},{"$f":"ROUND(IFERROR(IF(AN28=1,Y28,IF(AN28=2,AC28,IF(AN28=3,AD28,AC28))),0),5)","v":285},null,{"$f":"IFERROR(MATCH(D28,Setup!$I$6:$I$93,0),\"\")","v":8},{"$f":"IFERROR(CONCATENATE(LEFT(D28,FIND(\"-\",D28)),IF(AS28=\"\",\"O\",VLOOKUP(AS28,DATA!$E$35:$F$53,2,TRUE))),\"\")","v":"FR-O"},{"$f":"IF(YEAR($AR$7)-YEAR(I28)<40,DATEDIF(I28,$AR$7,\"Y\"),YEAR($AR$7)-YEAR(I28))","v":29},{"$f":"IF(AN28=1,MATCH(F28,DATA!$AB$2:$AB$34,0),0)","v":17},null,{"$f":"IF(MAX(K28:M28)>0,MAX(K28:M28),0)","v":102.5},{"$f":"IF(MAX(P28:R28)>0,MAX(P28:R28),0)","v":55},{"$f":"IF(MAX(U28:W28)>0,MAX(U28:W28),0)","v":127.5},{"$f":"AM28*IF($AM$11=\"PL\",IF(MIN(AV28:AX28)=0,0,AV28+AW28+AX28),IF($AM$11=\"PP\",IF(MIN(AW28:AX28)=0,0,AW28+AX28),IF($AM$11=\"BP\",AW28,IF($AM$11=\"DL\",AX28,AV28))))","v":285},{"$f":"ROUND(AY28*H28,5)","v":284.94301000000002},{"$f":"ROUND(IFERROR(VLOOKUP(AS28,DATA!$A$2:$B$63,2,FALSE),1)*AZ28,5)","v":284.94301000000002},{"$f":"IFERROR(IF(AN28=1,AY28,IF(AN28=2,AZ28,IF(AN28=3,BA28,AZ28))),0)","v":285},null,null,null,null,null,null,null,null,null,null,null,null,null,null,null,null,null,null,null,null,null,null,null,{"$f":"IFERROR(IF(FIND(\"DT\",AE28),\"Y\",\"\"),\"\")","v":""},null,{"$f":"CONCATENATE(IF(AN28=4,\"\",D28),IF(AN28=1,F28,\"\"))","v":"FR-O72"},{"$f":"IF($AM$11=\"SQ\",AJ28,IF($AM$11=\"BP\",AK28,AL28))","v":64},{"$f":"1+COUNTIFS(INDIRECT(\"AN12:AN500\"),AN28,INDIRECT(\"CB12:CB500\"),CB28,INDIRECT(\"AO12:AO500\"),\">\"&AO28)\n+COUNTIFS(INDIRECT(\"AO12:AO500\"),AO28,INDIRECT(\"AN12:AN500\"),1,INDIRECT(\"CB12:CB500\"),CB28,INDIRECT(\"E12:E500\"),\"<\"&E28)\n+COUNTIFS(INDIRECT(\"AO12:AO500\"),AO28,INDIRECT(\"AN12:AN500\"),1,INDIRECT(\"CB12:CB500\"),CB28,INDIRECT(\"E12:E500\"),E28,INDIRECT(\"CC12:CC500\"),\"<\"&CC28)","v":6},{"$f":"1+COUNTIFS(INDIRECT(\"AN12:AN500\"),AN28,INDIRECT(\"CB12:CB500\"),CB28,INDIRECT(\"BB12:BB500\"),\">\"&BB28)\n+COUNTIFS(INDIRECT(\"BB12:BB500\"),BB28,INDIRECT(\"AN12:AN500\"),1,INDIRECT(\"CB12:CB500\"),CB28,INDIRECT(\"E12:E500\"),\"<\"&E28)","v":6}]
["2B","Erin Ball","NC","FR-O",71,{"$f":"IFERROR(VLOOKUP(E29,DATA!$E$2:$G$22,IF(LEFT(D29,1)=\"M\",2,3)),\"\")","v":72},406,{"$f":"IFERROR(IF(LEFT(D29,1)=\"M\",Wilks_Men(IF($E$11=\"Bwt - Lb\",E29/2.2046,E29)),Wilks_Women(IF($E$11=\"Bwt - Lb\",E29/2.2046,E29))),\"\")","v":0.98519998788833618},"1976-09-19","14",72.5,82.5,87.5,{"$f":"IF(MAX(K29:M29)<=0,0,MAX(CELL(\"color\",K29)*K29,CELL(\"color\",L29)*L29,CELL(\"color\",M29)*M29))","v":87.5},"12-7",35,40,45,{"$f":"IF(MAX(P29:R29)<=0,0,MAX(CELL(\"color\",P29)*P29,CELL(\"color\",Q29)*Q29,CELL(\"color\",R29)*R29))","v":45},{"$f":"IF(OR(N29=0,S29=0),0,N29+S29)","v":132.5},82.5,92.5,105,{"$f":"IF(MAX(U29:W29)<=0,0,MAX(CELL(\"color\",U29)*U29,CELL(\"color\",V29)*V29,CELL(\"color\",W29)*W29))","v":105},{"$f":"AM29*IF($AM$11=\"SQ\",N29,IF($AM$11=\"BP\",S29,IF($AM$11=\"DL\",X29,IF($AM$11=\"PP\",IF(OR(S29=0,X29=0),0,S29+X29),IF(OR(T29=0,X29=0),0,T29+X29)))))","v":237.5},{"$f":"IF(Y29=0,\"\",CONCATENATE(CD29,\"/\",IF(AN29=4,\"Wilks\",D29),\"/\",IF(AN29>1,\"\",F29),\"/\",$AM$11))","v":"7/FR-O/72/PL"},{"$f":"BB29","v":237.5},{"$f":"IF(AA29=0,\"\",CE29)","v":7},{"$f":"H29*IF($E$3=\"Kg\",Y29,Y29/2.2046)","v":233.98499712347984},{"$f":"IFERROR(VLOOKUP(AS29,DATA!$A$2:$B$63,2,TRUE),0)*AC29","v":238.66469706594944},"PL",null,"NC",{"$f":"IFERROR(VLOOKUP(A29,Setup!$Q$5:$R$20,2,FALSE),\"\")","v":1},{"$f":"IF(VALUE(INDIRECT(CONCATENATE($AI$11,ROW())))=0,\"\",ABS(INDIRECT(CONCATENATE($AI$11,ROW())))+0.000001*G29)","v":105.000406},55,47,61,{"$f":"IF(ISERROR(SEARCH($AM$11,AE29)),0,1)","v":1},{"$f":"VLOOKUP(D29,Setup!$I$6:$K$93,3,FALSE)","v":1},{"$f":"ROUND(IFERROR(IF(AN29=1,Y29,IF(AN29=2,AC29,IF(AN29=3,AD29,AC29))),0),5)","v":237.5},null,{"$f":"IFERROR(MATCH(D29,Setup!$I$6:$I$93,0),\"\")","v":8},{"$f":"IFERROR(CONCATENATE(LEFT(D29,FIND(\"-\",D29)),IF(AS29=\"\",\"O\",VLOOKUP(AS29,DATA!$E$35:$F$53,2,TRUE))),\"\")","v":"FR-M1a"},{"$f":"IF(YEAR($AR$7)-YEAR(I29)<40,DATEDIF(I29,$AR$7,\"Y\"),YEAR($AR$7)-YEAR(I29))","v":42},{"$f":"IF(AN29=1,MATCH(F29,DATA!$AB$2:$AB$34,0),0)","v":17},null,{"$f":"IF(MAX(K29:M29)>0,MAX(K29:M29),0)","v":87.5},{"$f":"IF(MAX(P29:R29)>0,MAX(P29:R29),0)","v":45},{"$f":"IF(MAX(U29:W29)>0,MAX(U29:W29),0)","v":105},{"$f":"AM29*IF($AM$11=\"PL\",IF(MIN(AV29:AX29)=0,0,AV29+AW29+AX29),IF($AM$11=\"PP\",IF(MIN(AW29:AX29)=0,0,AW29+AX29),IF($AM$11=\"BP\",AW29,IF($AM$11=\"DL\",AX29,AV29))))","v":237.5},{"$f":"ROUND(AY29*H29,5)","v":233.98500000000001},{"$f":"ROUND(IFERROR(VLOOKUP(AS29,DATA!$A$2:$B$63,2,FALSE),1)*AZ29,5)","v":238.66470000000001},{"$f":"IFERROR(IF(AN29=1,AY29,IF(AN29=2,AZ29,IF(AN29=3,BA29,AZ29))),0)","v":237.5},null,null,null,null,null,null,null,null,null,null,null,null,null,null,null,null,null,null,null,null,null,null,null,{"$f":"IFERROR(IF(FIND(\"DT\",AE29),\"Y\",\"\"),\"\")","v":""},null,{"$f":"CONCATENATE(IF(AN29=4,\"\",D29),IF(AN29=1,F29,\"\"))","v":"FR-O72"},{"$f":"IF($AM$11=\"SQ\",AJ29,IF($AM$11=\"BP\",AK29,AL29))","v":61},{"$f":"1+COUNTIFS(INDIRECT(\"AN12:AN500\"),AN29,INDIRECT(\"CB12:CB500\"),CB29,INDIRECT(\"AO12:AO500\"),\">\"&AO29)\n+COUNTIFS(INDIRECT(\"AO12:AO500\"),AO29,INDIRECT(\"AN12:AN500\"),1,INDIRECT(\"CB12:CB500\"),CB29,INDIRECT(\"E12:E500\"),\"<\"&E29)\n+COUNTIFS(INDIRECT(\"AO12:AO500\"),AO29,INDIRECT(\"AN12:AN500\"),1,INDIRECT(\"CB12:CB500\"),CB29,INDIRECT(\"E12:E500\"),E29,INDIRECT(\"CC12:CC500\"),\"<\"&CC29)","v":7},{"$f":"1+COUNTIFS(INDIRECT(\"AN12:AN500\"),AN29,INDIRECT(\"CB12:CB500\"),CB29,INDIRECT(\"BB12:BB500\"),\">\"&BB29)\n+COUNTIFS(INDIRECT(\"BB12:BB500\"),BB29,INDIRECT(\"AN12:AN500\"),1,INDIRECT(\"CB12:CB500\"),CB29,INDIRECT(\"E12:E500\"),\"<\"&E29)","v":7}]
["2C","Ashley Banks","NC","FR-O",83.4,{"$f":"IFERROR(VLOOKUP(E30,DATA!$E$2:$G$22,IF(LEFT(D30,1)=\"M\",2,3)),\"\")","v":84},502,{"$f":"IFERROR(IF(LEFT(D30,1)=\"M\",Wilks_Men(IF($E$11=\"Bwt - Lb\",E30/2.2046,E30)),Wilks_Women(IF($E$11=\"Bwt - Lb\",E30/2.2046,E30))),\"\")","v":0.89499998092651367},"1989-06-05","14",142.5,152.5,-155,{"$f":"IF(MAX(K30:M30)<=0,0,MAX(CELL(\"color\",K30)*K30,CELL(\"color\",L30)*L30,CELL(\"color\",M30)*M30))","v":152.5},"13-7",55,60,-62.5,{"$f":"IF(MAX(P30:R30)<=0,0,MAX(CELL(\"color\",P30)*P30,CELL(\"color\",Q30)*Q30,CELL(\"color\",R30)*R30))","v":60},{"$f":"IF(OR(N30=0,S30=0),0,N30+S30)","v":212.5},152.5,167.5,-177.5,{"$f":"IF(MAX(U30:W30)<=0,0,MAX(CELL(\"color\",U30)*U30,CELL(\"color\",V30)*V30,CELL(\"color\",W30)*W30))","v":167.5},{"$f":"AM30*IF($AM$11=\"SQ\",N30,IF($AM$11=\"BP\",S30,IF($AM$11=\"DL\",X30,IF($AM$11=\"PP\",IF(OR(S30=0,X30=0),0,S30+X30),IF(OR(T30=0,X30=0),0,T30+X30)))))","v":380},{"$f":"IF(Y30=0,\"\",CONCATENATE(CD30,\"/\",IF(AN30=4,\"Wilks\",D30),\"/\",IF(AN30>1,\"\",F30),\"/\",$AM$11))","v":"1/FR-O/84/PL"},{"$f":"BB30","v":380},{"$f":"IF(AA30=0,\"\",CE30)","v":1},{"$f":"H30*IF($E$3=\"Kg\",Y30,Y30/2.2046)","v":340.0999927520752},{"$f":"IFERROR(VLOOKUP(AS30,DATA!$A$2:$B$63,2,TRUE),0)*AC30","v":340.0999927520752},"PL",967324,"NC",{"$f":"IFERROR(VLOOKUP(A30,Setup!$Q$5:$R$20,2,FALSE),\"\")","v":2},{"$f":"IF(VALUE(INDIRECT(CONCATENATE($AI$11,ROW())))=0,\"\",ABS(INDIRECT(CONCATENATE($AI$11,ROW())))+0.000001*G30)","v":177.50050200000001},74,72,88,{"$f":"IF(ISERROR(SEARCH($AM$11,AE30)),0,1)","v":1},{"$f":"VLOOKUP(D30,Setup!$I$6:$K$93,3,FALSE)","v":1},{"$f":"ROUND(IFERROR(IF(AN30=1,Y30,IF(AN30=2,AC30,IF(AN30=3,AD30,AC30))),0),5)","v":380},null,{"$f":"IFERROR(MATCH(D30,Setup!$I$6:$I$93,0),\"\")","v":8},{"$f":"IFERROR(CONCATENATE(LEFT(D30,FIND(\"-\",D30)),IF(AS30=\"\",\"O\",VLOOKUP(AS30,DATA!$E$35:$F$53,2,TRUE))),\"\")","v":"FR-O"},{"$f":"IF(YEAR($AR$7)-YEAR(I30)<40,DATEDIF(I30,$AR$7,\"Y\"),YEAR($AR$7)-YEAR(I30))","v":28},{"$f":"IF(AN30=1,MATCH(F30,DATA!$AB$2:$AB$34,0),0)","v":22},null,{"$f":"IF(MAX(K30:M30)>0,MAX(K30:M30),0)","v":152.5},{"$f":"IF(MAX(P30:R30)>0,MAX(P30:R30),0)","v":60},{"$f":"IF(MAX(U30:W30)>0,MAX(U30:W30),0)","v":167.5},{"$f":"AM30*IF($AM$11=\"PL\",IF(MIN(AV30:AX30)=0,0,AV30+AW30+AX30),IF($AM$11=\"PP\",IF(MIN(AW30:AX30)=0,0,AW30+AX30),IF($AM$11=\"BP\",AW30,IF($AM$11=\"DL\",AX30,AV30))))","v":380},{"$f":"ROUND(AY30*H30,5)","v":340.09998999999999},{"$f":"ROUND(IFERROR(VLOOKUP(AS30,DATA!$A$2:$B$63,2,FALSE),1)*AZ30,5)","v":340.09998999999999},{"$f":"IFERROR(IF(AN30=1,AY30,IF(AN30=2,AZ30,IF(AN30=3,BA30,AZ30))),0)","v":380},null,null,null,null,null,null,null,null,null,null,null,null,null,null,null,null,null,null,null,null,null,null,null,{"$f":"IFERROR(IF(FIND(\"DT\",AE30),\"Y\",\"\"),\"\")","v":""},null,{"$f":"CONCATENATE(IF(AN30=4,\"\",D30),IF(AN30=1,F30,\"\"))","v":"FR-O84"},{"$f":"IF($AM$11=\"SQ\",AJ30,IF($AM$11=\"BP\",AK30,AL30))","v":88},{"$f":"1+COUNTIFS(INDIRECT(\"AN12:AN500\"),AN30,INDIRECT(\"CB12:CB500\"),CB30,INDIRECT(\"AO12:AO500\"),\">\"&AO30)\n+COUNTIFS(INDIRECT(\"AO12:AO500\"),AO30,INDIRECT(\"AN12:AN500\"),1,INDIRECT(\"CB12:CB500\"),CB30,INDIRECT(\"E12:E500\"),\"<\"&E30)\n+COUNTIFS(INDIRECT(\"AO12:AO500\"),AO30,INDIRECT(\"AN12:AN500\"),1,INDIRECT(\"CB12:CB500\"),CB30,INDIRECT(\"E12:E500\"),E30,INDIRECT(\"CC12:CC500\"),\"<\"&CC30)","v":1},{"$f":"1+COUNTIFS(INDIRECT(\"AN12:AN500\"),AN30,INDIRECT(\"CB12:CB500\"),CB30,INDIRECT(\"BB12:BB500\"),\">\"&BB30)\n+COUNTIFS(INDIRECT(\"BB12:BB500\"),BB30,INDIRECT(\"AN12:AN500\"),1,INDIRECT(\"CB12:CB500\"),CB30,INDIRECT(\"E12:E500\"),\"<\"&E30)","v":1}]
["2C","Daynya Quigley","NC","FR-O",76.45,{"$f":"IFERROR(VLOOKUP(E31,DATA!$E$2:$G$22,IF(LEFT(D31,1)=\"M\",2,3)),\"\")","v":84},504,{"$f":"IFERROR(IF(LEFT(D31,1)=\"M\",Wilks_Men(IF($E$11=\"Bwt - Lb\",E31/2.2046,E31)),Wilks_Women(IF($E$11=\"Bwt - Lb\",E31/2.2046,E31))),\"\")","v":0.93949997425079346},"1981-03-12","11",125,132.5,140,{"$f":"IF(MAX(K31:M31)<=0,0,MAX(CELL(\"color\",K31)*K31,CELL(\"color\",L31)*L31,CELL(\"color\",M31)*M31))","v":140},"12-7",55,60,-62.5,{"$f":"IF(MAX(P31:R31)<=0,0,MAX(CELL(\"color\",P31)*P31,CELL(\"color\",Q31)*Q31,CELL(\"color\",R31)*R31))","v":60},{"$f":"IF(OR(N31=0,S31=0),0,N31+S31)","v":200},135,142.5,-150,{"$f":"IF(MAX(U31:W31)<=0,0,MAX(CELL(\"color\",U31)*U31,CELL(\"color\",V31)*V31,CELL(\"color\",W31)*W31))","v":142.5},{"$f":"AM31*IF($AM$11=\"SQ\",N31,IF($AM$11=\"BP\",S31,IF($AM$11=\"DL\",X31,IF($AM$11=\"PP\",IF(OR(S31=0,X31=0),0,S31+X31),IF(OR(T31=0,X31=0),0,T31+X31)))))","v":342.5},{"$f":"IF(Y31=0,\"\",CONCATENATE(CD31,\"/\",IF(AN31=4,\"Wilks\",D31),\"/\",IF(AN31>1,\"\",F31),\"/\",$AM$11))","v":"2/FR-O/84/PL"},{"$f":"BB31","v":342.5},{"$f":"IF(AA31=0,\"\",CE31)","v":2},{"$f":"H31*IF($E$3=\"Kg\",Y31,Y31/2.2046)","v":321.77874118089676},{"$f":"IFERROR(VLOOKUP(AS31,DATA!$A$2:$B$63,2,TRUE),0)*AC31","v":321.77874118089676},"PL",997736,"NC",{"$f":"IFERROR(VLOOKUP(A31,Setup!$Q$5:$R$20,2,FALSE),\"\")","v":2},{"$f":"IF(VALUE(INDIRECT(CONCATENATE($AI$11,ROW())))=0,\"\",ABS(INDIRECT(CONCATENATE($AI$11,ROW())))+0.000001*G31)","v":150.00050400000001},80,73,85,{"$f":"IF(ISERROR(SEARCH($AM$11,AE31)),0,1)","v":1},{"$f":"VLOOKUP(D31,Setup!$I$6:$K$93,3,FALSE)","v":1},{"$f":"ROUND(IFERROR(IF(AN31=1,Y31,IF(AN31=2,AC31,IF(AN31=3,AD31,AC31))),0),5)","v":342.5},null,{"$f":"IFERROR(MATCH(D31,Setup!$I$6:$I$93,0),\"\")","v":8},{"$f":"IFERROR(CONCATENATE(LEFT(D31,FIND(\"-\",D31)),IF(AS31=\"\",\"O\",VLOOKUP(AS31,DATA!$E$35:$F$53,2,TRUE))),\"\")","v":"FR-O"},{"$f":"IF(YEAR($AR$7)-YEAR(I31)<40,DATEDIF(I31,$AR$7,\"Y\"),YEAR($AR$7)-YEAR(I31))","v":37},{"$f":"IF(AN31=1,MATCH(F31,DATA!$AB$2:$AB$34,0),0)","v":22},null,{"$f":"IF(MAX(K31:M31)>0,MAX(K31:M31),0)","v":140},{"$f":"IF(MAX(P31:R31)>0,MAX(P31:R31),0)","v":60},{"$f":"IF(MAX(U31:W31)>0,MAX(U31:W31),0)","v":142.5},{"$f":"AM31*IF($AM$11=\"PL\",IF(MIN(AV31:AX31)=0,0,AV31+AW31+AX31),IF($AM$11=\"PP\",IF(MIN(AW31:AX31)=0,0,AW31+AX31),IF($AM$11=\"BP\",AW31,IF($AM$11=\"DL\",AX31,AV31))))","v":342.5},{"$f":"ROUND(AY31*H31,5)","v":321.77874000000003},{"$f":"ROUND(IFERROR(VLOOKUP(AS31,DATA!$A$2:$B$63,2,FALSE),1)*AZ31,5)","v":321.77874000000003},{"$f":"IFERROR(IF(AN31=1,AY31,IF(AN31=2,AZ31,IF(AN31=3,BA31,AZ31))),0)","v":342.5},null,null,null,null,null,null,null,null,null,null,null,null,null,null,null,null,null,null,null,null,null,null,null,{"$f":"IFERROR(IF(FIND(\"DT\",AE31),\"Y\",\"\"),\"\")","v":""},null,{"$f":"CONCATENATE(IF(AN31=4,\"\",D31),IF(AN31=1,F31,\"\"))","v":"FR-O84"},{"$f":"IF($AM$11=\"SQ\",AJ31,IF($AM$11=\"BP\",AK31,AL31))","v":85},{"$f":"1+COUNTIFS(INDIRECT(\"AN12:AN500\"),AN31,INDIRECT(\"CB12:CB500\"),CB31,INDIRECT(\"AO12:AO500\"),\">\"&AO31)\n+COUNTIFS(INDIRECT(\"AO12:AO500\"),AO31,INDIRECT(\"AN12:AN500\"),1,INDIRECT(\"CB12:CB500\"),CB31,INDIRECT(\"E12:E500\"),\"<\"&E31)\n+COUNTIFS(INDIRECT(\"AO12:AO500\"),AO31,INDIRECT(\"AN12:AN500\"),1,INDIRECT(\"CB12:CB500\"),CB31,INDIRECT(\"E12:E500\"),E31,INDIRECT(\"CC12:CC500\"),\"<\"&CC31)","v":2},{"$f":"1+COUNTIFS(INDIRECT(\"AN12:AN500\"),AN31,INDIRECT(\"CB12:CB500\"),CB31,INDIRECT(\"BB12:BB500\"),\">\"&BB31)\n+COUNTIFS(INDIRECT(\"BB12:BB500\"),BB31,INDIRECT(\"AN12:AN500\"),1,INDIRECT(\"CB12:CB500\"),CB31,INDIRECT(\"E12:E500\"),\"<\"&E31)","v":2}]
["2C","Tomika Baldwin","NC","FR-O",83.8,{"$f":"IFERROR(VLOOKUP(E32,DATA!$E$2:$G$22,IF(LEFT(D32,1)=\"M\",2,3)),\"\")","v":84},506,{"$f":"IFERROR(IF(LEFT(D32,1)=\"M\",Wilks_Men(IF($E$11=\"Bwt - Lb\",E32/2.2046,E32)),Wilks_Women(IF($E$11=\"Bwt - Lb\",E32/2.2046,E32))),\"\")","v":0.892799973487854},"1970-03-27","13",-120,-120,-120,{"$f":"IF(MAX(K32:M32)<=0,0,MAX(CELL(\"color\",K32)*K32,CELL(\"color\",L32)*L32,CELL(\"color\",M32)*M32))","v":0},"13-5",72.5,75,-77.5,{"$f":"IF(MAX(P32:R32)<=0,0,MAX(CELL(\"color\",P32)*P32,CELL(\"color\",Q32)*Q32,CELL(\"color\",R32)*R32))","v":75},{"$f":"IF(OR(N32=0,S32=0),0,N32+S32)","v":0},157.5,0,0,{"$f":"IF(MAX(U32:W32)<=0,0,MAX(CELL(\"color\",U32)*U32,CELL(\"color\",V32)*V32,CELL(\"color\",W32)*W32))","v":157.5},{"$f":"AM32*IF($AM$11=\"SQ\",N32,IF($AM$11=\"BP\",S32,IF($AM$11=\"DL\",X32,IF($AM$11=\"PP\",IF(OR(S32=0,X32=0),0,S32+X32),IF(OR(T32=0,X32=0),0,T32+X32)))))","v":0},{"$f":"IF(Y32=0,\"\",CONCATENATE(CD32,\"/\",IF(AN32=4,\"Wilks\",D32),\"/\",IF(AN32>1,\"\",F32),\"/\",$AM$11))","v":""},{"$f":"BB32","v":0},{"$f":"IF(AA32=0,\"\",CE32)","v":""},{"$f":"H32*IF($E$3=\"Kg\",Y32,Y32/2.2046)","v":0},{"$f":"IFERROR(VLOOKUP(AS32,DATA!$A$2:$B$63,2,TRUE),0)*AC32","v":0},"PL",null,"NC",{"$f":"IFERROR(VLOOKUP(A32,Setup!$Q$5:$R$20,2,FALSE),\"\")","v":2},{"$f":"IF(VALUE(INDIRECT(CONCATENATE($AI$11,ROW())))=0,\"\",ABS(INDIRECT(CONCATENATE($AI$11,ROW())))+0.000001*G32)","v":""},0,76,79,{"$f":"IF(ISERROR(SEARCH($AM$11,AE32)),0,1)","v":1},{"$f":"VLOOKUP(D32,Setup!$I$6:$K$93,3,FALSE)","v":1},{"$f":"ROUND(IFERROR(IF(AN32=1,Y32,IF(AN32=2,AC32,IF(AN32=3,AD32,AC32))),0),5)","v":0},null,{"$f":"IFERROR(MATCH(D32,Setup!$I$6:$I$93,0),\"\")","v":8},{"$f":"IFERROR(CONCATENATE(LEFT(D32,FIND(\"-\",D32)),IF(AS32=\"\",\"O\",VLOOKUP(AS32,DATA!$E$35:$F$53,2,TRUE))),\"\")","v":"FR-M1b"},{"$f":"IF(YEAR($AR$7)-YEAR(I32)<40,DATEDIF(I32,$AR$7,\"Y\"),YEAR($AR$7)-YEAR(I32))","v":48},{"$f":"IF(AN32=1,MATCH(F32,DATA!$AB$2:$AB$34,0),0)","v":22},null,{"$f":"IF(MAX(K32:M32)>0,MAX(K32:M32),0)","v":0},{"$f":"IF(MAX(P32:R32)>0,MAX(P32:R32),0)","v":75},{"$f":"IF(MAX(U32:W32)>0,MAX(U32:W32),0)","v":157.5},{"$f":"AM32*IF($AM$11=\"PL\",IF(MIN(AV32:AX32)=0,0,AV32+AW32+AX32),IF($AM$11=\"PP\",IF(MIN(AW32:AX32)=0,0,AW32+AX32),IF($AM$11=\"BP\",AW32,IF($AM$11=\"DL\",AX32,AV32))))","v":0},{"$f":"ROUND(AY32*H32,5)","v":0},{"$f":"ROUND(IFERROR(VLOOKUP(AS32,DATA!$A$2:$B$63,2,FALSE),1)*AZ32,5)","v":0},{"$f":"IFERROR(IF(AN32=1,AY32,IF(AN32=2,AZ32,IF(AN32=3,BA32,AZ32))),0)","v":0},null,null,null,null,null,null,null,null,null,null,null,null,null,null,null,null,null,null,null,null,null,null,null,{"$f":"IFERROR(IF(FIND(\"DT\",AE32),\"Y\",\"\"),\"\")","v":""},null,{"$f":"CONCATENATE(IF(AN32=4,\"\",D32),IF(AN32=1,F32,\"\"))","v":"FR-O84"},{"$f":"IF($AM$11=\"SQ\",AJ32,IF($AM$11=\"BP\",AK32,AL32))","v":79},{"$f":"1+COUNTIFS(INDIRECT(\"AN12:AN500\"),AN32,INDIRECT(\"CB12:CB500\"),CB32,INDIRECT(\"AO12:AO500\"),\">\"&AO32)\n+COUNTIFS(INDIRECT(\"AO12:AO500\"),AO32,INDIRECT(\"AN12:AN500\"),1,INDIRECT(\"CB12:CB500\"),CB32,INDIRECT(\"E12:E500\"),\"<\"&E32)\n+COUNTIFS(INDIRECT(\"AO12:AO500\"),AO32,INDIRECT(\"AN12:AN500\"),1,INDIRECT(\"CB12:CB500\"),CB32,INDIRECT(\"E12:E500\"),E32,INDIRECT(\"CC12:CC500\"),\"<\"&CC32)","v":3},{"$f":"1+COUNTIFS(INDIRECT(\"AN12:AN500\"),AN32,INDIRECT(\"CB12:CB500\"),CB32,INDIRECT(\"BB12:BB500\"),\">\"&BB32)\n+COUNTIFS(INDIRECT(\"BB12:BB500\"),BB32,INDIRECT(\"AN12:AN500\"),1,INDIRECT(\"CB12:CB500\"),CB32,INDIRECT(\"E12:E500\"),\"<\"&E32)","v":3}]
["2C","Mary Rodriguez","NC","FR-O",103.85,{"$f":"IFERROR(VLOOKUP(E33,DATA!$E$2:$G$22,IF(LEFT(D33,1)=\"M\",2,3)),\"\")","v":"84+"},509,{"$f":"IFERROR(IF(LEFT(D33,1)=\"M\",Wilks_Men(IF($E$11=\"Bwt - Lb\",E33/2.2046,E33)),Wilks_Women(IF($E$11=\"Bwt - Lb\",E33/2.2046,E33))),\"\")","v":0.82400000095367432},"1990-02-16","11",160,175,192.5,{"$f":"IF(MAX(K33:M33)<=0,0,MAX(CELL(\"color\",K33)*K33,CELL(\"color\",L33)*L33,CELL(\"color\",M33)*M33))","v":192.5},"13-6",95,102.5,-112.5,{"$f":"IF(MAX(P33:R33)<=0,0,MAX(CELL(\"color\",P33)*P33,CELL(\"color\",Q33)*Q33,CELL(\"color\",R33)*R33))","v":102.5},{"$f":"IF(OR(N33=0,S33=0),0,N33+S33)","v":295},-150,170,-175,{"$f":"IF(MAX(U33:W33)<=0,0,MAX(CELL(\"color\",U33)*U33,CELL(\"color\",V33)*V33,CELL(\"color\",W33)*W33))","v":170},{"$f":"AM33*IF($AM$11=\"SQ\",N33,IF($AM$11=\"BP\",S33,IF($AM$11=\"DL\",X33,IF($AM$11=\"PP\",IF(OR(S33=0,X33=0),0,S33+X33),IF(OR(T33=0,X33=0),0,T33+X33)))))","v":465},{"$f":"IF(Y33=0,\"\",CONCATENATE(CD33,\"/\",IF(AN33=4,\"Wilks\",D33),\"/\",IF(AN33>1,\"\",F33),\"/\",$AM$11))","v":"1/FR-O/84+/PL"},{"$f":"BB33","v":465},{"$f":"IF(AA33=0,\"\",CE33)","v":1},{"$f":"H33*IF($E$3=\"Kg\",Y33,Y33/2.2046)","v":383.16000044345856},{"$f":"IFERROR(VLOOKUP(AS33,DATA!$A$2:$B$63,2,TRUE),0)*AC33","v":383.16000044345856},"PL BP",1009251,"NC",{"$f":"IFERROR(VLOOKUP(A33,Setup!$Q$5:$R$20,2,FALSE),\"\")","v":2},{"$f":"IF(VALUE(INDIRECT(CONCATENATE($AI$11,ROW())))=0,\"\",ABS(INDIRECT(CONCATENATE($AI$11,ROW())))+0.000001*G33)","v":175.00050899999999},81,79,89,{"$f":"IF(ISERROR(SEARCH($AM$11,AE33)),0,1)","v":1},{"$f":"VLOOKUP(D33,Setup!$I$6:$K$93,3,FALSE)","v":1},{"$f":"ROUND(IFERROR(IF(AN33=1,Y33,IF(AN33=2,AC33,IF(AN33=3,AD33,AC33))),0),5)","v":465},null,{"$f":"IFERROR(MATCH(D33,Setup!$I$6:$I$93,0),\"\")","v":8},{"$f":"IFERROR(CONCATENATE(LEFT(D33,FIND(\"-\",D33)),IF(AS33=\"\",\"O\",VLOOKUP(AS33,DATA!$E$35:$F$53,2,TRUE))),\"\")","v":"FR-O"},{"$f":"IF(YEAR($AR$7)-YEAR(I33)<40,DATEDIF(I33,$AR$7,\"Y\"),YEAR($AR$7)-YEAR(I33))","v":28},{"$f":"IF(AN33=1,MATCH(F33,DATA!$AB$2:$AB$34,0),0)","v":23},null,{"$f":"IF(MAX(K33:M33)>0,MAX(K33:M33),0)","v":192.5},{"$f":"IF(MAX(P33:R33)>0,MAX(P33:R33),0)","v":102.5},{"$f":"IF(MAX(U33:W33)>0,MAX(U33:W33),0)","v":170},{"$f":"AM33*IF($AM$11=\"PL\",IF(MIN(AV33:AX33)=0,0,AV33+AW33+AX33),IF($AM$11=\"PP\",IF(MIN(AW33:AX33)=0,0,AW33+AX33),IF($AM$11=\"BP\",AW33,IF($AM$11=\"DL\",AX33,AV33))))","v":465},{"$f":"ROUND(AY33*H33,5)","v":383.16},{"$f":"ROUND(IFERROR(VLOOKUP(AS33,DATA!$A$2:$B$63,2,FALSE),1)*AZ33,5)","v":383.16},{"$f":"IFERROR(IF(AN33=1,AY33,IF(AN33=2,AZ33,IF(AN33=3,BA33,AZ33))),0)","v":465},null,null,null,null,null,null,null,null,null,null,null,null,null,null,null,null,null,null,null,null,null,null,null,{"$f":"IFERROR(IF(FIND(\"DT\",AE33),\"Y\",\"\"),\"\")","v":""},null,{"$f":"CONCATENATE(IF(AN33=4,\"\",D33),IF(AN33=1,F33,\"\"))","v":"FR-O84+"},{"$f":"IF($AM$11=\"SQ\",AJ33,IF($AM$11=\"BP\",AK33,AL33))","v":89},{"$f":"1+COUNTIFS(INDIRECT(\"AN12:AN500\"),AN33,INDIRECT(\"CB12:CB500\"),CB33,INDIRECT(\"AO12:AO500\"),\">\"&AO33)\n+COUNTIFS(INDIRECT(\"AO12:AO500\"),AO33,INDIRECT(\"AN12:AN500\"),1,INDIRECT(\"CB12:CB500\"),CB33,INDIRECT(\"E12:E500\"),\"<\"&E33)\n+COUNTIFS(INDIRECT(\"AO12:AO500\"),AO33,INDIRECT(\"AN12:AN500\"),1,INDIRECT(\"CB12:CB500\"),CB33,INDIRECT(\"E12:E500\"),E33,INDIRECT(\"CC12:CC500\"),\"<\"&CC33)","v":1},{"$f":"1+COUNTIFS(INDIRECT(\"AN12:AN500\"),AN33,INDIRECT(\"CB12:CB500\"),CB33,INDIRECT(\"BB12:BB500\"),\">\"&BB33)\n+COUNTIFS(INDIRECT(\"BB12:BB500\"),BB33,INDIRECT(\"AN12:AN500\"),1,INDIRECT(\"CB12:CB500\"),CB33,INDIRECT(\"E12:E500\"),\"<\"&E33)","v":1}]
["2C","Kristin McCarthy","NC","FR-O",101.75,{"$f":"IFERROR(VLOOKUP(E34,DATA!$E$2:$G$22,IF(LEFT(D34,1)=\"M\",2,3)),\"\")","v":"84+"},510,{"$f":"IFERROR(IF(LEFT(D34,1)=\"M\",Wilks_Men(IF($E$11=\"Bwt - Lb\",E34/2.2046,E34)),Wilks_Women(IF($E$11=\"Bwt - Lb\",E34/2.2046,E34))),\"\")","v":0.82849997282028198},"1973-01-18","11",125,130,132.5,{"$f":"IF(MAX(K34:M34)<=0,0,MAX(CELL(\"color\",K34)*K34,CELL(\"color\",L34)*L34,CELL(\"color\",M34)*M34))","v":132.5},"13-7",67.5,70,-72.5,{"$f":"IF(MAX(P34:R34)<=0,0,MAX(CELL(\"color\",P34)*P34,CELL(\"color\",Q34)*Q34,CELL(\"color\",R34)*R34))","v":70},{"$f":"IF(OR(N34=0,S34=0),0,N34+S34)","v":202.5},140,147.5,155,{"$f":"IF(MAX(U34:W34)<=0,0,MAX(CELL(\"color\",U34)*U34,CELL(\"color\",V34)*V34,CELL(\"color\",W34)*W34))","v":155},{"$f":"AM34*IF($AM$11=\"SQ\",N34,IF($AM$11=\"BP\",S34,IF($AM$11=\"DL\",X34,IF($AM$11=\"PP\",IF(OR(S34=0,X34=0),0,S34+X34),IF(OR(T34=0,X34=0),0,T34+X34)))))","v":357.5},{"$f":"IF(Y34=0,\"\",CONCATENATE(CD34,\"/\",IF(AN34=4,\"Wilks\",D34),\"/\",IF(AN34>1,\"\",F34),\"/\",$AM$11))","v":"2/FR-O/84+/PL"},{"$f":"BB34","v":357.5},{"$f":"IF(AA34=0,\"\",CE34)","v":2},{"$f":"H34*IF($E$3=\"Kg\",Y34,Y34/2.2046)","v":296.18874028325081},{"$f":"IFERROR(VLOOKUP(AS34,DATA!$A$2:$B$63,2,TRUE),0)*AC34","v":312.47912099882956},"PL",1013477,"NC",{"$f":"IFERROR(VLOOKUP(A34,Setup!$Q$5:$R$20,2,FALSE),\"\")","v":2},{"$f":"IF(VALUE(INDIRECT(CONCATENATE($AI$11,ROW())))=0,\"\",ABS(INDIRECT(CONCATENATE($AI$11,ROW())))+0.000001*G34)","v":155.00050999999999},78,74,92,{"$f":"IF(ISERROR(SEARCH($AM$11,AE34)),0,1)","v":1},{"$f":"VLOOKUP(D34,Setup!$I$6:$K$93,3,FALSE)","v":1},{"$f":"ROUND(IFERROR(IF(AN34=1,Y34,IF(AN34=2,AC34,IF(AN34=3,AD34,AC34))),0),5)","v":357.5},null,{"$f":"IFERROR(MATCH(D34,Setup!$I$6:$I$93,0),\"\")","v":8},{"$f":"IFERROR(CONCATENATE(LEFT(D34,FIND(\"-\",D34)),IF(AS34=\"\",\"O\",VLOOKUP(AS34,DATA!$E$35:$F$53,2,TRUE))),\"\")","v":"FR-M1b"},{"$f":"IF(YEAR($AR$7)-YEAR(I34)<40,DATEDIF(I34,$AR$7,\"Y\"),YEAR($AR$7)-YEAR(I34))","v":45},{"$f":"IF(AN34=1,MATCH(F34,DATA!$AB$2:$AB$34,0),0)","v":23},null,{"$f":"IF(MAX(K34:M34)>0,MAX(K34:M34),0)","v":132.5},{"$f":"IF(MAX(P34:R34)>0,MAX(P34:R34),0)","v":70},{"$f":"IF(MAX(U34:W34)>0,MAX(U34:W34),0)","v":155},{"$f":"AM34*IF($AM$11=\"PL\",IF(MIN(AV34:AX34)=0,0,AV34+AW34+AX34),IF($AM$11=\"PP\",IF(MIN(AW34:AX34)=0,0,AW34+AX34),IF($AM$11=\"BP\",AW34,IF($AM$11=\"DL\",AX34,AV34))))","v":357.5},{"$f":"ROUND(AY34*H34,5)","v":296.18874},{"$f":"ROUND(IFERROR(VLOOKUP(AS34,DATA!$A$2:$B$63,2,FALSE),1)*AZ34,5)","v":312.47912000000002},{"$f":"IFERROR(IF(AN34=1,AY34,IF(AN34=2,AZ34,IF(AN34=3,BA34,AZ34))),0)","v":357.5},null,null,null,null,null,null,null,null,null,null,null,null,null,null,null,null,null,null,null,null,null,null,null,{"$f":"IFERROR(IF(FIND(\"DT\",AE34),\"Y\",\"\"),\"\")","v":""},null,{"$f":"CONCATENATE(IF(AN34=4,\"\",D34),IF(AN34=1,F34,\"\"))","v":"FR-O84+"},{"$f":"IF($AM$11=\"SQ\",AJ34,IF($AM$11=\"BP\",AK34,AL34))","v":92},{"$f":"1+COUNTIFS(INDIRECT(\"AN12:AN500\"),AN34,INDIRECT(\"CB12:CB500\"),CB34,INDIRECT(\"AO12:AO500\"),\">\"&AO34)\n+COUNTIFS(INDIRECT(\"AO12:AO500\"),AO34,INDIRECT(\"AN12:AN500\"),1,INDIRECT(\"CB12:CB500\"),CB34,INDIRECT(\"E12:E500\"),\"<\"&E34)\n+COUNTIFS(INDIRECT(\"AO12:AO500\"),AO34,INDIRECT(\"AN12:AN500\"),1,INDIRECT(\"CB12:CB500\"),CB34,INDIRECT(\"E12:E500\"),E34,INDIRECT(\"CC12:CC500\"),\"<\"&CC34)","v":2},{"$f":"1+COUNTIFS(INDIRECT(\"AN12:AN500\"),AN34,INDIRECT(\"CB12:CB500\"),CB34,INDIRECT(\"BB12:BB500\"),\">\"&BB34)\n+COUNTIFS(INDIRECT(\"BB12:BB500\"),BB34,INDIRECT(\"AN12:AN500\"),1,INDIRECT(\"CB12:CB500\"),CB34,INDIRECT(\"E12:E500\"),\"<\"&E34)","v":2}]
["2C","Chrissy Helton","NC","FR-O",87.9,{"$f":"IFERROR(VLOOKUP(E35,DATA!$E$2:$G$22,IF(LEFT(D35,1)=\"M\",2,3)),\"\")","v":"84+"},501,{"$f":"IFERROR(IF(LEFT(D35,1)=\"M\",Wilks_Men(IF($E$11=\"Bwt - Lb\",E35/2.2046,E35)),Wilks_Women(IF($E$11=\"Bwt - Lb\",E35/2.2046,E35))),\"\")","v":0.87290000915527344},"1992-03-16","13",102.5,110,-117.5,{"$f":"IF(MAX(K35:M35)<=0,0,MAX(CELL(\"color\",K35)*K35,CELL(\"color\",L35)*L35,CELL(\"color\",M35)*M35))","v":110},"11-6",67.5,-72.5,-72.5,{"$f":"IF(MAX(P35:R35)<=0,0,MAX(CELL(\"color\",P35)*P35,CELL(\"color\",Q35)*Q35,CELL(\"color\",R35)*R35))","v":67.5},{"$f":"IF(OR(N35=0,S35=0),0,N35+S35)","v":177.5},130,137.5,-145,{"$f":"IF(MAX(U35:W35)<=0,0,MAX(CELL(\"color\",U35)*U35,CELL(\"color\",V35)*V35,CELL(\"color\",W35)*W35))","v":137.5},{"$f":"AM35*IF($AM$11=\"SQ\",N35,IF($AM$11=\"BP\",S35,IF($AM$11=\"DL\",X35,IF($AM$11=\"PP\",IF(OR(S35=0,X35=0),0,S35+X35),IF(OR(T35=0,X35=0),0,T35+X35)))))","v":315},{"$f":"IF(Y35=0,\"\",CONCATENATE(CD35,\"/\",IF(AN35=4,\"Wilks\",D35),\"/\",IF(AN35>1,\"\",F35),\"/\",$AM$11))","v":"3/FR-O/84+/PL"},{"$f":"BB35","v":315},{"$f":"IF(AA35=0,\"\",CE35)","v":3},{"$f":"H35*IF($E$3=\"Kg\",Y35,Y35/2.2046)","v":274.96350288391113},{"$f":"IFERROR(VLOOKUP(AS35,DATA!$A$2:$B$63,2,TRUE),0)*AC35","v":274.96350288391113},"PL",null,"NC",{"$f":"IFERROR(VLOOKUP(A35,Setup!$Q$5:$R$20,2,FALSE),\"\")","v":2},{"$f":"IF(VALUE(INDIRECT(CONCATENATE($AI$11,ROW())))=0,\"\",ABS(INDIRECT(CONCATENATE($AI$11,ROW())))+0.000001*G35)","v":145.00050100000001},70,60,84,{"$f":"IF(ISERROR(SEARCH($AM$11,AE35)),0,1)","v":1},{"$f":"VLOOKUP(D35,Setup!$I$6:$K$93,3,FALSE)","v":1},{"$f":"ROUND(IFERROR(IF(AN35=1,Y35,IF(AN35=2,AC35,IF(AN35=3,AD35,AC35))),0),5)","v":315},null,{"$f":"IFERROR(MATCH(D35,Setup!$I$6:$I$93,0),\"\")","v":8},{"$f":"IFERROR(CONCATENATE(LEFT(D35,FIND(\"-\",D35)),IF(AS35=\"\",\"O\",VLOOKUP(AS35,DATA!$E$35:$F$53,2,TRUE))),\"\")","v":"FR-O"},{"$f":"IF(YEAR($AR$7)-YEAR(I35)<40,DATEDIF(I35,$AR$7,\"Y\"),YEAR($AR$7)-YEAR(I35))","v":26},{"$f":"IF(AN35=1,MATCH(F35,DATA!$AB$2:$AB$34,0),0)","v":23},null,{"$f":"IF(MAX(K35:M35)>0,MAX(K35:M35),0)","v":110},{"$f":"IF(MAX(P35:R35)>0,MAX(P35:R35),0)","v":67.5},{"$f":"IF(MAX(U35:W35)>0,MAX(U35:W35),0)","v":137.5},{"$f":"AM35*IF($AM$11=\"PL\",IF(MIN(AV35:AX35)=0,0,AV35+AW35+AX35),IF($AM$11=\"PP\",IF(MIN(AW35:AX35)=0,0,AW35+AX35),IF($AM$11=\"BP\",AW35,IF($AM$11=\"DL\",AX35,AV35))))","v":315},{"$f":"ROUND(AY35*H35,5)","v":274.96350000000001},{"$f":"ROUND(IFERROR(VLOOKUP(AS35,DATA!$A$2:$B$63,2,FALSE),1)*AZ35,5)","v":274.96350000000001},{"$f":"IFERROR(IF(AN35=1,AY35,IF(AN35=2,AZ35,IF(AN35=3,BA35,AZ35))),0)","v":315},null,null,null,null,null,null,null,null,null,null,null,null,null,null,null,null,null,null,null,null,null,null,null,{"$f":"IFERROR(IF(FIND(\"DT\",AE35),\"Y\",\"\"),\"\")","v":""},null,{"$f":"CONCATENATE(IF(AN35=4,\"\",D35),IF(AN35=1,F35,\"\"))","v":"FR-O84+"},{"$f":"IF($AM$11=\"SQ\",AJ35,IF($AM$11=\"BP\",AK35,AL35))","v":84},{"$f":"1+COUNTIFS(INDIRECT(\"AN12:AN500\"),AN35,INDIRECT(\"CB12:CB500\"),CB35,INDIRECT(\"AO12:AO500\"),\">\"&AO35)\n+COUNTIFS(INDIRECT(\"AO12:AO500\"),AO35,INDIRECT(\"AN12:AN500\"),1,INDIRECT(\"CB12:CB500\"),CB35,INDIRECT(\"E12:E500\"),\"<\"&E35)\n+COUNTIFS(INDIRECT(\"AO12:AO500\"),AO35,INDIRECT(\"AN12:AN500\"),1,INDIRECT(\"CB12:CB500\"),CB35,INDIRECT(\"E12:E500\"),E35,INDIRECT(\"CC12:CC500\"),\"<\"&CC35)","v":3},{"$f":"1+COUNTIFS(INDIRECT(\"AN12:AN500\"),AN35,INDIRECT(\"CB12:CB500\"),CB35,INDIRECT(\"BB12:BB500\"),\">\"&BB35)\n+COUNTIFS(INDIRECT(\"BB12:BB500\"),BB35,INDIRECT(\"AN12:AN500\"),1,INDIRECT(\"CB12:CB500\"),CB35,INDIRECT(\"E12:E500\"),\"<\"&E35)","v":3}]
["2C","Jennifer Patton","SC","FR-O",105,{"$f":"IFERROR(VLOOKUP(E36,DATA!$E$2:$G$22,IF(LEFT(D36,1)=\"M\",2,3)),\"\")","v":"84+"},503,{"$f":"IFERROR(IF(LEFT(D36,1)=\"M\",Wilks_Men(IF($E$11=\"Bwt - Lb\",E36/2.2046,E36)),Wilks_Women(IF($E$11=\"Bwt - Lb\",E36/2.2046,E36))),\"\")","v":0.82169997692108154},"1982-09-05",null,null,null,null,{"$f":"IF(MAX(K36:M36)<=0,0,MAX(CELL(\"color\",K36)*K36,CELL(\"color\",L36)*L36,CELL(\"color\",M36)*M36))","v":0},"12-6",85,90,92.5,{"$f":"IF(MAX(P36:R36)<=0,0,MAX(CELL(\"color\",P36)*P36,CELL(\"color\",Q36)*Q36,CELL(\"color\",R36)*R36))","v":92.5},{"$f":"IF(OR(N36=0,S36=0),0,N36+S36)","v":0},null,null,null,{"$f":"IF(MAX(U36:W36)<=0,0,MAX(CELL(\"color\",U36)*U36,CELL(\"color\",V36)*V36,CELL(\"color\",W36)*W36))","v":0},{"$f":"AM36*IF($AM$11=\"SQ\",N36,IF($AM$11=\"BP\",S36,IF($AM$11=\"DL\",X36,IF($AM$11=\"PP\",IF(OR(S36=0,X36=0),0,S36+X36),IF(OR(T36=0,X36=0),0,T36+X36)))))","v":0},{"$f":"IF(Y36=0,\"\",CONCATENATE(CD36,\"/\",IF(AN36=4,\"Wilks\",D36),\"/\",IF(AN36>1,\"\",F36),\"/\",$AM$11))","v":""},{"$f":"BB36","v":0},{"$f":"IF(AA36=0,\"\",CE36)","v":""},{"$f":"H36*IF($E$3=\"Kg\",Y36,Y36/2.2046)","v":0},{"$f":"IFERROR(VLOOKUP(AS36,DATA!$A$2:$B$63,2,TRUE),0)*AC36","v":0},"PL BP",null,"SC",{"$f":"IFERROR(VLOOKUP(A36,Setup!$Q$5:$R$20,2,FALSE),\"\")","v":2},{"$f":"IF(VALUE(INDIRECT(CONCATENATE($AI$11,ROW())))=0,\"\",ABS(INDIRECT(CONCATENATE($AI$11,ROW())))+0.000001*G36)","v":""},0,82,0,{"$f":"IF(ISERROR(SEARCH($AM$11,AE36)),0,1)","v":1},{"$f":"VLOOKUP(D36,Setup!$I$6:$K$93,3,FALSE)","v":1},{"$f":"ROUND(IFERROR(IF(AN36=1,Y36,IF(AN36=2,AC36,IF(AN36=3,AD36,AC36))),0),5)","v":0},null,{"$f":"IFERROR(MATCH(D36,Setup!$I$6:$I$93,0),\"\")","v":8},{"$f":"IFERROR(CONCATENATE(LEFT(D36,FIND(\"-\",D36)),IF(AS36=\"\",\"O\",VLOOKUP(AS36,DATA!$E$35:$F$53,2,TRUE))),\"\")","v":"FR-O"},{"$f":"IF(YEAR($AR$7)-YEAR(I36)<40,DATEDIF(I36,$AR$7,\"Y\"),YEAR($AR$7)-YEAR(I36))","v":35},{"$f":"IF(AN36=1,MATCH(F36,DATA!$AB$2:$AB$34,0),0)","v":23},null,{"$f":"IF(MAX(K36:M36)>0,MAX(K36:M36),0)","v":0},{"$f":"IF(MAX(P36:R36)>0,MAX(P36:R36),0)","v":92.5},{"$f":"IF(MAX(U36:W36)>0,MAX(U36:W36),0)","v":0},{"$f":"AM36*IF($AM$11=\"PL\",IF(MIN(AV36:AX36)=0,0,AV36+AW36+AX36),IF($AM$11=\"PP\",IF(MIN(AW36:AX36)=0,0,AW36+AX36),IF($AM$11=\"BP\",AW36,IF($AM$11=\"DL\",AX36,AV36))))","v":0},{"$f":"ROUND(AY36*H36,5)","v":0},{"$f":"ROUND(IFERROR(VLOOKUP(AS36,DATA!$A$2:$B$63,2,FALSE),1)*AZ36,5)","v":0},{"$f":"IFERROR(IF(AN36=1,AY36,IF(AN36=2,AZ36,IF(AN36=3,BA36,AZ36))),0)","v":0},null,null,null,null,null,null,null,null,null,null,null,null,null,null,null,null,null,null,null,null,null,null,null,{"$f":"IFERROR(IF(FIND(\"DT\",AE36),\"Y\",\"\"),\"\")","v":""},null,{"$f":"CONCATENATE(IF(AN36=4,\"\",D36),IF(AN36=1,F36,\"\"))","v":"FR-O84+"},{"$f":"IF($AM$11=\"SQ\",AJ36,IF($AM$11=\"BP\",AK36,AL36))","v":0},{"$f":"1+COUNTIFS(INDIRECT(\"AN12:AN500\"),AN36,INDIRECT(\"CB12:CB500\"),CB36,INDIRECT(\"AO12:AO500\"),\">\"&AO36)\n+COUNTIFS(INDIRECT(\"AO12:AO500\"),AO36,INDIRECT(\"AN12:AN500\"),1,INDIRECT(\"CB12:CB500\"),CB36,INDIRECT(\"E12:E500\"),\"<\"&E36)\n+COUNTIFS(INDIRECT(\"AO12:AO500\"),AO36,INDIRECT(\"AN12:AN500\"),1,INDIRECT(\"CB12:CB500\"),CB36,INDIRECT(\"E12:E500\"),E36,INDIRECT(\"CC12:CC500\"),\"<\"&CC36)","v":4},{"$f":"1+COUNTIFS(INDIRECT(\"AN12:AN500\"),AN36,INDIRECT(\"CB12:CB500\"),CB36,INDIRECT(\"BB12:BB500\"),\">\"&BB36)\n+COUNTIFS(INDIRECT(\"BB12:BB500\"),BB36,INDIRECT(\"AN12:AN500\"),1,INDIRECT(\"CB12:CB500\"),CB36,INDIRECT(\"E12:E500\"),\"<\"&E36)","v":4}]
["2A","Amy Mason","NC","FR-M1a",62.4,{"$f":"IFERROR(VLOOKUP(E37,DATA!$E$2:$G$22,IF(LEFT(D37,1)=\"M\",2,3)),\"\")","v":63},309,{"$f":"IFERROR(IF(LEFT(D37,1)=\"M\",Wilks_Men(IF($E$11=\"Bwt - Lb\",E37/2.2046,E37)),Wilks_Women(IF($E$11=\"Bwt - Lb\",E37/2.2046,E37))),\"\")","v":1.0817999839782715},"1976-03-17","6",132.5,137.5,-140,{"$f":"IF(MAX(K37:M37)<=0,0,MAX(CELL(\"color\",K37)*K37,CELL(\"color\",L37)*L37,CELL(\"color\",M37)*M37))","v":137.5},"9-4",62.5,65,-67.5,{"$f":"IF(MAX(P37:R37)<=0,0,MAX(CELL(\"color\",P37)*P37,CELL(\"color\",Q37)*Q37,CELL(\"color\",R37)*R37))","v":65},{"$f":"IF(OR(N37=0,S37=0),0,N37+S37)","v":202.5},150,157.5,165,{"$f":"IF(MAX(U37:W37)<=0,0,MAX(CELL(\"color\",U37)*U37,CELL(\"color\",V37)*V37,CELL(\"color\",W37)*W37))","v":165},{"$f":"AM37*IF($AM$11=\"SQ\",N37,IF($AM$11=\"BP\",S37,IF($AM$11=\"DL\",X37,IF($AM$11=\"PP\",IF(OR(S37=0,X37=0),0,S37+X37),IF(OR(T37=0,X37=0),0,T37+X37)))))","v":367.5},{"$f":"IF(Y37=0,\"\",CONCATENATE(CD37,\"/\",IF(AN37=4,\"Wilks\",D37),\"/\",IF(AN37>1,\"\",F37),\"/\",$AM$11))","v":"1/FR-M1a//PL"},{"$f":"BB37","v":397.56148999999999},{"$f":"IF(AA37=0,\"\",CE37)","v":1},{"$f":"H37*IF($E$3=\"Kg\",Y37,Y37/2.2046)","v":397.56149411201477},{"$f":"IFERROR(VLOOKUP(AS37,DATA!$A$2:$B$63,2,TRUE),0)*AC37","v":405.51272399425505},"PL",961103,"NC",{"$f":"IFERROR(VLOOKUP(A37,Setup!$Q$5:$R$20,2,FALSE),\"\")","v":0},{"$f":"IF(VALUE(INDIRECT(CONCATENATE($AI$11,ROW())))=0,\"\",ABS(INDIRECT(CONCATENATE($AI$11,ROW())))+0.000001*G37)","v":165.00030899999999},25,22,39,{"$f":"IF(ISERROR(SEARCH($AM$11,AE37)),0,1)","v":1},{"$f":"VLOOKUP(D37,Setup!$I$6:$K$93,3,FALSE)","v":2},{"$f":"ROUND(IFERROR(IF(AN37=1,Y37,IF(AN37=2,AC37,IF(AN37=3,AD37,AC37))),0),5)","v":397.56148999999999},null,{"$f":"IFERROR(MATCH(D37,Setup!$I$6:$I$93,0),\"\")","v":9},{"$f":"IFERROR(CONCATENATE(LEFT(D37,FIND(\"-\",D37)),IF(AS37=\"\",\"O\",VLOOKUP(AS37,DATA!$E$35:$F$53,2,TRUE))),\"\")","v":"FR-M1a"},{"$f":"IF(YEAR($AR$7)-YEAR(I37)<40,DATEDIF(I37,$AR$7,\"Y\"),YEAR($AR$7)-YEAR(I37))","v":42},{"$f":"IF(AN37=1,MATCH(F37,DATA!$AB$2:$AB$34,0),0)","v":0},null,{"$f":"IF(MAX(K37:M37)>0,MAX(K37:M37),0)","v":137.5},{"$f":"IF(MAX(P37:R37)>0,MAX(P37:R37),0)","v":65},{"$f":"IF(MAX(U37:W37)>0,MAX(U37:W37),0)","v":165},{"$f":"AM37*IF($AM$11=\"PL\",IF(MIN(AV37:AX37)=0,0,AV37+AW37+AX37),IF($AM$11=\"PP\",IF(MIN(AW37:AX37)=0,0,AW37+AX37),IF($AM$11=\"BP\",AW37,IF($AM$11=\"DL\",AX37,AV37))))","v":367.5},{"$f":"ROUND(AY37*H37,5)","v":397.56148999999999},{"$f":"ROUND(IFERROR(VLOOKUP(AS37,DATA!$A$2:$B$63,2,FALSE),1)*AZ37,5)","v":405.51272},{"$f":"IFERROR(IF(AN37=1,AY37,IF(AN37=2,AZ37,IF(AN37=3,BA37,AZ37))),0)","v":397.56148999999999},null,null,null,null,null,null,null,null,null,null,null,null,null,null,null,null,null,null,null,null,null,null,null,{"$f":"IFERROR(IF(FIND(\"DT\",AE37),\"Y\",\"\"),\"\")","v":""},null,{"$f":"CONCATENATE(IF(AN37=4,\"\",D37),IF(AN37=1,F37,\"\"))","v":"FR-M1a"},{"$f":"IF($AM$11=\"SQ\",AJ37,IF($AM$11=\"BP\",AK37,AL37))","v":39},{"$f":"1+COUNTIFS(INDIRECT(\"AN12:AN500\"),AN37,INDIRECT(\"CB12:CB500\"),CB37,INDIRECT(\"AO12:AO500\"),\">\"&AO37)\n+COUNTIFS(INDIRECT(\"AO12:AO500\"),AO37,INDIRECT(\"AN12:AN500\"),1,INDIRECT(\"CB12:CB500\"),CB37,INDIRECT(\"E12:E500\"),\"<\"&E37)\n+COUNTIFS(INDIRECT(\"AO12:AO500\"),AO37,INDIRECT(\"AN12:AN500\"),1,INDIRECT(\"CB12:CB500\"),CB37,INDIRECT(\"E12:E500\"),E37,INDIRECT(\"CC12:CC500\"),\"<\"&CC37)","v":1},{"$f":"1+COUNTIFS(INDIRECT(\"AN12:AN500\"),AN37,INDIRECT(\"CB12:CB500\"),CB37,INDIRECT(\"BB12:BB500\"),\">\"&BB37)\n+COUNTIFS(INDIRECT(\"BB12:BB500\"),BB37,INDIRECT(\"AN12:AN500\"),1,INDIRECT(\"CB12:CB500\"),CB37,INDIRECT(\"E12:E500\"),\"<\"&E37)","v":1}]
["2B","Tracy Cook","NC","FR-M1a",70.2,{"$f":"IFERROR(VLOOKUP(E38,DATA!$E$2:$G$22,IF(LEFT(D38,1)=\"M\",2,3)),\"\")","v":72},407,{"$f":"IFERROR(IF(LEFT(D38,1)=\"M\",Wilks_Men(IF($E$11=\"Bwt - Lb\",E38/2.2046,E38)),Wilks_Women(IF($E$11=\"Bwt - Lb\",E38/2.2046,E38))),\"\")","v":0.99290001392364502},"1970-07-10","9",127.5,137.5,-140,{"$f":"IF(MAX(K38:M38)<=0,0,MAX(CELL(\"color\",K38)*K38,CELL(\"color\",L38)*L38,CELL(\"color\",M38)*M38))","v":137.5},"12-6",72.5,75,80,{"$f":"IF(MAX(P38:R38)<=0,0,MAX(CELL(\"color\",P38)*P38,CELL(\"color\",Q38)*Q38,CELL(\"color\",R38)*R38))","v":80},{"$f":"IF(OR(N38=0,S38=0),0,N38+S38)","v":217.5},155,165,170,{"$f":"IF(MAX(U38:W38)<=0,0,MAX(CELL(\"color\",U38)*U38,CELL(\"color\",V38)*V38,CELL(\"color\",W38)*W38))","v":170},{"$f":"AM38*IF($AM$11=\"SQ\",N38,IF($AM$11=\"BP\",S38,IF($AM$11=\"DL\",X38,IF($AM$11=\"PP\",IF(OR(S38=0,X38=0),0,S38+X38),IF(OR(T38=0,X38=0),0,T38+X38)))))","v":387.5},{"$f":"IF(Y38=0,\"\",CONCATENATE(CD38,\"/\",IF(AN38=4,\"Wilks\",D38),\"/\",IF(AN38>1,\"\",F38),\"/\",$AM$11))","v":"2/FR-M1a//PL"},{"$f":"BB38","v":384.74876},{"$f":"IF(AA38=0,\"\",CE38)","v":2},{"$f":"H38*IF($E$3=\"Kg\",Y38,Y38/2.2046)","v":384.74875539541245},{"$f":"IFERROR(VLOOKUP(AS38,DATA!$A$2:$B$63,2,TRUE),0)*AC38","v":422.06938466876744},"PL BP",920178,"NC",{"$f":"IFERROR(VLOOKUP(A38,Setup!$Q$5:$R$20,2,FALSE),\"\")","v":1},{"$f":"IF(VALUE(INDIRECT(CONCATENATE($AI$11,ROW())))=0,\"\",ABS(INDIRECT(CONCATENATE($AI$11,ROW())))+0.000001*G38)","v":170.000407},54,54,70,{"$f":"IF(ISERROR(SEARCH($AM$11,AE38)),0,1)","v":1},{"$f":"VLOOKUP(D38,Setup!$I$6:$K$93,3,FALSE)","v":2},{"$f":"ROUND(IFERROR(IF(AN38=1,Y38,IF(AN38=2,AC38,IF(AN38=3,AD38,AC38))),0),5)","v":384.74876},null,{"$f":"IFERROR(MATCH(D38,Setup!$I$6:$I$93,0),\"\")","v":9},{"$f":"IFERROR(CONCATENATE(LEFT(D38,FIND(\"-\",D38)),IF(AS38=\"\",\"O\",VLOOKUP(AS38,DATA!$E$35:$F$53,2,TRUE))),\"\")","v":"FR-M1b"},{"$f":"IF(YEAR($AR$7)-YEAR(I38)<40,DATEDIF(I38,$AR$7,\"Y\"),YEAR($AR$7)-YEAR(I38))","v":48},{"$f":"IF(AN38=1,MATCH(F38,DATA!$AB$2:$AB$34,0),0)","v":0},null,{"$f":"IF(MAX(K38:M38)>0,MAX(K38:M38),0)","v":137.5},{"$f":"IF(MAX(P38:R38)>0,MAX(P38:R38),0)","v":80},{"$f":"IF(MAX(U38:W38)>0,MAX(U38:W38),0)","v":170},{"$f":"AM38*IF($AM$11=\"PL\",IF(MIN(AV38:AX38)=0,0,AV38+AW38+AX38),IF($AM$11=\"PP\",IF(MIN(AW38:AX38)=0,0,AW38+AX38),IF($AM$11=\"BP\",AW38,IF($AM$11=\"DL\",AX38,AV38))))","v":387.5},{"$f":"ROUND(AY38*H38,5)","v":384.74876},{"$f":"ROUND(IFERROR(VLOOKUP(AS38,DATA!$A$2:$B$63,2,FALSE),1)*AZ38,5)","v":422.06939},{"$f":"IFERROR(IF(AN38=1,AY38,IF(AN38=2,AZ38,IF(AN38=3,BA38,AZ38))),0)","v":384.74876},null,null,null,null,null,null,null,null,null,null,null,null,null,null,null,null,null,null,null,null,null,null,null,{"$f":"IFERROR(IF(FIND(\"DT\",AE38),\"Y\",\"\"),\"\")","v":""},null,{"$f":"CONCATENATE(IF(AN38=4,\"\",D38),IF(AN38=1,F38,\"\"))","v":"FR-M1a"},{"$f":"IF($AM$11=\"SQ\",AJ38,IF($AM$11=\"BP\",AK38,AL38))","v":70},{"$f":"1+COUNTIFS(INDIRECT(\"AN12:AN500\"),AN38,INDIRECT(\"CB12:CB500\"),CB38,INDIRECT(\"AO12:AO500\"),\">\"&AO38)\n+COUNTIFS(INDIRECT(\"AO12:AO500\"),AO38,INDIRECT(\"AN12:AN500\"),1,INDIRECT(\"CB12:CB500\"),CB38,INDIRECT(\"E12:E500\"),\"<\"&E38)\n+COUNTIFS(INDIRECT(\"AO12:AO500\"),AO38,INDIRECT(\"AN12:AN500\"),1,INDIRECT(\"CB12:CB500\"),CB38,INDIRECT(\"E12:E500\"),E38,INDIRECT(\"CC12:CC500\"),\"<\"&CC38)","v":2},{"$f":"1+COUNTIFS(INDIRECT(\"AN12:AN500\"),AN38,INDIRECT(\"CB12:CB500\"),CB38,INDIRECT(\"BB12:BB500\"),\">\"&BB38)\n+COUNTIFS(INDIRECT(\"BB12:BB500\"),BB38,INDIRECT(\"AN12:AN500\"),1,INDIRECT(\"CB12:CB500\"),CB38,INDIRECT(\"E12:E500\"),\"<\"&E38)","v":2}]
["2A","Lisa Womble","NC","FR-M1a",55.4,{"$f":"IFERROR(VLOOKUP(E39,DATA!$E$2:$G$22,IF(LEFT(D39,1)=\"M\",2,3)),\"\")","v":57},305,{"$f":"IFERROR(IF(LEFT(D39,1)=\"M\",Wilks_Men(IF($E$11=\"Bwt - Lb\",E39/2.2046,E39)),Wilks_Women(IF($E$11=\"Bwt - Lb\",E39/2.2046,E39))),\"\")","v":1.1865999698638916},"1977-03-29","11",95,-100,105,{"$f":"IF(MAX(K39:M39)<=0,0,MAX(CELL(\"color\",K39)*K39,CELL(\"color\",L39)*L39,CELL(\"color\",M39)*M39))","v":105},"14-4",52.5,57.5,-60,{"$f":"IF(MAX(P39:R39)<=0,0,MAX(CELL(\"color\",P39)*P39,CELL(\"color\",Q39)*Q39,CELL(\"color\",R39)*R39))","v":57.5},{"$f":"IF(OR(N39=0,S39=0),0,N39+S39)","v":162.5},112.5,122.5,130,{"$f":"IF(MAX(U39:W39)<=0,0,MAX(CELL(\"color\",U39)*U39,CELL(\"color\",V39)*V39,CELL(\"color\",W39)*W39))","v":130},{"$f":"AM39*IF($AM$11=\"SQ\",N39,IF($AM$11=\"BP\",S39,IF($AM$11=\"DL\",X39,IF($AM$11=\"PP\",IF(OR(S39=0,X39=0),0,S39+X39),IF(OR(T39=0,X39=0),0,T39+X39)))))","v":292.5},{"$f":"IF(Y39=0,\"\",CONCATENATE(CD39,\"/\",IF(AN39=4,\"Wilks\",D39),\"/\",IF(AN39>1,\"\",F39),\"/\",$AM$11))","v":"3/FR-M1a//PL"},{"$f":"BB39","v":347.08049},{"$f":"IF(AA39=0,\"\",CE39)","v":3},{"$f":"H39*IF($E$3=\"Kg\",Y39,Y39/2.2046)","v":347.08049118518829},{"$f":"IFERROR(VLOOKUP(AS39,DATA!$A$2:$B$63,2,TRUE),0)*AC39","v":350.55129609704017},"PL",992752,"NC",{"$f":"IFERROR(VLOOKUP(A39,Setup!$Q$5:$R$20,2,FALSE),\"\")","v":0},{"$f":"IF(VALUE(INDIRECT(CONCATENATE($AI$11,ROW())))=0,\"\",ABS(INDIRECT(CONCATENATE($AI$11,ROW())))+0.000001*G39)","v":130.000305},31,16,33,{"$f":"IF(ISERROR(SEARCH($AM$11,AE39)),0,1)","v":1},{"$f":"VLOOKUP(D39,Setup!$I$6:$K$93,3,FALSE)","v":2},{"$f":"ROUND(IFERROR(IF(AN39=1,Y39,IF(AN39=2,AC39,IF(AN39=3,AD39,AC39))),0),5)","v":347.08049},null,{"$f":"IFERROR(MATCH(D39,Setup!$I$6:$I$93,0),\"\")","v":9},{"$f":"IFERROR(CONCATENATE(LEFT(D39,FIND(\"-\",D39)),IF(AS39=\"\",\"O\",VLOOKUP(AS39,DATA!$E$35:$F$53,2,TRUE))),\"\")","v":"FR-M1a"},{"$f":"IF(YEAR($AR$7)-YEAR(I39)<40,DATEDIF(I39,$AR$7,\"Y\"),YEAR($AR$7)-YEAR(I39))","v":41},{"$f":"IF(AN39=1,MATCH(F39,DATA!$AB$2:$AB$34,0),0)","v":0},null,{"$f":"IF(MAX(K39:M39)>0,MAX(K39:M39),0)","v":105},{"$f":"IF(MAX(P39:R39)>0,MAX(P39:R39),0)","v":57.5},{"$f":"IF(MAX(U39:W39)>0,MAX(U39:W39),0)","v":130},{"$f":"AM39*IF($AM$11=\"PL\",IF(MIN(AV39:AX39)=0,0,AV39+AW39+AX39),IF($AM$11=\"PP\",IF(MIN(AW39:AX39)=0,0,AW39+AX39),IF($AM$11=\"BP\",AW39,IF($AM$11=\"DL\",AX39,AV39))))","v":292.5},{"$f":"ROUND(AY39*H39,5)","v":347.08049},{"$f":"ROUND(IFERROR(VLOOKUP(AS39,DATA!$A$2:$B$63,2,FALSE),1)*AZ39,5)","v":350.55128999999999},{"$f":"IFERROR(IF(AN39=1,AY39,IF(AN39=2,AZ39,IF(AN39=3,BA39,AZ39))),0)","v":347.08049},null,null,null,null,null,null,null,null,null,null,null,null,null,null,null,null,null,null,null,null,null,null,null,{"$f":"IFERROR(IF(FIND(\"DT\",AE39),\"Y\",\"\"),\"\")","v":""},null,{"$f":"CONCATENATE(IF(AN39=4,\"\",D39),IF(AN39=1,F39,\"\"))","v":"FR-M1a"},{"$f":"IF($AM$11=\"SQ\",AJ39,IF($AM$11=\"BP\",AK39,AL39))","v":33},{"$f":"1+COUNTIFS(INDIRECT(\"AN12:AN500\"),AN39,INDIRECT(\"CB12:CB500\"),CB39,INDIRECT(\"AO12:AO500\"),\">\"&AO39)\n+COUNTIFS(INDIRECT(\"AO12:AO500\"),AO39,INDIRECT(\"AN12:AN500\"),1,INDIRECT(\"CB12:CB500\"),CB39,INDIRECT(\"E12:E500\"),\"<\"&E39)\n+COUNTIFS(INDIRECT(\"AO12:AO500\"),AO39,INDIRECT(\"AN12:AN500\"),1,INDIRECT(\"CB12:CB500\"),CB39,INDIRECT(\"E12:E500\"),E39,INDIRECT(\"CC12:CC500\"),\"<\"&CC39)","v":3},{"$f":"1+COUNTIFS(INDIRECT(\"AN12:AN500\"),AN39,INDIRECT(\"CB12:CB500\"),CB39,INDIRECT(\"BB12:BB500\"),\">\"&BB39)\n+COUNTIFS(INDIRECT(\"BB12:BB500\"),BB39,INDIRECT(\"AN12:AN500\"),1,INDIRECT(\"CB12:CB500\"),CB39,INDIRECT(\"E12:E500\"),\"<\"&E39)","v":3}]
["2A","Michele Moe","NC","FR-M1a",62.1,{"$f":"IFERROR(VLOOKUP(E40,DATA!$E$2:$G$22,IF(LEFT(D40,1)=\"M\",2,3)),\"\")","v":63},311,{"$f":"IFERROR(IF(LEFT(D40,1)=\"M\",Wilks_Men(IF($E$11=\"Bwt - Lb\",E40/2.2046,E40)),Wilks_Women(IF($E$11=\"Bwt - Lb\",E40/2.2046,E40))),\"\")","v":1.0858000516891479},"1969-06-20","10",80,85,92.5,{"$f":"IF(MAX(K40:M40)<=0,0,MAX(CELL(\"color\",K40)*K40,CELL(\"color\",L40)*L40,CELL(\"color\",M40)*M40))","v":92.5},"9-6",52.5,57.5,-60,{"$f":"IF(MAX(P40:R40)<=0,0,MAX(CELL(\"color\",P40)*P40,CELL(\"color\",Q40)*Q40,CELL(\"color\",R40)*R40))","v":57.5},{"$f":"IF(OR(N40=0,S40=0),0,N40+S40)","v":150},115,125,132.5,{"$f":"IF(MAX(U40:W40)<=0,0,MAX(CELL(\"color\",U40)*U40,CELL(\"color\",V40)*V40,CELL(\"color\",W40)*W40))","v":132.5},{"$f":"AM40*IF($AM$11=\"SQ\",N40,IF($AM$11=\"BP\",S40,IF($AM$11=\"DL\",X40,IF($AM$11=\"PP\",IF(OR(S40=0,X40=0),0,S40+X40),IF(OR(T40=0,X40=0),0,T40+X40)))))","v":282.5},{"$f":"IF(Y40=0,\"\",CONCATENATE(CD40,\"/\",IF(AN40=4,\"Wilks\",D40),\"/\",IF(AN40>1,\"\",F40),\"/\",$AM$11))","v":"4/FR-M1a//PL"},{"$f":"BB40","v":306.73851000000002},{"$f":"IF(AA40=0,\"\",CE40)","v":4},{"$f":"H40*IF($E$3=\"Kg\",Y40,Y40/2.2046)","v":306.7385146021843},{"$f":"IFERROR(VLOOKUP(AS40,DATA!$A$2:$B$63,2,TRUE),0)*AC40","v":341.39996675223114},"PL",1009213,"NC",{"$f":"IFERROR(VLOOKUP(A40,Setup!$Q$5:$R$20,2,FALSE),\"\")","v":0},{"$f":"IF(VALUE(INDIRECT(CONCATENATE($AI$11,ROW())))=0,\"\",ABS(INDIRECT(CONCATENATE($AI$11,ROW())))+0.000001*G40)","v":132.50031100000001},27,18,35,{"$f":"IF(ISERROR(SEARCH($AM$11,AE40)),0,1)","v":1},{"$f":"VLOOKUP(D40,Setup!$I$6:$K$93,3,FALSE)","v":2},{"$f":"ROUND(IFERROR(IF(AN40=1,Y40,IF(AN40=2,AC40,IF(AN40=3,AD40,AC40))),0),5)","v":306.73851000000002},null,{"$f":"IFERROR(MATCH(D40,Setup!$I$6:$I$93,0),\"\")","v":9},{"$f":"IFERROR(CONCATENATE(LEFT(D40,FIND(\"-\",D40)),IF(AS40=\"\",\"O\",VLOOKUP(AS40,DATA!$E$35:$F$53,2,TRUE))),\"\")","v":"FR-M1b"},{"$f":"IF(YEAR($AR$7)-YEAR(I40)<40,DATEDIF(I40,$AR$7,\"Y\"),YEAR($AR$7)-YEAR(I40))","v":49},{"$f":"IF(AN40=1,MATCH(F40,DATA!$AB$2:$AB$34,0),0)","v":0},null,{"$f":"IF(MAX(K40:M40)>0,MAX(K40:M40),0)","v":92.5},{"$f":"IF(MAX(P40:R40)>0,MAX(P40:R40),0)","v":57.5},{"$f":"IF(MAX(U40:W40)>0,MAX(U40:W40),0)","v":132.5},{"$f":"AM40*IF($AM$11=\"PL\",IF(MIN(AV40:AX40)=0,0,AV40+AW40+AX40),IF($AM$11=\"PP\",IF(MIN(AW40:AX40)=0,0,AW40+AX40),IF($AM$11=\"BP\",AW40,IF($AM$11=\"DL\",AX40,AV40))))","v":282.5},{"$f":"ROUND(AY40*H40,5)","v":306.73851000000002},{"$f":"ROUND(IFERROR(VLOOKUP(AS40,DATA!$A$2:$B$63,2,FALSE),1)*AZ40,5)","v":341.39996000000002},{"$f":"IFERROR(IF(AN40=1,AY40,IF(AN40=2,AZ40,IF(AN40=3,BA40,AZ40))),0)","v":306.73851000000002},null,null,null,null,null,null,null,null,null,null,null,null,null,null,null,null,null,null,null,null,null,null,null,{"$f":"IFERROR(IF(FIND(\"DT\",AE40),\"Y\",\"\"),\"\")","v":""},null,{"$f":"CONCATENATE(IF(AN40=4,\"\",D40),IF(AN40=1,F40,\"\"))","v":"FR-M1a"},{"$f":"IF($AM$11=\"SQ\",AJ40,IF($AM$11=\"BP\",AK40,AL40))","v":35},{"$f":"1+COUNTIFS(INDIRECT(\"AN12:AN500\"),AN40,INDIRECT(\"CB12:CB500\"),CB40,INDIRECT(\"AO12:AO500\"),\">\"&AO40)\n+COUNTIFS(INDIRECT(\"AO12:AO500\"),AO40,INDIRECT(\"AN12:AN500\"),1,INDIRECT(\"CB12:CB500\"),CB40,INDIRECT(\"E12:E500\"),\"<\"&E40)\n+COUNTIFS(INDIRECT(\"AO12:AO500\"),AO40,INDIRECT(\"AN12:AN500\"),1,INDIRECT(\"CB12:CB500\"),CB40,INDIRECT(\"E12:E500\"),E40,INDIRECT(\"CC12:CC500\"),\"<\"&CC40)","v":4},{"$f":"1+COUNTIFS(INDIRECT(\"AN12:AN500\"),AN40,INDIRECT(\"CB12:CB500\"),CB40,INDIRECT(\"BB12:BB500\"),\">\"&BB40)\n+COUNTIFS(INDIRECT(\"BB12:BB500\"),BB40,INDIRECT(\"AN12:AN500\"),1,INDIRECT(\"CB12:CB500\"),CB40,INDIRECT(\"E12:E500\"),\"<\"&E40)","v":4}]
["2C","Kristin McCarthy","NC","FR-M1a",101.75,{"$f":"IFERROR(VLOOKUP(E41,DATA!$E$2:$G$22,IF(LEFT(D41,1)=\"M\",2,3)),\"\")","v":"84+"},510,{"$f":"IFERROR(IF(LEFT(D41,1)=\"M\",Wilks_Men(IF($E$11=\"Bwt - Lb\",E41/2.2046,E41)),Wilks_Women(IF($E$11=\"Bwt - Lb\",E41/2.2046,E41))),\"\")","v":0.82849997282028198},"1973-01-18","11",125,130,132.5,{"$f":"IF(MAX(K41:M41)<=0,0,MAX(CELL(\"color\",K41)*K41,CELL(\"color\",L41)*L41,CELL(\"color\",M41)*M41))","v":132.5},"13-7",67.5,70,-72.5,{"$f":"IF(MAX(P41:R41)<=0,0,MAX(CELL(\"color\",P41)*P41,CELL(\"color\",Q41)*Q41,CELL(\"color\",R41)*R41))","v":70},{"$f":"IF(OR(N41=0,S41=0),0,N41+S41)","v":202.5},140,147.5,155,{"$f":"IF(MAX(U41:W41)<=0,0,MAX(CELL(\"color\",U41)*U41,CELL(\"color\",V41)*V41,CELL(\"color\",W41)*W41))","v":155},{"$f":"AM41*IF($AM$11=\"SQ\",N41,IF($AM$11=\"BP\",S41,IF($AM$11=\"DL\",X41,IF($AM$11=\"PP\",IF(OR(S41=0,X41=0),0,S41+X41),IF(OR(T41=0,X41=0),0,T41+X41)))))","v":357.5},{"$f":"IF(Y41=0,\"\",CONCATENATE(CD41,\"/\",IF(AN41=4,\"Wilks\",D41),\"/\",IF(AN41>1,\"\",F41),\"/\",$AM$11))","v":"5/FR-M1a//PL"},{"$f":"BB41","v":296.18874},{"$f":"IF(AA41=0,\"\",CE41)","v":5},{"$f":"H41*IF($E$3=\"Kg\",Y41,Y41/2.2046)","v":296.18874028325081},{"$f":"IFERROR(VLOOKUP(AS41,DATA!$A$2:$B$63,2,TRUE),0)*AC41","v":312.47912099882956},"PL",1013477,"NC",{"$f":"IFERROR(VLOOKUP(A41,Setup!$Q$5:$R$20,2,FALSE),\"\")","v":2},{"$f":"IF(VALUE(INDIRECT(CONCATENATE($AI$11,ROW())))=0,\"\",ABS(INDIRECT(CONCATENATE($AI$11,ROW())))+0.000001*G41)","v":155.00050999999999},79,75,93,{"$f":"IF(ISERROR(SEARCH($AM$11,AE41)),0,1)","v":1},{"$f":"VLOOKUP(D41,Setup!$I$6:$K$93,3,FALSE)","v":2},{"$f":"ROUND(IFERROR(IF(AN41=1,Y41,IF(AN41=2,AC41,IF(AN41=3,AD41,AC41))),0),5)","v":296.18874},null,{"$f":"IFERROR(MATCH(D41,Setup!$I$6:$I$93,0),\"\")","v":9},{"$f":"IFERROR(CONCATENATE(LEFT(D41,FIND(\"-\",D41)),IF(AS41=\"\",\"O\",VLOOKUP(AS41,DATA!$E$35:$F$53,2,TRUE))),\"\")","v":"FR-M1b"},{"$f":"IF(YEAR($AR$7)-YEAR(I41)<40,DATEDIF(I41,$AR$7,\"Y\"),YEAR($AR$7)-YEAR(I41))","v":45},{"$f":"IF(AN41=1,MATCH(F41,DATA!$AB$2:$AB$34,0),0)","v":0},null,{"$f":"IF(MAX(K41:M41)>0,MAX(K41:M41),0)","v":132.5},{"$f":"IF(MAX(P41:R41)>0,MAX(P41:R41),0)","v":70},{"$f":"IF(MAX(U41:W41)>0,MAX(U41:W41),0)","v":155},{"$f":"AM41*IF($AM$11=\"PL\",IF(MIN(AV41:AX41)=0,0,AV41+AW41+AX41),IF($AM$11=\"PP\",IF(MIN(AW41:AX41)=0,0,AW41+AX41),IF($AM$11=\"BP\",AW41,IF($AM$11=\"DL\",AX41,AV41))))","v":357.5},{"$f":"ROUND(AY41*H41,5)","v":296.18874},{"$f":"ROUND(IFERROR(VLOOKUP(AS41,DATA!$A$2:$B$63,2,FALSE),1)*AZ41,5)","v":312.47912000000002},{"$f":"IFERROR(IF(AN41=1,AY41,IF(AN41=2,AZ41,IF(AN41=3,BA41,AZ41))),0)","v":296.18874},null,null,null,null,null,null,null,null,null,null,null,null,null,null,null,null,null,null,null,null,null,null,null,{"$f":"IFERROR(IF(FIND(\"DT\",AE41),\"Y\",\"\"),\"\")","v":""},null,{"$f":"CONCATENATE(IF(AN41=4,\"\",D41),IF(AN41=1,F41,\"\"))","v":"FR-M1a"},{"$f":"IF($AM$11=\"SQ\",AJ41,IF($AM$11=\"BP\",AK41,AL41))","v":93},{"$f":"1+COUNTIFS(INDIRECT(\"AN12:AN500\"),AN41,INDIRECT(\"CB12:CB500\"),CB41,INDIRECT(\"AO12:AO500\"),\">\"&AO41)\n+COUNTIFS(INDIRECT(\"AO12:AO500\"),AO41,INDIRECT(\"AN12:AN500\"),1,INDIRECT(\"CB12:CB500\"),CB41,INDIRECT(\"E12:E500\"),\"<\"&E41)\n+COUNTIFS(INDIRECT(\"AO12:AO500\"),AO41,INDIRECT(\"AN12:AN500\"),1,INDIRECT(\"CB12:CB500\"),CB41,INDIRECT(\"E12:E500\"),E41,INDIRECT(\"CC12:CC500\"),\"<\"&CC41)","v":5},{"$f":"1+COUNTIFS(INDIRECT(\"AN12:AN500\"),AN41,INDIRECT(\"CB12:CB500\"),CB41,INDIRECT(\"BB12:BB500\"),\">\"&BB41)\n+COUNTIFS(INDIRECT(\"BB12:BB500\"),BB41,INDIRECT(\"AN12:AN500\"),1,INDIRECT(\"CB12:CB500\"),CB41,INDIRECT(\"E12:E500\"),\"<\"&E41)","v":5}]
["2B","Erin Ball","NC","FR-M1a",71,{"$f":"IFERROR(VLOOKUP(E42,DATA!$E$2:$G$22,IF(LEFT(D42,1)=\"M\",2,3)),\"\")","v":72},406,{"$f":"IFERROR(IF(LEFT(D42,1)=\"M\",Wilks_Men(IF($E$11=\"Bwt - Lb\",E42/2.2046,E42)),Wilks_Women(IF($E$11=\"Bwt - Lb\",E42/2.2046,E42))),\"\")","v":0.98519998788833618},"1976-09-19","14",72.5,82.5,87.5,{"$f":"IF(MAX(K42:M42)<=0,0,MAX(CELL(\"color\",K42)*K42,CELL(\"color\",L42)*L42,CELL(\"color\",M42)*M42))","v":87.5},"12-7",35,40,45,{"$f":"IF(MAX(P42:R42)<=0,0,MAX(CELL(\"color\",P42)*P42,CELL(\"color\",Q42)*Q42,CELL(\"color\",R42)*R42))","v":45},{"$f":"IF(OR(N42=0,S42=0),0,N42+S42)","v":132.5},82.5,92.5,105,{"$f":"IF(MAX(U42:W42)<=0,0,MAX(CELL(\"color\",U42)*U42,CELL(\"color\",V42)*V42,CELL(\"color\",W42)*W42))","v":105},{"$f":"AM42*IF($AM$11=\"SQ\",N42,IF($AM$11=\"BP\",S42,IF($AM$11=\"DL\",X42,IF($AM$11=\"PP\",IF(OR(S42=0,X42=0),0,S42+X42),IF(OR(T42=0,X42=0),0,T42+X42)))))","v":237.5},{"$f":"IF(Y42=0,\"\",CONCATENATE(CD42,\"/\",IF(AN42=4,\"Wilks\",D42),\"/\",IF(AN42>1,\"\",F42),\"/\",$AM$11))","v":"6/FR-M1a//PL"},{"$f":"BB42","v":233.98500000000001},{"$f":"IF(AA42=0,\"\",CE42)","v":6},{"$f":"H42*IF($E$3=\"Kg\",Y42,Y42/2.2046)","v":233.98499712347984},{"$f":"IFERROR(VLOOKUP(AS42,DATA!$A$2:$B$63,2,TRUE),0)*AC42","v":238.66469706594944},"PL",null,"NC",{"$f":"IFERROR(VLOOKUP(A42,Setup!$Q$5:$R$20,2,FALSE),\"\")","v":1},{"$f":"IF(VALUE(INDIRECT(CONCATENATE($AI$11,ROW())))=0,\"\",ABS(INDIRECT(CONCATENATE($AI$11,ROW())))+0.000001*G42)","v":105.000406},56,48,62,{"$f":"IF(ISERROR(SEARCH($AM$11,AE42)),0,1)","v":1},{"$f":"VLOOKUP(D42,Setup!$I$6:$K$93,3,FALSE)","v":2},{"$f":"ROUND(IFERROR(IF(AN42=1,Y42,IF(AN42=2,AC42,IF(AN42=3,AD42,AC42))),0),5)","v":233.98500000000001},null,{"$f":"IFERROR(MATCH(D42,Setup!$I$6:$I$93,0),\"\")","v":9},{"$f":"IFERROR(CONCATENATE(LEFT(D42,FIND(\"-\",D42)),IF(AS42=\"\",\"O\",VLOOKUP(AS42,DATA!$E$35:$F$53,2,TRUE))),\"\")","v":"FR-M1a"},{"$f":"IF(YEAR($AR$7)-YEAR(I42)<40,DATEDIF(I42,$AR$7,\"Y\"),YEAR($AR$7)-YEAR(I42))","v":42},{"$f":"IF(AN42=1,MATCH(F42,DATA!$AB$2:$AB$34,0),0)","v":0},null,{"$f":"IF(MAX(K42:M42)>0,MAX(K42:M42),0)","v":87.5},{"$f":"IF(MAX(P42:R42)>0,MAX(P42:R42),0)","v":45},{"$f":"IF(MAX(U42:W42)>0,MAX(U42:W42),0)","v":105},{"$f":"AM42*IF($AM$11=\"PL\",IF(MIN(AV42:AX42)=0,0,AV42+AW42+AX42),IF($AM$11=\"PP\",IF(MIN(AW42:AX42)=0,0,AW42+AX42),IF($AM$11=\"BP\",AW42,IF($AM$11=\"DL\",AX42,AV42))))","v":237.5},{"$f":"ROUND(AY42*H42,5)","v":233.98500000000001},{"$f":"ROUND(IFERROR(VLOOKUP(AS42,DATA!$A$2:$B$63,2,FALSE),1)*AZ42,5)","v":238.66470000000001},{"$f":"IFERROR(IF(AN42=1,AY42,IF(AN42=2,AZ42,IF(AN42=3,BA42,AZ42))),0)","v":233.98500000000001},null,null,null,null,null,null,null,null,null,null,null,null,null,null,null,null,null,null,null,null,null,null,null,{"$f":"IFERROR(IF(FIND(\"DT\",AE42),\"Y\",\"\"),\"\")","v":""},null,{"$f":"CONCATENATE(IF(AN42=4,\"\",D42),IF(AN42=1,F42,\"\"))","v":"FR-M1a"},{"$f":"IF($AM$11=\"SQ\",AJ42,IF($AM$11=\"BP\",AK42,AL42))","v":62},{"$f":"1+COUNTIFS(INDIRECT(\"AN12:AN500\"),AN42,INDIRECT(\"CB12:CB500\"),CB42,INDIRECT(\"AO12:AO500\"),\">\"&AO42)\n+COUNTIFS(INDIRECT(\"AO12:AO500\"),AO42,INDIRECT(\"AN12:AN500\"),1,INDIRECT(\"CB12:CB500\"),CB42,INDIRECT(\"E12:E500\"),\"<\"&E42)\n+COUNTIFS(INDIRECT(\"AO12:AO500\"),AO42,INDIRECT(\"AN12:AN500\"),1,INDIRECT(\"CB12:CB500\"),CB42,INDIRECT(\"E12:E500\"),E42,INDIRECT(\"CC12:CC500\"),\"<\"&CC42)","v":6},{"$f":"1+COUNTIFS(INDIRECT(\"AN12:AN500\"),AN42,INDIRECT(\"CB12:CB500\"),CB42,INDIRECT(\"BB12:BB500\"),\">\"&BB42)\n+COUNTIFS(INDIRECT(\"BB12:BB500\"),BB42,INDIRECT(\"AN12:AN500\"),1,INDIRECT(\"CB12:CB500\"),CB42,INDIRECT(\"E12:E500\"),\"<\"&E42)","v":6}]
["2C","Tomika Baldwin","NC","FR-M1a",83.8,{"$f":"IFERROR(VLOOKUP(E43,DATA!$E$2:$G$22,IF(LEFT(D43,1)=\"M\",2,3)),\"\")","v":84},506,{"$f":"IFERROR(IF(LEFT(D43,1)=\"M\",Wilks_Men(IF($E$11=\"Bwt - Lb\",E43/2.2046,E43)),Wilks_Women(IF($E$11=\"Bwt - Lb\",E43/2.2046,E43))),\"\")","v":0.892799973487854},"1970-03-27","13",-120,-120,-120,{"$f":"IF(MAX(K43:M43)<=0,0,MAX(CELL(\"color\",K43)*K43,CELL(\"color\",L43)*L43,CELL(\"color\",M43)*M43))","v":0},"13-5",72.5,75,-77.5,{"$f":"IF(MAX(P43:R43)<=0,0,MAX(CELL(\"color\",P43)*P43,CELL(\"color\",Q43)*Q43,CELL(\"color\",R43)*R43))","v":75},{"$f":"IF(OR(N43=0,S43=0),0,N43+S43)","v":0},157.5,0,0,{"$f":"IF(MAX(U43:W43)<=0,0,MAX(CELL(\"color\",U43)*U43,CELL(\"color\",V43)*V43,CELL(\"color\",W43)*W43))","v":157.5},{"$f":"AM43*IF($AM$11=\"SQ\",N43,IF($AM$11=\"BP\",S43,IF($AM$11=\"DL\",X43,IF($AM$11=\"PP\",IF(OR(S43=0,X43=0),0,S43+X43),IF(OR(T43=0,X43=0),0,T43+X43)))))","v":0},{"$f":"IF(Y43=0,\"\",CONCATENATE(CD43,\"/\",IF(AN43=4,\"Wilks\",D43),\"/\",IF(AN43>1,\"\",F43),\"/\",$AM$11))","v":""},{"$f":"BB43","v":0},{"$f":"IF(AA43=0,\"\",CE43)","v":""},{"$f":"H43*IF($E$3=\"Kg\",Y43,Y43/2.2046)","v":0},{"$f":"IFERROR(VLOOKUP(AS43,DATA!$A$2:$B$63,2,TRUE),0)*AC43","v":0},"PL",null,"NC",{"$f":"IFERROR(VLOOKUP(A43,Setup!$Q$5:$R$20,2,FALSE),\"\")","v":2},{"$f":"IF(VALUE(INDIRECT(CONCATENATE($AI$11,ROW())))=0,\"\",ABS(INDIRECT(CONCATENATE($AI$11,ROW())))+0.000001*G43)","v":""},0,77,80,{"$f":"IF(ISERROR(SEARCH($AM$11,AE43)),0,1)","v":1},{"$f":"VLOOKUP(D43,Setup!$I$6:$K$93,3,FALSE)","v":2},{"$f":"ROUND(IFERROR(IF(AN43=1,Y43,IF(AN43=2,AC43,IF(AN43=3,AD43,AC43))),0),5)","v":0},null,{"$f":"IFERROR(MATCH(D43,Setup!$I$6:$I$93,0),\"\")","v":9},{"$f":"IFERROR(CONCATENATE(LEFT(D43,FIND(\"-\",D43)),IF(AS43=\"\",\"O\",VLOOKUP(AS43,DATA!$E$35:$F$53,2,TRUE))),\"\")","v":"FR-M1b"},{"$f":"IF(YEAR($AR$7)-YEAR(I43)<40,DATEDIF(I43,$AR$7,\"Y\"),YEAR($AR$7)-YEAR(I43))","v":48},{"$f":"IF(AN43=1,MATCH(F43,DATA!$AB$2:$AB$34,0),0)","v":0},null,{"$f":"IF(MAX(K43:M43)>0,MAX(K43:M43),0)","v":0},{"$f":"IF(MAX(P43:R43)>0,MAX(P43:R43),0)","v":75},{"$f":"IF(MAX(U43:W43)>0,MAX(U43:W43),0)","v":157.5},{"$f":"AM43*IF($AM$11=\"PL\",IF(MIN(AV43:AX43)=0,0,AV43+AW43+AX43),IF($AM$11=\"PP\",IF(MIN(AW43:AX43)=0,0,AW43+AX43),IF($AM$11=\"BP\",AW43,IF($AM$11=\"DL\",AX43,AV43))))","v":0},{"$f":"ROUND(AY43*H43,5)","v":0},{"$f":"ROUND(IFERROR(VLOOKUP(AS43,DATA!$A$2:$B$63,2,FALSE),1)*AZ43,5)","v":0},{"$f":"IFERROR(IF(AN43=1,AY43,IF(AN43=2,AZ43,IF(AN43=3,BA43,AZ43))),0)","v":0},null,null,null,null,null,null,null,null,null,null,null,null,null,null,null,null,null,null,null,null,null,null,null,{"$f":"IFERROR(IF(FIND(\"DT\",AE43),\"Y\",\"\"),\"\")","v":""},null,{"$f":"CONCATENATE(IF(AN43=4,\"\",D43),IF(AN43=1,F43,\"\"))","v":"FR-M1a"},{"$f":"IF($AM$11=\"SQ\",AJ43,IF($AM$11=\"BP\",AK43,AL43))","v":80},{"$f":"1+COUNTIFS(INDIRECT(\"AN12:AN500\"),AN43,INDIRECT(\"CB12:CB500\"),CB43,INDIRECT(\"AO12:AO500\"),\">\"&AO43)\n+COUNTIFS(INDIRECT(\"AO12:AO500\"),AO43,INDIRECT(\"AN12:AN500\"),1,INDIRECT(\"CB12:CB500\"),CB43,INDIRECT(\"E12:E500\"),\"<\"&E43)\n+COUNTIFS(INDIRECT(\"AO12:AO500\"),AO43,INDIRECT(\"AN12:AN500\"),1,INDIRECT(\"CB12:CB500\"),CB43,INDIRECT(\"E12:E500\"),E43,INDIRECT(\"CC12:CC500\"),\"<\"&CC43)","v":7},{"$f":"1+COUNTIFS(INDIRECT(\"AN12:AN500\"),AN43,INDIRECT(\"CB12:CB500\"),CB43,INDIRECT(\"BB12:BB500\"),\">\"&BB43)\n+COUNTIFS(INDIRECT(\"BB12:BB500\"),BB43,INDIRECT(\"AN12:AN500\"),1,INDIRECT(\"CB12:CB500\"),CB43,INDIRECT(\"E12:E500\"),\"<\"&E43)","v":7}]
["2B","Linda Mertens","MN","FR-M2a",65.55,{"$f":"IFERROR(VLOOKUP(E44,DATA!$E$2:$G$22,IF(LEFT(D44,1)=\"M\",2,3)),\"\")","v":72},408,{"$f":"IFERROR(IF(LEFT(D44,1)=\"M\",Wilks_Men(IF($E$11=\"Bwt - Lb\",E44/2.2046,E44)),Wilks_Women(IF($E$11=\"Bwt - Lb\",E44/2.2046,E44))),\"\")","v":1.0426000356674194},"1966-03-30","8",90,97.5,102.5,{"$f":"IF(MAX(K44:M44)<=0,0,MAX(CELL(\"color\",K44)*K44,CELL(\"color\",L44)*L44,CELL(\"color\",M44)*M44))","v":102.5},"12-6",47.5,52.5,57.5,{"$f":"IF(MAX(P44:R44)<=0,0,MAX(CELL(\"color\",P44)*P44,CELL(\"color\",Q44)*Q44,CELL(\"color\",R44)*R44))","v":57.5},{"$f":"IF(OR(N44=0,S44=0),0,N44+S44)","v":160},127.5,135,140,{"$f":"IF(MAX(U44:W44)<=0,0,MAX(CELL(\"color\",U44)*U44,CELL(\"color\",V44)*V44,CELL(\"color\",W44)*W44))","v":140},{"$f":"AM44*IF($AM$11=\"SQ\",N44,IF($AM$11=\"BP\",S44,IF($AM$11=\"DL\",X44,IF($AM$11=\"PP\",IF(OR(S44=0,X44=0),0,S44+X44),IF(OR(T44=0,X44=0),0,T44+X44)))))","v":300},{"$f":"IF(Y44=0,\"\",CONCATENATE(CD44,\"/\",IF(AN44=4,\"Wilks\",D44),\"/\",IF(AN44>1,\"\",F44),\"/\",$AM$11))","v":"1/FR-M2a//PL"},{"$f":"BB44","v":312.78001},{"$f":"IF(AA44=0,\"\",CE44)","v":1},{"$f":"H44*IF($E$3=\"Kg\",Y44,Y44/2.2046)","v":312.78001070022583},{"$f":"IFERROR(VLOOKUP(AS44,DATA!$A$2:$B$63,2,TRUE),0)*AC44","v":364.38871246576309},"PL",1026356,"MN",{"$f":"IFERROR(VLOOKUP(A44,Setup!$Q$5:$R$20,2,FALSE),\"\")","v":1},{"$f":"IF(VALUE(INDIRECT(CONCATENATE($AI$11,ROW())))=0,\"\",ABS(INDIRECT(CONCATENATE($AI$11,ROW())))+0.000001*G44)","v":140.00040799999999},58,50,65,{"$f":"IF(ISERROR(SEARCH($AM$11,AE44)),0,1)","v":1},{"$f":"VLOOKUP(D44,Setup!$I$6:$K$93,3,FALSE)","v":2},{"$f":"ROUND(IFERROR(IF(AN44=1,Y44,IF(AN44=2,AC44,IF(AN44=3,AD44,AC44))),0),5)","v":312.78001},null,{"$f":"IFERROR(MATCH(D44,Setup!$I$6:$I$93,0),\"\")","v":11},{"$f":"IFERROR(CONCATENATE(LEFT(D44,FIND(\"-\",D44)),IF(AS44=\"\",\"O\",VLOOKUP(AS44,DATA!$E$35:$F$53,2,TRUE))),\"\")","v":"FR-M2a"},{"$f":"IF(YEAR($AR$7)-YEAR(I44)<40,DATEDIF(I44,$AR$7,\"Y\"),YEAR($AR$7)-YEAR(I44))","v":52},{"$f":"IF(AN44=1,MATCH(F44,DATA!$AB$2:$AB$34,0),0)","v":0},null,{"$f":"IF(MAX(K44:M44)>0,MAX(K44:M44),0)","v":102.5},{"$f":"IF(MAX(P44:R44)>0,MAX(P44:R44),0)","v":57.5},{"$f":"IF(MAX(U44:W44)>0,MAX(U44:W44),0)","v":140},{"$f":"AM44*IF($AM$11=\"PL\",IF(MIN(AV44:AX44)=0,0,AV44+AW44+AX44),IF($AM$11=\"PP\",IF(MIN(AW44:AX44)=0,0,AW44+AX44),IF($AM$11=\"BP\",AW44,IF($AM$11=\"DL\",AX44,AV44))))","v":300},{"$f":"ROUND(AY44*H44,5)","v":312.78001},{"$f":"ROUND(IFERROR(VLOOKUP(AS44,DATA!$A$2:$B$63,2,FALSE),1)*AZ44,5)","v":364.38871},{"$f":"IFERROR(IF(AN44=1,AY44,IF(AN44=2,AZ44,IF(AN44=3,BA44,AZ44))),0)","v":312.78001},null,null,null,null,null,null,null,null,null,null,null,null,null,null,null,null,null,null,null,null,null,null,null,{"$f":"IFERROR(IF(FIND(\"DT\",AE44),\"Y\",\"\"),\"\")","v":""},null,{"$f":"CONCATENATE(IF(AN44=4,\"\",D44),IF(AN44=1,F44,\"\"))","v":"FR-M2a"},{"$f":"IF($AM$11=\"SQ\",AJ44,IF($AM$11=\"BP\",AK44,AL44))","v":65},{"$f":"1+COUNTIFS(INDIRECT(\"AN12:AN500\"),AN44,INDIRECT(\"CB12:CB500\"),CB44,INDIRECT(\"AO12:AO500\"),\">\"&AO44)\n+COUNTIFS(INDIRECT(\"AO12:AO500\"),AO44,INDIRECT(\"AN12:AN500\"),1,INDIRECT(\"CB12:CB500\"),CB44,INDIRECT(\"E12:E500\"),\"<\"&E44)\n+COUNTIFS(INDIRECT(\"AO12:AO500\"),AO44,INDIRECT(\"AN12:AN500\"),1,INDIRECT(\"CB12:CB500\"),CB44,INDIRECT(\"E12:E500\"),E44,INDIRECT(\"CC12:CC500\"),\"<\"&CC44)","v":1},{"$f":"1+COUNTIFS(INDIRECT(\"AN12:AN500\"),AN44,INDIRECT(\"CB12:CB500\"),CB44,INDIRECT(\"BB12:BB500\"),\">\"&BB44)\n+COUNTIFS(INDIRECT(\"BB12:BB500\"),BB44,INDIRECT(\"AN12:AN500\"),1,INDIRECT(\"CB12:CB500\"),CB44,INDIRECT(\"E12:E500\"),\"<\"&E44)","v":1}]
["2C","Kim Lewis","NC","FR-M2a",74.400000000000006,{"$f":"IFERROR(VLOOKUP(E45,DATA!$E$2:$G$22,IF(LEFT(D45,1)=\"M\",2,3)),\"\")","v":84},507,{"$f":"IFERROR(IF(LEFT(D45,1)=\"M\",Wilks_Men(IF($E$11=\"Bwt - Lb\",E45/2.2046,E45)),Wilks_Women(IF($E$11=\"Bwt - Lb\",E45/2.2046,E45))),\"\")","v":0.95550000667572021},"1967-12-20","13",-97.5,-97.5,97.5,{"$f":"IF(MAX(K45:M45)<=0,0,MAX(CELL(\"color\",K45)*K45,CELL(\"color\",L45)*L45,CELL(\"color\",M45)*M45))","v":97.5},"13-6",40,47.5,55,{"$f":"IF(MAX(P45:R45)<=0,0,MAX(CELL(\"color\",P45)*P45,CELL(\"color\",Q45)*Q45,CELL(\"color\",R45)*R45))","v":55},{"$f":"IF(OR(N45=0,S45=0),0,N45+S45)","v":152.5},120,127.5,137.5,{"$f":"IF(MAX(U45:W45)<=0,0,MAX(CELL(\"color\",U45)*U45,CELL(\"color\",V45)*V45,CELL(\"color\",W45)*W45))","v":137.5},{"$f":"AM45*IF($AM$11=\"SQ\",N45,IF($AM$11=\"BP\",S45,IF($AM$11=\"DL\",X45,IF($AM$11=\"PP\",IF(OR(S45=0,X45=0),0,S45+X45),IF(OR(T45=0,X45=0),0,T45+X45)))))","v":290},{"$f":"IF(Y45=0,\"\",CONCATENATE(CD45,\"/\",IF(AN45=4,\"Wilks\",D45),\"/\",IF(AN45>1,\"\",F45),\"/\",$AM$11))","v":"2/FR-M2a//PL"},{"$f":"BB45","v":277.09500000000003},{"$f":"IF(AA45=0,\"\",CE45)","v":2},{"$f":"H45*IF($E$3=\"Kg\",Y45,Y45/2.2046)","v":277.09500193595886},{"$f":"IFERROR(VLOOKUP(AS45,DATA!$A$2:$B$63,2,TRUE),0)*AC45","v":317.82796722054479},"PL",1018982,"NC",{"$f":"IFERROR(VLOOKUP(A45,Setup!$Q$5:$R$20,2,FALSE),\"\")","v":2},{"$f":"IF(VALUE(INDIRECT(CONCATENATE($AI$11,ROW())))=0,\"\",ABS(INDIRECT(CONCATENATE($AI$11,ROW())))+0.000001*G45)","v":137.500507},77,81,91,{"$f":"IF(ISERROR(SEARCH($AM$11,AE45)),0,1)","v":1},{"$f":"VLOOKUP(D45,Setup!$I$6:$K$93,3,FALSE)","v":2},{"$f":"ROUND(IFERROR(IF(AN45=1,Y45,IF(AN45=2,AC45,IF(AN45=3,AD45,AC45))),0),5)","v":277.09500000000003},null,{"$f":"IFERROR(MATCH(D45,Setup!$I$6:$I$93,0),\"\")","v":11},{"$f":"IFERROR(CONCATENATE(LEFT(D45,FIND(\"-\",D45)),IF(AS45=\"\",\"O\",VLOOKUP(AS45,DATA!$E$35:$F$53,2,TRUE))),\"\")","v":"FR-M2a"},{"$f":"IF(YEAR($AR$7)-YEAR(I45)<40,DATEDIF(I45,$AR$7,\"Y\"),YEAR($AR$7)-YEAR(I45))","v":51},{"$f":"IF(AN45=1,MATCH(F45,DATA!$AB$2:$AB$34,0),0)","v":0},null,{"$f":"IF(MAX(K45:M45)>0,MAX(K45:M45),0)","v":97.5},{"$f":"IF(MAX(P45:R45)>0,MAX(P45:R45),0)","v":55},{"$f":"IF(MAX(U45:W45)>0,MAX(U45:W45),0)","v":137.5},{"$f":"AM45*IF($AM$11=\"PL\",IF(MIN(AV45:AX45)=0,0,AV45+AW45+AX45),IF($AM$11=\"PP\",IF(MIN(AW45:AX45)=0,0,AW45+AX45),IF($AM$11=\"BP\",AW45,IF($AM$11=\"DL\",AX45,AV45))))","v":290},{"$f":"ROUND(AY45*H45,5)","v":277.09500000000003},{"$f":"ROUND(IFERROR(VLOOKUP(AS45,DATA!$A$2:$B$63,2,FALSE),1)*AZ45,5)","v":317.82796999999999},{"$f":"IFERROR(IF(AN45=1,AY45,IF(AN45=2,AZ45,IF(AN45=3,BA45,AZ45))),0)","v":277.09500000000003},null,null,null,null,null,null,null,null,null,null,null,null,null,null,null,null,null,null,null,null,null,null,null,{"$f":"IFERROR(IF(FIND(\"DT\",AE45),\"Y\",\"\"),\"\")","v":""},null,{"$f":"CONCATENATE(IF(AN45=4,\"\",D45),IF(AN45=1,F45,\"\"))","v":"FR-M2a"},{"$f":"IF($AM$11=\"SQ\",AJ45,IF($AM$11=\"BP\",AK45,AL45))","v":91},{"$f":"1+COUNTIFS(INDIRECT(\"AN12:AN500\"),AN45,INDIRECT(\"CB12:CB500\"),CB45,INDIRECT(\"AO12:AO500\"),\">\"&AO45)\n+COUNTIFS(INDIRECT(\"AO12:AO500\"),AO45,INDIRECT(\"AN12:AN500\"),1,INDIRECT(\"CB12:CB500\"),CB45,INDIRECT(\"E12:E500\"),\"<\"&E45)\n+COUNTIFS(INDIRECT(\"AO12:AO500\"),AO45,INDIRECT(\"AN12:AN500\"),1,INDIRECT(\"CB12:CB500\"),CB45,INDIRECT(\"E12:E500\"),E45,INDIRECT(\"CC12:CC500\"),\"<\"&CC45)","v":2},{"$f":"1+COUNTIFS(INDIRECT(\"AN12:AN500\"),AN45,INDIRECT(\"CB12:CB500\"),CB45,INDIRECT(\"BB12:BB500\"),\">\"&BB45)\n+COUNTIFS(INDIRECT(\"BB12:BB500\"),BB45,INDIRECT(\"AN12:AN500\"),1,INDIRECT(\"CB12:CB500\"),CB45,INDIRECT(\"E12:E500\"),\"<\"&E45)","v":2}]
["2C","Patricia Rumsey","NC","FR-M2a",79.7,{"$f":"IFERROR(VLOOKUP(E46,DATA!$E$2:$G$22,IF(LEFT(D46,1)=\"M\",2,3)),\"\")","v":84},409,{"$f":"IFERROR(IF(LEFT(D46,1)=\"M\",Wilks_Men(IF($E$11=\"Bwt - Lb\",E46/2.2046,E46)),Wilks_Women(IF($E$11=\"Bwt - Lb\",E46/2.2046,E46))),\"\")","v":0.91689997911453247},"1960-03-20","10",-107.5,-107.5,-107.5,{"$f":"IF(MAX(K46:M46)<=0,0,MAX(CELL(\"color\",K46)*K46,CELL(\"color\",L46)*L46,CELL(\"color\",M46)*M46))","v":0},"11-6",52.5,55,-57.5,{"$f":"IF(MAX(P46:R46)<=0,0,MAX(CELL(\"color\",P46)*P46,CELL(\"color\",Q46)*Q46,CELL(\"color\",R46)*R46))","v":55},{"$f":"IF(OR(N46=0,S46=0),0,N46+S46)","v":0},105,110,-117.5,{"$f":"IF(MAX(U46:W46)<=0,0,MAX(CELL(\"color\",U46)*U46,CELL(\"color\",V46)*V46,CELL(\"color\",W46)*W46))","v":110},{"$f":"AM46*IF($AM$11=\"SQ\",N46,IF($AM$11=\"BP\",S46,IF($AM$11=\"DL\",X46,IF($AM$11=\"PP\",IF(OR(S46=0,X46=0),0,S46+X46),IF(OR(T46=0,X46=0),0,T46+X46)))))","v":0},{"$f":"IF(Y46=0,\"\",CONCATENATE(CD46,\"/\",IF(AN46=4,\"Wilks\",D46),\"/\",IF(AN46>1,\"\",F46),\"/\",$AM$11))","v":""},{"$f":"BB46","v":0},{"$f":"IF(AA46=0,\"\",CE46)","v":""},{"$f":"H46*IF($E$3=\"Kg\",Y46,Y46/2.2046)","v":0},{"$f":"IFERROR(VLOOKUP(AS46,DATA!$A$2:$B$63,2,TRUE),0)*AC46","v":0},"PL BP",985361,"NC",{"$f":"IFERROR(VLOOKUP(A46,Setup!$Q$5:$R$20,2,FALSE),\"\")","v":2},{"$f":"IF(VALUE(INDIRECT(CONCATENATE($AI$11,ROW())))=0,\"\",ABS(INDIRECT(CONCATENATE($AI$11,ROW())))+0.000001*G46)","v":117.500409},0,71,82,{"$f":"IF(ISERROR(SEARCH($AM$11,AE46)),0,1)","v":1},{"$f":"VLOOKUP(D46,Setup!$I$6:$K$93,3,FALSE)","v":2},{"$f":"ROUND(IFERROR(IF(AN46=1,Y46,IF(AN46=2,AC46,IF(AN46=3,AD46,AC46))),0),5)","v":0},null,{"$f":"IFERROR(MATCH(D46,Setup!$I$6:$I$93,0),\"\")","v":11},{"$f":"IFERROR(CONCATENATE(LEFT(D46,FIND(\"-\",D46)),IF(AS46=\"\",\"O\",VLOOKUP(AS46,DATA!$E$35:$F$53,2,TRUE))),\"\")","v":"FR-M2b"},{"$f":"IF(YEAR($AR$7)-YEAR(I46)<40,DATEDIF(I46,$AR$7,\"Y\"),YEAR($AR$7)-YEAR(I46))","v":58},{"$f":"IF(AN46=1,MATCH(F46,DATA!$AB$2:$AB$34,0),0)","v":0},null,{"$f":"IF(MAX(K46:M46)>0,MAX(K46:M46),0)","v":0},{"$f":"IF(MAX(P46:R46)>0,MAX(P46:R46),0)","v":55},{"$f":"IF(MAX(U46:W46)>0,MAX(U46:W46),0)","v":110},{"$f":"AM46*IF($AM$11=\"PL\",IF(MIN(AV46:AX46)=0,0,AV46+AW46+AX46),IF($AM$11=\"PP\",IF(MIN(AW46:AX46)=0,0,AW46+AX46),IF($AM$11=\"BP\",AW46,IF($AM$11=\"DL\",AX46,AV46))))","v":0},{"$f":"ROUND(AY46*H46,5)","v":0},{"$f":"ROUND(IFERROR(VLOOKUP(AS46,DATA!$A$2:$B$63,2,FALSE),1)*AZ46,5)","v":0},{"$f":"IFERROR(IF(AN46=1,AY46,IF(AN46=2,AZ46,IF(AN46=3,BA46,AZ46))),0)","v":0},null,null,null,null,null,null,null,null,null,null,null,null,null,null,null,null,null,null,null,null,null,null,null,{"$f":"IFERROR(IF(FIND(\"DT\",AE46),\"Y\",\"\"),\"\")","v":""},null,{"$f":"CONCATENATE(IF(AN46=4,\"\",D46),IF(AN46=1,F46,\"\"))","v":"FR-M2a"},{"$f":"IF($AM$11=\"SQ\",AJ46,IF($AM$11=\"BP\",AK46,AL46))","v":82},{"$f":"1+COUNTIFS(INDIRECT(\"AN12:AN500\"),AN46,INDIRECT(\"CB12:CB500\"),CB46,INDIRECT(\"AO12:AO500\"),\">\"&AO46)\n+COUNTIFS(INDIRECT(\"AO12:AO500\"),AO46,INDIRECT(\"AN12:AN500\"),1,INDIRECT(\"CB12:CB500\"),CB46,INDIRECT(\"E12:E500\"),\"<\"&E46)\n+COUNTIFS(INDIRECT(\"AO12:AO500\"),AO46,INDIRECT(\"AN12:AN500\"),1,INDIRECT(\"CB12:CB500\"),CB46,INDIRECT(\"E12:E500\"),E46,INDIRECT(\"CC12:CC500\"),\"<\"&CC46)","v":3},{"$f":"1+COUNTIFS(INDIRECT(\"AN12:AN500\"),AN46,INDIRECT(\"CB12:CB500\"),CB46,INDIRECT(\"BB12:BB500\"),\">\"&BB46)\n+COUNTIFS(INDIRECT(\"BB12:BB500\"),BB46,INDIRECT(\"AN12:AN500\"),1,INDIRECT(\"CB12:CB500\"),CB46,INDIRECT(\"E12:E500\"),\"<\"&E46)","v":3}]
["2A","Betty Polenik","SC","FR-M3a",61.45,{"$f":"IFERROR(VLOOKUP(E47,DATA!$E$2:$G$22,IF(LEFT(D47,1)=\"M\",2,3)),\"\")","v":63},312,{"$f":"IFERROR(IF(LEFT(D47,1)=\"M\",Wilks_Men(IF($E$11=\"Bwt - Lb\",E47/2.2046,E47)),Wilks_Women(IF($E$11=\"Bwt - Lb\",E47/2.2046,E47))),\"\")","v":1.094499945640564},"1958-01-25",null,100,107.5,110,{"$f":"IF(MAX(K47:M47)<=0,0,MAX(CELL(\"color\",K47)*K47,CELL(\"color\",L47)*L47,CELL(\"color\",M47)*M47))","v":110},"10-6",55,-60,-60,{"$f":"IF(MAX(P47:R47)<=0,0,MAX(CELL(\"color\",P47)*P47,CELL(\"color\",Q47)*Q47,CELL(\"color\",R47)*R47))","v":55},{"$f":"IF(OR(N47=0,S47=0),0,N47+S47)","v":165},112.5,122.5,127.5,{"$f":"IF(MAX(U47:W47)<=0,0,MAX(CELL(\"color\",U47)*U47,CELL(\"color\",V47)*V47,CELL(\"color\",W47)*W47))","v":127.5},{"$f":"AM47*IF($AM$11=\"SQ\",N47,IF($AM$11=\"BP\",S47,IF($AM$11=\"DL\",X47,IF($AM$11=\"PP\",IF(OR(S47=0,X47=0),0,S47+X47),IF(OR(T47=0,X47=0),0,T47+X47)))))","v":292.5},{"$f":"IF(Y47=0,\"\",CONCATENATE(CD47,\"/\",IF(AN47=4,\"Wilks\",D47),\"/\",IF(AN47>1,\"\",F47),\"/\",$AM$11))","v":"1/FR-M3a//PL"},{"$f":"BB47","v":320.14123000000001},{"$f":"IF(AA47=0,\"\",CE47)","v":1},{"$f":"H47*IF($E$3=\"Kg\",Y47,Y47/2.2046)","v":320.14123409986496},{"$f":"IFERROR(VLOOKUP(AS47,DATA!$A$2:$B$63,2,TRUE),0)*AC47","v":428.98925369381908},"PL",1029185,"SC",{"$f":"IFERROR(VLOOKUP(A47,Setup!$Q$5:$R$20,2,FALSE),\"\")","v":0},{"$f":"IF(VALUE(INDIRECT(CONCATENATE($AI$11,ROW())))=0,\"\",ABS(INDIRECT(CONCATENATE($AI$11,ROW())))+0.000001*G47)","v":127.50031199999999},34,7,31,{"$f":"IF(ISERROR(SEARCH($AM$11,AE47)),0,1)","v":1},{"$f":"VLOOKUP(D47,Setup!$I$6:$K$93,3,FALSE)","v":2},{"$f":"ROUND(IFERROR(IF(AN47=1,Y47,IF(AN47=2,AC47,IF(AN47=3,AD47,AC47))),0),5)","v":320.14123000000001},null,{"$f":"IFERROR(MATCH(D47,Setup!$I$6:$I$93,0),\"\")","v":13},{"$f":"IFERROR(CONCATENATE(LEFT(D47,FIND(\"-\",D47)),IF(AS47=\"\",\"O\",VLOOKUP(AS47,DATA!$E$35:$F$53,2,TRUE))),\"\")","v":"FR-M3a"},{"$f":"IF(YEAR($AR$7)-YEAR(I47)<40,DATEDIF(I47,$AR$7,\"Y\"),YEAR($AR$7)-YEAR(I47))","v":60},{"$f":"IF(AN47=1,MATCH(F47,DATA!$AB$2:$AB$34,0),0)","v":0},null,{"$f":"IF(MAX(K47:M47)>0,MAX(K47:M47),0)","v":110},{"$f":"IF(MAX(P47:R47)>0,MAX(P47:R47),0)","v":55},{"$f":"IF(MAX(U47:W47)>0,MAX(U47:W47),0)","v":127.5},{"$f":"AM47*IF($AM$11=\"PL\",IF(MIN(AV47:AX47)=0,0,AV47+AW47+AX47),IF($AM$11=\"PP\",IF(MIN(AW47:AX47)=0,0,AW47+AX47),IF($AM$11=\"BP\",AW47,IF($AM$11=\"DL\",AX47,AV47))))","v":292.5},{"$f":"ROUND(AY47*H47,5)","v":320.14123000000001},{"$f":"ROUND(IFERROR(VLOOKUP(AS47,DATA!$A$2:$B$63,2,FALSE),1)*AZ47,5)","v":428.98925000000003},{"$f":"IFERROR(IF(AN47=1,AY47,IF(AN47=2,AZ47,IF(AN47=3,BA47,AZ47))),0)","v":320.14123000000001},null,null,null,null,null,null,null,null,null,null,null,null,null,null,null,null,null,null,null,null,null,null,null,{"$f":"IFERROR(IF(FIND(\"DT\",AE47),\"Y\",\"\"),\"\")","v":""},null,{"$f":"CONCATENATE(IF(AN47=4,\"\",D47),IF(AN47=1,F47,\"\"))","v":"FR-M3a"},{"$f":"IF($AM$11=\"SQ\",AJ47,IF($AM$11=\"BP\",AK47,AL47))","v":31},{"$f":"1+COUNTIFS(INDIRECT(\"AN12:AN500\"),AN47,INDIRECT(\"CB12:CB500\"),CB47,INDIRECT(\"AO12:AO500\"),\">\"&AO47)\n+COUNTIFS(INDIRECT(\"AO12:AO500\"),AO47,INDIRECT(\"AN12:AN500\"),1,INDIRECT(\"CB12:CB500\"),CB47,INDIRECT(\"E12:E500\"),\"<\"&E47)\n+COUNTIFS(INDIRECT(\"AO12:AO500\"),AO47,INDIRECT(\"AN12:AN500\"),1,INDIRECT(\"CB12:CB500\"),CB47,INDIRECT(\"E12:E500\"),E47,INDIRECT(\"CC12:CC500\"),\"<\"&CC47)","v":1},{"$f":"1+COUNTIFS(INDIRECT(\"AN12:AN500\"),AN47,INDIRECT(\"CB12:CB500\"),CB47,INDIRECT(\"BB12:BB500\"),\">\"&BB47)\n+COUNTIFS(INDIRECT(\"BB12:BB500\"),BB47,INDIRECT(\"AN12:AN500\"),1,INDIRECT(\"CB12:CB500\"),CB47,INDIRECT(\"E12:E500\"),\"<\"&E47)","v":1}]
["2C","Linda Odum","VA","FR-M4a",74,{"$f":"IFERROR(VLOOKUP(E48,DATA!$E$2:$G$22,IF(LEFT(D48,1)=\"M\",2,3)),\"\")","v":84},410,{"$f":"IFERROR(IF(LEFT(D48,1)=\"M\",Wilks_Men(IF($E$11=\"Bwt - Lb\",E48/2.2046,E48)),Wilks_Women(IF($E$11=\"Bwt - Lb\",E48/2.2046,E48))),\"\")","v":0.95870000123977661},"1945-05-04","9",45,52.5,57.5,{"$f":"IF(MAX(K48:M48)<=0,0,MAX(CELL(\"color\",K48)*K48,CELL(\"color\",L48)*L48,CELL(\"color\",M48)*M48))","v":57.5},"14-5",-32.5,32.5,37.5,{"$f":"IF(MAX(P48:R48)<=0,0,MAX(CELL(\"color\",P48)*P48,CELL(\"color\",Q48)*Q48,CELL(\"color\",R48)*R48))","v":37.5},{"$f":"IF(OR(N48=0,S48=0),0,N48+S48)","v":95},87.5,97.5,105,{"$f":"IF(MAX(U48:W48)<=0,0,MAX(CELL(\"color\",U48)*U48,CELL(\"color\",V48)*V48,CELL(\"color\",W48)*W48))","v":105},{"$f":"AM48*IF($AM$11=\"SQ\",N48,IF($AM$11=\"BP\",S48,IF($AM$11=\"DL\",X48,IF($AM$11=\"PP\",IF(OR(S48=0,X48=0),0,S48+X48),IF(OR(T48=0,X48=0),0,T48+X48)))))","v":200},{"$f":"IF(Y48=0,\"\",CONCATENATE(CD48,\"/\",IF(AN48=4,\"Wilks\",D48),\"/\",IF(AN48>1,\"\",F48),\"/\",$AM$11))","v":"1/FR-M4a//PL"},{"$f":"BB48","v":191.74},{"$f":"IF(AA48=0,\"\",CE48)","v":1},{"$f":"H48*IF($E$3=\"Kg\",Y48,Y48/2.2046)","v":191.74000024795532},{"$f":"IFERROR(VLOOKUP(AS48,DATA!$A$2:$B$63,2,TRUE),0)*AC48","v":336.69544043540952},"PL",1007279,"VA",{"$f":"IFERROR(VLOOKUP(A48,Setup!$Q$5:$R$20,2,FALSE),\"\")","v":2},{"$f":"IF(VALUE(INDIRECT(CONCATENATE($AI$11,ROW())))=0,\"\",ABS(INDIRECT(CONCATENATE($AI$11,ROW())))+0.000001*G48)","v":105.00041},76,80,90,{"$f":"IF(ISERROR(SEARCH($AM$11,AE48)),0,1)","v":1},{"$f":"VLOOKUP(D48,Setup!$I$6:$K$93,3,FALSE)","v":2},{"$f":"ROUND(IFERROR(IF(AN48=1,Y48,IF(AN48=2,AC48,IF(AN48=3,AD48,AC48))),0),5)","v":191.74},null,{"$f":"IFERROR(MATCH(D48,Setup!$I$6:$I$93,0),\"\")","v":15},{"$f":"IFERROR(CONCATENATE(LEFT(D48,FIND(\"-\",D48)),IF(AS48=\"\",\"O\",VLOOKUP(AS48,DATA!$E$35:$F$53,2,TRUE))),\"\")","v":"FR-M4a"},{"$f":"IF(YEAR($AR$7)-YEAR(I48)<40,DATEDIF(I48,$AR$7,\"Y\"),YEAR($AR$7)-YEAR(I48))","v":73},{"$f":"IF(AN48=1,MATCH(F48,DATA!$AB$2:$AB$34,0),0)","v":0},null,{"$f":"IF(MAX(K48:M48)>0,MAX(K48:M48),0)","v":57.5},{"$f":"IF(MAX(P48:R48)>0,MAX(P48:R48),0)","v":37.5},{"$f":"IF(MAX(U48:W48)>0,MAX(U48:W48),0)","v":105},{"$f":"AM48*IF($AM$11=\"PL\",IF(MIN(AV48:AX48)=0,0,AV48+AW48+AX48),IF($AM$11=\"PP\",IF(MIN(AW48:AX48)=0,0,AW48+AX48),IF($AM$11=\"BP\",AW48,IF($AM$11=\"DL\",AX48,AV48))))","v":200},{"$f":"ROUND(AY48*H48,5)","v":191.74},{"$f":"ROUND(IFERROR(VLOOKUP(AS48,DATA!$A$2:$B$63,2,FALSE),1)*AZ48,5)","v":336.69544000000002},{"$f":"IFERROR(IF(AN48=1,AY48,IF(AN48=2,AZ48,IF(AN48=3,BA48,AZ48))),0)","v":191.74},null,null,null,null,null,null,null,null,null,null,null,null,null,null,null,null,null,null,null,null,null,null,null,{"$f":"IFERROR(IF(FIND(\"DT\",AE48),\"Y\",\"\"),\"\")","v":""},null,{"$f":"CONCATENATE(IF(AN48=4,\"\",D48),IF(AN48=1,F48,\"\"))","v":"FR-M4a"},{"$f":"IF($AM$11=\"SQ\",AJ48,IF($AM$11=\"BP\",AK48,AL48))","v":90},{"$f":"1+COUNTIFS(INDIRECT(\"AN12:AN500\"),AN48,INDIRECT(\"CB12:CB500\"),CB48,INDIRECT(\"AO12:AO500\"),\">\"&AO48)\n+COUNTIFS(INDIRECT(\"AO12:AO500\"),AO48,INDIRECT(\"AN12:AN500\"),1,INDIRECT(\"CB12:CB500\"),CB48,INDIRECT(\"E12:E500\"),\"<\"&E48)\n+COUNTIFS(INDIRECT(\"AO12:AO500\"),AO48,INDIRECT(\"AN12:AN500\"),1,INDIRECT(\"CB12:CB500\"),CB48,INDIRECT(\"E12:E500\"),E48,INDIRECT(\"CC12:CC500\"),\"<\"&CC48)","v":1},{"$f":"1+COUNTIFS(INDIRECT(\"AN12:AN500\"),AN48,INDIRECT(\"CB12:CB500\"),CB48,INDIRECT(\"BB12:BB500\"),\">\"&BB48)\n+COUNTIFS(INDIRECT(\"BB12:BB500\"),BB48,INDIRECT(\"AN12:AN500\"),1,INDIRECT(\"CB12:CB500\"),CB48,INDIRECT(\"E12:E500\"),\"<\"&E48)","v":1}]
["1A","Tucker Thompson","NC","MR-T1",50.32,{"$f":"IFERROR(VLOOKUP(E49,[2]DATA!$E$2:$G$22,IF(LEFT(D49,1)=\"M\",2,3)),\"\")","v":53},1,{"$f":"IFERROR(IF(LEFT(D49,1)=\"M\",Wilks_Men(IF($E$11=\"Bwt - Lb\",E49/2.2046,E49)),Wilks_Women(IF($E$11=\"Bwt - Lb\",E49/2.2046,E49))),\"\")","v":1.0161000490188599},"2003-11-08","7",95,102.5,110,{"$f":"IF(MAX(K49:M49)<=0,0,MAX(CELL(\"color\",K49)*K49,CELL(\"color\",L49)*L49,CELL(\"color\",M49)*M49))","v":110},"7-4",52.5,60,65,{"$f":"IF(MAX(P49:R49)<=0,0,MAX(CELL(\"color\",P49)*P49,CELL(\"color\",Q49)*Q49,CELL(\"color\",R49)*R49))","v":65},{"$f":"IF(OR(N49=0,S49=0),0,N49+S49)","v":175},100,107.5,117.5,{"$f":"IF(MAX(U49:W49)<=0,0,MAX(CELL(\"color\",U49)*U49,CELL(\"color\",V49)*V49,CELL(\"color\",W49)*W49))","v":117.5},{"$f":"AM49*IF($AM$11=\"SQ\",N49,IF($AM$11=\"BP\",S49,IF($AM$11=\"DL\",X49,IF($AM$11=\"PP\",IF(OR(S49=0,X49=0),0,S49+X49),IF(OR(T49=0,X49=0),0,T49+X49)))))","v":292.5},{"$f":"IF(Y49=0,\"\",CONCATENATE(CD49,\"/\",IF(AN49=4,\"Wilks\",D49),\"/\",IF(AN49>1,\"\",F49),\"/\",$AM$11))","v":"1/MR-T1/53/PL"},{"$f":"BB49","v":292.5},{"$f":"IF(AA49=0,\"\",CE49)","v":1},{"$f":"H49*IF($E$3=\"Kg\",Y49,Y49/2.2046)","v":297.20926433801651},{"$f":"IFERROR(VLOOKUP(AS49,[2]DATA!$A$2:$B$63,2,TRUE),0)*AC49","v":365.56739513576031},"PL",null,"NC",{"$f":"IFERROR(VLOOKUP(A49,[2]Setup!$Q$5:$R$20,2,FALSE),\"\")","v":0},{"$f":"IF(VALUE(INDIRECT(CONCATENATE($AI$11,ROW())))=0,\"\",ABS(INDIRECT(CONCATENATE($AI$11,ROW())))+0.000001*G49)","v":117.500001},24,21,24,{"$f":"IF(ISERROR(SEARCH($AM$11,AE49)),0,1)","v":1},{"$f":"VLOOKUP(D49,[2]Setup!$I$6:$K$93,3,FALSE)","v":1},{"$f":"ROUND(IFERROR(IF(AN49=1,Y49,IF(AN49=2,AC49,IF(AN49=3,AD49,AC49))),0),5)","v":292.5},null,{"$f":"IFERROR(MATCH(D49,[2]Setup!$I$6:$I$93,0),\"\")","v":23},{"$f":"IFERROR(CONCATENATE(LEFT(D49,FIND(\"-\",D49)),IF(AS49=\"\",\"O\",VLOOKUP(AS49,[2]DATA!$E$35:$F$53,2,TRUE))),\"\")","v":"MR-T1"},{"$f":"IF(YEAR($AR$7)-YEAR(I49)<40,DATEDIF(I49,$AR$7,\"Y\"),YEAR($AR$7)-YEAR(I49))","v":14},{"$f":"IF(AN49=1,MATCH(F49,[2]DATA!$AB$2:$AB$34,0),0)","v":9},null,{"$f":"IF(MAX(K49:M49)>0,MAX(K49:M49),0)","v":110},{"$f":"IF(MAX(P49:R49)>0,MAX(P49:R49),0)","v":65},{"$f":"IF(MAX(U49:W49)>0,MAX(U49:W49),0)","v":117.5},{"$f":"AM49*IF($AM$11=\"PL\",IF(MIN(AV49:AX49)=0,0,AV49+AW49+AX49),IF($AM$11=\"PP\",IF(MIN(AW49:AX49)=0,0,AW49+AX49),IF($AM$11=\"BP\",AW49,IF($AM$11=\"DL\",AX49,AV49))))","v":292.5},{"$f":"ROUND(AY49*H49,5)","v":297.20925999999997},{"$f":"ROUND(IFERROR(VLOOKUP(AS49,[2]DATA!$A$2:$B$63,2,FALSE),1)*AZ49,5)","v":365.56738999999999},{"$f":"IFERROR(IF(AN49=1,AY49,IF(AN49=2,AZ49,IF(AN49=3,BA49,AZ49))),0)","v":292.5},null,null,null,null,null,null,null,null,null,null,null,null,null,null,null,null,null,null,null,null,null,null,null,{"$f":"IFERROR(IF(FIND(\"DT\",AE49),\"Y\",\"\"),\"\")","v":""},null,{"$f":"CONCATENATE(IF(AN49=4,\"\",D49),IF(AN49=1,F49,\"\"))","v":"MR-T153"},{"$f":"IF($AM$11=\"SQ\",AJ49,IF($AM$11=\"BP\",AK49,AL49))","v":24},{"$f":"1+COUNTIFS(INDIRECT(\"AN12:AN500\"),AN49,INDIRECT(\"CB12:CB500\"),CB49,INDIRECT(\"AO12:AO500\"),\">\"&AO49)\n+COUNTIFS(INDIRECT(\"AO12:AO500\"),AO49,INDIRECT(\"AN12:AN500\"),1,INDIRECT(\"CB12:CB500\"),CB49,INDIRECT(\"E12:E500\"),\"<\"&E49)\n+COUNTIFS(INDIRECT(\"AO12:AO500\"),AO49,INDIRECT(\"AN12:AN500\"),1,INDIRECT(\"CB12:CB500\"),CB49,INDIRECT(\"E12:E500\"),E49,INDIRECT(\"CC12:CC500\"),\"<\"&CC49)","v":1},{"$f":"1+COUNTIFS(INDIRECT(\"AN12:AN500\"),AN49,INDIRECT(\"CB12:CB500\"),CB49,INDIRECT(\"BB12:BB500\"),\">\"&BB49)\n+COUNTIFS(INDIRECT(\"BB12:BB500\"),BB49,INDIRECT(\"AN12:AN500\"),1,INDIRECT(\"CB12:CB500\"),CB49,INDIRECT(\"E12:E500\"),\"<\"&E49)","v":1}]
["1A","Ryan O'Connor","NC","MR-T1",68.959999999999994,{"$f":"IFERROR(VLOOKUP(E50,[2]DATA!$E$2:$G$22,IF(LEFT(D50,1)=\"M\",2,3)),\"\")","v":74},3,{"$f":"IFERROR(IF(LEFT(D50,1)=\"M\",Wilks_Men(IF($E$11=\"Bwt - Lb\",E50/2.2046,E50)),Wilks_Women(IF($E$11=\"Bwt - Lb\",E50/2.2046,E50))),\"\")","v":0.75809997320175171},"2002-08-16","17",90,100,107.5,{"$f":"IF(MAX(K50:M50)<=0,0,MAX(CELL(\"color\",K50)*K50,CELL(\"color\",L50)*L50,CELL(\"color\",M50)*M50))","v":107.5},"13-5",47.5,52.5,-57.5,{"$f":"IF(MAX(P50:R50)<=0,0,MAX(CELL(\"color\",P50)*P50,CELL(\"color\",Q50)*Q50,CELL(\"color\",R50)*R50))","v":52.5},{"$f":"IF(OR(N50=0,S50=0),0,N50+S50)","v":160},115,-125,125,{"$f":"IF(MAX(U50:W50)<=0,0,MAX(CELL(\"color\",U50)*U50,CELL(\"color\",V50)*V50,CELL(\"color\",W50)*W50))","v":125},{"$f":"AM50*IF($AM$11=\"SQ\",N50,IF($AM$11=\"BP\",S50,IF($AM$11=\"DL\",X50,IF($AM$11=\"PP\",IF(OR(S50=0,X50=0),0,S50+X50),IF(OR(T50=0,X50=0),0,T50+X50)))))","v":285},{"$f":"IF(Y50=0,\"\",CONCATENATE(CD50,\"/\",IF(AN50=4,\"Wilks\",D50),\"/\",IF(AN50>1,\"\",F50),\"/\",$AM$11))","v":"1/MR-T1/74/PL"},{"$f":"BB50","v":285},{"$f":"IF(AA50=0,\"\",CE50)","v":1},{"$f":"H50*IF($E$3=\"Kg\",Y50,Y50/2.2046)","v":216.05849236249924},{"$f":"IFERROR(VLOOKUP(AS50,[2]DATA!$A$2:$B$63,2,TRUE),0)*AC50","v":254.94902098774909},"PL",1013719,"NC",{"$f":"IFERROR(VLOOKUP(A50,[2]Setup!$Q$5:$R$20,2,FALSE),\"\")","v":0},{"$f":"IF(VALUE(INDIRECT(CONCATENATE($AI$11,ROW())))=0,\"\",ABS(INDIRECT(CONCATENATE($AI$11,ROW())))+0.000001*G50)","v":125.00000300000001},23,13,25,{"$f":"IF(ISERROR(SEARCH($AM$11,AE50)),0,1)","v":1},{"$f":"VLOOKUP(D50,[2]Setup!$I$6:$K$93,3,FALSE)","v":1},{"$f":"ROUND(IFERROR(IF(AN50=1,Y50,IF(AN50=2,AC50,IF(AN50=3,AD50,AC50))),0),5)","v":285},null,{"$f":"IFERROR(MATCH(D50,[2]Setup!$I$6:$I$93,0),\"\")","v":23},{"$f":"IFERROR(CONCATENATE(LEFT(D50,FIND(\"-\",D50)),IF(AS50=\"\",\"O\",VLOOKUP(AS50,[2]DATA!$E$35:$F$53,2,TRUE))),\"\")","v":"MR-T1"},{"$f":"IF(YEAR($AR$7)-YEAR(I50)<40,DATEDIF(I50,$AR$7,\"Y\"),YEAR($AR$7)-YEAR(I50))","v":15},{"$f":"IF(AN50=1,MATCH(F50,[2]DATA!$AB$2:$AB$34,0),0)","v":18},null,{"$f":"IF(MAX(K50:M50)>0,MAX(K50:M50),0)","v":107.5},{"$f":"IF(MAX(P50:R50)>0,MAX(P50:R50),0)","v":52.5},{"$f":"IF(MAX(U50:W50)>0,MAX(U50:W50),0)","v":125},{"$f":"AM50*IF($AM$11=\"PL\",IF(MIN(AV50:AX50)=0,0,AV50+AW50+AX50),IF($AM$11=\"PP\",IF(MIN(AW50:AX50)=0,0,AW50+AX50),IF($AM$11=\"BP\",AW50,IF($AM$11=\"DL\",AX50,AV50))))","v":285},{"$f":"ROUND(AY50*H50,5)","v":216.05849000000001},{"$f":"ROUND(IFERROR(VLOOKUP(AS50,[2]DATA!$A$2:$B$63,2,FALSE),1)*AZ50,5)","v":254.94901999999999},{"$f":"IFERROR(IF(AN50=1,AY50,IF(AN50=2,AZ50,IF(AN50=3,BA50,AZ50))),0)","v":285},null,null,null,null,null,null,null,null,null,null,null,null,null,null,null,null,null,null,null,null,null,null,null,{"$f":"IFERROR(IF(FIND(\"DT\",AE50),\"Y\",\"\"),\"\")","v":""},null,{"$f":"CONCATENATE(IF(AN50=4,\"\",D50),IF(AN50=1,F50,\"\"))","v":"MR-T174"},{"$f":"IF($AM$11=\"SQ\",AJ50,IF($AM$11=\"BP\",AK50,AL50))","v":25},{"$f":"1+COUNTIFS(INDIRECT(\"AN12:AN500\"),AN50,INDIRECT(\"CB12:CB500\"),CB50,INDIRECT(\"AO12:AO500\"),\">\"&AO50)\n+COUNTIFS(INDIRECT(\"AO12:AO500\"),AO50,INDIRECT(\"AN12:AN500\"),1,INDIRECT(\"CB12:CB500\"),CB50,INDIRECT(\"E12:E500\"),\"<\"&E50)\n+COUNTIFS(INDIRECT(\"AO12:AO500\"),AO50,INDIRECT(\"AN12:AN500\"),1,INDIRECT(\"CB12:CB500\"),CB50,INDIRECT(\"E12:E500\"),E50,INDIRECT(\"CC12:CC500\"),\"<\"&CC50)","v":1},{"$f":"1+COUNTIFS(INDIRECT(\"AN12:AN500\"),AN50,INDIRECT(\"CB12:CB500\"),CB50,INDIRECT(\"BB12:BB500\"),\">\"&BB50)\n+COUNTIFS(INDIRECT(\"BB12:BB500\"),BB50,INDIRECT(\"AN12:AN500\"),1,INDIRECT(\"CB12:CB500\"),CB50,INDIRECT(\"E12:E500\"),\"<\"&E50)","v":1}]
["1A","Noah Anderson","NC","MR-T1",77.5,{"$f":"IFERROR(VLOOKUP(E51,[2]DATA!$E$2:$G$22,IF(LEFT(D51,1)=\"M\",2,3)),\"\")","v":83},5,{"$f":"IFERROR(IF(LEFT(D51,1)=\"M\",Wilks_Men(IF($E$11=\"Bwt - Lb\",E51/2.2046,E51)),Wilks_Women(IF($E$11=\"Bwt - Lb\",E51/2.2046,E51))),\"\")","v":0.69690001010894775},"2003-03-16","16",70,77.5,87.5,{"$f":"IF(MAX(K51:M51)<=0,0,MAX(CELL(\"color\",K51)*K51,CELL(\"color\",L51)*L51,CELL(\"color\",M51)*M51))","v":87.5},"14-5",47.5,55,-62.5,{"$f":"IF(MAX(P51:R51)<=0,0,MAX(CELL(\"color\",P51)*P51,CELL(\"color\",Q51)*Q51,CELL(\"color\",R51)*R51))","v":55},{"$f":"IF(OR(N51=0,S51=0),0,N51+S51)","v":142.5},112.5,125,137.5,{"$f":"IF(MAX(U51:W51)<=0,0,MAX(CELL(\"color\",U51)*U51,CELL(\"color\",V51)*V51,CELL(\"color\",W51)*W51))","v":137.5},{"$f":"AM51*IF($AM$11=\"SQ\",N51,IF($AM$11=\"BP\",S51,IF($AM$11=\"DL\",X51,IF($AM$11=\"PP\",IF(OR(S51=0,X51=0),0,S51+X51),IF(OR(T51=0,X51=0),0,T51+X51)))))","v":280},{"$f":"IF(Y51=0,\"\",CONCATENATE(CD51,\"/\",IF(AN51=4,\"Wilks\",D51),\"/\",IF(AN51>1,\"\",F51),\"/\",$AM$11))","v":"1/MR-T1/83/PL"},{"$f":"BB51","v":280},{"$f":"IF(AA51=0,\"\",CE51)","v":1},{"$f":"H51*IF($E$3=\"Kg\",Y51,Y51/2.2046)","v":195.13200283050537},{"$f":"IFERROR(VLOOKUP(AS51,[2]DATA!$A$2:$B$63,2,TRUE),0)*AC51","v":230.25576333999632},"PL",null,"NC",{"$f":"IFERROR(VLOOKUP(A51,[2]Setup!$Q$5:$R$20,2,FALSE),\"\")","v":0},{"$f":"IF(VALUE(INDIRECT(CONCATENATE($AI$11,ROW())))=0,\"\",ABS(INDIRECT(CONCATENATE($AI$11,ROW())))+0.000001*G51)","v":137.50000499999999},22,14,27,{"$f":"IF(ISERROR(SEARCH($AM$11,AE51)),0,1)","v":1},{"$f":"VLOOKUP(D51,[2]Setup!$I$6:$K$93,3,FALSE)","v":1},{"$f":"ROUND(IFERROR(IF(AN51=1,Y51,IF(AN51=2,AC51,IF(AN51=3,AD51,AC51))),0),5)","v":280},null,{"$f":"IFERROR(MATCH(D51,[2]Setup!$I$6:$I$93,0),\"\")","v":23},{"$f":"IFERROR(CONCATENATE(LEFT(D51,FIND(\"-\",D51)),IF(AS51=\"\",\"O\",VLOOKUP(AS51,[2]DATA!$E$35:$F$53,2,TRUE))),\"\")","v":"MR-T1"},{"$f":"IF(YEAR($AR$7)-YEAR(I51)<40,DATEDIF(I51,$AR$7,\"Y\"),YEAR($AR$7)-YEAR(I51))","v":15},{"$f":"IF(AN51=1,MATCH(F51,[2]DATA!$AB$2:$AB$34,0),0)","v":21},null,{"$f":"IF(MAX(K51:M51)>0,MAX(K51:M51),0)","v":87.5},{"$f":"IF(MAX(P51:R51)>0,MAX(P51:R51),0)","v":55},{"$f":"IF(MAX(U51:W51)>0,MAX(U51:W51),0)","v":137.5},{"$f":"AM51*IF($AM$11=\"PL\",IF(MIN(AV51:AX51)=0,0,AV51+AW51+AX51),IF($AM$11=\"PP\",IF(MIN(AW51:AX51)=0,0,AW51+AX51),IF($AM$11=\"BP\",AW51,IF($AM$11=\"DL\",AX51,AV51))))","v":280},{"$f":"ROUND(AY51*H51,5)","v":195.13200000000001},{"$f":"ROUND(IFERROR(VLOOKUP(AS51,[2]DATA!$A$2:$B$63,2,FALSE),1)*AZ51,5)","v":230.25576000000001},{"$f":"IFERROR(IF(AN51=1,AY51,IF(AN51=2,AZ51,IF(AN51=3,BA51,AZ51))),0)","v":280},null,null,null,null,null,null,null,null,null,null,null,null,null,null,null,null,null,null,null,null,null,null,null,{"$f":"IFERROR(IF(FIND(\"DT\",AE51),\"Y\",\"\"),\"\")","v":""},null,{"$f":"CONCATENATE(IF(AN51=4,\"\",D51),IF(AN51=1,F51,\"\"))","v":"MR-T183"},{"$f":"IF($AM$11=\"SQ\",AJ51,IF($AM$11=\"BP\",AK51,AL51))","v":27},{"$f":"1+COUNTIFS(INDIRECT(\"AN12:AN500\"),AN51,INDIRECT(\"CB12:CB500\"),CB51,INDIRECT(\"AO12:AO500\"),\">\"&AO51)\n+COUNTIFS(INDIRECT(\"AO12:AO500\"),AO51,INDIRECT(\"AN12:AN500\"),1,INDIRECT(\"CB12:CB500\"),CB51,INDIRECT(\"E12:E500\"),\"<\"&E51)\n+COUNTIFS(INDIRECT(\"AO12:AO500\"),AO51,INDIRECT(\"AN12:AN500\"),1,INDIRECT(\"CB12:CB500\"),CB51,INDIRECT(\"E12:E500\"),E51,INDIRECT(\"CC12:CC500\"),\"<\"&CC51)","v":1},{"$f":"1+COUNTIFS(INDIRECT(\"AN12:AN500\"),AN51,INDIRECT(\"CB12:CB500\"),CB51,INDIRECT(\"BB12:BB500\"),\">\"&BB51)\n+COUNTIFS(INDIRECT(\"BB12:BB500\"),BB51,INDIRECT(\"AN12:AN500\"),1,INDIRECT(\"CB12:CB500\"),CB51,INDIRECT(\"E12:E500\"),\"<\"&E51)","v":1}]
["1A","Konner Stoneberg","NC","MR-T1",91.8,{"$f":"IFERROR(VLOOKUP(E52,[2]DATA!$E$2:$G$22,IF(LEFT(D52,1)=\"M\",2,3)),\"\")","v":93},12,{"$f":"IFERROR(IF(LEFT(D52,1)=\"M\",Wilks_Men(IF($E$11=\"Bwt - Lb\",E52/2.2046,E52)),Wilks_Women(IF($E$11=\"Bwt - Lb\",E52/2.2046,E52))),\"\")","v":0.63209998607635498},"2002-09-17","16",120,120,-140,{"$f":"IF(MAX(K52:M52)<=0,0,MAX(CELL(\"color\",K52)*K52,CELL(\"color\",L52)*L52,CELL(\"color\",M52)*M52))","v":120},"15-6",60,65,-77.5,{"$f":"IF(MAX(P52:R52)<=0,0,MAX(CELL(\"color\",P52)*P52,CELL(\"color\",Q52)*Q52,CELL(\"color\",R52)*R52))","v":65},{"$f":"IF(OR(N52=0,S52=0),0,N52+S52)","v":185},157.5,165,-172.5,{"$f":"IF(MAX(U52:W52)<=0,0,MAX(CELL(\"color\",U52)*U52,CELL(\"color\",V52)*V52,CELL(\"color\",W52)*W52))","v":165},{"$f":"AM52*IF($AM$11=\"SQ\",N52,IF($AM$11=\"BP\",S52,IF($AM$11=\"DL\",X52,IF($AM$11=\"PP\",IF(OR(S52=0,X52=0),0,S52+X52),IF(OR(T52=0,X52=0),0,T52+X52)))))","v":350},{"$f":"IF(Y52=0,\"\",CONCATENATE(CD52,\"/\",IF(AN52=4,\"Wilks\",D52),\"/\",IF(AN52>1,\"\",F52),\"/\",$AM$11))","v":"1/MR-T1/93/PL"},{"$f":"BB52","v":350},{"$f":"IF(AA52=0,\"\",CE52)","v":1},{"$f":"H52*IF($E$3=\"Kg\",Y52,Y52/2.2046)","v":221.23499512672424},{"$f":"IFERROR(VLOOKUP(AS52,[2]DATA!$A$2:$B$63,2,TRUE),0)*AC52","v":261.05729424953461},"PL",1013614,"NC",{"$f":"IFERROR(VLOOKUP(A52,[2]Setup!$Q$5:$R$20,2,FALSE),\"\")","v":0},{"$f":"IF(VALUE(INDIRECT(CONCATENATE($AI$11,ROW())))=0,\"\",ABS(INDIRECT(CONCATENATE($AI$11,ROW())))+0.000001*G52)","v":172.500012},14,16,18,{"$f":"IF(ISERROR(SEARCH($AM$11,AE52)),0,1)","v":1},{"$f":"VLOOKUP(D52,[2]Setup!$I$6:$K$93,3,FALSE)","v":1},{"$f":"ROUND(IFERROR(IF(AN52=1,Y52,IF(AN52=2,AC52,IF(AN52=3,AD52,AC52))),0),5)","v":350},null,{"$f":"IFERROR(MATCH(D52,[2]Setup!$I$6:$I$93,0),\"\")","v":23},{"$f":"IFERROR(CONCATENATE(LEFT(D52,FIND(\"-\",D52)),IF(AS52=\"\",\"O\",VLOOKUP(AS52,[2]DATA!$E$35:$F$53,2,TRUE))),\"\")","v":"MR-T1"},{"$f":"IF(YEAR($AR$7)-YEAR(I52)<40,DATEDIF(I52,$AR$7,\"Y\"),YEAR($AR$7)-YEAR(I52))","v":15},{"$f":"IF(AN52=1,MATCH(F52,[2]DATA!$AB$2:$AB$34,0),0)","v":26},null,{"$f":"IF(MAX(K52:M52)>0,MAX(K52:M52),0)","v":120},{"$f":"IF(MAX(P52:R52)>0,MAX(P52:R52),0)","v":65},{"$f":"IF(MAX(U52:W52)>0,MAX(U52:W52),0)","v":165},{"$f":"AM52*IF($AM$11=\"PL\",IF(MIN(AV52:AX52)=0,0,AV52+AW52+AX52),IF($AM$11=\"PP\",IF(MIN(AW52:AX52)=0,0,AW52+AX52),IF($AM$11=\"BP\",AW52,IF($AM$11=\"DL\",AX52,AV52))))","v":350},{"$f":"ROUND(AY52*H52,5)","v":221.23500000000001},{"$f":"ROUND(IFERROR(VLOOKUP(AS52,[2]DATA!$A$2:$B$63,2,FALSE),1)*AZ52,5)","v":261.0573},{"$f":"IFERROR(IF(AN52=1,AY52,IF(AN52=2,AZ52,IF(AN52=3,BA52,AZ52))),0)","v":350},null,null,null,null,null,null,null,null,null,null,null,null,null,null,null,null,null,null,null,null,null,null,null,{"$f":"IFERROR(IF(FIND(\"DT\",AE52),\"Y\",\"\"),\"\")","v":""},null,{"$f":"CONCATENATE(IF(AN52=4,\"\",D52),IF(AN52=1,F52,\"\"))","v":"MR-T193"},{"$f":"IF($AM$11=\"SQ\",AJ52,IF($AM$11=\"BP\",AK52,AL52))","v":18},{"$f":"1+COUNTIFS(INDIRECT(\"AN12:AN500\"),AN52,INDIRECT(\"CB12:CB500\"),CB52,INDIRECT(\"AO12:AO500\"),\">\"&AO52)\n+COUNTIFS(INDIRECT(\"AO12:AO500\"),AO52,INDIRECT(\"AN12:AN500\"),1,INDIRECT(\"CB12:CB500\"),CB52,INDIRECT(\"E12:E500\"),\"<\"&E52)\n+COUNTIFS(INDIRECT(\"AO12:AO500\"),AO52,INDIRECT(\"AN12:AN500\"),1,INDIRECT(\"CB12:CB500\"),CB52,INDIRECT(\"E12:E500\"),E52,INDIRECT(\"CC12:CC500\"),\"<\"&CC52)","v":1},{"$f":"1+COUNTIFS(INDIRECT(\"AN12:AN500\"),AN52,INDIRECT(\"CB12:CB500\"),CB52,INDIRECT(\"BB12:BB500\"),\">\"&BB52)\n+COUNTIFS(INDIRECT(\"BB12:BB500\"),BB52,INDIRECT(\"AN12:AN500\"),1,INDIRECT(\"CB12:CB500\"),CB52,INDIRECT(\"E12:E500\"),\"<\"&E52)","v":1}]
["1A","Om Desai","NC","MR-T1",85.64,{"$f":"IFERROR(VLOOKUP(E53,[2]DATA!$E$2:$G$22,IF(LEFT(D53,1)=\"M\",2,3)),\"\")","v":93},9,{"$f":"IFERROR(IF(LEFT(D53,1)=\"M\",Wilks_Men(IF($E$11=\"Bwt - Lb\",E53/2.2046,E53)),Wilks_Women(IF($E$11=\"Bwt - Lb\",E53/2.2046,E53))),\"\")","v":0.65560001134872437},"2003-05-05","13",-82.5,-82.5,82.5,{"$f":"IF(MAX(K53:M53)<=0,0,MAX(CELL(\"color\",K53)*K53,CELL(\"color\",L53)*L53,CELL(\"color\",M53)*M53))","v":82.5},"12-5",-37.5,37.5,-42.5,{"$f":"IF(MAX(P53:R53)<=0,0,MAX(CELL(\"color\",P53)*P53,CELL(\"color\",Q53)*Q53,CELL(\"color\",R53)*R53))","v":37.5},{"$f":"IF(OR(N53=0,S53=0),0,N53+S53)","v":120},115,120,-137.5,{"$f":"IF(MAX(U53:W53)<=0,0,MAX(CELL(\"color\",U53)*U53,CELL(\"color\",V53)*V53,CELL(\"color\",W53)*W53))","v":120},{"$f":"AM53*IF($AM$11=\"SQ\",N53,IF($AM$11=\"BP\",S53,IF($AM$11=\"DL\",X53,IF($AM$11=\"PP\",IF(OR(S53=0,X53=0),0,S53+X53),IF(OR(T53=0,X53=0),0,T53+X53)))))","v":240},{"$f":"IF(Y53=0,\"\",CONCATENATE(CD53,\"/\",IF(AN53=4,\"Wilks\",D53),\"/\",IF(AN53>1,\"\",F53),\"/\",$AM$11))","v":"2/MR-T1/93/PL"},{"$f":"BB53","v":240},{"$f":"IF(AA53=0,\"\",CE53)","v":2},{"$f":"H53*IF($E$3=\"Kg\",Y53,Y53/2.2046)","v":157.34400272369385},{"$f":"IFERROR(VLOOKUP(AS53,[2]DATA!$A$2:$B$63,2,TRUE),0)*AC53","v":193.53312335014343},"PL",null,"NC",{"$f":"IFERROR(VLOOKUP(A53,[2]Setup!$Q$5:$R$20,2,FALSE),\"\")","v":0},{"$f":"IF(VALUE(INDIRECT(CONCATENATE($AI$11,ROW())))=0,\"\",ABS(INDIRECT(CONCATENATE($AI$11,ROW())))+0.000001*G53)","v":137.50000900000001},21,12,14,{"$f":"IF(ISERROR(SEARCH($AM$11,AE53)),0,1)","v":1},{"$f":"VLOOKUP(D53,[2]Setup!$I$6:$K$93,3,FALSE)","v":1},{"$f":"ROUND(IFERROR(IF(AN53=1,Y53,IF(AN53=2,AC53,IF(AN53=3,AD53,AC53))),0),5)","v":240},null,{"$f":"IFERROR(MATCH(D53,[2]Setup!$I$6:$I$93,0),\"\")","v":23},{"$f":"IFERROR(CONCATENATE(LEFT(D53,FIND(\"-\",D53)),IF(AS53=\"\",\"O\",VLOOKUP(AS53,[2]DATA!$E$35:$F$53,2,TRUE))),\"\")","v":"MR-T1"},{"$f":"IF(YEAR($AR$7)-YEAR(I53)<40,DATEDIF(I53,$AR$7,\"Y\"),YEAR($AR$7)-YEAR(I53))","v":14},{"$f":"IF(AN53=1,MATCH(F53,[2]DATA!$AB$2:$AB$34,0),0)","v":26},null,{"$f":"IF(MAX(K53:M53)>0,MAX(K53:M53),0)","v":82.5},{"$f":"IF(MAX(P53:R53)>0,MAX(P53:R53),0)","v":37.5},{"$f":"IF(MAX(U53:W53)>0,MAX(U53:W53),0)","v":120},{"$f":"AM53*IF($AM$11=\"PL\",IF(MIN(AV53:AX53)=0,0,AV53+AW53+AX53),IF($AM$11=\"PP\",IF(MIN(AW53:AX53)=0,0,AW53+AX53),IF($AM$11=\"BP\",AW53,IF($AM$11=\"DL\",AX53,AV53))))","v":240},{"$f":"ROUND(AY53*H53,5)","v":157.34399999999999},{"$f":"ROUND(IFERROR(VLOOKUP(AS53,[2]DATA!$A$2:$B$63,2,FALSE),1)*AZ53,5)","v":193.53312},{"$f":"IFERROR(IF(AN53=1,AY53,IF(AN53=2,AZ53,IF(AN53=3,BA53,AZ53))),0)","v":240},null,null,null,null,null,null,null,null,null,null,null,null,null,null,null,null,null,null,null,null,null,null,null,{"$f":"IFERROR(IF(FIND(\"DT\",AE53),\"Y\",\"\"),\"\")","v":""},null,{"$f":"CONCATENATE(IF(AN53=4,\"\",D53),IF(AN53=1,F53,\"\"))","v":"MR-T193"},{"$f":"IF($AM$11=\"SQ\",AJ53,IF($AM$11=\"BP\",AK53,AL53))","v":14},{"$f":"1+COUNTIFS(INDIRECT(\"AN12:AN500\"),AN53,INDIRECT(\"CB12:CB500\"),CB53,INDIRECT(\"AO12:AO500\"),\">\"&AO53)\n+COUNTIFS(INDIRECT(\"AO12:AO500\"),AO53,INDIRECT(\"AN12:AN500\"),1,INDIRECT(\"CB12:CB500\"),CB53,INDIRECT(\"E12:E500\"),\"<\"&E53)\n+COUNTIFS(INDIRECT(\"AO12:AO500\"),AO53,INDIRECT(\"AN12:AN500\"),1,INDIRECT(\"CB12:CB500\"),CB53,INDIRECT(\"E12:E500\"),E53,INDIRECT(\"CC12:CC500\"),\"<\"&CC53)","v":2},{"$f":"1+COUNTIFS(INDIRECT(\"AN12:AN500\"),AN53,INDIRECT(\"CB12:CB500\"),CB53,INDIRECT(\"BB12:BB500\"),\">\"&BB53)\n+COUNTIFS(INDIRECT(\"BB12:BB500\"),BB53,INDIRECT(\"AN12:AN500\"),1,INDIRECT(\"CB12:CB500\"),CB53,INDIRECT(\"E12:E500\"),\"<\"&E53)","v":2}]
["1A","Joshua Lynch","NC","MR-T2",58.14,{"$f":"IFERROR(VLOOKUP(E54,[2]DATA!$E$2:$G$22,IF(LEFT(D54,1)=\"M\",2,3)),\"\")","v":59},2,{"$f":"IFERROR(IF(LEFT(D54,1)=\"M\",Wilks_Men(IF($E$11=\"Bwt - Lb\",E54/2.2046,E54)),Wilks_Women(IF($E$11=\"Bwt - Lb\",E54/2.2046,E54))),\"\")","v":0.8781999945640564},"2001-02-15","11",117.5,130,140,{"$f":"IF(MAX(K54:M54)<=0,0,MAX(CELL(\"color\",K54)*K54,CELL(\"color\",L54)*L54,CELL(\"color\",M54)*M54))","v":140},"11-6",72.5,80,-90,{"$f":"IF(MAX(P54:R54)<=0,0,MAX(CELL(\"color\",P54)*P54,CELL(\"color\",Q54)*Q54,CELL(\"color\",R54)*R54))","v":80},{"$f":"IF(OR(N54=0,S54=0),0,N54+S54)","v":220},120,132.5,137.5,{"$f":"IF(MAX(U54:W54)<=0,0,MAX(CELL(\"color\",U54)*U54,CELL(\"color\",V54)*V54,CELL(\"color\",W54)*W54))","v":137.5},{"$f":"AM54*IF($AM$11=\"SQ\",N54,IF($AM$11=\"BP\",S54,IF($AM$11=\"DL\",X54,IF($AM$11=\"PP\",IF(OR(S54=0,X54=0),0,S54+X54),IF(OR(T54=0,X54=0),0,T54+X54)))))","v":357.5},{"$f":"IF(Y54=0,\"\",CONCATENATE(CD54,\"/\",IF(AN54=4,\"Wilks\",D54),\"/\",IF(AN54>1,\"\",F54),\"/\",$AM$11))","v":"1/MR-T2/59/PL"},{"$f":"BB54","v":357.5},{"$f":"IF(AA54=0,\"\",CE54)","v":1},{"$f":"H54*IF($E$3=\"Kg\",Y54,Y54/2.2046)","v":313.95649805665016},{"$f":"IFERROR(VLOOKUP(AS54,[2]DATA!$A$2:$B$63,2,TRUE),0)*AC54","v":339.0730179011822},"PL",1016962,"NC",{"$f":"IFERROR(VLOOKUP(A54,[2]Setup!$Q$5:$R$20,2,FALSE),\"\")","v":0},{"$f":"IF(VALUE(INDIRECT(CONCATENATE($AI$11,ROW())))=0,\"\",ABS(INDIRECT(CONCATENATE($AI$11,ROW())))+0.000001*G54)","v":137.50000199999999},27,17,26,{"$f":"IF(ISERROR(SEARCH($AM$11,AE54)),0,1)","v":1},{"$f":"VLOOKUP(D54,[2]Setup!$I$6:$K$93,3,FALSE)","v":1},{"$f":"ROUND(IFERROR(IF(AN54=1,Y54,IF(AN54=2,AC54,IF(AN54=3,AD54,AC54))),0),5)","v":357.5},null,{"$f":"IFERROR(MATCH(D54,[2]Setup!$I$6:$I$93,0),\"\")","v":24},{"$f":"IFERROR(CONCATENATE(LEFT(D54,FIND(\"-\",D54)),IF(AS54=\"\",\"O\",VLOOKUP(AS54,[2]DATA!$E$35:$F$53,2,TRUE))),\"\")","v":"MR-T2"},{"$f":"IF(YEAR($AR$7)-YEAR(I54)<40,DATEDIF(I54,$AR$7,\"Y\"),YEAR($AR$7)-YEAR(I54))","v":17},{"$f":"IF(AN54=1,MATCH(F54,[2]DATA!$AB$2:$AB$34,0),0)","v":12},null,{"$f":"IF(MAX(K54:M54)>0,MAX(K54:M54),0)","v":140},{"$f":"IF(MAX(P54:R54)>0,MAX(P54:R54),0)","v":80},{"$f":"IF(MAX(U54:W54)>0,MAX(U54:W54),0)","v":137.5},{"$f":"AM54*IF($AM$11=\"PL\",IF(MIN(AV54:AX54)=0,0,AV54+AW54+AX54),IF($AM$11=\"PP\",IF(MIN(AW54:AX54)=0,0,AW54+AX54),IF($AM$11=\"BP\",AW54,IF($AM$11=\"DL\",AX54,AV54))))","v":357.5},{"$f":"ROUND(AY54*H54,5)","v":313.95650000000001},{"$f":"ROUND(IFERROR(VLOOKUP(AS54,[2]DATA!$A$2:$B$63,2,FALSE),1)*AZ54,5)","v":339.07301999999999},{"$f":"IFERROR(IF(AN54=1,AY54,IF(AN54=2,AZ54,IF(AN54=3,BA54,AZ54))),0)","v":357.5},null,null,null,null,null,null,null,null,null,null,null,null,null,null,null,null,null,null,null,null,null,null,null,{"$f":"IFERROR(IF(FIND(\"DT\",AE54),\"Y\",\"\"),\"\")","v":""},null,{"$f":"CONCATENATE(IF(AN54=4,\"\",D54),IF(AN54=1,F54,\"\"))","v":"MR-T259"},{"$f":"IF($AM$11=\"SQ\",AJ54,IF($AM$11=\"BP\",AK54,AL54))","v":26},{"$f":"1+COUNTIFS(INDIRECT(\"AN12:AN500\"),AN54,INDIRECT(\"CB12:CB500\"),CB54,INDIRECT(\"AO12:AO500\"),\">\"&AO54)\n+COUNTIFS(INDIRECT(\"AO12:AO500\"),AO54,INDIRECT(\"AN12:AN500\"),1,INDIRECT(\"CB12:CB500\"),CB54,INDIRECT(\"E12:E500\"),\"<\"&E54)\n+COUNTIFS(INDIRECT(\"AO12:AO500\"),AO54,INDIRECT(\"AN12:AN500\"),1,INDIRECT(\"CB12:CB500\"),CB54,INDIRECT(\"E12:E500\"),E54,INDIRECT(\"CC12:CC500\"),\"<\"&CC54)","v":1},{"$f":"1+COUNTIFS(INDIRECT(\"AN12:AN500\"),AN54,INDIRECT(\"CB12:CB500\"),CB54,INDIRECT(\"BB12:BB500\"),\">\"&BB54)\n+COUNTIFS(INDIRECT(\"BB12:BB500\"),BB54,INDIRECT(\"AN12:AN500\"),1,INDIRECT(\"CB12:CB500\"),CB54,INDIRECT(\"E12:E500\"),\"<\"&E54)","v":1}]
["1A","Keegan Gaddy","NC","MR-T2",80.48,{"$f":"IFERROR(VLOOKUP(E55,[2]DATA!$E$2:$G$22,IF(LEFT(D55,1)=\"M\",2,3)),\"\")","v":83},7,{"$f":"IFERROR(IF(LEFT(D55,1)=\"M\",Wilks_Men(IF($E$11=\"Bwt - Lb\",E55/2.2046,E55)),Wilks_Women(IF($E$11=\"Bwt - Lb\",E55/2.2046,E55))),\"\")","v":0.68010002374649048},"2000-12-08","15",180,195,205,{"$f":"IF(MAX(K55:M55)<=0,0,MAX(CELL(\"color\",K55)*K55,CELL(\"color\",L55)*L55,CELL(\"color\",M55)*M55))","v":205},"11-6",130,140,150,{"$f":"IF(MAX(P55:R55)<=0,0,MAX(CELL(\"color\",P55)*P55,CELL(\"color\",Q55)*Q55,CELL(\"color\",R55)*R55))","v":150},{"$f":"IF(OR(N55=0,S55=0),0,N55+S55)","v":355},200,212.5,220,{"$f":"IF(MAX(U55:W55)<=0,0,MAX(CELL(\"color\",U55)*U55,CELL(\"color\",V55)*V55,CELL(\"color\",W55)*W55))","v":220},{"$f":"AM55*IF($AM$11=\"SQ\",N55,IF($AM$11=\"BP\",S55,IF($AM$11=\"DL\",X55,IF($AM$11=\"PP\",IF(OR(S55=0,X55=0),0,S55+X55),IF(OR(T55=0,X55=0),0,T55+X55)))))","v":575},{"$f":"IF(Y55=0,\"\",CONCATENATE(CD55,\"/\",IF(AN55=4,\"Wilks\",D55),\"/\",IF(AN55>1,\"\",F55),\"/\",$AM$11))","v":"1/MR-T2/83/PL"},{"$f":"BB55","v":575},{"$f":"IF(AA55=0,\"\",CE55)","v":1},{"$f":"H55*IF($E$3=\"Kg\",Y55,Y55/2.2046)","v":391.05751365423203},{"$f":"IFERROR(VLOOKUP(AS55,[2]DATA!$A$2:$B$63,2,TRUE),0)*AC55","v":422.34211474657059},"PL",1000412,"NC",{"$f":"IFERROR(VLOOKUP(A55,[2]Setup!$Q$5:$R$20,2,FALSE),\"\")","v":0},{"$f":"IF(VALUE(INDIRECT(CONCATENATE($AI$11,ROW())))=0,\"\",ABS(INDIRECT(CONCATENATE($AI$11,ROW())))+0.000001*G55)","v":220.00000700000001},29,24,31,{"$f":"IF(ISERROR(SEARCH($AM$11,AE55)),0,1)","v":1},{"$f":"VLOOKUP(D55,[2]Setup!$I$6:$K$93,3,FALSE)","v":1},{"$f":"ROUND(IFERROR(IF(AN55=1,Y55,IF(AN55=2,AC55,IF(AN55=3,AD55,AC55))),0),5)","v":575},null,{"$f":"IFERROR(MATCH(D55,[2]Setup!$I$6:$I$93,0),\"\")","v":24},{"$f":"IFERROR(CONCATENATE(LEFT(D55,FIND(\"-\",D55)),IF(AS55=\"\",\"O\",VLOOKUP(AS55,[2]DATA!$E$35:$F$53,2,TRUE))),\"\")","v":"MR-T2"},{"$f":"IF(YEAR($AR$7)-YEAR(I55)<40,DATEDIF(I55,$AR$7,\"Y\"),YEAR($AR$7)-YEAR(I55))","v":17},{"$f":"IF(AN55=1,MATCH(F55,[2]DATA!$AB$2:$AB$34,0),0)","v":21},null,{"$f":"IF(MAX(K55:M55)>0,MAX(K55:M55),0)","v":205},{"$f":"IF(MAX(P55:R55)>0,MAX(P55:R55),0)","v":150},{"$f":"IF(MAX(U55:W55)>0,MAX(U55:W55),0)","v":220},{"$f":"AM55*IF($AM$11=\"PL\",IF(MIN(AV55:AX55)=0,0,AV55+AW55+AX55),IF($AM$11=\"PP\",IF(MIN(AW55:AX55)=0,0,AW55+AX55),IF($AM$11=\"BP\",AW55,IF($AM$11=\"DL\",AX55,AV55))))","v":575},{"$f":"ROUND(AY55*H55,5)","v":391.05750999999998},{"$f":"ROUND(IFERROR(VLOOKUP(AS55,[2]DATA!$A$2:$B$63,2,FALSE),1)*AZ55,5)","v":422.34210999999999},{"$f":"IFERROR(IF(AN55=1,AY55,IF(AN55=2,AZ55,IF(AN55=3,BA55,AZ55))),0)","v":575},null,null,null,null,null,null,null,null,null,null,null,null,null,null,null,null,null,null,null,null,null,null,null,{"$f":"IFERROR(IF(FIND(\"DT\",AE55),\"Y\",\"\"),\"\")","v":""},null,{"$f":"CONCATENATE(IF(AN55=4,\"\",D55),IF(AN55=1,F55,\"\"))","v":"MR-T283"},{"$f":"IF($AM$11=\"SQ\",AJ55,IF($AM$11=\"BP\",AK55,AL55))","v":31},{"$f":"1+COUNTIFS(INDIRECT(\"AN12:AN500\"),AN55,INDIRECT(\"CB12:CB500\"),CB55,INDIRECT(\"AO12:AO500\"),\">\"&AO55)\n+COUNTIFS(INDIRECT(\"AO12:AO500\"),AO55,INDIRECT(\"AN12:AN500\"),1,INDIRECT(\"CB12:CB500\"),CB55,INDIRECT(\"E12:E500\"),\"<\"&E55)\n+COUNTIFS(INDIRECT(\"AO12:AO500\"),AO55,INDIRECT(\"AN12:AN500\"),1,INDIRECT(\"CB12:CB500\"),CB55,INDIRECT(\"E12:E500\"),E55,INDIRECT(\"CC12:CC500\"),\"<\"&CC55)","v":1},{"$f":"1+COUNTIFS(INDIRECT(\"AN12:AN500\"),AN55,INDIRECT(\"CB12:CB500\"),CB55,INDIRECT(\"BB12:BB500\"),\">\"&BB55)\n+COUNTIFS(INDIRECT(\"BB12:BB500\"),BB55,INDIRECT(\"AN12:AN500\"),1,INDIRECT(\"CB12:CB500\"),CB55,INDIRECT(\"E12:E500\"),\"<\"&E55)","v":1}]
["1A","Tyler O'Neal","NC","MR-T2",77.14,{"$f":"IFERROR(VLOOKUP(E56,[2]DATA!$E$2:$G$22,IF(LEFT(D56,1)=\"M\",2,3)),\"\")","v":83},4,{"$f":"IFERROR(IF(LEFT(D56,1)=\"M\",Wilks_Men(IF($E$11=\"Bwt - Lb\",E56/2.2046,E56)),Wilks_Women(IF($E$11=\"Bwt - Lb\",E56/2.2046,E56))),\"\")","v":0.69900000095367432},"2001-03-21","15",137.5,152.5,165,{"$f":"IF(MAX(K56:M56)<=0,0,MAX(CELL(\"color\",K56)*K56,CELL(\"color\",L56)*L56,CELL(\"color\",M56)*M56))","v":165},"12-7",92.5,105,115,{"$f":"IF(MAX(P56:R56)<=0,0,MAX(CELL(\"color\",P56)*P56,CELL(\"color\",Q56)*Q56,CELL(\"color\",R56)*R56))","v":115},{"$f":"IF(OR(N56=0,S56=0),0,N56+S56)","v":280},182.5,195,205,{"$f":"IF(MAX(U56:W56)<=0,0,MAX(CELL(\"color\",U56)*U56,CELL(\"color\",V56)*V56,CELL(\"color\",W56)*W56))","v":205},{"$f":"AM56*IF($AM$11=\"SQ\",N56,IF($AM$11=\"BP\",S56,IF($AM$11=\"DL\",X56,IF($AM$11=\"PP\",IF(OR(S56=0,X56=0),0,S56+X56),IF(OR(T56=0,X56=0),0,T56+X56)))))","v":485},{"$f":"IF(Y56=0,\"\",CONCATENATE(CD56,\"/\",IF(AN56=4,\"Wilks\",D56),\"/\",IF(AN56>1,\"\",F56),\"/\",$AM$11))","v":"2/MR-T2/83/PL"},{"$f":"BB56","v":485},{"$f":"IF(AA56=0,\"\",CE56)","v":2},{"$f":"H56*IF($E$3=\"Kg\",Y56,Y56/2.2046)","v":339.01500046253204},{"$f":"IFERROR(VLOOKUP(AS56,[2]DATA!$A$2:$B$63,2,TRUE),0)*AC56","v":366.13620049953465},"PL",1016960,"NC",{"$f":"IFERROR(VLOOKUP(A56,[2]Setup!$Q$5:$R$20,2,FALSE),\"\")","v":0},{"$f":"IF(VALUE(INDIRECT(CONCATENATE($AI$11,ROW())))=0,\"\",ABS(INDIRECT(CONCATENATE($AI$11,ROW())))+0.000001*G56)","v":205.00000399999999},28,23,30,{"$f":"IF(ISERROR(SEARCH($AM$11,AE56)),0,1)","v":1},{"$f":"VLOOKUP(D56,[2]Setup!$I$6:$K$93,3,FALSE)","v":1},{"$f":"ROUND(IFERROR(IF(AN56=1,Y56,IF(AN56=2,AC56,IF(AN56=3,AD56,AC56))),0),5)","v":485},null,{"$f":"IFERROR(MATCH(D56,[2]Setup!$I$6:$I$93,0),\"\")","v":24},{"$f":"IFERROR(CONCATENATE(LEFT(D56,FIND(\"-\",D56)),IF(AS56=\"\",\"O\",VLOOKUP(AS56,[2]DATA!$E$35:$F$53,2,TRUE))),\"\")","v":"MR-T2"},{"$f":"IF(YEAR($AR$7)-YEAR(I56)<40,DATEDIF(I56,$AR$7,\"Y\"),YEAR($AR$7)-YEAR(I56))","v":17},{"$f":"IF(AN56=1,MATCH(F56,[2]DATA!$AB$2:$AB$34,0),0)","v":21},null,{"$f":"IF(MAX(K56:M56)>0,MAX(K56:M56),0)","v":165},{"$f":"IF(MAX(P56:R56)>0,MAX(P56:R56),0)","v":115},{"$f":"IF(MAX(U56:W56)>0,MAX(U56:W56),0)","v":205},{"$f":"AM56*IF($AM$11=\"PL\",IF(MIN(AV56:AX56)=0,0,AV56+AW56+AX56),IF($AM$11=\"PP\",IF(MIN(AW56:AX56)=0,0,AW56+AX56),IF($AM$11=\"BP\",AW56,IF($AM$11=\"DL\",AX56,AV56))))","v":485},{"$f":"ROUND(AY56*H56,5)","v":339.01499999999999},{"$f":"ROUND(IFERROR(VLOOKUP(AS56,[2]DATA!$A$2:$B$63,2,FALSE),1)*AZ56,5)","v":366.13619999999997},{"$f":"IFERROR(IF(AN56=1,AY56,IF(AN56=2,AZ56,IF(AN56=3,BA56,AZ56))),0)","v":485},null,null,null,null,null,null,null,null,null,null,null,null,null,null,null,null,null,null,null,null,null,null,null,{"$f":"IFERROR(IF(FIND(\"DT\",AE56),\"Y\",\"\"),\"\")","v":""},null,{"$f":"CONCATENATE(IF(AN56=4,\"\",D56),IF(AN56=1,F56,\"\"))","v":"MR-T283"},{"$f":"IF($AM$11=\"SQ\",AJ56,IF($AM$11=\"BP\",AK56,AL56))","v":30},{"$f":"1+COUNTIFS(INDIRECT(\"AN12:AN500\"),AN56,INDIRECT(\"CB12:CB500\"),CB56,INDIRECT(\"AO12:AO500\"),\">\"&AO56)\n+COUNTIFS(INDIRECT(\"AO12:AO500\"),AO56,INDIRECT(\"AN12:AN500\"),1,INDIRECT(\"CB12:CB500\"),CB56,INDIRECT(\"E12:E500\"),\"<\"&E56)\n+COUNTIFS(INDIRECT(\"AO12:AO500\"),AO56,INDIRECT(\"AN12:AN500\"),1,INDIRECT(\"CB12:CB500\"),CB56,INDIRECT(\"E12:E500\"),E56,INDIRECT(\"CC12:CC500\"),\"<\"&CC56)","v":2},{"$f":"1+COUNTIFS(INDIRECT(\"AN12:AN500\"),AN56,INDIRECT(\"CB12:CB500\"),CB56,INDIRECT(\"BB12:BB500\"),\">\"&BB56)\n+COUNTIFS(INDIRECT(\"BB12:BB500\"),BB56,INDIRECT(\"AN12:AN500\"),1,INDIRECT(\"CB12:CB500\"),CB56,INDIRECT(\"E12:E500\"),\"<\"&E56)","v":2}]
["1A","Roberto Valle","NC","MR-T2",81.319999999999993,{"$f":"IFERROR(VLOOKUP(E57,[2]DATA!$E$2:$G$22,IF(LEFT(D57,1)=\"M\",2,3)),\"\")","v":83},6,{"$f":"IFERROR(IF(LEFT(D57,1)=\"M\",Wilks_Men(IF($E$11=\"Bwt - Lb\",E57/2.2046,E57)),Wilks_Women(IF($E$11=\"Bwt - Lb\",E57/2.2046,E57))),\"\")","v":0.67580002546310425},"2001-08-07","16",122.5,-137.5,137.5,{"$f":"IF(MAX(K57:M57)<=0,0,MAX(CELL(\"color\",K57)*K57,CELL(\"color\",L57)*L57,CELL(\"color\",M57)*M57))","v":137.5},"13-5",77.5,-85,-85,{"$f":"IF(MAX(P57:R57)<=0,0,MAX(CELL(\"color\",P57)*P57,CELL(\"color\",Q57)*Q57,CELL(\"color\",R57)*R57))","v":77.5},{"$f":"IF(OR(N57=0,S57=0),0,N57+S57)","v":215},162.5,165,167.5,{"$f":"IF(MAX(U57:W57)<=0,0,MAX(CELL(\"color\",U57)*U57,CELL(\"color\",V57)*V57,CELL(\"color\",W57)*W57))","v":167.5},{"$f":"AM57*IF($AM$11=\"SQ\",N57,IF($AM$11=\"BP\",S57,IF($AM$11=\"DL\",X57,IF($AM$11=\"PP\",IF(OR(S57=0,X57=0),0,S57+X57),IF(OR(T57=0,X57=0),0,T57+X57)))))","v":382.5},{"$f":"IF(Y57=0,\"\",CONCATENATE(CD57,\"/\",IF(AN57=4,\"Wilks\",D57),\"/\",IF(AN57>1,\"\",F57),\"/\",$AM$11))","v":"3/MR-T2/83/PL"},{"$f":"BB57","v":382.5},{"$f":"IF(AA57=0,\"\",CE57)","v":3},{"$f":"H57*IF($E$3=\"Kg\",Y57,Y57/2.2046)","v":258.49350973963737},{"$f":"IFERROR(VLOOKUP(AS57,[2]DATA!$A$2:$B$63,2,TRUE),0)*AC57","v":292.09766600579019},"PL",1015387,"NC",{"$f":"IFERROR(VLOOKUP(A57,[2]Setup!$Q$5:$R$20,2,FALSE),\"\")","v":0},{"$f":"IF(VALUE(INDIRECT(CONCATENATE($AI$11,ROW())))=0,\"\",ABS(INDIRECT(CONCATENATE($AI$11,ROW())))+0.000001*G57)","v":167.50000600000001},26,6,28,{"$f":"IF(ISERROR(SEARCH($AM$11,AE57)),0,1)","v":1},{"$f":"VLOOKUP(D57,[2]Setup!$I$6:$K$93,3,FALSE)","v":1},{"$f":"ROUND(IFERROR(IF(AN57=1,Y57,IF(AN57=2,AC57,IF(AN57=3,AD57,AC57))),0),5)","v":382.5},null,{"$f":"IFERROR(MATCH(D57,[2]Setup!$I$6:$I$93,0),\"\")","v":24},{"$f":"IFERROR(CONCATENATE(LEFT(D57,FIND(\"-\",D57)),IF(AS57=\"\",\"O\",VLOOKUP(AS57,[2]DATA!$E$35:$F$53,2,TRUE))),\"\")","v":"MR-T2"},{"$f":"IF(YEAR($AR$7)-YEAR(I57)<40,DATEDIF(I57,$AR$7,\"Y\"),YEAR($AR$7)-YEAR(I57))","v":16},{"$f":"IF(AN57=1,MATCH(F57,[2]DATA!$AB$2:$AB$34,0),0)","v":21},null,{"$f":"IF(MAX(K57:M57)>0,MAX(K57:M57),0)","v":137.5},{"$f":"IF(MAX(P57:R57)>0,MAX(P57:R57),0)","v":77.5},{"$f":"IF(MAX(U57:W57)>0,MAX(U57:W57),0)","v":167.5},{"$f":"AM57*IF($AM$11=\"PL\",IF(MIN(AV57:AX57)=0,0,AV57+AW57+AX57),IF($AM$11=\"PP\",IF(MIN(AW57:AX57)=0,0,AW57+AX57),IF($AM$11=\"BP\",AW57,IF($AM$11=\"DL\",AX57,AV57))))","v":382.5},{"$f":"ROUND(AY57*H57,5)","v":258.49351000000001},{"$f":"ROUND(IFERROR(VLOOKUP(AS57,[2]DATA!$A$2:$B$63,2,FALSE),1)*AZ57,5)","v":292.09766999999999},{"$f":"IFERROR(IF(AN57=1,AY57,IF(AN57=2,AZ57,IF(AN57=3,BA57,AZ57))),0)","v":382.5},null,null,null,null,null,null,null,null,null,null,null,null,null,null,null,null,null,null,null,null,null,null,null,{"$f":"IFERROR(IF(FIND(\"DT\",AE57),\"Y\",\"\"),\"\")","v":""},null,{"$f":"CONCATENATE(IF(AN57=4,\"\",D57),IF(AN57=1,F57,\"\"))","v":"MR-T283"},{"$f":"IF($AM$11=\"SQ\",AJ57,IF($AM$11=\"BP\",AK57,AL57))","v":28},{"$f":"1+COUNTIFS(INDIRECT(\"AN12:AN500\"),AN57,INDIRECT(\"CB12:CB500\"),CB57,INDIRECT(\"AO12:AO500\"),\">\"&AO57)\n+COUNTIFS(INDIRECT(\"AO12:AO500\"),AO57,INDIRECT(\"AN12:AN500\"),1,INDIRECT(\"CB12:CB500\"),CB57,INDIRECT(\"E12:E500\"),\"<\"&E57)\n+COUNTIFS(INDIRECT(\"AO12:AO500\"),AO57,INDIRECT(\"AN12:AN500\"),1,INDIRECT(\"CB12:CB500\"),CB57,INDIRECT(\"E12:E500\"),E57,INDIRECT(\"CC12:CC500\"),\"<\"&CC57)","v":3},{"$f":"1+COUNTIFS(INDIRECT(\"AN12:AN500\"),AN57,INDIRECT(\"CB12:CB500\"),CB57,INDIRECT(\"BB12:BB500\"),\">\"&BB57)\n+COUNTIFS(INDIRECT(\"BB12:BB500\"),BB57,INDIRECT(\"AN12:AN500\"),1,INDIRECT(\"CB12:CB500\"),CB57,INDIRECT(\"E12:E500\"),\"<\"&E57)","v":3}]
["1A","Colton Hurley","NC","MR-T2",91.54,{"$f":"IFERROR(VLOOKUP(E58,[2]DATA!$E$2:$G$22,IF(LEFT(D58,1)=\"M\",2,3)),\"\")","v":93},10,{"$f":"IFERROR(IF(LEFT(D58,1)=\"M\",Wilks_Men(IF($E$11=\"Bwt - Lb\",E58/2.2046,E58)),Wilks_Women(IF($E$11=\"Bwt - Lb\",E58/2.2046,E58))),\"\")","v":0.63300001621246338},"2001-06-06","15",225,237.5,250,{"$f":"IF(MAX(K58:M58)<=0,0,MAX(CELL(\"color\",K58)*K58,CELL(\"color\",L58)*L58,CELL(\"color\",M58)*M58))","v":250},"13-6",127.5,-132.5,-132.5,{"$f":"IF(MAX(P58:R58)<=0,0,MAX(CELL(\"color\",P58)*P58,CELL(\"color\",Q58)*Q58,CELL(\"color\",R58)*R58))","v":127.5},{"$f":"IF(OR(N58=0,S58=0),0,N58+S58)","v":377.5},185,202.5,220,{"$f":"IF(MAX(U58:W58)<=0,0,MAX(CELL(\"color\",U58)*U58,CELL(\"color\",V58)*V58,CELL(\"color\",W58)*W58))","v":220},{"$f":"AM58*IF($AM$11=\"SQ\",N58,IF($AM$11=\"BP\",S58,IF($AM$11=\"DL\",X58,IF($AM$11=\"PP\",IF(OR(S58=0,X58=0),0,S58+X58),IF(OR(T58=0,X58=0),0,T58+X58)))))","v":597.5},{"$f":"IF(Y58=0,\"\",CONCATENATE(CD58,\"/\",IF(AN58=4,\"Wilks\",D58),\"/\",IF(AN58>1,\"\",F58),\"/\",$AM$11))","v":"1/MR-T2/93/PL"},{"$f":"BB58","v":597.5},{"$f":"IF(AA58=0,\"\",CE58)","v":1},{"$f":"H58*IF($E$3=\"Kg\",Y58,Y58/2.2046)","v":378.21750968694687},{"$f":"IFERROR(VLOOKUP(AS58,[2]DATA!$A$2:$B$63,2,TRUE),0)*AC58","v":427.38578594624994},"PL"," ","NC",{"$f":"IFERROR(VLOOKUP(A58,[2]Setup!$Q$5:$R$20,2,FALSE),\"\")","v":0},{"$f":"IF(VALUE(INDIRECT(CONCATENATE($AI$11,ROW())))=0,\"\",ABS(INDIRECT(CONCATENATE($AI$11,ROW())))+0.000001*G58)","v":220.00001},30,9,32,{"$f":"IF(ISERROR(SEARCH($AM$11,AE58)),0,1)","v":1},{"$f":"VLOOKUP(D58,[2]Setup!$I$6:$K$93,3,FALSE)","v":1},{"$f":"ROUND(IFERROR(IF(AN58=1,Y58,IF(AN58=2,AC58,IF(AN58=3,AD58,AC58))),0),5)","v":597.5},null,{"$f":"IFERROR(MATCH(D58,[2]Setup!$I$6:$I$93,0),\"\")","v":24},{"$f":"IFERROR(CONCATENATE(LEFT(D58,FIND(\"-\",D58)),IF(AS58=\"\",\"O\",VLOOKUP(AS58,[2]DATA!$E$35:$F$53,2,TRUE))),\"\")","v":"MR-T2"},{"$f":"IF(YEAR($AR$7)-YEAR(I58)<40,DATEDIF(I58,$AR$7,\"Y\"),YEAR($AR$7)-YEAR(I58))","v":16},{"$f":"IF(AN58=1,MATCH(F58,[2]DATA!$AB$2:$AB$34,0),0)","v":26},null,{"$f":"IF(MAX(K58:M58)>0,MAX(K58:M58),0)","v":250},{"$f":"IF(MAX(P58:R58)>0,MAX(P58:R58),0)","v":127.5},{"$f":"IF(MAX(U58:W58)>0,MAX(U58:W58),0)","v":220},{"$f":"AM58*IF($AM$11=\"PL\",IF(MIN(AV58:AX58)=0,0,AV58+AW58+AX58),IF($AM$11=\"PP\",IF(MIN(AW58:AX58)=0,0,AW58+AX58),IF($AM$11=\"BP\",AW58,IF($AM$11=\"DL\",AX58,AV58))))","v":597.5},{"$f":"ROUND(AY58*H58,5)","v":378.21751},{"$f":"ROUND(IFERROR(VLOOKUP(AS58,[2]DATA!$A$2:$B$63,2,FALSE),1)*AZ58,5)","v":427.38578999999999},{"$f":"IFERROR(IF(AN58=1,AY58,IF(AN58=2,AZ58,IF(AN58=3,BA58,AZ58))),0)","v":597.5},null,null,null,null,null,null,null,null,null,null,null,null,null,null,null,null,null,null,null,null,null,null,null,{"$f":"IFERROR(IF(FIND(\"DT\",AE58),\"Y\",\"\"),\"\")","v":""},null,{"$f":"CONCATENATE(IF(AN58=4,\"\",D58),IF(AN58=1,F58,\"\"))","v":"MR-T293"},{"$f":"IF($AM$11=\"SQ\",AJ58,IF($AM$11=\"BP\",AK58,AL58))","v":32},{"$f":"1+COUNTIFS(INDIRECT(\"AN12:AN500\"),AN58,INDIRECT(\"CB12:CB500\"),CB58,INDIRECT(\"AO12:AO500\"),\">\"&AO58)\n+COUNTIFS(INDIRECT(\"AO12:AO500\"),AO58,INDIRECT(\"AN12:AN500\"),1,INDIRECT(\"CB12:CB500\"),CB58,INDIRECT(\"E12:E500\"),\"<\"&E58)\n+COUNTIFS(INDIRECT(\"AO12:AO500\"),AO58,INDIRECT(\"AN12:AN500\"),1,INDIRECT(\"CB12:CB500\"),CB58,INDIRECT(\"E12:E500\"),E58,INDIRECT(\"CC12:CC500\"),\"<\"&CC58)","v":1},{"$f":"1+COUNTIFS(INDIRECT(\"AN12:AN500\"),AN58,INDIRECT(\"CB12:CB500\"),CB58,INDIRECT(\"BB12:BB500\"),\">\"&BB58)\n+COUNTIFS(INDIRECT(\"BB12:BB500\"),BB58,INDIRECT(\"AN12:AN500\"),1,INDIRECT(\"CB12:CB500\"),CB58,INDIRECT(\"E12:E500\"),\"<\"&E58)","v":1}]
["1A","Logan Wagner","NC","MR-T3",115,{"$f":"IFERROR(VLOOKUP(E59,[2]DATA!$E$2:$G$22,IF(LEFT(D59,1)=\"M\",2,3)),\"\")","v":120},13,{"$f":"IFERROR(IF(LEFT(D59,1)=\"M\",Wilks_Men(IF($E$11=\"Bwt - Lb\",E59/2.2046,E59)),Wilks_Women(IF($E$11=\"Bwt - Lb\",E59/2.2046,E59))),\"\")","v":0.5810999870300293},"2000-07-14","18",-120,120,127.5,{"$f":"IF(MAX(K59:M59)<=0,0,MAX(CELL(\"color\",K59)*K59,CELL(\"color\",L59)*L59,CELL(\"color\",M59)*M59))","v":127.5},"15-7",77.5,85,92.5,{"$f":"IF(MAX(P59:R59)<=0,0,MAX(CELL(\"color\",P59)*P59,CELL(\"color\",Q59)*Q59,CELL(\"color\",R59)*R59))","v":92.5},{"$f":"IF(OR(N59=0,S59=0),0,N59+S59)","v":220},170,192.5,200,{"$f":"IF(MAX(U59:W59)<=0,0,MAX(CELL(\"color\",U59)*U59,CELL(\"color\",V59)*V59,CELL(\"color\",W59)*W59))","v":200},{"$f":"AM59*IF($AM$11=\"SQ\",N59,IF($AM$11=\"BP\",S59,IF($AM$11=\"DL\",X59,IF($AM$11=\"PP\",IF(OR(S59=0,X59=0),0,S59+X59),IF(OR(T59=0,X59=0),0,T59+X59)))))","v":420},{"$f":"IF(Y59=0,\"\",CONCATENATE(CD59,\"/\",IF(AN59=4,\"Wilks\",D59),\"/\",IF(AN59>1,\"\",F59),\"/\",$AM$11))","v":"1/MR-T3/120/PL"},{"$f":"BB59","v":420},{"$f":"IF(AA59=0,\"\",CE59)","v":1},{"$f":"H59*IF($E$3=\"Kg\",Y59,Y59/2.2046)","v":244.0619945526123},{"$f":"IFERROR(VLOOKUP(AS59,[2]DATA!$A$2:$B$63,2,TRUE),0)*AC59","v":263.58695411682129},"PL",null,"NC",{"$f":"IFERROR(VLOOKUP(A59,[2]Setup!$Q$5:$R$20,2,FALSE),\"\")","v":0},{"$f":"IF(VALUE(INDIRECT(CONCATENATE($AI$11,ROW())))=0,\"\",ABS(INDIRECT(CONCATENATE($AI$11,ROW())))+0.000001*G59)","v":200.000013},25,22,29,{"$f":"IF(ISERROR(SEARCH($AM$11,AE59)),0,1)","v":1},{"$f":"VLOOKUP(D59,[2]Setup!$I$6:$K$93,3,FALSE)","v":1},{"$f":"ROUND(IFERROR(IF(AN59=1,Y59,IF(AN59=2,AC59,IF(AN59=3,AD59,AC59))),0),5)","v":420},null,{"$f":"IFERROR(MATCH(D59,[2]Setup!$I$6:$I$93,0),\"\")","v":25},{"$f":"IFERROR(CONCATENATE(LEFT(D59,FIND(\"-\",D59)),IF(AS59=\"\",\"O\",VLOOKUP(AS59,[2]DATA!$E$35:$F$53,2,TRUE))),\"\")","v":"MR-T2"},{"$f":"IF(YEAR($AR$7)-YEAR(I59)<40,DATEDIF(I59,$AR$7,\"Y\"),YEAR($AR$7)-YEAR(I59))","v":17},{"$f":"IF(AN59=1,MATCH(F59,[2]DATA!$AB$2:$AB$34,0),0)","v":30},null,{"$f":"IF(MAX(K59:M59)>0,MAX(K59:M59),0)","v":127.5},{"$f":"IF(MAX(P59:R59)>0,MAX(P59:R59),0)","v":92.5},{"$f":"IF(MAX(U59:W59)>0,MAX(U59:W59),0)","v":200},{"$f":"AM59*IF($AM$11=\"PL\",IF(MIN(AV59:AX59)=0,0,AV59+AW59+AX59),IF($AM$11=\"PP\",IF(MIN(AW59:AX59)=0,0,AW59+AX59),IF($AM$11=\"BP\",AW59,IF($AM$11=\"DL\",AX59,AV59))))","v":420},{"$f":"ROUND(AY59*H59,5)","v":244.06199000000001},{"$f":"ROUND(IFERROR(VLOOKUP(AS59,[2]DATA!$A$2:$B$63,2,FALSE),1)*AZ59,5)","v":263.58695},{"$f":"IFERROR(IF(AN59=1,AY59,IF(AN59=2,AZ59,IF(AN59=3,BA59,AZ59))),0)","v":420},null,null,null,null,null,null,null,null,null,null,null,null,null,null,null,null,null,null,null,null,null,null,null,{"$f":"IFERROR(IF(FIND(\"DT\",AE59),\"Y\",\"\"),\"\")","v":""},null,{"$f":"CONCATENATE(IF(AN59=4,\"\",D59),IF(AN59=1,F59,\"\"))","v":"MR-T3120"},{"$f":"IF($AM$11=\"SQ\",AJ59,IF($AM$11=\"BP\",AK59,AL59))","v":29},{"$f":"1+COUNTIFS(INDIRECT(\"AN12:AN500\"),AN59,INDIRECT(\"CB12:CB500\"),CB59,INDIRECT(\"AO12:AO500\"),\">\"&AO59)\n+COUNTIFS(INDIRECT(\"AO12:AO500\"),AO59,INDIRECT(\"AN12:AN500\"),1,INDIRECT(\"CB12:CB500\"),CB59,INDIRECT(\"E12:E500\"),\"<\"&E59)\n+COUNTIFS(INDIRECT(\"AO12:AO500\"),AO59,INDIRECT(\"AN12:AN500\"),1,INDIRECT(\"CB12:CB500\"),CB59,INDIRECT(\"E12:E500\"),E59,INDIRECT(\"CC12:CC500\"),\"<\"&CC59)","v":1},{"$f":"1+COUNTIFS(INDIRECT(\"AN12:AN500\"),AN59,INDIRECT(\"CB12:CB500\"),CB59,INDIRECT(\"BB12:BB500\"),\">\"&BB59)\n+COUNTIFS(INDIRECT(\"BB12:BB500\"),BB59,INDIRECT(\"AN12:AN500\"),1,INDIRECT(\"CB12:CB500\"),CB59,INDIRECT(\"E12:E500\"),\"<\"&E59)","v":1}]
["2D","Frank Bottone Jr. ","NC","MR-O",64.540000000000006,{"$f":"IFERROR(VLOOKUP(E60,DATA!$E$2:$G$22,IF(LEFT(D60,1)=\"M\",2,3)),\"\")","v":66},901,{"$f":"IFERROR(IF(LEFT(D60,1)=\"M\",Wilks_Men(IF($E$11=\"Bwt - Lb\",E60/2.2046,E60)),Wilks_Women(IF($E$11=\"Bwt - Lb\",E60/2.2046,E60))),\"\")","v":0.80000001192092896},"1969-11-13","15",120,130,-137.5,{"$f":"IF(MAX(K60:M60)<=0,0,MAX(CELL(\"color\",K60)*K60,CELL(\"color\",L60)*L60,CELL(\"color\",M60)*M60))","v":130},"14-5",87.5,92.5,97.5,{"$f":"IF(MAX(P60:R60)<=0,0,MAX(CELL(\"color\",P60)*P60,CELL(\"color\",Q60)*Q60,CELL(\"color\",R60)*R60))","v":97.5},{"$f":"IF(OR(N60=0,S60=0),0,N60+S60)","v":227.5},142.5,155,160,{"$f":"IF(MAX(U60:W60)<=0,0,MAX(CELL(\"color\",U60)*U60,CELL(\"color\",V60)*V60,CELL(\"color\",W60)*W60))","v":160},{"$f":"AM60*IF($AM$11=\"SQ\",N60,IF($AM$11=\"BP\",S60,IF($AM$11=\"DL\",X60,IF($AM$11=\"PP\",IF(OR(S60=0,X60=0),0,S60+X60),IF(OR(T60=0,X60=0),0,T60+X60)))))","v":387.5},{"$f":"IF(Y60=0,\"\",CONCATENATE(CD60,\"/\",IF(AN60=4,\"Wilks\",D60),\"/\",IF(AN60>1,\"\",F60),\"/\",$AM$11))","v":"1/MR-O/66/PL"},{"$f":"BB60","v":387.5},{"$f":"IF(AA60=0,\"\",CE60)","v":1},{"$f":"H60*IF($E$3=\"Kg\",Y60,Y60/2.2046)","v":310.00000461935997},{"$f":"IFERROR(VLOOKUP(AS60,DATA!$A$2:$B$63,2,TRUE),0)*AC60","v":345.03000514134766},"PL",988924,"NC",{"$f":"IFERROR(VLOOKUP(A60,Setup!$Q$5:$R$20,2,FALSE),\"\")","v":3},{"$f":"IF(VALUE(INDIRECT(CONCATENATE($AI$11,ROW())))=0,\"\",ABS(INDIRECT(CONCATENATE($AI$11,ROW())))+0.000001*G60)","v":160.000901},89,96,107,{"$f":"IF(ISERROR(SEARCH($AM$11,AE60)),0,1)","v":1},{"$f":"VLOOKUP(D60,Setup!$I$6:$K$93,3,FALSE)","v":1},{"$f":"ROUND(IFERROR(IF(AN60=1,Y60,IF(AN60=2,AC60,IF(AN60=3,AD60,AC60))),0),5)","v":387.5},null,{"$f":"IFERROR(MATCH(D60,Setup!$I$6:$I$93,0),\"\")","v":27},{"$f":"IFERROR(CONCATENATE(LEFT(D60,FIND(\"-\",D60)),IF(AS60=\"\",\"O\",VLOOKUP(AS60,DATA!$E$35:$F$53,2,TRUE))),\"\")","v":"MR-M1b"},{"$f":"IF(YEAR($AR$7)-YEAR(I60)<40,DATEDIF(I60,$AR$7,\"Y\"),YEAR($AR$7)-YEAR(I60))","v":49},{"$f":"IF(AN60=1,MATCH(F60,DATA!$AB$2:$AB$34,0),0)","v":15},null,{"$f":"IF(MAX(K60:M60)>0,MAX(K60:M60),0)","v":130},{"$f":"IF(MAX(P60:R60)>0,MAX(P60:R60),0)","v":97.5},{"$f":"IF(MAX(U60:W60)>0,MAX(U60:W60),0)","v":160},{"$f":"AM60*IF($AM$11=\"PL\",IF(MIN(AV60:AX60)=0,0,AV60+AW60+AX60),IF($AM$11=\"PP\",IF(MIN(AW60:AX60)=0,0,AW60+AX60),IF($AM$11=\"BP\",AW60,IF($AM$11=\"DL\",AX60,AV60))))","v":387.5},{"$f":"ROUND(AY60*H60,5)","v":310},{"$f":"ROUND(IFERROR(VLOOKUP(AS60,DATA!$A$2:$B$63,2,FALSE),1)*AZ60,5)","v":345.03},{"$f":"IFERROR(IF(AN60=1,AY60,IF(AN60=2,AZ60,IF(AN60=3,BA60,AZ60))),0)","v":387.5},null,null,null,null,"16:11:10",null,null,null,null,null,null,null,null,null,null,null,null,null,null,null,null,null,null,{"$f":"IFERROR(IF(FIND(\"DT\",AE60),\"Y\",\"\"),\"\")","v":""},null,{"$f":"CONCATENATE(IF(AN60=4,\"\",D60),IF(AN60=1,F60,\"\"))","v":"MR-O66"},{"$f":"IF($AM$11=\"SQ\",AJ60,IF($AM$11=\"BP\",AK60,AL60))","v":107},{"$f":"1+COUNTIFS(INDIRECT(\"AN12:AN500\"),AN60,INDIRECT(\"CB12:CB500\"),CB60,INDIRECT(\"AO12:AO500\"),\">\"&AO60)\n+COUNTIFS(INDIRECT(\"AO12:AO500\"),AO60,INDIRECT(\"AN12:AN500\"),1,INDIRECT(\"CB12:CB500\"),CB60,INDIRECT(\"E12:E500\"),\"<\"&E60)\n+COUNTIFS(INDIRECT(\"AO12:AO500\"),AO60,INDIRECT(\"AN12:AN500\"),1,INDIRECT(\"CB12:CB500\"),CB60,INDIRECT(\"E12:E500\"),E60,INDIRECT(\"CC12:CC500\"),\"<\"&CC60)","v":1},{"$f":"1+COUNTIFS(INDIRECT(\"AN12:AN500\"),AN60,INDIRECT(\"CB12:CB500\"),CB60,INDIRECT(\"BB12:BB500\"),\">\"&BB60)\n+COUNTIFS(INDIRECT(\"BB12:BB500\"),BB60,INDIRECT(\"AN12:AN500\"),1,INDIRECT(\"CB12:CB500\"),CB60,INDIRECT(\"E12:E500\"),\"<\"&E60)","v":1}]
["2D","Rodney Alexander","NC","MR-O",70.260000000000005,{"$f":"IFERROR(VLOOKUP(E61,DATA!$E$2:$G$22,IF(LEFT(D61,1)=\"M\",2,3)),\"\")","v":74},908,{"$f":"IFERROR(IF(LEFT(D61,1)=\"M\",Wilks_Men(IF($E$11=\"Bwt - Lb\",E61/2.2046,E61)),Wilks_Women(IF($E$11=\"Bwt - Lb\",E61/2.2046,E61))),\"\")","v":0.74730002880096436},"1987-02-24","11",200,212.5,220,{"$f":"IF(MAX(K61:M61)<=0,0,MAX(CELL(\"color\",K61)*K61,CELL(\"color\",L61)*L61,CELL(\"color\",M61)*M61))","v":220},"11-5",135,140,-145,{"$f":"IF(MAX(P61:R61)<=0,0,MAX(CELL(\"color\",P61)*P61,CELL(\"color\",Q61)*Q61,CELL(\"color\",R61)*R61))","v":140},{"$f":"IF(OR(N61=0,S61=0),0,N61+S61)","v":360},222.5,-232.5,232.5,{"$f":"IF(MAX(U61:W61)<=0,0,MAX(CELL(\"color\",U61)*U61,CELL(\"color\",V61)*V61,CELL(\"color\",W61)*W61))","v":232.5},{"$f":"AM61*IF($AM$11=\"SQ\",N61,IF($AM$11=\"BP\",S61,IF($AM$11=\"DL\",X61,IF($AM$11=\"PP\",IF(OR(S61=0,X61=0),0,S61+X61),IF(OR(T61=0,X61=0),0,T61+X61)))))","v":592.5},{"$f":"IF(Y61=0,\"\",CONCATENATE(CD61,\"/\",IF(AN61=4,\"Wilks\",D61),\"/\",IF(AN61>1,\"\",F61),\"/\",$AM$11))","v":"1/MR-O/74/PL"},{"$f":"BB61","v":592.5},{"$f":"IF(AA61=0,\"\",CE61)","v":1},{"$f":"H61*IF($E$3=\"Kg\",Y61,Y61/2.2046)","v":442.77526706457138},{"$f":"IFERROR(VLOOKUP(AS61,DATA!$A$2:$B$63,2,TRUE),0)*AC61","v":442.77526706457138},"PL",92002,"NC",{"$f":"IFERROR(VLOOKUP(A61,Setup!$Q$5:$R$20,2,FALSE),\"\")","v":3},{"$f":"IF(VALUE(INDIRECT(CONCATENATE($AI$11,ROW())))=0,\"\",ABS(INDIRECT(CONCATENATE($AI$11,ROW())))+0.000001*G61)","v":232.50090800000001},99,95,113,{"$f":"IF(ISERROR(SEARCH($AM$11,AE61)),0,1)","v":1},{"$f":"VLOOKUP(D61,Setup!$I$6:$K$93,3,FALSE)","v":1},{"$f":"ROUND(IFERROR(IF(AN61=1,Y61,IF(AN61=2,AC61,IF(AN61=3,AD61,AC61))),0),5)","v":592.5},null,{"$f":"IFERROR(MATCH(D61,Setup!$I$6:$I$93,0),\"\")","v":27},{"$f":"IFERROR(CONCATENATE(LEFT(D61,FIND(\"-\",D61)),IF(AS61=\"\",\"O\",VLOOKUP(AS61,DATA!$E$35:$F$53,2,TRUE))),\"\")","v":"MR-O"},{"$f":"IF(YEAR($AR$7)-YEAR(I61)<40,DATEDIF(I61,$AR$7,\"Y\"),YEAR($AR$7)-YEAR(I61))","v":31},{"$f":"IF(AN61=1,MATCH(F61,DATA!$AB$2:$AB$34,0),0)","v":18},null,{"$f":"IF(MAX(K61:M61)>0,MAX(K61:M61),0)","v":220},{"$f":"IF(MAX(P61:R61)>0,MAX(P61:R61),0)","v":140},{"$f":"IF(MAX(U61:W61)>0,MAX(U61:W61),0)","v":232.5},{"$f":"AM61*IF($AM$11=\"PL\",IF(MIN(AV61:AX61)=0,0,AV61+AW61+AX61),IF($AM$11=\"PP\",IF(MIN(AW61:AX61)=0,0,AW61+AX61),IF($AM$11=\"BP\",AW61,IF($AM$11=\"DL\",AX61,AV61))))","v":592.5},{"$f":"ROUND(AY61*H61,5)","v":442.77526999999998},{"$f":"ROUND(IFERROR(VLOOKUP(AS61,DATA!$A$2:$B$63,2,FALSE),1)*AZ61,5)","v":442.77526999999998},{"$f":"IFERROR(IF(AN61=1,AY61,IF(AN61=2,AZ61,IF(AN61=3,BA61,AZ61))),0)","v":592.5},null,null,null,null,"16:18:12",null,null,null,null,null,null,null,null,null,null,null,null,null,null,null,null,null,null,{"$f":"IFERROR(IF(FIND(\"DT\",AE61),\"Y\",\"\"),\"\")","v":""},null,{"$f":"CONCATENATE(IF(AN61=4,\"\",D61),IF(AN61=1,F61,\"\"))","v":"MR-O74"},{"$f":"IF($AM$11=\"SQ\",AJ61,IF($AM$11=\"BP\",AK61,AL61))","v":113},{"$f":"1+COUNTIFS(INDIRECT(\"AN12:AN500\"),AN61,INDIRECT(\"CB12:CB500\"),CB61,INDIRECT(\"AO12:AO500\"),\">\"&AO61)\n+COUNTIFS(INDIRECT(\"AO12:AO500\"),AO61,INDIRECT(\"AN12:AN500\"),1,INDIRECT(\"CB12:CB500\"),CB61,INDIRECT(\"E12:E500\"),\"<\"&E61)\n+COUNTIFS(INDIRECT(\"AO12:AO500\"),AO61,INDIRECT(\"AN12:AN500\"),1,INDIRECT(\"CB12:CB500\"),CB61,INDIRECT(\"E12:E500\"),E61,INDIRECT(\"CC12:CC500\"),\"<\"&CC61)","v":1},{"$f":"1+COUNTIFS(INDIRECT(\"AN12:AN500\"),AN61,INDIRECT(\"CB12:CB500\"),CB61,INDIRECT(\"BB12:BB500\"),\">\"&BB61)\n+COUNTIFS(INDIRECT(\"BB12:BB500\"),BB61,INDIRECT(\"AN12:AN500\"),1,INDIRECT(\"CB12:CB500\"),CB61,INDIRECT(\"E12:E500\"),\"<\"&E61)","v":1}]
["2D","Scottie Duncan","SC","MR-O",73.180000000000007,{"$f":"IFERROR(VLOOKUP(E62,DATA!$E$2:$G$22,IF(LEFT(D62,1)=\"M\",2,3)),\"\")","v":74},905,{"$f":"IFERROR(IF(LEFT(D62,1)=\"M\",Wilks_Men(IF($E$11=\"Bwt - Lb\",E62/2.2046,E62)),Wilks_Women(IF($E$11=\"Bwt - Lb\",E62/2.2046,E62))),\"\")","v":0.72509998083114624},"1993-06-10","14",200,212.5,222.5,{"$f":"IF(MAX(K62:M62)<=0,0,MAX(CELL(\"color\",K62)*K62,CELL(\"color\",L62)*L62,CELL(\"color\",M62)*M62))","v":222.5},"14-8",-140,140,-142.5,{"$f":"IF(MAX(P62:R62)<=0,0,MAX(CELL(\"color\",P62)*P62,CELL(\"color\",Q62)*Q62,CELL(\"color\",R62)*R62))","v":140},{"$f":"IF(OR(N62=0,S62=0),0,N62+S62)","v":362.5},215,225,-230,{"$f":"IF(MAX(U62:W62)<=0,0,MAX(CELL(\"color\",U62)*U62,CELL(\"color\",V62)*V62,CELL(\"color\",W62)*W62))","v":225},{"$f":"AM62*IF($AM$11=\"SQ\",N62,IF($AM$11=\"BP\",S62,IF($AM$11=\"DL\",X62,IF($AM$11=\"PP\",IF(OR(S62=0,X62=0),0,S62+X62),IF(OR(T62=0,X62=0),0,T62+X62)))))","v":587.5},{"$f":"IF(Y62=0,\"\",CONCATENATE(CD62,\"/\",IF(AN62=4,\"Wilks\",D62),\"/\",IF(AN62>1,\"\",F62),\"/\",$AM$11))","v":"2/MR-O/74/PL"},{"$f":"BB62","v":587.5},{"$f":"IF(AA62=0,\"\",CE62)","v":2},{"$f":"H62*IF($E$3=\"Kg\",Y62,Y62/2.2046)","v":425.99623873829842},{"$f":"IFERROR(VLOOKUP(AS62,DATA!$A$2:$B$63,2,TRUE),0)*AC62","v":425.99623873829842},"PL BP"," ","SC",{"$f":"IFERROR(VLOOKUP(A62,Setup!$Q$5:$R$20,2,FALSE),\"\")","v":3},{"$f":"IF(VALUE(INDIRECT(CONCATENATE($AI$11,ROW())))=0,\"\",ABS(INDIRECT(CONCATENATE($AI$11,ROW())))+0.000001*G62)","v":230.00090499999999},100,94,106,{"$f":"IF(ISERROR(SEARCH($AM$11,AE62)),0,1)","v":1},{"$f":"VLOOKUP(D62,Setup!$I$6:$K$93,3,FALSE)","v":1},{"$f":"ROUND(IFERROR(IF(AN62=1,Y62,IF(AN62=2,AC62,IF(AN62=3,AD62,AC62))),0),5)","v":587.5},null,{"$f":"IFERROR(MATCH(D62,Setup!$I$6:$I$93,0),\"\")","v":27},{"$f":"IFERROR(CONCATENATE(LEFT(D62,FIND(\"-\",D62)),IF(AS62=\"\",\"O\",VLOOKUP(AS62,DATA!$E$35:$F$53,2,TRUE))),\"\")","v":"MR-O"},{"$f":"IF(YEAR($AR$7)-YEAR(I62)<40,DATEDIF(I62,$AR$7,\"Y\"),YEAR($AR$7)-YEAR(I62))","v":24},{"$f":"IF(AN62=1,MATCH(F62,DATA!$AB$2:$AB$34,0),0)","v":18},null,{"$f":"IF(MAX(K62:M62)>0,MAX(K62:M62),0)","v":222.5},{"$f":"IF(MAX(P62:R62)>0,MAX(P62:R62),0)","v":140},{"$f":"IF(MAX(U62:W62)>0,MAX(U62:W62),0)","v":225},{"$f":"AM62*IF($AM$11=\"PL\",IF(MIN(AV62:AX62)=0,0,AV62+AW62+AX62),IF($AM$11=\"PP\",IF(MIN(AW62:AX62)=0,0,AW62+AX62),IF($AM$11=\"BP\",AW62,IF($AM$11=\"DL\",AX62,AV62))))","v":587.5},{"$f":"ROUND(AY62*H62,5)","v":425.99624},{"$f":"ROUND(IFERROR(VLOOKUP(AS62,DATA!$A$2:$B$63,2,FALSE),1)*AZ62,5)","v":425.99624},{"$f":"IFERROR(IF(AN62=1,AY62,IF(AN62=2,AZ62,IF(AN62=3,BA62,AZ62))),0)","v":587.5},null,null,null,null,"16:16:36",null,null,null,null,null,null,null,null,null,null,null,null,null,null,null,null,null,null,{"$f":"IFERROR(IF(FIND(\"DT\",AE62),\"Y\",\"\"),\"\")","v":""},null,{"$f":"CONCATENATE(IF(AN62=4,\"\",D62),IF(AN62=1,F62,\"\"))","v":"MR-O74"},{"$f":"IF($AM$11=\"SQ\",AJ62,IF($AM$11=\"BP\",AK62,AL62))","v":106},{"$f":"1+COUNTIFS(INDIRECT(\"AN12:AN500\"),AN62,INDIRECT(\"CB12:CB500\"),CB62,INDIRECT(\"AO12:AO500\"),\">\"&AO62)\n+COUNTIFS(INDIRECT(\"AO12:AO500\"),AO62,INDIRECT(\"AN12:AN500\"),1,INDIRECT(\"CB12:CB500\"),CB62,INDIRECT(\"E12:E500\"),\"<\"&E62)\n+COUNTIFS(INDIRECT(\"AO12:AO500\"),AO62,INDIRECT(\"AN12:AN500\"),1,INDIRECT(\"CB12:CB500\"),CB62,INDIRECT(\"E12:E500\"),E62,INDIRECT(\"CC12:CC500\"),\"<\"&CC62)","v":2},{"$f":"1+COUNTIFS(INDIRECT(\"AN12:AN500\"),AN62,INDIRECT(\"CB12:CB500\"),CB62,INDIRECT(\"BB12:BB500\"),\">\"&BB62)\n+COUNTIFS(INDIRECT(\"BB12:BB500\"),BB62,INDIRECT(\"AN12:AN500\"),1,INDIRECT(\"CB12:CB500\"),CB62,INDIRECT(\"E12:E500\"),\"<\"&E62)","v":2}]
["2D","Simon Jiang","NC","MR-O",72.400000000000006,{"$f":"IFERROR(VLOOKUP(E63,DATA!$E$2:$G$22,IF(LEFT(D63,1)=\"M\",2,3)),\"\")","v":74},902,{"$f":"IFERROR(IF(LEFT(D63,1)=\"M\",Wilks_Men(IF($E$11=\"Bwt - Lb\",E63/2.2046,E63)),Wilks_Women(IF($E$11=\"Bwt - Lb\",E63/2.2046,E63))),\"\")","v":0.73070001602172852},"1995-11-23","13",165,175,185,{"$f":"IF(MAX(K63:M63)<=0,0,MAX(CELL(\"color\",K63)*K63,CELL(\"color\",L63)*L63,CELL(\"color\",M63)*M63))","v":185},"13-5",120,130,-135,{"$f":"IF(MAX(P63:R63)<=0,0,MAX(CELL(\"color\",P63)*P63,CELL(\"color\",Q63)*Q63,CELL(\"color\",R63)*R63))","v":130},{"$f":"IF(OR(N63=0,S63=0),0,N63+S63)","v":315},200,215,227.5,{"$f":"IF(MAX(U63:W63)<=0,0,MAX(CELL(\"color\",U63)*U63,CELL(\"color\",V63)*V63,CELL(\"color\",W63)*W63))","v":227.5},{"$f":"AM63*IF($AM$11=\"SQ\",N63,IF($AM$11=\"BP\",S63,IF($AM$11=\"DL\",X63,IF($AM$11=\"PP\",IF(OR(S63=0,X63=0),0,S63+X63),IF(OR(T63=0,X63=0),0,T63+X63)))))","v":542.5},{"$f":"IF(Y63=0,\"\",CONCATENATE(CD63,\"/\",IF(AN63=4,\"Wilks\",D63),\"/\",IF(AN63>1,\"\",F63),\"/\",$AM$11))","v":"3/MR-O/74/PL"},{"$f":"BB63","v":542.5},{"$f":"IF(AA63=0,\"\",CE63)","v":3},{"$f":"H63*IF($E$3=\"Kg\",Y63,Y63/2.2046)","v":396.40475869178772},{"$f":"IFERROR(VLOOKUP(AS63,DATA!$A$2:$B$63,2,TRUE),0)*AC63","v":400.36880627870562},"PL",921742,"NC",{"$f":"IFERROR(VLOOKUP(A63,Setup!$Q$5:$R$20,2,FALSE),\"\")","v":3},{"$f":"IF(VALUE(INDIRECT(CONCATENATE($AI$11,ROW())))=0,\"\",ABS(INDIRECT(CONCATENATE($AI$11,ROW())))+0.000001*G63)","v":227.500902},98,93,111,{"$f":"IF(ISERROR(SEARCH($AM$11,AE63)),0,1)","v":1},{"$f":"VLOOKUP(D63,Setup!$I$6:$K$93,3,FALSE)","v":1},{"$f":"ROUND(IFERROR(IF(AN63=1,Y63,IF(AN63=2,AC63,IF(AN63=3,AD63,AC63))),0),5)","v":542.5},null,{"$f":"IFERROR(MATCH(D63,Setup!$I$6:$I$93,0),\"\")","v":27},{"$f":"IFERROR(CONCATENATE(LEFT(D63,FIND(\"-\",D63)),IF(AS63=\"\",\"O\",VLOOKUP(AS63,DATA!$E$35:$F$53,2,TRUE))),\"\")","v":"MR-Jr"},{"$f":"IF(YEAR($AR$7)-YEAR(I63)<40,DATEDIF(I63,$AR$7,\"Y\"),YEAR($AR$7)-YEAR(I63))","v":22},{"$f":"IF(AN63=1,MATCH(F63,DATA!$AB$2:$AB$34,0),0)","v":18},null,{"$f":"IF(MAX(K63:M63)>0,MAX(K63:M63),0)","v":185},{"$f":"IF(MAX(P63:R63)>0,MAX(P63:R63),0)","v":130},{"$f":"IF(MAX(U63:W63)>0,MAX(U63:W63),0)","v":227.5},{"$f":"AM63*IF($AM$11=\"PL\",IF(MIN(AV63:AX63)=0,0,AV63+AW63+AX63),IF($AM$11=\"PP\",IF(MIN(AW63:AX63)=0,0,AW63+AX63),IF($AM$11=\"BP\",AW63,IF($AM$11=\"DL\",AX63,AV63))))","v":542.5},{"$f":"ROUND(AY63*H63,5)","v":396.40476000000001},{"$f":"ROUND(IFERROR(VLOOKUP(AS63,DATA!$A$2:$B$63,2,FALSE),1)*AZ63,5)","v":400.36881},{"$f":"IFERROR(IF(AN63=1,AY63,IF(AN63=2,AZ63,IF(AN63=3,BA63,AZ63))),0)","v":542.5},null,null,null,null,"16:15:45",null,null,null,null,null,null,null,null,null,null,null,null,null,null,null,null,null,null,{"$f":"IFERROR(IF(FIND(\"DT\",AE63),\"Y\",\"\"),\"\")","v":""},null,{"$f":"CONCATENATE(IF(AN63=4,\"\",D63),IF(AN63=1,F63,\"\"))","v":"MR-O74"},{"$f":"IF($AM$11=\"SQ\",AJ63,IF($AM$11=\"BP\",AK63,AL63))","v":111},{"$f":"1+COUNTIFS(INDIRECT(\"AN12:AN500\"),AN63,INDIRECT(\"CB12:CB500\"),CB63,INDIRECT(\"AO12:AO500\"),\">\"&AO63)\n+COUNTIFS(INDIRECT(\"AO12:AO500\"),AO63,INDIRECT(\"AN12:AN500\"),1,INDIRECT(\"CB12:CB500\"),CB63,INDIRECT(\"E12:E500\"),\"<\"&E63)\n+COUNTIFS(INDIRECT(\"AO12:AO500\"),AO63,INDIRECT(\"AN12:AN500\"),1,INDIRECT(\"CB12:CB500\"),CB63,INDIRECT(\"E12:E500\"),E63,INDIRECT(\"CC12:CC500\"),\"<\"&CC63)","v":3},{"$f":"1+COUNTIFS(INDIRECT(\"AN12:AN500\"),AN63,INDIRECT(\"CB12:CB500\"),CB63,INDIRECT(\"BB12:BB500\"),\">\"&BB63)\n+COUNTIFS(INDIRECT(\"BB12:BB500\"),BB63,INDIRECT(\"AN12:AN500\"),1,INDIRECT(\"CB12:CB500\"),CB63,INDIRECT(\"E12:E500\"),\"<\"&E63)","v":3}]
["2D","Mark Langley","NC","MR-O",72.959999999999994,{"$f":"IFERROR(VLOOKUP(E64,DATA!$E$2:$G$22,IF(LEFT(D64,1)=\"M\",2,3)),\"\")","v":74},909,{"$f":"IFERROR(IF(LEFT(D64,1)=\"M\",Wilks_Men(IF($E$11=\"Bwt - Lb\",E64/2.2046,E64)),Wilks_Women(IF($E$11=\"Bwt - Lb\",E64/2.2046,E64))),\"\")","v":0.72659999132156372},"1984-11-02","14",175,187.5,-190,{"$f":"IF(MAX(K64:M64)<=0,0,MAX(CELL(\"color\",K64)*K64,CELL(\"color\",L64)*L64,CELL(\"color\",M64)*M64))","v":187.5},"10-8",115,122.5,-127.5,{"$f":"IF(MAX(P64:R64)<=0,0,MAX(CELL(\"color\",P64)*P64,CELL(\"color\",Q64)*Q64,CELL(\"color\",R64)*R64))","v":122.5},{"$f":"IF(OR(N64=0,S64=0),0,N64+S64)","v":310},190,205,212.5,{"$f":"IF(MAX(U64:W64)<=0,0,MAX(CELL(\"color\",U64)*U64,CELL(\"color\",V64)*V64,CELL(\"color\",W64)*W64))","v":212.5},{"$f":"AM64*IF($AM$11=\"SQ\",N64,IF($AM$11=\"BP\",S64,IF($AM$11=\"DL\",X64,IF($AM$11=\"PP\",IF(OR(S64=0,X64=0),0,S64+X64),IF(OR(T64=0,X64=0),0,T64+X64)))))","v":522.5},{"$f":"IF(Y64=0,\"\",CONCATENATE(CD64,\"/\",IF(AN64=4,\"Wilks\",D64),\"/\",IF(AN64>1,\"\",F64),\"/\",$AM$11))","v":"4/MR-O/74/PL"},{"$f":"BB64","v":522.5},{"$f":"IF(AA64=0,\"\",CE64)","v":4},{"$f":"H64*IF($E$3=\"Kg\",Y64,Y64/2.2046)","v":379.64849546551704},{"$f":"IFERROR(VLOOKUP(AS64,DATA!$A$2:$B$63,2,TRUE),0)*AC64","v":379.64849546551704},"PL",1000799,"NC",{"$f":"IFERROR(VLOOKUP(A64,Setup!$Q$5:$R$20,2,FALSE),\"\")","v":3},{"$f":"IF(VALUE(INDIRECT(CONCATENATE($AI$11,ROW())))=0,\"\",ABS(INDIRECT(CONCATENATE($AI$11,ROW())))+0.000001*G64)","v":212.50090900000001},93,92,110,{"$f":"IF(ISERROR(SEARCH($AM$11,AE64)),0,1)","v":1},{"$f":"VLOOKUP(D64,Setup!$I$6:$K$93,3,FALSE)","v":1},{"$f":"ROUND(IFERROR(IF(AN64=1,Y64,IF(AN64=2,AC64,IF(AN64=3,AD64,AC64))),0),5)","v":522.5},null,{"$f":"IFERROR(MATCH(D64,Setup!$I$6:$I$93,0),\"\")","v":27},{"$f":"IFERROR(CONCATENATE(LEFT(D64,FIND(\"-\",D64)),IF(AS64=\"\",\"O\",VLOOKUP(AS64,DATA!$E$35:$F$53,2,TRUE))),\"\")","v":"MR-O"},{"$f":"IF(YEAR($AR$7)-YEAR(I64)<40,DATEDIF(I64,$AR$7,\"Y\"),YEAR($AR$7)-YEAR(I64))","v":33},{"$f":"IF(AN64=1,MATCH(F64,DATA!$AB$2:$AB$34,0),0)","v":18},null,{"$f":"IF(MAX(K64:M64)>0,MAX(K64:M64),0)","v":187.5},{"$f":"IF(MAX(P64:R64)>0,MAX(P64:R64),0)","v":122.5},{"$f":"IF(MAX(U64:W64)>0,MAX(U64:W64),0)","v":212.5},{"$f":"AM64*IF($AM$11=\"PL\",IF(MIN(AV64:AX64)=0,0,AV64+AW64+AX64),IF($AM$11=\"PP\",IF(MIN(AW64:AX64)=0,0,AW64+AX64),IF($AM$11=\"BP\",AW64,IF($AM$11=\"DL\",AX64,AV64))))","v":522.5},{"$f":"ROUND(AY64*H64,5)","v":379.64850000000001},{"$f":"ROUND(IFERROR(VLOOKUP(AS64,DATA!$A$2:$B$63,2,FALSE),1)*AZ64,5)","v":379.64850000000001},{"$f":"IFERROR(IF(AN64=1,AY64,IF(AN64=2,AZ64,IF(AN64=3,BA64,AZ64))),0)","v":522.5},null,null,null,null,"16:14:26",null,null,null,null,null,null,null,null,null,null,null,null,null,null,null,null,null,null,{"$f":"IFERROR(IF(FIND(\"DT\",AE64),\"Y\",\"\"),\"\")","v":""},null,{"$f":"CONCATENATE(IF(AN64=4,\"\",D64),IF(AN64=1,F64,\"\"))","v":"MR-O74"},{"$f":"IF($AM$11=\"SQ\",AJ64,IF($AM$11=\"BP\",AK64,AL64))","v":110},{"$f":"1+COUNTIFS(INDIRECT(\"AN12:AN500\"),AN64,INDIRECT(\"CB12:CB500\"),CB64,INDIRECT(\"AO12:AO500\"),\">\"&AO64)\n+COUNTIFS(INDIRECT(\"AO12:AO500\"),AO64,INDIRECT(\"AN12:AN500\"),1,INDIRECT(\"CB12:CB500\"),CB64,INDIRECT(\"E12:E500\"),\"<\"&E64)\n+COUNTIFS(INDIRECT(\"AO12:AO500\"),AO64,INDIRECT(\"AN12:AN500\"),1,INDIRECT(\"CB12:CB500\"),CB64,INDIRECT(\"E12:E500\"),E64,INDIRECT(\"CC12:CC500\"),\"<\"&CC64)","v":4},{"$f":"1+COUNTIFS(INDIRECT(\"AN12:AN500\"),AN64,INDIRECT(\"CB12:CB500\"),CB64,INDIRECT(\"BB12:BB500\"),\">\"&BB64)\n+COUNTIFS(INDIRECT(\"BB12:BB500\"),BB64,INDIRECT(\"AN12:AN500\"),1,INDIRECT(\"CB12:CB500\"),CB64,INDIRECT(\"E12:E500\"),\"<\"&E64)","v":4}]
["2D","Zach Henderson","TN","MR-O",67.239999999999995,{"$f":"IFERROR(VLOOKUP(E65,DATA!$E$2:$G$22,IF(LEFT(D65,1)=\"M\",2,3)),\"\")","v":74},907,{"$f":"IFERROR(IF(LEFT(D65,1)=\"M\",Wilks_Men(IF($E$11=\"Bwt - Lb\",E65/2.2046,E65)),Wilks_Women(IF($E$11=\"Bwt - Lb\",E65/2.2046,E65))),\"\")","v":0.77340000867843628},"1988-07-11","13",152.5,157.5,167.5,{"$f":"IF(MAX(K65:M65)<=0,0,MAX(CELL(\"color\",K65)*K65,CELL(\"color\",L65)*L65,CELL(\"color\",M65)*M65))","v":167.5},"13-5",92.5,100,107.5,{"$f":"IF(MAX(P65:R65)<=0,0,MAX(CELL(\"color\",P65)*P65,CELL(\"color\",Q65)*Q65,CELL(\"color\",R65)*R65))","v":107.5},{"$f":"IF(OR(N65=0,S65=0),0,N65+S65)","v":275},185,190,195,{"$f":"IF(MAX(U65:W65)<=0,0,MAX(CELL(\"color\",U65)*U65,CELL(\"color\",V65)*V65,CELL(\"color\",W65)*W65))","v":195},{"$f":"AM65*IF($AM$11=\"SQ\",N65,IF($AM$11=\"BP\",S65,IF($AM$11=\"DL\",X65,IF($AM$11=\"PP\",IF(OR(S65=0,X65=0),0,S65+X65),IF(OR(T65=0,X65=0),0,T65+X65)))))","v":470},{"$f":"IF(Y65=0,\"\",CONCATENATE(CD65,\"/\",IF(AN65=4,\"Wilks\",D65),\"/\",IF(AN65>1,\"\",F65),\"/\",$AM$11))","v":"5/MR-O/74/PL"},{"$f":"BB65","v":470},{"$f":"IF(AA65=0,\"\",CE65)","v":5},{"$f":"H65*IF($E$3=\"Kg\",Y65,Y65/2.2046)","v":363.49800407886505},{"$f":"IFERROR(VLOOKUP(AS65,DATA!$A$2:$B$63,2,TRUE),0)*AC65","v":363.49800407886505},"PL",null,"TN",{"$f":"IFERROR(VLOOKUP(A65,Setup!$Q$5:$R$20,2,FALSE),\"\")","v":3},{"$f":"IF(VALUE(INDIRECT(CONCATENATE($AI$11,ROW())))=0,\"\",ABS(INDIRECT(CONCATENATE($AI$11,ROW())))+0.000001*G65)","v":195.00090700000001},97,97,109,{"$f":"IF(ISERROR(SEARCH($AM$11,AE65)),0,1)","v":1},{"$f":"VLOOKUP(D65,Setup!$I$6:$K$93,3,FALSE)","v":1},{"$f":"ROUND(IFERROR(IF(AN65=1,Y65,IF(AN65=2,AC65,IF(AN65=3,AD65,AC65))),0),5)","v":470},null,{"$f":"IFERROR(MATCH(D65,Setup!$I$6:$I$93,0),\"\")","v":27},{"$f":"IFERROR(CONCATENATE(LEFT(D65,FIND(\"-\",D65)),IF(AS65=\"\",\"O\",VLOOKUP(AS65,DATA!$E$35:$F$53,2,TRUE))),\"\")","v":"MR-O"},{"$f":"IF(YEAR($AR$7)-YEAR(I65)<40,DATEDIF(I65,$AR$7,\"Y\"),YEAR($AR$7)-YEAR(I65))","v":29},{"$f":"IF(AN65=1,MATCH(F65,DATA!$AB$2:$AB$34,0),0)","v":18},null,{"$f":"IF(MAX(K65:M65)>0,MAX(K65:M65),0)","v":167.5},{"$f":"IF(MAX(P65:R65)>0,MAX(P65:R65),0)","v":107.5},{"$f":"IF(MAX(U65:W65)>0,MAX(U65:W65),0)","v":195},{"$f":"AM65*IF($AM$11=\"PL\",IF(MIN(AV65:AX65)=0,0,AV65+AW65+AX65),IF($AM$11=\"PP\",IF(MIN(AW65:AX65)=0,0,AW65+AX65),IF($AM$11=\"BP\",AW65,IF($AM$11=\"DL\",AX65,AV65))))","v":470},{"$f":"ROUND(AY65*H65,5)","v":363.49799999999999},{"$f":"ROUND(IFERROR(VLOOKUP(AS65,DATA!$A$2:$B$63,2,FALSE),1)*AZ65,5)","v":363.49799999999999},{"$f":"IFERROR(IF(AN65=1,AY65,IF(AN65=2,AZ65,IF(AN65=3,BA65,AZ65))),0)","v":470},null,null,null,null,"16:13:19",null,null,null,null,null,null,null,null,null,null,null,null,null,null,null,null,null,null,{"$f":"IFERROR(IF(FIND(\"DT\",AE65),\"Y\",\"\"),\"\")","v":""},null,{"$f":"CONCATENATE(IF(AN65=4,\"\",D65),IF(AN65=1,F65,\"\"))","v":"MR-O74"},{"$f":"IF($AM$11=\"SQ\",AJ65,IF($AM$11=\"BP\",AK65,AL65))","v":109},{"$f":"1+COUNTIFS(INDIRECT(\"AN12:AN500\"),AN65,INDIRECT(\"CB12:CB500\"),CB65,INDIRECT(\"AO12:AO500\"),\">\"&AO65)\n+COUNTIFS(INDIRECT(\"AO12:AO500\"),AO65,INDIRECT(\"AN12:AN500\"),1,INDIRECT(\"CB12:CB500\"),CB65,INDIRECT(\"E12:E500\"),\"<\"&E65)\n+COUNTIFS(INDIRECT(\"AO12:AO500\"),AO65,INDIRECT(\"AN12:AN500\"),1,INDIRECT(\"CB12:CB500\"),CB65,INDIRECT(\"E12:E500\"),E65,INDIRECT(\"CC12:CC500\"),\"<\"&CC65)","v":5},{"$f":"1+COUNTIFS(INDIRECT(\"AN12:AN500\"),AN65,INDIRECT(\"CB12:CB500\"),CB65,INDIRECT(\"BB12:BB500\"),\">\"&BB65)\n+COUNTIFS(INDIRECT(\"BB12:BB500\"),BB65,INDIRECT(\"AN12:AN500\"),1,INDIRECT(\"CB12:CB500\"),CB65,INDIRECT(\"E12:E500\"),\"<\"&E65)","v":5}]
["2D","Mike Jordan","NC","MR-O",73.52,{"$f":"IFERROR(VLOOKUP(E66,DATA!$E$2:$G$22,IF(LEFT(D66,1)=\"M\",2,3)),\"\")","v":74},906,{"$f":"IFERROR(IF(LEFT(D66,1)=\"M\",Wilks_Men(IF($E$11=\"Bwt - Lb\",E66/2.2046,E66)),Wilks_Women(IF($E$11=\"Bwt - Lb\",E66/2.2046,E66))),\"\")","v":0.72269999980926514},"1990-08-09","12",122.5,132.5,142.5,{"$f":"IF(MAX(K66:M66)<=0,0,MAX(CELL(\"color\",K66)*K66,CELL(\"color\",L66)*L66,CELL(\"color\",M66)*M66))","v":142.5},"13-7",110,117.5,122.5,{"$f":"IF(MAX(P66:R66)<=0,0,MAX(CELL(\"color\",P66)*P66,CELL(\"color\",Q66)*Q66,CELL(\"color\",R66)*R66))","v":122.5},{"$f":"IF(OR(N66=0,S66=0),0,N66+S66)","v":265},170,175,182.5,{"$f":"IF(MAX(U66:W66)<=0,0,MAX(CELL(\"color\",U66)*U66,CELL(\"color\",V66)*V66,CELL(\"color\",W66)*W66))","v":182.5},{"$f":"AM66*IF($AM$11=\"SQ\",N66,IF($AM$11=\"BP\",S66,IF($AM$11=\"DL\",X66,IF($AM$11=\"PP\",IF(OR(S66=0,X66=0),0,S66+X66),IF(OR(T66=0,X66=0),0,T66+X66)))))","v":447.5},{"$f":"IF(Y66=0,\"\",CONCATENATE(CD66,\"/\",IF(AN66=4,\"Wilks\",D66),\"/\",IF(AN66>1,\"\",F66),\"/\",$AM$11))","v":"6/MR-O/74/PL"},{"$f":"BB66","v":447.5},{"$f":"IF(AA66=0,\"\",CE66)","v":6},{"$f":"H66*IF($E$3=\"Kg\",Y66,Y66/2.2046)","v":323.40824991464615},{"$f":"IFERROR(VLOOKUP(AS66,DATA!$A$2:$B$63,2,TRUE),0)*AC66","v":323.40824991464615},"PL",1013401,"NC",{"$f":"IFERROR(VLOOKUP(A66,Setup!$Q$5:$R$20,2,FALSE),\"\")","v":3},{"$f":"IF(VALUE(INDIRECT(CONCATENATE($AI$11,ROW())))=0,\"\",ABS(INDIRECT(CONCATENATE($AI$11,ROW())))+0.000001*G66)","v":182.50090599999999},96,98,108,{"$f":"IF(ISERROR(SEARCH($AM$11,AE66)),0,1)","v":1},{"$f":"VLOOKUP(D66,Setup!$I$6:$K$93,3,FALSE)","v":1},{"$f":"ROUND(IFERROR(IF(AN66=1,Y66,IF(AN66=2,AC66,IF(AN66=3,AD66,AC66))),0),5)","v":447.5},null,{"$f":"IFERROR(MATCH(D66,Setup!$I$6:$I$93,0),\"\")","v":27},{"$f":"IFERROR(CONCATENATE(LEFT(D66,FIND(\"-\",D66)),IF(AS66=\"\",\"O\",VLOOKUP(AS66,DATA!$E$35:$F$53,2,TRUE))),\"\")","v":"MR-O"},{"$f":"IF(YEAR($AR$7)-YEAR(I66)<40,DATEDIF(I66,$AR$7,\"Y\"),YEAR($AR$7)-YEAR(I66))","v":27},{"$f":"IF(AN66=1,MATCH(F66,DATA!$AB$2:$AB$34,0),0)","v":18},null,{"$f":"IF(MAX(K66:M66)>0,MAX(K66:M66),0)","v":142.5},{"$f":"IF(MAX(P66:R66)>0,MAX(P66:R66),0)","v":122.5},{"$f":"IF(MAX(U66:W66)>0,MAX(U66:W66),0)","v":182.5},{"$f":"AM66*IF($AM$11=\"PL\",IF(MIN(AV66:AX66)=0,0,AV66+AW66+AX66),IF($AM$11=\"PP\",IF(MIN(AW66:AX66)=0,0,AW66+AX66),IF($AM$11=\"BP\",AW66,IF($AM$11=\"DL\",AX66,AV66))))","v":447.5},{"$f":"ROUND(AY66*H66,5)","v":323.40825000000001},{"$f":"ROUND(IFERROR(VLOOKUP(AS66,DATA!$A$2:$B$63,2,FALSE),1)*AZ66,5)","v":323.40825000000001},{"$f":"IFERROR(IF(AN66=1,AY66,IF(AN66=2,AZ66,IF(AN66=3,BA66,AZ66))),0)","v":447.5},null,null,null,null,"16:12:04",null,null,null,null,null,null,null,null,null,null,null,null,null,null,null,null,null,null,{"$f":"IFERROR(IF(FIND(\"DT\",AE66),\"Y\",\"\"),\"\")","v":""},null,{"$f":"CONCATENATE(IF(AN66=4,\"\",D66),IF(AN66=1,F66,\"\"))","v":"MR-O74"},{"$f":"IF($AM$11=\"SQ\",AJ66,IF($AM$11=\"BP\",AK66,AL66))","v":108},{"$f":"1+COUNTIFS(INDIRECT(\"AN12:AN500\"),AN66,INDIRECT(\"CB12:CB500\"),CB66,INDIRECT(\"AO12:AO500\"),\">\"&AO66)\n+COUNTIFS(INDIRECT(\"AO12:AO500\"),AO66,INDIRECT(\"AN12:AN500\"),1,INDIRECT(\"CB12:CB500\"),CB66,INDIRECT(\"E12:E500\"),\"<\"&E66)\n+COUNTIFS(INDIRECT(\"AO12:AO500\"),AO66,INDIRECT(\"AN12:AN500\"),1,INDIRECT(\"CB12:CB500\"),CB66,INDIRECT(\"E12:E500\"),E66,INDIRECT(\"CC12:CC500\"),\"<\"&CC66)","v":6},{"$f":"1+COUNTIFS(INDIRECT(\"AN12:AN500\"),AN66,INDIRECT(\"CB12:CB500\"),CB66,INDIRECT(\"BB12:BB500\"),\">\"&BB66)\n+COUNTIFS(INDIRECT(\"BB12:BB500\"),BB66,INDIRECT(\"AN12:AN500\"),1,INDIRECT(\"CB12:CB500\"),CB66,INDIRECT(\"E12:E500\"),\"<\"&E66)","v":6}]
["1C","JamaRR Royster","NC","MR-O",82.92,{"$f":"IFERROR(VLOOKUP(E67,[2]DATA!$E$2:$G$22,IF(LEFT(D67,1)=\"M\",2,3)),\"\")","v":83},211,{"$f":"IFERROR(IF(LEFT(D67,1)=\"M\",Wilks_Men(IF($E$11=\"Bwt - Lb\",E67/2.2046,E67)),Wilks_Women(IF($E$11=\"Bwt - Lb\",E67/2.2046,E67))),\"\")","v":0.66790002584457397},"1991-01-09","12",265,277.5,-287.5,{"$f":"IF(MAX(K67:M67)<=0,0,MAX(CELL(\"color\",K67)*K67,CELL(\"color\",L67)*L67,CELL(\"color\",M67)*M67))","v":277.5},"14-7",155,165,170,{"$f":"IF(MAX(P67:R67)<=0,0,MAX(CELL(\"color\",P67)*P67,CELL(\"color\",Q67)*Q67,CELL(\"color\",R67)*R67))","v":170},{"$f":"IF(OR(N67=0,S67=0),0,N67+S67)","v":447.5},270,282.5,290,{"$f":"IF(MAX(U67:W67)<=0,0,MAX(CELL(\"color\",U67)*U67,CELL(\"color\",V67)*V67,CELL(\"color\",W67)*W67))","v":290},{"$f":"AM67*IF($AM$11=\"SQ\",N67,IF($AM$11=\"BP\",S67,IF($AM$11=\"DL\",X67,IF($AM$11=\"PP\",IF(OR(S67=0,X67=0),0,S67+X67),IF(OR(T67=0,X67=0),0,T67+X67)))))","v":737.5},{"$f":"IF(Y67=0,\"\",CONCATENATE(CD67,\"/\",IF(AN67=4,\"Wilks\",D67),\"/\",IF(AN67>1,\"\",F67),\"/\",$AM$11))","v":"1/MR-O/83/PL"},{"$f":"BB67","v":737.5},{"$f":"IF(AA67=0,\"\",CE67)","v":1},{"$f":"H67*IF($E$3=\"Kg\",Y67,Y67/2.2046)","v":492.57626906037331},{"$f":"IFERROR(VLOOKUP(AS67,[2]DATA!$A$2:$B$63,2,TRUE),0)*AC67","v":492.57626906037331},"PL",null,"NC",{"$f":"IFERROR(VLOOKUP(A67,[2]Setup!$Q$5:$R$20,2,FALSE),\"\")","v":2},{"$f":"IF(VALUE(INDIRECT(CONCATENATE($AI$11,ROW())))=0,\"\",ABS(INDIRECT(CONCATENATE($AI$11,ROW())))+0.000001*G67)","v":290.00021099999998},99,95,110,{"$f":"IF(ISERROR(SEARCH($AM$11,AE67)),0,1)","v":1},{"$f":"VLOOKUP(D67,[2]Setup!$I$6:$K$93,3,FALSE)","v":1},{"$f":"ROUND(IFERROR(IF(AN67=1,Y67,IF(AN67=2,AC67,IF(AN67=3,AD67,AC67))),0),5)","v":737.5},null,{"$f":"IFERROR(MATCH(D67,[2]Setup!$I$6:$I$93,0),\"\")","v":27},{"$f":"IFERROR(CONCATENATE(LEFT(D67,FIND(\"-\",D67)),IF(AS67=\"\",\"O\",VLOOKUP(AS67,[2]DATA!$E$35:$F$53,2,TRUE))),\"\")","v":"MR-O"},{"$f":"IF(YEAR($AR$7)-YEAR(I67)<40,DATEDIF(I67,$AR$7,\"Y\"),YEAR($AR$7)-YEAR(I67))","v":27},{"$f":"IF(AN67=1,MATCH(F67,[2]DATA!$AB$2:$AB$34,0),0)","v":21},null,{"$f":"IF(MAX(K67:M67)>0,MAX(K67:M67),0)","v":277.5},{"$f":"IF(MAX(P67:R67)>0,MAX(P67:R67),0)","v":170},{"$f":"IF(MAX(U67:W67)>0,MAX(U67:W67),0)","v":290},{"$f":"AM67*IF($AM$11=\"PL\",IF(MIN(AV67:AX67)=0,0,AV67+AW67+AX67),IF($AM$11=\"PP\",IF(MIN(AW67:AX67)=0,0,AW67+AX67),IF($AM$11=\"BP\",AW67,IF($AM$11=\"DL\",AX67,AV67))))","v":737.5},{"$f":"ROUND(AY67*H67,5)","v":492.57627000000002},{"$f":"ROUND(IFERROR(VLOOKUP(AS67,[2]DATA!$A$2:$B$63,2,FALSE),1)*AZ67,5)","v":492.57627000000002},{"$f":"IFERROR(IF(AN67=1,AY67,IF(AN67=2,AZ67,IF(AN67=3,BA67,AZ67))),0)","v":737.5},null,null,null,null,"16:23:50",null,null,null,null,null,null,null,null,null,null,null,null,null,null,null,null,null,null,{"$f":"IFERROR(IF(FIND(\"DT\",AE67),\"Y\",\"\"),\"\")","v":""},null,{"$f":"CONCATENATE(IF(AN67=4,\"\",D67),IF(AN67=1,F67,\"\"))","v":"MR-O83"},{"$f":"IF($AM$11=\"SQ\",AJ67,IF($AM$11=\"BP\",AK67,AL67))","v":110},{"$f":"1+COUNTIFS(INDIRECT(\"AN12:AN500\"),AN67,INDIRECT(\"CB12:CB500\"),CB67,INDIRECT(\"AO12:AO500\"),\">\"&AO67)\n+COUNTIFS(INDIRECT(\"AO12:AO500\"),AO67,INDIRECT(\"AN12:AN500\"),1,INDIRECT(\"CB12:CB500\"),CB67,INDIRECT(\"E12:E500\"),\"<\"&E67)\n+COUNTIFS(INDIRECT(\"AO12:AO500\"),AO67,INDIRECT(\"AN12:AN500\"),1,INDIRECT(\"CB12:CB500\"),CB67,INDIRECT(\"E12:E500\"),E67,INDIRECT(\"CC12:CC500\"),\"<\"&CC67)","v":1},{"$f":"1+COUNTIFS(INDIRECT(\"AN12:AN500\"),AN67,INDIRECT(\"CB12:CB500\"),CB67,INDIRECT(\"BB12:BB500\"),\">\"&BB67)\n+COUNTIFS(INDIRECT(\"BB12:BB500\"),BB67,INDIRECT(\"AN12:AN500\"),1,INDIRECT(\"CB12:CB500\"),CB67,INDIRECT(\"E12:E500\"),\"<\"&E67)","v":1}]
["1C","Todd Talford","SC","MR-O",82.7,{"$f":"IFERROR(VLOOKUP(E68,[2]DATA!$E$2:$G$22,IF(LEFT(D68,1)=\"M\",2,3)),\"\")","v":83},210,{"$f":"IFERROR(IF(LEFT(D68,1)=\"M\",Wilks_Men(IF($E$11=\"Bwt - Lb\",E68/2.2046,E68)),Wilks_Women(IF($E$11=\"Bwt - Lb\",E68/2.2046,E68))),\"\")","v":0.6689000129699707},"1990-07-22","17",227.5,237.5,240,{"$f":"IF(MAX(K68:M68)<=0,0,MAX(CELL(\"color\",K68)*K68,CELL(\"color\",L68)*L68,CELL(\"color\",M68)*M68))","v":240},"14-5",187.5,197.5,205,{"$f":"IF(MAX(P68:R68)<=0,0,MAX(CELL(\"color\",P68)*P68,CELL(\"color\",Q68)*Q68,CELL(\"color\",R68)*R68))","v":205},{"$f":"IF(OR(N68=0,S68=0),0,N68+S68)","v":445},262.5,282.5,290,{"$f":"IF(MAX(U68:W68)<=0,0,MAX(CELL(\"color\",U68)*U68,CELL(\"color\",V68)*V68,CELL(\"color\",W68)*W68))","v":290},{"$f":"AM68*IF($AM$11=\"SQ\",N68,IF($AM$11=\"BP\",S68,IF($AM$11=\"DL\",X68,IF($AM$11=\"PP\",IF(OR(S68=0,X68=0),0,S68+X68),IF(OR(T68=0,X68=0),0,T68+X68)))))","v":735},{"$f":"IF(Y68=0,\"\",CONCATENATE(CD68,\"/\",IF(AN68=4,\"Wilks\",D68),\"/\",IF(AN68>1,\"\",F68),\"/\",$AM$11))","v":"2/MR-O/83/PL"},{"$f":"BB68","v":735},{"$f":"IF(AA68=0,\"\",CE68)","v":2},{"$f":"H68*IF($E$3=\"Kg\",Y68,Y68/2.2046)","v":491.64150953292847},{"$f":"IFERROR(VLOOKUP(AS68,[2]DATA!$A$2:$B$63,2,TRUE),0)*AC68","v":491.64150953292847},"PL BP",null,"SC",{"$f":"IFERROR(VLOOKUP(A68,[2]Setup!$Q$5:$R$20,2,FALSE),\"\")","v":2},{"$f":"IF(VALUE(INDIRECT(CONCATENATE($AI$11,ROW())))=0,\"\",ABS(INDIRECT(CONCATENATE($AI$11,ROW())))+0.000001*G68)","v":290.00020999999998},104,96,109,{"$f":"IF(ISERROR(SEARCH($AM$11,AE68)),0,1)","v":1},{"$f":"VLOOKUP(D68,[2]Setup!$I$6:$K$93,3,FALSE)","v":1},{"$f":"ROUND(IFERROR(IF(AN68=1,Y68,IF(AN68=2,AC68,IF(AN68=3,AD68,AC68))),0),5)","v":735},null,{"$f":"IFERROR(MATCH(D68,[2]Setup!$I$6:$I$93,0),\"\")","v":27},{"$f":"IFERROR(CONCATENATE(LEFT(D68,FIND(\"-\",D68)),IF(AS68=\"\",\"O\",VLOOKUP(AS68,[2]DATA!$E$35:$F$53,2,TRUE))),\"\")","v":"MR-O"},{"$f":"IF(YEAR($AR$7)-YEAR(I68)<40,DATEDIF(I68,$AR$7,\"Y\"),YEAR($AR$7)-YEAR(I68))","v":27},{"$f":"IF(AN68=1,MATCH(F68,[2]DATA!$AB$2:$AB$34,0),0)","v":21},null,{"$f":"IF(MAX(K68:M68)>0,MAX(K68:M68),0)","v":240},{"$f":"IF(MAX(P68:R68)>0,MAX(P68:R68),0)","v":205},{"$f":"IF(MAX(U68:W68)>0,MAX(U68:W68),0)","v":290},{"$f":"AM68*IF($AM$11=\"PL\",IF(MIN(AV68:AX68)=0,0,AV68+AW68+AX68),IF($AM$11=\"PP\",IF(MIN(AW68:AX68)=0,0,AW68+AX68),IF($AM$11=\"BP\",AW68,IF($AM$11=\"DL\",AX68,AV68))))","v":735},{"$f":"ROUND(AY68*H68,5)","v":491.64150999999998},{"$f":"ROUND(IFERROR(VLOOKUP(AS68,[2]DATA!$A$2:$B$63,2,FALSE),1)*AZ68,5)","v":491.64150999999998},{"$f":"IFERROR(IF(AN68=1,AY68,IF(AN68=2,AZ68,IF(AN68=3,BA68,AZ68))),0)","v":735},null,null,null,null,"16:22:55",null,null,null,null,null,null,null,null,null,null,null,null,null,null,null,null,null,null,{"$f":"IFERROR(IF(FIND(\"DT\",AE68),\"Y\",\"\"),\"\")","v":""},null,{"$f":"CONCATENATE(IF(AN68=4,\"\",D68),IF(AN68=1,F68,\"\"))","v":"MR-O83"},{"$f":"IF($AM$11=\"SQ\",AJ68,IF($AM$11=\"BP\",AK68,AL68))","v":109},{"$f":"1+COUNTIFS(INDIRECT(\"AN12:AN500\"),AN68,INDIRECT(\"CB12:CB500\"),CB68,INDIRECT(\"AO12:AO500\"),\">\"&AO68)\n+COUNTIFS(INDIRECT(\"AO12:AO500\"),AO68,INDIRECT(\"AN12:AN500\"),1,INDIRECT(\"CB12:CB500\"),CB68,INDIRECT(\"E12:E500\"),\"<\"&E68)\n+COUNTIFS(INDIRECT(\"AO12:AO500\"),AO68,INDIRECT(\"AN12:AN500\"),1,INDIRECT(\"CB12:CB500\"),CB68,INDIRECT(\"E12:E500\"),E68,INDIRECT(\"CC12:CC500\"),\"<\"&CC68)","v":2},{"$f":"1+COUNTIFS(INDIRECT(\"AN12:AN500\"),AN68,INDIRECT(\"CB12:CB500\"),CB68,INDIRECT(\"BB12:BB500\"),\">\"&BB68)\n+COUNTIFS(INDIRECT(\"BB12:BB500\"),BB68,INDIRECT(\"AN12:AN500\"),1,INDIRECT(\"CB12:CB500\"),CB68,INDIRECT(\"E12:E500\"),\"<\"&E68)","v":2}]
["1C","Maurice McFadden","SC","MR-O",81.94,{"$f":"IFERROR(VLOOKUP(E69,[2]DATA!$E$2:$G$22,IF(LEFT(D69,1)=\"M\",2,3)),\"\")","v":83},207,{"$f":"IFERROR(IF(LEFT(D69,1)=\"M\",Wilks_Men(IF($E$11=\"Bwt - Lb\",E69/2.2046,E69)),Wilks_Women(IF($E$11=\"Bwt - Lb\",E69/2.2046,E69))),\"\")","v":0.67269998788833618},"1990-11-24","14",232.5,245,252.5,{"$f":"IF(MAX(K69:M69)<=0,0,MAX(CELL(\"color\",K69)*K69,CELL(\"color\",L69)*L69,CELL(\"color\",M69)*M69))","v":252.5},"13-6",145,150,-157.5,{"$f":"IF(MAX(P69:R69)<=0,0,MAX(CELL(\"color\",P69)*P69,CELL(\"color\",Q69)*Q69,CELL(\"color\",R69)*R69))","v":150},{"$f":"IF(OR(N69=0,S69=0),0,N69+S69)","v":402.5},250,262.5,272.5,{"$f":"IF(MAX(U69:W69)<=0,0,MAX(CELL(\"color\",U69)*U69,CELL(\"color\",V69)*V69,CELL(\"color\",W69)*W69))","v":272.5},{"$f":"AM69*IF($AM$11=\"SQ\",N69,IF($AM$11=\"BP\",S69,IF($AM$11=\"DL\",X69,IF($AM$11=\"PP\",IF(OR(S69=0,X69=0),0,S69+X69),IF(OR(T69=0,X69=0),0,T69+X69)))))","v":675},{"$f":"IF(Y69=0,\"\",CONCATENATE(CD69,\"/\",IF(AN69=4,\"Wilks\",D69),\"/\",IF(AN69>1,\"\",F69),\"/\",$AM$11))","v":"3/MR-O/83/PL"},{"$f":"BB69","v":675},{"$f":"IF(AA69=0,\"\",CE69)","v":3},{"$f":"H69*IF($E$3=\"Kg\",Y69,Y69/2.2046)","v":454.07249182462692},{"$f":"IFERROR(VLOOKUP(AS69,[2]DATA!$A$2:$B$63,2,TRUE),0)*AC69","v":454.07249182462692},"PL",null,"SC",{"$f":"IFERROR(VLOOKUP(A69,[2]Setup!$Q$5:$R$20,2,FALSE),\"\")","v":2},{"$f":"IF(VALUE(INDIRECT(CONCATENATE($AI$11,ROW())))=0,\"\",ABS(INDIRECT(CONCATENATE($AI$11,ROW())))+0.000001*G69)","v":272.50020699999999},105,88,108,{"$f":"IF(ISERROR(SEARCH($AM$11,AE69)),0,1)","v":1},{"$f":"VLOOKUP(D69,[2]Setup!$I$6:$K$93,3,FALSE)","v":1},{"$f":"ROUND(IFERROR(IF(AN69=1,Y69,IF(AN69=2,AC69,IF(AN69=3,AD69,AC69))),0),5)","v":675},null,{"$f":"IFERROR(MATCH(D69,[2]Setup!$I$6:$I$93,0),\"\")","v":27},{"$f":"IFERROR(CONCATENATE(LEFT(D69,FIND(\"-\",D69)),IF(AS69=\"\",\"O\",VLOOKUP(AS69,[2]DATA!$E$35:$F$53,2,TRUE))),\"\")","v":"MR-O"},{"$f":"IF(YEAR($AR$7)-YEAR(I69)<40,DATEDIF(I69,$AR$7,\"Y\"),YEAR($AR$7)-YEAR(I69))","v":27},{"$f":"IF(AN69=1,MATCH(F69,[2]DATA!$AB$2:$AB$34,0),0)","v":21},null,{"$f":"IF(MAX(K69:M69)>0,MAX(K69:M69),0)","v":252.5},{"$f":"IF(MAX(P69:R69)>0,MAX(P69:R69),0)","v":150},{"$f":"IF(MAX(U69:W69)>0,MAX(U69:W69),0)","v":272.5},{"$f":"AM69*IF($AM$11=\"PL\",IF(MIN(AV69:AX69)=0,0,AV69+AW69+AX69),IF($AM$11=\"PP\",IF(MIN(AW69:AX69)=0,0,AW69+AX69),IF($AM$11=\"BP\",AW69,IF($AM$11=\"DL\",AX69,AV69))))","v":675},{"$f":"ROUND(AY69*H69,5)","v":454.07249000000002},{"$f":"ROUND(IFERROR(VLOOKUP(AS69,[2]DATA!$A$2:$B$63,2,FALSE),1)*AZ69,5)","v":454.07249000000002},{"$f":"IFERROR(IF(AN69=1,AY69,IF(AN69=2,AZ69,IF(AN69=3,BA69,AZ69))),0)","v":675},null,null,null,null,"16:21:29",null,null,null,null,null,null,null,null,null,null,null,null,null,null,null,null,null,null,{"$f":"IFERROR(IF(FIND(\"DT\",AE69),\"Y\",\"\"),\"\")","v":""},null,{"$f":"CONCATENATE(IF(AN69=4,\"\",D69),IF(AN69=1,F69,\"\"))","v":"MR-O83"},{"$f":"IF($AM$11=\"SQ\",AJ69,IF($AM$11=\"BP\",AK69,AL69))","v":108},{"$f":"1+COUNTIFS(INDIRECT(\"AN12:AN500\"),AN69,INDIRECT(\"CB12:CB500\"),CB69,INDIRECT(\"AO12:AO500\"),\">\"&AO69)\n+COUNTIFS(INDIRECT(\"AO12:AO500\"),AO69,INDIRECT(\"AN12:AN500\"),1,INDIRECT(\"CB12:CB500\"),CB69,INDIRECT(\"E12:E500\"),\"<\"&E69)\n+COUNTIFS(INDIRECT(\"AO12:AO500\"),AO69,INDIRECT(\"AN12:AN500\"),1,INDIRECT(\"CB12:CB500\"),CB69,INDIRECT(\"E12:E500\"),E69,INDIRECT(\"CC12:CC500\"),\"<\"&CC69)","v":3},{"$f":"1+COUNTIFS(INDIRECT(\"AN12:AN500\"),AN69,INDIRECT(\"CB12:CB500\"),CB69,INDIRECT(\"BB12:BB500\"),\">\"&BB69)\n+COUNTIFS(INDIRECT(\"BB12:BB500\"),BB69,INDIRECT(\"AN12:AN500\"),1,INDIRECT(\"CB12:CB500\"),CB69,INDIRECT(\"E12:E500\"),\"<\"&E69)","v":3}]
["1C","Dominic Rowden","NC","MR-O",80.02,{"$f":"IFERROR(VLOOKUP(E70,[2]DATA!$E$2:$G$22,IF(LEFT(D70,1)=\"M\",2,3)),\"\")","v":83},203,{"$f":"IFERROR(IF(LEFT(D70,1)=\"M\",Wilks_Men(IF($E$11=\"Bwt - Lb\",E70/2.2046,E70)),Wilks_Women(IF($E$11=\"Bwt - Lb\",E70/2.2046,E70))),\"\")","v":0.68260002136230469},"1996-12-19","13",210,217.5,-230,{"$f":"IF(MAX(K70:M70)<=0,0,MAX(CELL(\"color\",K70)*K70,CELL(\"color\",L70)*L70,CELL(\"color\",M70)*M70))","v":217.5},"15-6",125,135,-140,{"$f":"IF(MAX(P70:R70)<=0,0,MAX(CELL(\"color\",P70)*P70,CELL(\"color\",Q70)*Q70,CELL(\"color\",R70)*R70))","v":135},{"$f":"IF(OR(N70=0,S70=0),0,N70+S70)","v":352.5},230,245,260,{"$f":"IF(MAX(U70:W70)<=0,0,MAX(CELL(\"color\",U70)*U70,CELL(\"color\",V70)*V70,CELL(\"color\",W70)*W70))","v":260},{"$f":"AM70*IF($AM$11=\"SQ\",N70,IF($AM$11=\"BP\",S70,IF($AM$11=\"DL\",X70,IF($AM$11=\"PP\",IF(OR(S70=0,X70=0),0,S70+X70),IF(OR(T70=0,X70=0),0,T70+X70)))))","v":612.5},{"$f":"IF(Y70=0,\"\",CONCATENATE(CD70,\"/\",IF(AN70=4,\"Wilks\",D70),\"/\",IF(AN70>1,\"\",F70),\"/\",$AM$11))","v":"4/MR-O/83/PL"},{"$f":"BB70","v":612.5},{"$f":"IF(AA70=0,\"\",CE70)","v":4},{"$f":"H70*IF($E$3=\"Kg\",Y70,Y70/2.2046)","v":418.09251308441162},{"$f":"IFERROR(VLOOKUP(AS70,[2]DATA!$A$2:$B$63,2,TRUE),0)*AC70","v":426.45436334609985},"PL",991217,"NC",{"$f":"IFERROR(VLOOKUP(A70,[2]Setup!$Q$5:$R$20,2,FALSE),\"\")","v":2},{"$f":"IF(VALUE(INDIRECT(CONCATENATE($AI$11,ROW())))=0,\"\",ABS(INDIRECT(CONCATENATE($AI$11,ROW())))+0.000001*G70)","v":260.000203},96,86,107,{"$f":"IF(ISERROR(SEARCH($AM$11,AE70)),0,1)","v":1},{"$f":"VLOOKUP(D70,[2]Setup!$I$6:$K$93,3,FALSE)","v":1},{"$f":"ROUND(IFERROR(IF(AN70=1,Y70,IF(AN70=2,AC70,IF(AN70=3,AD70,AC70))),0),5)","v":612.5},null,{"$f":"IFERROR(MATCH(D70,[2]Setup!$I$6:$I$93,0),\"\")","v":27},{"$f":"IFERROR(CONCATENATE(LEFT(D70,FIND(\"-\",D70)),IF(AS70=\"\",\"O\",VLOOKUP(AS70,[2]DATA!$E$35:$F$53,2,TRUE))),\"\")","v":"MR-Jr"},{"$f":"IF(YEAR($AR$7)-YEAR(I70)<40,DATEDIF(I70,$AR$7,\"Y\"),YEAR($AR$7)-YEAR(I70))","v":21},{"$f":"IF(AN70=1,MATCH(F70,[2]DATA!$AB$2:$AB$34,0),0)","v":21},null,{"$f":"IF(MAX(K70:M70)>0,MAX(K70:M70),0)","v":217.5},{"$f":"IF(MAX(P70:R70)>0,MAX(P70:R70),0)","v":135},{"$f":"IF(MAX(U70:W70)>0,MAX(U70:W70),0)","v":260},{"$f":"AM70*IF($AM$11=\"PL\",IF(MIN(AV70:AX70)=0,0,AV70+AW70+AX70),IF($AM$11=\"PP\",IF(MIN(AW70:AX70)=0,0,AW70+AX70),IF($AM$11=\"BP\",AW70,IF($AM$11=\"DL\",AX70,AV70))))","v":612.5},{"$f":"ROUND(AY70*H70,5)","v":418.09251},{"$f":"ROUND(IFERROR(VLOOKUP(AS70,[2]DATA!$A$2:$B$63,2,FALSE),1)*AZ70,5)","v":426.45436000000001},{"$f":"IFERROR(IF(AN70=1,AY70,IF(AN70=2,AZ70,IF(AN70=3,BA70,AZ70))),0)","v":612.5},null,null,null,null,"16:20:34",null,null,null,null,null,null,null,null,null,null,null,null,null,null,null,null,null,null,{"$f":"IFERROR(IF(FIND(\"DT\",AE70),\"Y\",\"\"),\"\")","v":""},null,{"$f":"CONCATENATE(IF(AN70=4,\"\",D70),IF(AN70=1,F70,\"\"))","v":"MR-O83"},{"$f":"IF($AM$11=\"SQ\",AJ70,IF($AM$11=\"BP\",AK70,AL70))","v":107},{"$f":"1+COUNTIFS(INDIRECT(\"AN12:AN500\"),AN70,INDIRECT(\"CB12:CB500\"),CB70,INDIRECT(\"AO12:AO500\"),\">\"&AO70)\n+COUNTIFS(INDIRECT(\"AO12:AO500\"),AO70,INDIRECT(\"AN12:AN500\"),1,INDIRECT(\"CB12:CB500\"),CB70,INDIRECT(\"E12:E500\"),\"<\"&E70)\n+COUNTIFS(INDIRECT(\"AO12:AO500\"),AO70,INDIRECT(\"AN12:AN500\"),1,INDIRECT(\"CB12:CB500\"),CB70,INDIRECT(\"E12:E500\"),E70,INDIRECT(\"CC12:CC500\"),\"<\"&CC70)","v":4},{"$f":"1+COUNTIFS(INDIRECT(\"AN12:AN500\"),AN70,INDIRECT(\"CB12:CB500\"),CB70,INDIRECT(\"BB12:BB500\"),\">\"&BB70)\n+COUNTIFS(INDIRECT(\"BB12:BB500\"),BB70,INDIRECT(\"AN12:AN500\"),1,INDIRECT(\"CB12:CB500\"),CB70,INDIRECT(\"E12:E500\"),\"<\"&E70)","v":4}]
["1B","Michael Barringer","NC","MR-O",82.7,{"$f":"IFERROR(VLOOKUP(E71,[2]DATA!$E$2:$G$22,IF(LEFT(D71,1)=\"M\",2,3)),\"\")","v":83},107,{"$f":"IFERROR(IF(LEFT(D71,1)=\"M\",Wilks_Men(IF($E$11=\"Bwt - Lb\",E71/2.2046,E71)),Wilks_Women(IF($E$11=\"Bwt - Lb\",E71/2.2046,E71))),\"\")","v":0.6689000129699707},"1971-01-23","13",220,-230,230,{"$f":"IF(MAX(K71:M71)<=0,0,MAX(CELL(\"color\",K71)*K71,CELL(\"color\",L71)*L71,CELL(\"color\",M71)*M71))","v":230},"11-6",125,-130,130,{"$f":"IF(MAX(P71:R71)<=0,0,MAX(CELL(\"color\",P71)*P71,CELL(\"color\",Q71)*Q71,CELL(\"color\",R71)*R71))","v":130},{"$f":"IF(OR(N71=0,S71=0),0,N71+S71)","v":360},225,237.5,252.5,{"$f":"IF(MAX(U71:W71)<=0,0,MAX(CELL(\"color\",U71)*U71,CELL(\"color\",V71)*V71,CELL(\"color\",W71)*W71))","v":252.5},{"$f":"AM71*IF($AM$11=\"SQ\",N71,IF($AM$11=\"BP\",S71,IF($AM$11=\"DL\",X71,IF($AM$11=\"PP\",IF(OR(S71=0,X71=0),0,S71+X71),IF(OR(T71=0,X71=0),0,T71+X71)))))","v":612.5},{"$f":"IF(Y71=0,\"\",CONCATENATE(CD71,\"/\",IF(AN71=4,\"Wilks\",D71),\"/\",IF(AN71>1,\"\",F71),\"/\",$AM$11))","v":"5/MR-O/83/PL"},{"$f":"BB71","v":612.5},{"$f":"IF(AA71=0,\"\",CE71)","v":5},{"$f":"H71*IF($E$3=\"Kg\",Y71,Y71/2.2046)","v":409.70125794410706},{"$f":"IFERROR(VLOOKUP(AS71,[2]DATA!$A$2:$B$63,2,TRUE),0)*AC71","v":443.29676109552389},"PL",989371,"NC",{"$f":"IFERROR(VLOOKUP(A71,[2]Setup!$Q$5:$R$20,2,FALSE),\"\")","v":1},{"$f":"IF(VALUE(INDIRECT(CONCATENATE($AI$11,ROW())))=0,\"\",ABS(INDIRECT(CONCATENATE($AI$11,ROW())))+0.000001*G71)","v":252.50010700000001},75,69,75,{"$f":"IF(ISERROR(SEARCH($AM$11,AE71)),0,1)","v":1},{"$f":"VLOOKUP(D71,[2]Setup!$I$6:$K$93,3,FALSE)","v":1},{"$f":"ROUND(IFERROR(IF(AN71=1,Y71,IF(AN71=2,AC71,IF(AN71=3,AD71,AC71))),0),5)","v":612.5},null,{"$f":"IFERROR(MATCH(D71,[2]Setup!$I$6:$I$93,0),\"\")","v":27},{"$f":"IFERROR(CONCATENATE(LEFT(D71,FIND(\"-\",D71)),IF(AS71=\"\",\"O\",VLOOKUP(AS71,[2]DATA!$E$35:$F$53,2,TRUE))),\"\")","v":"MR-M1b"},{"$f":"IF(YEAR($AR$7)-YEAR(I71)<40,DATEDIF(I71,$AR$7,\"Y\"),YEAR($AR$7)-YEAR(I71))","v":47},{"$f":"IF(AN71=1,MATCH(F71,[2]DATA!$AB$2:$AB$34,0),0)","v":21},null,{"$f":"IF(MAX(K71:M71)>0,MAX(K71:M71),0)","v":230},{"$f":"IF(MAX(P71:R71)>0,MAX(P71:R71),0)","v":130},{"$f":"IF(MAX(U71:W71)>0,MAX(U71:W71),0)","v":252.5},{"$f":"AM71*IF($AM$11=\"PL\",IF(MIN(AV71:AX71)=0,0,AV71+AW71+AX71),IF($AM$11=\"PP\",IF(MIN(AW71:AX71)=0,0,AW71+AX71),IF($AM$11=\"BP\",AW71,IF($AM$11=\"DL\",AX71,AV71))))","v":612.5},{"$f":"ROUND(AY71*H71,5)","v":409.70125999999999},{"$f":"ROUND(IFERROR(VLOOKUP(AS71,[2]DATA!$A$2:$B$63,2,FALSE),1)*AZ71,5)","v":443.29676000000001},{"$f":"IFERROR(IF(AN71=1,AY71,IF(AN71=2,AZ71,IF(AN71=3,BA71,AZ71))),0)","v":612.5},null,null,null,null,null,null,null,null,null,null,null,null,null,null,null,null,null,null,null,null,null,null,null,{"$f":"IFERROR(IF(FIND(\"DT\",AE71),\"Y\",\"\"),\"\")","v":""},null,{"$f":"CONCATENATE(IF(AN71=4,\"\",D71),IF(AN71=1,F71,\"\"))","v":"MR-O83"},{"$f":"IF($AM$11=\"SQ\",AJ71,IF($AM$11=\"BP\",AK71,AL71))","v":75},{"$f":"1+COUNTIFS(INDIRECT(\"AN12:AN500\"),AN71,INDIRECT(\"CB12:CB500\"),CB71,INDIRECT(\"AO12:AO500\"),\">\"&AO71)\n+COUNTIFS(INDIRECT(\"AO12:AO500\"),AO71,INDIRECT(\"AN12:AN500\"),1,INDIRECT(\"CB12:CB500\"),CB71,INDIRECT(\"E12:E500\"),\"<\"&E71)\n+COUNTIFS(INDIRECT(\"AO12:AO500\"),AO71,INDIRECT(\"AN12:AN500\"),1,INDIRECT(\"CB12:CB500\"),CB71,INDIRECT(\"E12:E500\"),E71,INDIRECT(\"CC12:CC500\"),\"<\"&CC71)","v":5},{"$f":"1+COUNTIFS(INDIRECT(\"AN12:AN500\"),AN71,INDIRECT(\"CB12:CB500\"),CB71,INDIRECT(\"BB12:BB500\"),\">\"&BB71)\n+COUNTIFS(INDIRECT(\"BB12:BB500\"),BB71,INDIRECT(\"AN12:AN500\"),1,INDIRECT(\"CB12:CB500\"),CB71,INDIRECT(\"E12:E500\"),\"<\"&E71)","v":5}]
["1C","Terry Zervos","NH","MR-O",80.599999999999994,{"$f":"IFERROR(VLOOKUP(E72,[2]DATA!$E$2:$G$22,IF(LEFT(D72,1)=\"M\",2,3)),\"\")","v":83},201,{"$f":"IFERROR(IF(LEFT(D72,1)=\"M\",Wilks_Men(IF($E$11=\"Bwt - Lb\",E72/2.2046,E72)),Wilks_Women(IF($E$11=\"Bwt - Lb\",E72/2.2046,E72))),\"\")","v":0.67949998378753662},"1997-09-30","14",182.5,192.5,-202.5,{"$f":"IF(MAX(K72:M72)<=0,0,MAX(CELL(\"color\",K72)*K72,CELL(\"color\",L72)*L72,CELL(\"color\",M72)*M72))","v":192.5},"12-6",132.5,140,145,{"$f":"IF(MAX(P72:R72)<=0,0,MAX(CELL(\"color\",P72)*P72,CELL(\"color\",Q72)*Q72,CELL(\"color\",R72)*R72))","v":145},{"$f":"IF(OR(N72=0,S72=0),0,N72+S72)","v":337.5},205,217.5,227.5,{"$f":"IF(MAX(U72:W72)<=0,0,MAX(CELL(\"color\",U72)*U72,CELL(\"color\",V72)*V72,CELL(\"color\",W72)*W72))","v":227.5},{"$f":"AM72*IF($AM$11=\"SQ\",N72,IF($AM$11=\"BP\",S72,IF($AM$11=\"DL\",X72,IF($AM$11=\"PP\",IF(OR(S72=0,X72=0),0,S72+X72),IF(OR(T72=0,X72=0),0,T72+X72)))))","v":565},{"$f":"IF(Y72=0,\"\",CONCATENATE(CD72,\"/\",IF(AN72=4,\"Wilks\",D72),\"/\",IF(AN72>1,\"\",F72),\"/\",$AM$11))","v":"6/MR-O/83/PL"},{"$f":"BB72","v":565},{"$f":"IF(AA72=0,\"\",CE72)","v":6},{"$f":"H72*IF($E$3=\"Kg\",Y72,Y72/2.2046)","v":383.91749083995819},{"$f":"IFERROR(VLOOKUP(AS72,[2]DATA!$A$2:$B$63,2,TRUE),0)*AC72","v":395.43501556515696},"PL",1013810,"NH",{"$f":"IFERROR(VLOOKUP(A72,[2]Setup!$Q$5:$R$20,2,FALSE),\"\")","v":2},{"$f":"IF(VALUE(INDIRECT(CONCATENATE($AI$11,ROW())))=0,\"\",ABS(INDIRECT(CONCATENATE($AI$11,ROW())))+0.000001*G72)","v":227.500201},93,94,105,{"$f":"IF(ISERROR(SEARCH($AM$11,AE72)),0,1)","v":1},{"$f":"VLOOKUP(D72,[2]Setup!$I$6:$K$93,3,FALSE)","v":1},{"$f":"ROUND(IFERROR(IF(AN72=1,Y72,IF(AN72=2,AC72,IF(AN72=3,AD72,AC72))),0),5)","v":565},null,{"$f":"IFERROR(MATCH(D72,[2]Setup!$I$6:$I$93,0),\"\")","v":27},{"$f":"IFERROR(CONCATENATE(LEFT(D72,FIND(\"-\",D72)),IF(AS72=\"\",\"O\",VLOOKUP(AS72,[2]DATA!$E$35:$F$53,2,TRUE))),\"\")","v":"MR-Jr"},{"$f":"IF(YEAR($AR$7)-YEAR(I72)<40,DATEDIF(I72,$AR$7,\"Y\"),YEAR($AR$7)-YEAR(I72))","v":20},{"$f":"IF(AN72=1,MATCH(F72,[2]DATA!$AB$2:$AB$34,0),0)","v":21},null,{"$f":"IF(MAX(K72:M72)>0,MAX(K72:M72),0)","v":192.5},{"$f":"IF(MAX(P72:R72)>0,MAX(P72:R72),0)","v":145},{"$f":"IF(MAX(U72:W72)>0,MAX(U72:W72),0)","v":227.5},{"$f":"AM72*IF($AM$11=\"PL\",IF(MIN(AV72:AX72)=0,0,AV72+AW72+AX72),IF($AM$11=\"PP\",IF(MIN(AW72:AX72)=0,0,AW72+AX72),IF($AM$11=\"BP\",AW72,IF($AM$11=\"DL\",AX72,AV72))))","v":565},{"$f":"ROUND(AY72*H72,5)","v":383.91748999999999},{"$f":"ROUND(IFERROR(VLOOKUP(AS72,[2]DATA!$A$2:$B$63,2,FALSE),1)*AZ72,5)","v":395.43500999999998},{"$f":"IFERROR(IF(AN72=1,AY72,IF(AN72=2,AZ72,IF(AN72=3,BA72,AZ72))),0)","v":565},null,null,null,null,"16:18:21",null,null,null,null,null,null,null,null,null,null,null,null,null,null,null,null,null,null,{"$f":"IFERROR(IF(FIND(\"DT\",AE72),\"Y\",\"\"),\"\")","v":""},null,{"$f":"CONCATENATE(IF(AN72=4,\"\",D72),IF(AN72=1,F72,\"\"))","v":"MR-O83"},{"$f":"IF($AM$11=\"SQ\",AJ72,IF($AM$11=\"BP\",AK72,AL72))","v":105},{"$f":"1+COUNTIFS(INDIRECT(\"AN12:AN500\"),AN72,INDIRECT(\"CB12:CB500\"),CB72,INDIRECT(\"AO12:AO500\"),\">\"&AO72)\n+COUNTIFS(INDIRECT(\"AO12:AO500\"),AO72,INDIRECT(\"AN12:AN500\"),1,INDIRECT(\"CB12:CB500\"),CB72,INDIRECT(\"E12:E500\"),\"<\"&E72)\n+COUNTIFS(INDIRECT(\"AO12:AO500\"),AO72,INDIRECT(\"AN12:AN500\"),1,INDIRECT(\"CB12:CB500\"),CB72,INDIRECT(\"E12:E500\"),E72,INDIRECT(\"CC12:CC500\"),\"<\"&CC72)","v":6},{"$f":"1+COUNTIFS(INDIRECT(\"AN12:AN500\"),AN72,INDIRECT(\"CB12:CB500\"),CB72,INDIRECT(\"BB12:BB500\"),\">\"&BB72)\n+COUNTIFS(INDIRECT(\"BB12:BB500\"),BB72,INDIRECT(\"AN12:AN500\"),1,INDIRECT(\"CB12:CB500\"),CB72,INDIRECT(\"E12:E500\"),\"<\"&E72)","v":6}]
["1C","Mason Dwinnell","NC","MR-O",82.38,{"$f":"IFERROR(VLOOKUP(E73,[2]DATA!$E$2:$G$22,IF(LEFT(D73,1)=\"M\",2,3)),\"\")","v":83},202,{"$f":"IFERROR(IF(LEFT(D73,1)=\"M\",Wilks_Men(IF($E$11=\"Bwt - Lb\",E73/2.2046,E73)),Wilks_Women(IF($E$11=\"Bwt - Lb\",E73/2.2046,E73))),\"\")","v":0.67049998044967651},"1997-01-11","18",182.5,192.5,-200,{"$f":"IF(MAX(K73:M73)<=0,0,MAX(CELL(\"color\",K73)*K73,CELL(\"color\",L73)*L73,CELL(\"color\",M73)*M73))","v":192.5},"14-7",102.5,107.5,120,{"$f":"IF(MAX(P73:R73)<=0,0,MAX(CELL(\"color\",P73)*P73,CELL(\"color\",Q73)*Q73,CELL(\"color\",R73)*R73))","v":120},{"$f":"IF(OR(N73=0,S73=0),0,N73+S73)","v":312.5},205,215,222.5,{"$f":"IF(MAX(U73:W73)<=0,0,MAX(CELL(\"color\",U73)*U73,CELL(\"color\",V73)*V73,CELL(\"color\",W73)*W73))","v":222.5},{"$f":"AM73*IF($AM$11=\"SQ\",N73,IF($AM$11=\"BP\",S73,IF($AM$11=\"DL\",X73,IF($AM$11=\"PP\",IF(OR(S73=0,X73=0),0,S73+X73),IF(OR(T73=0,X73=0),0,T73+X73)))))","v":535},{"$f":"IF(Y73=0,\"\",CONCATENATE(CD73,\"/\",IF(AN73=4,\"Wilks\",D73),\"/\",IF(AN73>1,\"\",F73),\"/\",$AM$11))","v":"7/MR-O/83/PL"},{"$f":"BB73","v":535},{"$f":"IF(AA73=0,\"\",CE73)","v":7},{"$f":"H73*IF($E$3=\"Kg\",Y73,Y73/2.2046)","v":358.71748954057693},{"$f":"IFERROR(VLOOKUP(AS73,[2]DATA!$A$2:$B$63,2,TRUE),0)*AC73","v":365.8918393313885},"PL",1013802,"NC",{"$f":"IFERROR(VLOOKUP(A73,[2]Setup!$Q$5:$R$20,2,FALSE),\"\")","v":2},{"$f":"IF(VALUE(INDIRECT(CONCATENATE($AI$11,ROW())))=0,\"\",ABS(INDIRECT(CONCATENATE($AI$11,ROW())))+0.000001*G73)","v":222.500202},94,91,104,{"$f":"IF(ISERROR(SEARCH($AM$11,AE73)),0,1)","v":1},{"$f":"VLOOKUP(D73,[2]Setup!$I$6:$K$93,3,FALSE)","v":1},{"$f":"ROUND(IFERROR(IF(AN73=1,Y73,IF(AN73=2,AC73,IF(AN73=3,AD73,AC73))),0),5)","v":535},null,{"$f":"IFERROR(MATCH(D73,[2]Setup!$I$6:$I$93,0),\"\")","v":27},{"$f":"IFERROR(CONCATENATE(LEFT(D73,FIND(\"-\",D73)),IF(AS73=\"\",\"O\",VLOOKUP(AS73,[2]DATA!$E$35:$F$53,2,TRUE))),\"\")","v":"MR-Jr"},{"$f":"IF(YEAR($AR$7)-YEAR(I73)<40,DATEDIF(I73,$AR$7,\"Y\"),YEAR($AR$7)-YEAR(I73))","v":21},{"$f":"IF(AN73=1,MATCH(F73,[2]DATA!$AB$2:$AB$34,0),0)","v":21},null,{"$f":"IF(MAX(K73:M73)>0,MAX(K73:M73),0)","v":192.5},{"$f":"IF(MAX(P73:R73)>0,MAX(P73:R73),0)","v":120},{"$f":"IF(MAX(U73:W73)>0,MAX(U73:W73),0)","v":222.5},{"$f":"AM73*IF($AM$11=\"PL\",IF(MIN(AV73:AX73)=0,0,AV73+AW73+AX73),IF($AM$11=\"PP\",IF(MIN(AW73:AX73)=0,0,AW73+AX73),IF($AM$11=\"BP\",AW73,IF($AM$11=\"DL\",AX73,AV73))))","v":535},{"$f":"ROUND(AY73*H73,5)","v":358.71749},{"$f":"ROUND(IFERROR(VLOOKUP(AS73,[2]DATA!$A$2:$B$63,2,FALSE),1)*AZ73,5)","v":365.89184},{"$f":"IFERROR(IF(AN73=1,AY73,IF(AN73=2,AZ73,IF(AN73=3,BA73,AZ73))),0)","v":535},null,null,null,null,"16:17:12",null,null,null,null,null,null,null,null,null,null,null,null,null,null,null,null,null,null,{"$f":"IFERROR(IF(FIND(\"DT\",AE73),\"Y\",\"\"),\"\")","v":""},null,{"$f":"CONCATENATE(IF(AN73=4,\"\",D73),IF(AN73=1,F73,\"\"))","v":"MR-O83"},{"$f":"IF($AM$11=\"SQ\",AJ73,IF($AM$11=\"BP\",AK73,AL73))","v":104},{"$f":"1+COUNTIFS(INDIRECT(\"AN12:AN500\"),AN73,INDIRECT(\"CB12:CB500\"),CB73,INDIRECT(\"AO12:AO500\"),\">\"&AO73)\n+COUNTIFS(INDIRECT(\"AO12:AO500\"),AO73,INDIRECT(\"AN12:AN500\"),1,INDIRECT(\"CB12:CB500\"),CB73,INDIRECT(\"E12:E500\"),\"<\"&E73)\n+COUNTIFS(INDIRECT(\"AO12:AO500\"),AO73,INDIRECT(\"AN12:AN500\"),1,INDIRECT(\"CB12:CB500\"),CB73,INDIRECT(\"E12:E500\"),E73,INDIRECT(\"CC12:CC500\"),\"<\"&CC73)","v":7},{"$f":"1+COUNTIFS(INDIRECT(\"AN12:AN500\"),AN73,INDIRECT(\"CB12:CB500\"),CB73,INDIRECT(\"BB12:BB500\"),\">\"&BB73)\n+COUNTIFS(INDIRECT(\"BB12:BB500\"),BB73,INDIRECT(\"AN12:AN500\"),1,INDIRECT(\"CB12:CB500\"),CB73,INDIRECT(\"E12:E500\"),\"<\"&E73)","v":7}]
["1C","DJ Redmond","NC","MR-O",82.26,{"$f":"IFERROR(VLOOKUP(E74,[2]DATA!$E$2:$G$22,IF(LEFT(D74,1)=\"M\",2,3)),\"\")","v":83},212,{"$f":"IFERROR(IF(LEFT(D74,1)=\"M\",Wilks_Men(IF($E$11=\"Bwt - Lb\",E74/2.2046,E74)),Wilks_Women(IF($E$11=\"Bwt - Lb\",E74/2.2046,E74))),\"\")","v":0.67110002040863037},"1990-11-02","16",172.5,177.5,182.5,{"$f":"IF(MAX(K74:M74)<=0,0,MAX(CELL(\"color\",K74)*K74,CELL(\"color\",L74)*L74,CELL(\"color\",M74)*M74))","v":182.5},"13-7",120,125,-130,{"$f":"IF(MAX(P74:R74)<=0,0,MAX(CELL(\"color\",P74)*P74,CELL(\"color\",Q74)*Q74,CELL(\"color\",R74)*R74))","v":125},{"$f":"IF(OR(N74=0,S74=0),0,N74+S74)","v":307.5},202.5,210,-215,{"$f":"IF(MAX(U74:W74)<=0,0,MAX(CELL(\"color\",U74)*U74,CELL(\"color\",V74)*V74,CELL(\"color\",W74)*W74))","v":210},{"$f":"AM74*IF($AM$11=\"SQ\",N74,IF($AM$11=\"BP\",S74,IF($AM$11=\"DL\",X74,IF($AM$11=\"PP\",IF(OR(S74=0,X74=0),0,S74+X74),IF(OR(T74=0,X74=0),0,T74+X74)))))","v":517.5},{"$f":"IF(Y74=0,\"\",CONCATENATE(CD74,\"/\",IF(AN74=4,\"Wilks\",D74),\"/\",IF(AN74>1,\"\",F74),\"/\",$AM$11))","v":"8/MR-O/83/PL"},{"$f":"BB74","v":517.5},{"$f":"IF(AA74=0,\"\",CE74)","v":8},{"$f":"H74*IF($E$3=\"Kg\",Y74,Y74/2.2046)","v":347.29426056146622},{"$f":"IFERROR(VLOOKUP(AS74,[2]DATA!$A$2:$B$63,2,TRUE),0)*AC74","v":347.29426056146622},"PL",995507,"NC",{"$f":"IFERROR(VLOOKUP(A74,[2]Setup!$Q$5:$R$20,2,FALSE),\"\")","v":2},{"$f":"IF(VALUE(INDIRECT(CONCATENATE($AI$11,ROW())))=0,\"\",ABS(INDIRECT(CONCATENATE($AI$11,ROW())))+0.000001*G74)","v":215.000212},102,85,93,{"$f":"IF(ISERROR(SEARCH($AM$11,AE74)),0,1)","v":1},{"$f":"VLOOKUP(D74,[2]Setup!$I$6:$K$93,3,FALSE)","v":1},{"$f":"ROUND(IFERROR(IF(AN74=1,Y74,IF(AN74=2,AC74,IF(AN74=3,AD74,AC74))),0),5)","v":517.5},null,{"$f":"IFERROR(MATCH(D74,[2]Setup!$I$6:$I$93,0),\"\")","v":27},{"$f":"IFERROR(CONCATENATE(LEFT(D74,FIND(\"-\",D74)),IF(AS74=\"\",\"O\",VLOOKUP(AS74,[2]DATA!$E$35:$F$53,2,TRUE))),\"\")","v":"MR-O"},{"$f":"IF(YEAR($AR$7)-YEAR(I74)<40,DATEDIF(I74,$AR$7,\"Y\"),YEAR($AR$7)-YEAR(I74))","v":27},{"$f":"IF(AN74=1,MATCH(F74,[2]DATA!$AB$2:$AB$34,0),0)","v":21},null,{"$f":"IF(MAX(K74:M74)>0,MAX(K74:M74),0)","v":182.5},{"$f":"IF(MAX(P74:R74)>0,MAX(P74:R74),0)","v":125},{"$f":"IF(MAX(U74:W74)>0,MAX(U74:W74),0)","v":210},{"$f":"AM74*IF($AM$11=\"PL\",IF(MIN(AV74:AX74)=0,0,AV74+AW74+AX74),IF($AM$11=\"PP\",IF(MIN(AW74:AX74)=0,0,AW74+AX74),IF($AM$11=\"BP\",AW74,IF($AM$11=\"DL\",AX74,AV74))))","v":517.5},{"$f":"ROUND(AY74*H74,5)","v":347.29426000000001},{"$f":"ROUND(IFERROR(VLOOKUP(AS74,[2]DATA!$A$2:$B$63,2,FALSE),1)*AZ74,5)","v":347.29426000000001},{"$f":"IFERROR(IF(AN74=1,AY74,IF(AN74=2,AZ74,IF(AN74=3,BA74,AZ74))),0)","v":517.5},null,null,null,null,"16:16:12",null,null,null,null,null,null,null,null,null,null,null,null,null,null,null,null,null,null,{"$f":"IFERROR(IF(FIND(\"DT\",AE74),\"Y\",\"\"),\"\")","v":""},null,{"$f":"CONCATENATE(IF(AN74=4,\"\",D74),IF(AN74=1,F74,\"\"))","v":"MR-O83"},{"$f":"IF($AM$11=\"SQ\",AJ74,IF($AM$11=\"BP\",AK74,AL74))","v":93},{"$f":"1+COUNTIFS(INDIRECT(\"AN12:AN500\"),AN74,INDIRECT(\"CB12:CB500\"),CB74,INDIRECT(\"AO12:AO500\"),\">\"&AO74)\n+COUNTIFS(INDIRECT(\"AO12:AO500\"),AO74,INDIRECT(\"AN12:AN500\"),1,INDIRECT(\"CB12:CB500\"),CB74,INDIRECT(\"E12:E500\"),\"<\"&E74)\n+COUNTIFS(INDIRECT(\"AO12:AO500\"),AO74,INDIRECT(\"AN12:AN500\"),1,INDIRECT(\"CB12:CB500\"),CB74,INDIRECT(\"E12:E500\"),E74,INDIRECT(\"CC12:CC500\"),\"<\"&CC74)","v":8},{"$f":"1+COUNTIFS(INDIRECT(\"AN12:AN500\"),AN74,INDIRECT(\"CB12:CB500\"),CB74,INDIRECT(\"BB12:BB500\"),\">\"&BB74)\n+COUNTIFS(INDIRECT(\"BB12:BB500\"),BB74,INDIRECT(\"AN12:AN500\"),1,INDIRECT(\"CB12:CB500\"),CB74,INDIRECT(\"E12:E500\"),\"<\"&E74)","v":8}]
["1C","Kaleb Johnson","NC","MR-O",82.7,{"$f":"IFERROR(VLOOKUP(E75,[2]DATA!$E$2:$G$22,IF(LEFT(D75,1)=\"M\",2,3)),\"\")","v":83},205,{"$f":"IFERROR(IF(LEFT(D75,1)=\"M\",Wilks_Men(IF($E$11=\"Bwt - Lb\",E75/2.2046,E75)),Wilks_Women(IF($E$11=\"Bwt - Lb\",E75/2.2046,E75))),\"\")","v":0.6689000129699707},"1993-07-22","17",152.5,162.5,167.5,{"$f":"IF(MAX(K75:M75)<=0,0,MAX(CELL(\"color\",K75)*K75,CELL(\"color\",L75)*L75,CELL(\"color\",M75)*M75))","v":167.5},"12-5",110,120,125,{"$f":"IF(MAX(P75:R75)<=0,0,MAX(CELL(\"color\",P75)*P75,CELL(\"color\",Q75)*Q75,CELL(\"color\",R75)*R75))","v":125},{"$f":"IF(OR(N75=0,S75=0),0,N75+S75)","v":292.5},185,200,210,{"$f":"IF(MAX(U75:W75)<=0,0,MAX(CELL(\"color\",U75)*U75,CELL(\"color\",V75)*V75,CELL(\"color\",W75)*W75))","v":210},{"$f":"AM75*IF($AM$11=\"SQ\",N75,IF($AM$11=\"BP\",S75,IF($AM$11=\"DL\",X75,IF($AM$11=\"PP\",IF(OR(S75=0,X75=0),0,S75+X75),IF(OR(T75=0,X75=0),0,T75+X75)))))","v":502.5},{"$f":"IF(Y75=0,\"\",CONCATENATE(CD75,\"/\",IF(AN75=4,\"Wilks\",D75),\"/\",IF(AN75>1,\"\",F75),\"/\",$AM$11))","v":"9/MR-O/83/PL"},{"$f":"BB75","v":502.5},{"$f":"IF(AA75=0,\"\",CE75)","v":9},{"$f":"H75*IF($E$3=\"Kg\",Y75,Y75/2.2046)","v":336.12225651741028},{"$f":"IFERROR(VLOOKUP(AS75,[2]DATA!$A$2:$B$63,2,TRUE),0)*AC75","v":336.12225651741028},"PL",928351,"NC",{"$f":"IFERROR(VLOOKUP(A75,[2]Setup!$Q$5:$R$20,2,FALSE),\"\")","v":2},{"$f":"IF(VALUE(INDIRECT(CONCATENATE($AI$11,ROW())))=0,\"\",ABS(INDIRECT(CONCATENATE($AI$11,ROW())))+0.000001*G75)","v":210.00020499999999},100,92,103,{"$f":"IF(ISERROR(SEARCH($AM$11,AE75)),0,1)","v":1},{"$f":"VLOOKUP(D75,[2]Setup!$I$6:$K$93,3,FALSE)","v":1},{"$f":"ROUND(IFERROR(IF(AN75=1,Y75,IF(AN75=2,AC75,IF(AN75=3,AD75,AC75))),0),5)","v":502.5},null,{"$f":"IFERROR(MATCH(D75,[2]Setup!$I$6:$I$93,0),\"\")","v":27},{"$f":"IFERROR(CONCATENATE(LEFT(D75,FIND(\"-\",D75)),IF(AS75=\"\",\"O\",VLOOKUP(AS75,[2]DATA!$E$35:$F$53,2,TRUE))),\"\")","v":"MR-O"},{"$f":"IF(YEAR($AR$7)-YEAR(I75)<40,DATEDIF(I75,$AR$7,\"Y\"),YEAR($AR$7)-YEAR(I75))","v":24},{"$f":"IF(AN75=1,MATCH(F75,[2]DATA!$AB$2:$AB$34,0),0)","v":21},null,{"$f":"IF(MAX(K75:M75)>0,MAX(K75:M75),0)","v":167.5},{"$f":"IF(MAX(P75:R75)>0,MAX(P75:R75),0)","v":125},{"$f":"IF(MAX(U75:W75)>0,MAX(U75:W75),0)","v":210},{"$f":"AM75*IF($AM$11=\"PL\",IF(MIN(AV75:AX75)=0,0,AV75+AW75+AX75),IF($AM$11=\"PP\",IF(MIN(AW75:AX75)=0,0,AW75+AX75),IF($AM$11=\"BP\",AW75,IF($AM$11=\"DL\",AX75,AV75))))","v":502.5},{"$f":"ROUND(AY75*H75,5)","v":336.12225999999998},{"$f":"ROUND(IFERROR(VLOOKUP(AS75,[2]DATA!$A$2:$B$63,2,FALSE),1)*AZ75,5)","v":336.12225999999998},{"$f":"IFERROR(IF(AN75=1,AY75,IF(AN75=2,AZ75,IF(AN75=3,BA75,AZ75))),0)","v":502.5},null,null,null,null,"16:15:13",null,null,null,null,null,null,null,null,null,null,null,null,null,null,null,null,null,null,{"$f":"IFERROR(IF(FIND(\"DT\",AE75),\"Y\",\"\"),\"\")","v":""},null,{"$f":"CONCATENATE(IF(AN75=4,\"\",D75),IF(AN75=1,F75,\"\"))","v":"MR-O83"},{"$f":"IF($AM$11=\"SQ\",AJ75,IF($AM$11=\"BP\",AK75,AL75))","v":103},{"$f":"1+COUNTIFS(INDIRECT(\"AN12:AN500\"),AN75,INDIRECT(\"CB12:CB500\"),CB75,INDIRECT(\"AO12:AO500\"),\">\"&AO75)\n+COUNTIFS(INDIRECT(\"AO12:AO500\"),AO75,INDIRECT(\"AN12:AN500\"),1,INDIRECT(\"CB12:CB500\"),CB75,INDIRECT(\"E12:E500\"),\"<\"&E75)\n+COUNTIFS(INDIRECT(\"AO12:AO500\"),AO75,INDIRECT(\"AN12:AN500\"),1,INDIRECT(\"CB12:CB500\"),CB75,INDIRECT(\"E12:E500\"),E75,INDIRECT(\"CC12:CC500\"),\"<\"&CC75)","v":9},{"$f":"1+COUNTIFS(INDIRECT(\"AN12:AN500\"),AN75,INDIRECT(\"CB12:CB500\"),CB75,INDIRECT(\"BB12:BB500\"),\">\"&BB75)\n+COUNTIFS(INDIRECT(\"BB12:BB500\"),BB75,INDIRECT(\"AN12:AN500\"),1,INDIRECT(\"CB12:CB500\"),CB75,INDIRECT(\"E12:E500\"),\"<\"&E75)","v":9}]
["1C","Justin Mugno","NC","MR-O",78.42,{"$f":"IFERROR(VLOOKUP(E76,[2]DATA!$E$2:$G$22,IF(LEFT(D76,1)=\"M\",2,3)),\"\")","v":83},213,{"$f":"IFERROR(IF(LEFT(D76,1)=\"M\",Wilks_Men(IF($E$11=\"Bwt - Lb\",E76/2.2046,E76)),Wilks_Women(IF($E$11=\"Bwt - Lb\",E76/2.2046,E76))),\"\")","v":0.69150000810623169},"1989-01-02","16",160,175,180,{"$f":"IF(MAX(K76:M76)<=0,0,MAX(CELL(\"color\",K76)*K76,CELL(\"color\",L76)*L76,CELL(\"color\",M76)*M76))","v":180},"15-6",112.5,120,130,{"$f":"IF(MAX(P76:R76)<=0,0,MAX(CELL(\"color\",P76)*P76,CELL(\"color\",Q76)*Q76,CELL(\"color\",R76)*R76))","v":130},{"$f":"IF(OR(N76=0,S76=0),0,N76+S76)","v":310},175,185,190,{"$f":"IF(MAX(U76:W76)<=0,0,MAX(CELL(\"color\",U76)*U76,CELL(\"color\",V76)*V76,CELL(\"color\",W76)*W76))","v":190},{"$f":"AM76*IF($AM$11=\"SQ\",N76,IF($AM$11=\"BP\",S76,IF($AM$11=\"DL\",X76,IF($AM$11=\"PP\",IF(OR(S76=0,X76=0),0,S76+X76),IF(OR(T76=0,X76=0),0,T76+X76)))))","v":500},{"$f":"IF(Y76=0,\"\",CONCATENATE(CD76,\"/\",IF(AN76=4,\"Wilks\",D76),\"/\",IF(AN76>1,\"\",F76),\"/\",$AM$11))","v":"10/MR-O/83/PL"},{"$f":"BB76","v":500},{"$f":"IF(AA76=0,\"\",CE76)","v":10},{"$f":"H76*IF($E$3=\"Kg\",Y76,Y76/2.2046)","v":345.75000405311584},{"$f":"IFERROR(VLOOKUP(AS76,[2]DATA!$A$2:$B$63,2,TRUE),0)*AC76","v":345.75000405311584},"PL",1015766,"NC",{"$f":"IFERROR(VLOOKUP(A76,[2]Setup!$Q$5:$R$20,2,FALSE),\"\")","v":2},{"$f":"IF(VALUE(INDIRECT(CONCATENATE($AI$11,ROW())))=0,\"\",ABS(INDIRECT(CONCATENATE($AI$11,ROW())))+0.000001*G76)","v":190.000213},101,93,102,{"$f":"IF(ISERROR(SEARCH($AM$11,AE76)),0,1)","v":1},{"$f":"VLOOKUP(D76,[2]Setup!$I$6:$K$93,3,FALSE)","v":1},{"$f":"ROUND(IFERROR(IF(AN76=1,Y76,IF(AN76=2,AC76,IF(AN76=3,AD76,AC76))),0),5)","v":500},null,{"$f":"IFERROR(MATCH(D76,[2]Setup!$I$6:$I$93,0),\"\")","v":27},{"$f":"IFERROR(CONCATENATE(LEFT(D76,FIND(\"-\",D76)),IF(AS76=\"\",\"O\",VLOOKUP(AS76,[2]DATA!$E$35:$F$53,2,TRUE))),\"\")","v":"MR-O"},{"$f":"IF(YEAR($AR$7)-YEAR(I76)<40,DATEDIF(I76,$AR$7,\"Y\"),YEAR($AR$7)-YEAR(I76))","v":29},{"$f":"IF(AN76=1,MATCH(F76,[2]DATA!$AB$2:$AB$34,0),0)","v":21},null,{"$f":"IF(MAX(K76:M76)>0,MAX(K76:M76),0)","v":180},{"$f":"IF(MAX(P76:R76)>0,MAX(P76:R76),0)","v":130},{"$f":"IF(MAX(U76:W76)>0,MAX(U76:W76),0)","v":190},{"$f":"AM76*IF($AM$11=\"PL\",IF(MIN(AV76:AX76)=0,0,AV76+AW76+AX76),IF($AM$11=\"PP\",IF(MIN(AW76:AX76)=0,0,AW76+AX76),IF($AM$11=\"BP\",AW76,IF($AM$11=\"DL\",AX76,AV76))))","v":500},{"$f":"ROUND(AY76*H76,5)","v":345.75},{"$f":"ROUND(IFERROR(VLOOKUP(AS76,[2]DATA!$A$2:$B$63,2,FALSE),1)*AZ76,5)","v":345.75},{"$f":"IFERROR(IF(AN76=1,AY76,IF(AN76=2,AZ76,IF(AN76=3,BA76,AZ76))),0)","v":500},null,null,null,null,"16:14:02",null,null,null,null,null,null,null,null,null,null,null,null,null,null,null,null,null,null,{"$f":"IFERROR(IF(FIND(\"DT\",AE76),\"Y\",\"\"),\"\")","v":""},null,{"$f":"CONCATENATE(IF(AN76=4,\"\",D76),IF(AN76=1,F76,\"\"))","v":"MR-O83"},{"$f":"IF($AM$11=\"SQ\",AJ76,IF($AM$11=\"BP\",AK76,AL76))","v":102},{"$f":"1+COUNTIFS(INDIRECT(\"AN12:AN500\"),AN76,INDIRECT(\"CB12:CB500\"),CB76,INDIRECT(\"AO12:AO500\"),\">\"&AO76)\n+COUNTIFS(INDIRECT(\"AO12:AO500\"),AO76,INDIRECT(\"AN12:AN500\"),1,INDIRECT(\"CB12:CB500\"),CB76,INDIRECT(\"E12:E500\"),\"<\"&E76)\n+COUNTIFS(INDIRECT(\"AO12:AO500\"),AO76,INDIRECT(\"AN12:AN500\"),1,INDIRECT(\"CB12:CB500\"),CB76,INDIRECT(\"E12:E500\"),E76,INDIRECT(\"CC12:CC500\"),\"<\"&CC76)","v":10},{"$f":"1+COUNTIFS(INDIRECT(\"AN12:AN500\"),AN76,INDIRECT(\"CB12:CB500\"),CB76,INDIRECT(\"BB12:BB500\"),\">\"&BB76)\n+COUNTIFS(INDIRECT(\"BB12:BB500\"),BB76,INDIRECT(\"AN12:AN500\"),1,INDIRECT(\"CB12:CB500\"),CB76,INDIRECT(\"E12:E500\"),\"<\"&E76)","v":10}]
["1B","John Demchak","SC","MR-O",82.84,{"$f":"IFERROR(VLOOKUP(E77,[2]DATA!$E$2:$G$22,IF(LEFT(D77,1)=\"M\",2,3)),\"\")","v":83},101,{"$f":"IFERROR(IF(LEFT(D77,1)=\"M\",Wilks_Men(IF($E$11=\"Bwt - Lb\",E77/2.2046,E77)),Wilks_Women(IF($E$11=\"Bwt - Lb\",E77/2.2046,E77))),\"\")","v":0.66829997301101685},"1967-07-14","14",165,175,-182.5,{"$f":"IF(MAX(K77:M77)<=0,0,MAX(CELL(\"color\",K77)*K77,CELL(\"color\",L77)*L77,CELL(\"color\",M77)*M77))","v":175},"11-6",75,82.5,-90,{"$f":"IF(MAX(P77:R77)<=0,0,MAX(CELL(\"color\",P77)*P77,CELL(\"color\",Q77)*Q77,CELL(\"color\",R77)*R77))","v":82.5},{"$f":"IF(OR(N77=0,S77=0),0,N77+S77)","v":257.5},205,227.5,-235,{"$f":"IF(MAX(U77:W77)<=0,0,MAX(CELL(\"color\",U77)*U77,CELL(\"color\",V77)*V77,CELL(\"color\",W77)*W77))","v":227.5},{"$f":"AM77*IF($AM$11=\"SQ\",N77,IF($AM$11=\"BP\",S77,IF($AM$11=\"DL\",X77,IF($AM$11=\"PP\",IF(OR(S77=0,X77=0),0,S77+X77),IF(OR(T77=0,X77=0),0,T77+X77)))))","v":485},{"$f":"IF(Y77=0,\"\",CONCATENATE(CD77,\"/\",IF(AN77=4,\"Wilks\",D77),\"/\",IF(AN77>1,\"\",F77),\"/\",$AM$11))","v":"11/MR-O/83/PL"},{"$f":"BB77","v":485},{"$f":"IF(AA77=0,\"\",CE77)","v":11},{"$f":"H77*IF($E$3=\"Kg\",Y77,Y77/2.2046)","v":324.12548691034317},{"$f":"IFERROR(VLOOKUP(AS77,[2]DATA!$A$2:$B$63,2,TRUE),0)*AC77","v":371.77193348616362},"PL",12416,"SC",{"$f":"IFERROR(VLOOKUP(A77,[2]Setup!$Q$5:$R$20,2,FALSE),\"\")","v":1},{"$f":"IF(VALUE(INDIRECT(CONCATENATE($AI$11,ROW())))=0,\"\",ABS(INDIRECT(CONCATENATE($AI$11,ROW())))+0.000001*G77)","v":235.000101},55,48,59,{"$f":"IF(ISERROR(SEARCH($AM$11,AE77)),0,1)","v":1},{"$f":"VLOOKUP(D77,[2]Setup!$I$6:$K$93,3,FALSE)","v":1},{"$f":"ROUND(IFERROR(IF(AN77=1,Y77,IF(AN77=2,AC77,IF(AN77=3,AD77,AC77))),0),5)","v":485},null,{"$f":"IFERROR(MATCH(D77,[2]Setup!$I$6:$I$93,0),\"\")","v":27},{"$f":"IFERROR(CONCATENATE(LEFT(D77,FIND(\"-\",D77)),IF(AS77=\"\",\"O\",VLOOKUP(AS77,[2]DATA!$E$35:$F$53,2,TRUE))),\"\")","v":"MR-M2a"},{"$f":"IF(YEAR($AR$7)-YEAR(I77)<40,DATEDIF(I77,$AR$7,\"Y\"),YEAR($AR$7)-YEAR(I77))","v":51},{"$f":"IF(AN77=1,MATCH(F77,[2]DATA!$AB$2:$AB$34,0),0)","v":21},null,{"$f":"IF(MAX(K77:M77)>0,MAX(K77:M77),0)","v":175},{"$f":"IF(MAX(P77:R77)>0,MAX(P77:R77),0)","v":82.5},{"$f":"IF(MAX(U77:W77)>0,MAX(U77:W77),0)","v":227.5},{"$f":"AM77*IF($AM$11=\"PL\",IF(MIN(AV77:AX77)=0,0,AV77+AW77+AX77),IF($AM$11=\"PP\",IF(MIN(AW77:AX77)=0,0,AW77+AX77),IF($AM$11=\"BP\",AW77,IF($AM$11=\"DL\",AX77,AV77))))","v":485},{"$f":"ROUND(AY77*H77,5)","v":324.12549000000001},{"$f":"ROUND(IFERROR(VLOOKUP(AS77,[2]DATA!$A$2:$B$63,2,FALSE),1)*AZ77,5)","v":371.77193999999997},{"$f":"IFERROR(IF(AN77=1,AY77,IF(AN77=2,AZ77,IF(AN77=3,BA77,AZ77))),0)","v":485},null,null,null,null,null,null,null,null,null,null,null,null,null,null,null,null,null,null,null,null,null,null,null,{"$f":"IFERROR(IF(FIND(\"DT\",AE77),\"Y\",\"\"),\"\")","v":""},null,{"$f":"CONCATENATE(IF(AN77=4,\"\",D77),IF(AN77=1,F77,\"\"))","v":"MR-O83"},{"$f":"IF($AM$11=\"SQ\",AJ77,IF($AM$11=\"BP\",AK77,AL77))","v":59},{"$f":"1+COUNTIFS(INDIRECT(\"AN12:AN500\"),AN77,INDIRECT(\"CB12:CB500\"),CB77,INDIRECT(\"AO12:AO500\"),\">\"&AO77)\n+COUNTIFS(INDIRECT(\"AO12:AO500\"),AO77,INDIRECT(\"AN12:AN500\"),1,INDIRECT(\"CB12:CB500\"),CB77,INDIRECT(\"E12:E500\"),\"<\"&E77)\n+COUNTIFS(INDIRECT(\"AO12:AO500\"),AO77,INDIRECT(\"AN12:AN500\"),1,INDIRECT(\"CB12:CB500\"),CB77,INDIRECT(\"E12:E500\"),E77,INDIRECT(\"CC12:CC500\"),\"<\"&CC77)","v":11},{"$f":"1+COUNTIFS(INDIRECT(\"AN12:AN500\"),AN77,INDIRECT(\"CB12:CB500\"),CB77,INDIRECT(\"BB12:BB500\"),\">\"&BB77)\n+COUNTIFS(INDIRECT(\"BB12:BB500\"),BB77,INDIRECT(\"AN12:AN500\"),1,INDIRECT(\"CB12:CB500\"),CB77,INDIRECT(\"E12:E500\"),\"<\"&E77)","v":11}]
["1C","Jacob Melvin","NC","MR-O",80.62,{"$f":"IFERROR(VLOOKUP(E78,[2]DATA!$E$2:$G$22,IF(LEFT(D78,1)=\"M\",2,3)),\"\")","v":83},209,{"$f":"IFERROR(IF(LEFT(D78,1)=\"M\",Wilks_Men(IF($E$11=\"Bwt - Lb\",E78/2.2046,E78)),Wilks_Women(IF($E$11=\"Bwt - Lb\",E78/2.2046,E78))),\"\")","v":0.67940002679824829},"1991-03-10","15",207.5,210,215,{"$f":"IF(MAX(K78:M78)<=0,0,MAX(CELL(\"color\",K78)*K78,CELL(\"color\",L78)*L78,CELL(\"color\",M78)*M78))","v":215},"14-7",-145,-145,-145,{"$f":"IF(MAX(P78:R78)<=0,0,MAX(CELL(\"color\",P78)*P78,CELL(\"color\",Q78)*Q78,CELL(\"color\",R78)*R78))","v":0},{"$f":"IF(OR(N78=0,S78=0),0,N78+S78)","v":0},237.5,245,250,{"$f":"IF(MAX(U78:W78)<=0,0,MAX(CELL(\"color\",U78)*U78,CELL(\"color\",V78)*V78,CELL(\"color\",W78)*W78))","v":250},{"$f":"AM78*IF($AM$11=\"SQ\",N78,IF($AM$11=\"BP\",S78,IF($AM$11=\"DL\",X78,IF($AM$11=\"PP\",IF(OR(S78=0,X78=0),0,S78+X78),IF(OR(T78=0,X78=0),0,T78+X78)))))","v":0},{"$f":"IF(Y78=0,\"\",CONCATENATE(CD78,\"/\",IF(AN78=4,\"Wilks\",D78),\"/\",IF(AN78>1,\"\",F78),\"/\",$AM$11))","v":""},{"$f":"BB78","v":0},{"$f":"IF(AA78=0,\"\",CE78)","v":""},{"$f":"H78*IF($E$3=\"Kg\",Y78,Y78/2.2046)","v":0},{"$f":"IFERROR(VLOOKUP(AS78,[2]DATA!$A$2:$B$63,2,TRUE),0)*AC78","v":0},"PL",995460,"NC",{"$f":"IFERROR(VLOOKUP(A78,[2]Setup!$Q$5:$R$20,2,FALSE),\"\")","v":2},{"$f":"IF(VALUE(INDIRECT(CONCATENATE($AI$11,ROW())))=0,\"\",ABS(INDIRECT(CONCATENATE($AI$11,ROW())))+0.000001*G78)","v":250.00020900000001},103,0,106,{"$f":"IF(ISERROR(SEARCH($AM$11,AE78)),0,1)","v":1},{"$f":"VLOOKUP(D78,[2]Setup!$I$6:$K$93,3,FALSE)","v":1},{"$f":"ROUND(IFERROR(IF(AN78=1,Y78,IF(AN78=2,AC78,IF(AN78=3,AD78,AC78))),0),5)","v":0},null,{"$f":"IFERROR(MATCH(D78,[2]Setup!$I$6:$I$93,0),\"\")","v":27},{"$f":"IFERROR(CONCATENATE(LEFT(D78,FIND(\"-\",D78)),IF(AS78=\"\",\"O\",VLOOKUP(AS78,[2]DATA!$E$35:$F$53,2,TRUE))),\"\")","v":"MR-O"},{"$f":"IF(YEAR($AR$7)-YEAR(I78)<40,DATEDIF(I78,$AR$7,\"Y\"),YEAR($AR$7)-YEAR(I78))","v":27},{"$f":"IF(AN78=1,MATCH(F78,[2]DATA!$AB$2:$AB$34,0),0)","v":21},null,{"$f":"IF(MAX(K78:M78)>0,MAX(K78:M78),0)","v":215},{"$f":"IF(MAX(P78:R78)>0,MAX(P78:R78),0)","v":0},{"$f":"IF(MAX(U78:W78)>0,MAX(U78:W78),0)","v":250},{"$f":"AM78*IF($AM$11=\"PL\",IF(MIN(AV78:AX78)=0,0,AV78+AW78+AX78),IF($AM$11=\"PP\",IF(MIN(AW78:AX78)=0,0,AW78+AX78),IF($AM$11=\"BP\",AW78,IF($AM$11=\"DL\",AX78,AV78))))","v":0},{"$f":"ROUND(AY78*H78,5)","v":0},{"$f":"ROUND(IFERROR(VLOOKUP(AS78,[2]DATA!$A$2:$B$63,2,FALSE),1)*AZ78,5)","v":0},{"$f":"IFERROR(IF(AN78=1,AY78,IF(AN78=2,AZ78,IF(AN78=3,BA78,AZ78))),0)","v":0},null,null,null,null,"16:19:18",null,null,null,null,null,null,null,null,null,null,null,null,null,null,null,null,null,null,{"$f":"IFERROR(IF(FIND(\"DT\",AE78),\"Y\",\"\"),\"\")","v":""},null,{"$f":"CONCATENATE(IF(AN78=4,\"\",D78),IF(AN78=1,F78,\"\"))","v":"MR-O83"},{"$f":"IF($AM$11=\"SQ\",AJ78,IF($AM$11=\"BP\",AK78,AL78))","v":106},{"$f":"1+COUNTIFS(INDIRECT(\"AN12:AN500\"),AN78,INDIRECT(\"CB12:CB500\"),CB78,INDIRECT(\"AO12:AO500\"),\">\"&AO78)\n+COUNTIFS(INDIRECT(\"AO12:AO500\"),AO78,INDIRECT(\"AN12:AN500\"),1,INDIRECT(\"CB12:CB500\"),CB78,INDIRECT(\"E12:E500\"),\"<\"&E78)\n+COUNTIFS(INDIRECT(\"AO12:AO500\"),AO78,INDIRECT(\"AN12:AN500\"),1,INDIRECT(\"CB12:CB500\"),CB78,INDIRECT(\"E12:E500\"),E78,INDIRECT(\"CC12:CC500\"),\"<\"&CC78)","v":12},{"$f":"1+COUNTIFS(INDIRECT(\"AN12:AN500\"),AN78,INDIRECT(\"CB12:CB500\"),CB78,INDIRECT(\"BB12:BB500\"),\">\"&BB78)\n+COUNTIFS(INDIRECT(\"BB12:BB500\"),BB78,INDIRECT(\"AN12:AN500\"),1,INDIRECT(\"CB12:CB500\"),CB78,INDIRECT(\"E12:E500\"),\"<\"&E78)","v":12}]
["3A","Andre' Easter II","NC","MR-O",91.8,{"$f":"IFERROR(VLOOKUP(E79,[3]DATA!$E$2:$G$22,IF(LEFT(D79,1)=\"M\",2,3)),\"\")","v":93},606,{"$f":"IFERROR(IF(LEFT(D79,1)=\"M\",Wilks_Men(IF($E$11=\"Bwt - Lb\",E79/2.2046,E79)),Wilks_Women(IF($E$11=\"Bwt - Lb\",E79/2.2046,E79))),\"\")","v":0.63209998607635498},"1990-09-28","14",267.5,275,-285,{"$f":"IF(MAX(K79:M79)<=0,0,MAX(CELL(\"color\",K79)*K79,CELL(\"color\",L79)*L79,CELL(\"color\",M79)*M79))","v":275},"14-8",190,195,-202.5,{"$f":"IF(MAX(P79:R79)<=0,0,MAX(CELL(\"color\",P79)*P79,CELL(\"color\",Q79)*Q79,CELL(\"color\",R79)*R79))","v":195},{"$f":"IF(OR(N79=0,S79=0),0,N79+S79)","v":470},270,287.5,300,{"$f":"IF(MAX(U79:W79)<=0,0,MAX(CELL(\"color\",U79)*U79,CELL(\"color\",V79)*V79,CELL(\"color\",W79)*W79))","v":300},{"$f":"AM79*IF($AM$11=\"SQ\",N79,IF($AM$11=\"BP\",S79,IF($AM$11=\"DL\",X79,IF($AM$11=\"PP\",IF(OR(S79=0,X79=0),0,S79+X79),IF(OR(T79=0,X79=0),0,T79+X79)))))","v":770},{"$f":"IF(Y79=0,\"\",CONCATENATE(CD79,\"/\",IF(AN79=4,\"Wilks\",D79),\"/\",IF(AN79>1,\"\",F79),\"/\",$AM$11))","v":"1/MR-O/93/PL"},{"$f":"BB79","v":770},{"$f":"IF(AA79=0,\"\",CE79)","v":1},{"$f":"H79*IF($E$3=\"Kg\",Y79,Y79/2.2046)","v":486.71698927879333},{"$f":"IFERROR(VLOOKUP(AS79,[3]DATA!$A$2:$B$63,2,TRUE),0)*AC79","v":486.71698927879333},"PL BP",967174,"NC",{"$f":"IFERROR(VLOOKUP(A79,[3]Setup!$Q$5:$R$20,2,FALSE),\"\")","v":0},{"$f":"IF(VALUE(INDIRECT(CONCATENATE($AI$11,ROW())))=0,\"\",ABS(INDIRECT(CONCATENATE($AI$11,ROW())))+0.000001*G79)","v":300.000606},27,22,32,{"$f":"IF(ISERROR(SEARCH($AM$11,AE79)),0,1)","v":1},{"$f":"VLOOKUP(D79,[3]Setup!$I$6:$K$93,3,FALSE)","v":1},{"$f":"ROUND(IFERROR(IF(AN79=1,Y79,IF(AN79=2,AC79,IF(AN79=3,AD79,AC79))),0),5)","v":770},null,{"$f":"IFERROR(MATCH(D79,[3]Setup!$I$6:$I$93,0),\"\")","v":27},{"$f":"IFERROR(CONCATENATE(LEFT(D79,FIND(\"-\",D79)),IF(AS79=\"\",\"O\",VLOOKUP(AS79,[3]DATA!$E$35:$F$53,2,TRUE))),\"\")","v":"MR-O"},{"$f":"IF(YEAR($AR$7)-YEAR(I79)<40,DATEDIF(I79,$AR$7,\"Y\"),YEAR($AR$7)-YEAR(I79))","v":27},{"$f":"IF(AN79=1,MATCH(F79,[3]DATA!$AB$2:$AB$34,0),0)","v":26},null,{"$f":"IF(MAX(K79:M79)>0,MAX(K79:M79),0)","v":275},{"$f":"IF(MAX(P79:R79)>0,MAX(P79:R79),0)","v":195},{"$f":"IF(MAX(U79:W79)>0,MAX(U79:W79),0)","v":300},{"$f":"AM79*IF($AM$11=\"PL\",IF(MIN(AV79:AX79)=0,0,AV79+AW79+AX79),IF($AM$11=\"PP\",IF(MIN(AW79:AX79)=0,0,AW79+AX79),IF($AM$11=\"BP\",AW79,IF($AM$11=\"DL\",AX79,AV79))))","v":770},{"$f":"ROUND(AY79*H79,5)","v":486.71699000000001},{"$f":"ROUND(IFERROR(VLOOKUP(AS79,[3]DATA!$A$2:$B$63,2,FALSE),1)*AZ79,5)","v":486.71699000000001},{"$f":"IFERROR(IF(AN79=1,AY79,IF(AN79=2,AZ79,IF(AN79=3,BA79,AZ79))),0)","v":770},null,null,null,null,null,null,null,null,null,null,null,null,null,null,null,null,null,null,null,null,null,null,null,{"$f":"IFERROR(IF(FIND(\"DT\",AE79),\"Y\",\"\"),\"\")","v":""},null,{"$f":"CONCATENATE(IF(AN79=4,\"\",D79),IF(AN79=1,F79,\"\"))","v":"MR-O93"},{"$f":"IF($AM$11=\"SQ\",AJ79,IF($AM$11=\"BP\",AK79,AL79))","v":32},{"$f":"1+COUNTIFS(INDIRECT(\"AN12:AN500\"),AN79,INDIRECT(\"CB12:CB500\"),CB79,INDIRECT(\"AO12:AO500\"),\">\"&AO79)\n+COUNTIFS(INDIRECT(\"AO12:AO500\"),AO79,INDIRECT(\"AN12:AN500\"),1,INDIRECT(\"CB12:CB500\"),CB79,INDIRECT(\"E12:E500\"),\"<\"&E79)\n+COUNTIFS(INDIRECT(\"AO12:AO500\"),AO79,INDIRECT(\"AN12:AN500\"),1,INDIRECT(\"CB12:CB500\"),CB79,INDIRECT(\"E12:E500\"),E79,INDIRECT(\"CC12:CC500\"),\"<\"&CC79)","v":1},{"$f":"1+COUNTIFS(INDIRECT(\"AN12:AN500\"),AN79,INDIRECT(\"CB12:CB500\"),CB79,INDIRECT(\"BB12:BB500\"),\">\"&BB79)\n+COUNTIFS(INDIRECT(\"BB12:BB500\"),BB79,INDIRECT(\"AN12:AN500\"),1,INDIRECT(\"CB12:CB500\"),CB79,INDIRECT(\"E12:E500\"),\"<\"&E79)","v":1}]
["3A","Rob Rykowski","NC","MR-O",92.26,{"$f":"IFERROR(VLOOKUP(E80,[3]DATA!$E$2:$G$22,IF(LEFT(D80,1)=\"M\",2,3)),\"\")","v":93},612,{"$f":"IFERROR(IF(LEFT(D80,1)=\"M\",Wilks_Men(IF($E$11=\"Bwt - Lb\",E80/2.2046,E80)),Wilks_Women(IF($E$11=\"Bwt - Lb\",E80/2.2046,E80))),\"\")","v":0.6305999755859375},"1984-07-17","18",230,242.5,250,{"$f":"IF(MAX(K80:M80)<=0,0,MAX(CELL(\"color\",K80)*K80,CELL(\"color\",L80)*L80,CELL(\"color\",M80)*M80))","v":250},"16-7",137.5,142.5,null,{"$f":"IF(MAX(P80:R80)<=0,0,MAX(CELL(\"color\",P80)*P80,CELL(\"color\",Q80)*Q80,CELL(\"color\",R80)*R80))","v":142.5},{"$f":"IF(OR(N80=0,S80=0),0,N80+S80)","v":392.5},300,310,-317.5,{"$f":"IF(MAX(U80:W80)<=0,0,MAX(CELL(\"color\",U80)*U80,CELL(\"color\",V80)*V80,CELL(\"color\",W80)*W80))","v":310},{"$f":"AM80*IF($AM$11=\"SQ\",N80,IF($AM$11=\"BP\",S80,IF($AM$11=\"DL\",X80,IF($AM$11=\"PP\",IF(OR(S80=0,X80=0),0,S80+X80),IF(OR(T80=0,X80=0),0,T80+X80)))))","v":702.5},{"$f":"IF(Y80=0,\"\",CONCATENATE(CD80,\"/\",IF(AN80=4,\"Wilks\",D80),\"/\",IF(AN80>1,\"\",F80),\"/\",$AM$11))","v":"2/MR-O/93/PL"},{"$f":"BB80","v":702.5},{"$f":"IF(AA80=0,\"\",CE80)","v":2},{"$f":"H80*IF($E$3=\"Kg\",Y80,Y80/2.2046)","v":442.99648284912109},{"$f":"IFERROR(VLOOKUP(AS80,[3]DATA!$A$2:$B$63,2,TRUE),0)*AC80","v":442.99648284912109},"PL",967293,"NC",{"$f":"IFERROR(VLOOKUP(A80,[3]Setup!$Q$5:$R$20,2,FALSE),\"\")","v":0},{"$f":"IF(VALUE(INDIRECT(CONCATENATE($AI$11,ROW())))=0,\"\",ABS(INDIRECT(CONCATENATE($AI$11,ROW())))+0.000001*G80)","v":317.50061199999999},34,20,26,{"$f":"IF(ISERROR(SEARCH($AM$11,AE80)),0,1)","v":1},{"$f":"VLOOKUP(D80,[3]Setup!$I$6:$K$93,3,FALSE)","v":1},{"$f":"ROUND(IFERROR(IF(AN80=1,Y80,IF(AN80=2,AC80,IF(AN80=3,AD80,AC80))),0),5)","v":702.5},null,{"$f":"IFERROR(MATCH(D80,[3]Setup!$I$6:$I$93,0),\"\")","v":27},{"$f":"IFERROR(CONCATENATE(LEFT(D80,FIND(\"-\",D80)),IF(AS80=\"\",\"O\",VLOOKUP(AS80,[3]DATA!$E$35:$F$53,2,TRUE))),\"\")","v":"MR-O"},{"$f":"IF(YEAR($AR$7)-YEAR(I80)<40,DATEDIF(I80,$AR$7,\"Y\"),YEAR($AR$7)-YEAR(I80))","v":33},{"$f":"IF(AN80=1,MATCH(F80,[3]DATA!$AB$2:$AB$34,0),0)","v":26},null,{"$f":"IF(MAX(K80:M80)>0,MAX(K80:M80),0)","v":250},{"$f":"IF(MAX(P80:R80)>0,MAX(P80:R80),0)","v":142.5},{"$f":"IF(MAX(U80:W80)>0,MAX(U80:W80),0)","v":310},{"$f":"AM80*IF($AM$11=\"PL\",IF(MIN(AV80:AX80)=0,0,AV80+AW80+AX80),IF($AM$11=\"PP\",IF(MIN(AW80:AX80)=0,0,AW80+AX80),IF($AM$11=\"BP\",AW80,IF($AM$11=\"DL\",AX80,AV80))))","v":702.5},{"$f":"ROUND(AY80*H80,5)","v":442.99648000000002},{"$f":"ROUND(IFERROR(VLOOKUP(AS80,[3]DATA!$A$2:$B$63,2,FALSE),1)*AZ80,5)","v":442.99648000000002},{"$f":"IFERROR(IF(AN80=1,AY80,IF(AN80=2,AZ80,IF(AN80=3,BA80,AZ80))),0)","v":702.5},null,null,null,null,null,null,null,null,null,null,null,null,null,null,null,null,null,null,null,null,null,null,null,{"$f":"IFERROR(IF(FIND(\"DT\",AE80),\"Y\",\"\"),\"\")","v":""},null,{"$f":"CONCATENATE(IF(AN80=4,\"\",D80),IF(AN80=1,F80,\"\"))","v":"MR-O93"},{"$f":"IF($AM$11=\"SQ\",AJ80,IF($AM$11=\"BP\",AK80,AL80))","v":26},{"$f":"1+COUNTIFS(INDIRECT(\"AN12:AN500\"),AN80,INDIRECT(\"CB12:CB500\"),CB80,INDIRECT(\"AO12:AO500\"),\">\"&AO80)\n+COUNTIFS(INDIRECT(\"AO12:AO500\"),AO80,INDIRECT(\"AN12:AN500\"),1,INDIRECT(\"CB12:CB500\"),CB80,INDIRECT(\"E12:E500\"),\"<\"&E80)\n+COUNTIFS(INDIRECT(\"AO12:AO500\"),AO80,INDIRECT(\"AN12:AN500\"),1,INDIRECT(\"CB12:CB500\"),CB80,INDIRECT(\"E12:E500\"),E80,INDIRECT(\"CC12:CC500\"),\"<\"&CC80)","v":2},{"$f":"1+COUNTIFS(INDIRECT(\"AN12:AN500\"),AN80,INDIRECT(\"CB12:CB500\"),CB80,INDIRECT(\"BB12:BB500\"),\">\"&BB80)\n+COUNTIFS(INDIRECT(\"BB12:BB500\"),BB80,INDIRECT(\"AN12:AN500\"),1,INDIRECT(\"CB12:CB500\"),CB80,INDIRECT(\"E12:E500\"),\"<\"&E80)","v":2}]
["1B","Zak Mayo","NC","MR-O",92.26,{"$f":"IFERROR(VLOOKUP(E81,[2]DATA!$E$2:$G$22,IF(LEFT(D81,1)=\"M\",2,3)),\"\")","v":93},105,{"$f":"IFERROR(IF(LEFT(D81,1)=\"M\",Wilks_Men(IF($E$11=\"Bwt - Lb\",E81/2.2046,E81)),Wilks_Women(IF($E$11=\"Bwt - Lb\",E81/2.2046,E81))),\"\")","v":0.6305999755859375},"1974-04-30","16",230,242.5,247.5,{"$f":"IF(MAX(K81:M81)<=0,0,MAX(CELL(\"color\",K81)*K81,CELL(\"color\",L81)*L81,CELL(\"color\",M81)*M81))","v":247.5},"13-7",150,160,-165,{"$f":"IF(MAX(P81:R81)<=0,0,MAX(CELL(\"color\",P81)*P81,CELL(\"color\",Q81)*Q81,CELL(\"color\",R81)*R81))","v":160},{"$f":"IF(OR(N81=0,S81=0),0,N81+S81)","v":407.5},280,-300,-300,{"$f":"IF(MAX(U81:W81)<=0,0,MAX(CELL(\"color\",U81)*U81,CELL(\"color\",V81)*V81,CELL(\"color\",W81)*W81))","v":280},{"$f":"AM81*IF($AM$11=\"SQ\",N81,IF($AM$11=\"BP\",S81,IF($AM$11=\"DL\",X81,IF($AM$11=\"PP\",IF(OR(S81=0,X81=0),0,S81+X81),IF(OR(T81=0,X81=0),0,T81+X81)))))","v":687.5},{"$f":"IF(Y81=0,\"\",CONCATENATE(CD81,\"/\",IF(AN81=4,\"Wilks\",D81),\"/\",IF(AN81>1,\"\",F81),\"/\",$AM$11))","v":"3/MR-O/93/PL"},{"$f":"BB81","v":687.5},{"$f":"IF(AA81=0,\"\",CE81)","v":3},{"$f":"H81*IF($E$3=\"Kg\",Y81,Y81/2.2046)","v":433.53748321533203},{"$f":"IFERROR(VLOOKUP(AS81,[2]DATA!$A$2:$B$63,2,TRUE),0)*AC81","v":452.17959499359125},"PL",100399,"NC",{"$f":"IFERROR(VLOOKUP(A81,[2]Setup!$Q$5:$R$20,2,FALSE),\"\")","v":1},{"$f":"IF(VALUE(INDIRECT(CONCATENATE($AI$11,ROW())))=0,\"\",ABS(INDIRECT(CONCATENATE($AI$11,ROW())))+0.000001*G81)","v":300.00010500000002},79,61,51,{"$f":"IF(ISERROR(SEARCH($AM$11,AE81)),0,1)","v":1},{"$f":"VLOOKUP(D81,[2]Setup!$I$6:$K$93,3,FALSE)","v":1},{"$f":"ROUND(IFERROR(IF(AN81=1,Y81,IF(AN81=2,AC81,IF(AN81=3,AD81,AC81))),0),5)","v":687.5},null,{"$f":"IFERROR(MATCH(D81,[2]Setup!$I$6:$I$93,0),\"\")","v":27},{"$f":"IFERROR(CONCATENATE(LEFT(D81,FIND(\"-\",D81)),IF(AS81=\"\",\"O\",VLOOKUP(AS81,[2]DATA!$E$35:$F$53,2,TRUE))),\"\")","v":"MR-M1a"},{"$f":"IF(YEAR($AR$7)-YEAR(I81)<40,DATEDIF(I81,$AR$7,\"Y\"),YEAR($AR$7)-YEAR(I81))","v":44},{"$f":"IF(AN81=1,MATCH(F81,[2]DATA!$AB$2:$AB$34,0),0)","v":26},null,{"$f":"IF(MAX(K81:M81)>0,MAX(K81:M81),0)","v":247.5},{"$f":"IF(MAX(P81:R81)>0,MAX(P81:R81),0)","v":160},{"$f":"IF(MAX(U81:W81)>0,MAX(U81:W81),0)","v":280},{"$f":"AM81*IF($AM$11=\"PL\",IF(MIN(AV81:AX81)=0,0,AV81+AW81+AX81),IF($AM$11=\"PP\",IF(MIN(AW81:AX81)=0,0,AW81+AX81),IF($AM$11=\"BP\",AW81,IF($AM$11=\"DL\",AX81,AV81))))","v":687.5},{"$f":"ROUND(AY81*H81,5)","v":433.53748000000002},{"$f":"ROUND(IFERROR(VLOOKUP(AS81,[2]DATA!$A$2:$B$63,2,FALSE),1)*AZ81,5)","v":452.17959000000002},{"$f":"IFERROR(IF(AN81=1,AY81,IF(AN81=2,AZ81,IF(AN81=3,BA81,AZ81))),0)","v":687.5},null,null,null,null,null,null,null,null,null,null,null,null,null,null,null,null,null,null,null,null,null,null,null,{"$f":"IFERROR(IF(FIND(\"DT\",AE81),\"Y\",\"\"),\"\")","v":""},null,{"$f":"CONCATENATE(IF(AN81=4,\"\",D81),IF(AN81=1,F81,\"\"))","v":"MR-O93"},{"$f":"IF($AM$11=\"SQ\",AJ81,IF($AM$11=\"BP\",AK81,AL81))","v":51},{"$f":"1+COUNTIFS(INDIRECT(\"AN12:AN500\"),AN81,INDIRECT(\"CB12:CB500\"),CB81,INDIRECT(\"AO12:AO500\"),\">\"&AO81)\n+COUNTIFS(INDIRECT(\"AO12:AO500\"),AO81,INDIRECT(\"AN12:AN500\"),1,INDIRECT(\"CB12:CB500\"),CB81,INDIRECT(\"E12:E500\"),\"<\"&E81)\n+COUNTIFS(INDIRECT(\"AO12:AO500\"),AO81,INDIRECT(\"AN12:AN500\"),1,INDIRECT(\"CB12:CB500\"),CB81,INDIRECT(\"E12:E500\"),E81,INDIRECT(\"CC12:CC500\"),\"<\"&CC81)","v":3},{"$f":"1+COUNTIFS(INDIRECT(\"AN12:AN500\"),AN81,INDIRECT(\"CB12:CB500\"),CB81,INDIRECT(\"BB12:BB500\"),\">\"&BB81)\n+COUNTIFS(INDIRECT(\"BB12:BB500\"),BB81,INDIRECT(\"AN12:AN500\"),1,INDIRECT(\"CB12:CB500\"),CB81,INDIRECT(\"E12:E500\"),\"<\"&E81)","v":3}]
["3A","Joshua Riley","NC","MR-O",90.8,{"$f":"IFERROR(VLOOKUP(E82,[3]DATA!$E$2:$G$22,IF(LEFT(D82,1)=\"M\",2,3)),\"\")","v":93},604,{"$f":"IFERROR(IF(LEFT(D82,1)=\"M\",Wilks_Men(IF($E$11=\"Bwt - Lb\",E82/2.2046,E82)),Wilks_Women(IF($E$11=\"Bwt - Lb\",E82/2.2046,E82))),\"\")","v":0.63559997081756592},"1992-03-25","18",205,215,-227.5,{"$f":"IF(MAX(K82:M82)<=0,0,MAX(CELL(\"color\",K82)*K82,CELL(\"color\",L82)*L82,CELL(\"color\",M82)*M82))","v":215},"17-7",135,142.5,-145,{"$f":"IF(MAX(P82:R82)<=0,0,MAX(CELL(\"color\",P82)*P82,CELL(\"color\",Q82)*Q82,CELL(\"color\",R82)*R82))","v":142.5},{"$f":"IF(OR(N82=0,S82=0),0,N82+S82)","v":357.5},265,-277.5,-277.5,{"$f":"IF(MAX(U82:W82)<=0,0,MAX(CELL(\"color\",U82)*U82,CELL(\"color\",V82)*V82,CELL(\"color\",W82)*W82))","v":265},{"$f":"AM82*IF($AM$11=\"SQ\",N82,IF($AM$11=\"BP\",S82,IF($AM$11=\"DL\",X82,IF($AM$11=\"PP\",IF(OR(S82=0,X82=0),0,S82+X82),IF(OR(T82=0,X82=0),0,T82+X82)))))","v":622.5},{"$f":"IF(Y82=0,\"\",CONCATENATE(CD82,\"/\",IF(AN82=4,\"Wilks\",D82),\"/\",IF(AN82>1,\"\",F82),\"/\",$AM$11))","v":"4/MR-O/93/PL"},{"$f":"BB82","v":622.5},{"$f":"IF(AA82=0,\"\",CE82)","v":4},{"$f":"H82*IF($E$3=\"Kg\",Y82,Y82/2.2046)","v":395.66098183393478},{"$f":"IFERROR(VLOOKUP(AS82,[3]DATA!$A$2:$B$63,2,TRUE),0)*AC82","v":395.66098183393478},"PL",998986,"NC",{"$f":"IFERROR(VLOOKUP(A82,[3]Setup!$Q$5:$R$20,2,FALSE),\"\")","v":0},{"$f":"IF(VALUE(INDIRECT(CONCATENATE($AI$11,ROW())))=0,\"\",ABS(INDIRECT(CONCATENATE($AI$11,ROW())))+0.000001*G82)","v":277.50060400000001},22,19,12,{"$f":"IF(ISERROR(SEARCH($AM$11,AE82)),0,1)","v":1},{"$f":"VLOOKUP(D82,[3]Setup!$I$6:$K$93,3,FALSE)","v":1},{"$f":"ROUND(IFERROR(IF(AN82=1,Y82,IF(AN82=2,AC82,IF(AN82=3,AD82,AC82))),0),5)","v":622.5},null,{"$f":"IFERROR(MATCH(D82,[3]Setup!$I$6:$I$93,0),\"\")","v":27},{"$f":"IFERROR(CONCATENATE(LEFT(D82,FIND(\"-\",D82)),IF(AS82=\"\",\"O\",VLOOKUP(AS82,[3]DATA!$E$35:$F$53,2,TRUE))),\"\")","v":"MR-O"},{"$f":"IF(YEAR($AR$7)-YEAR(I82)<40,DATEDIF(I82,$AR$7,\"Y\"),YEAR($AR$7)-YEAR(I82))","v":25},{"$f":"IF(AN82=1,MATCH(F82,[3]DATA!$AB$2:$AB$34,0),0)","v":26},null,{"$f":"IF(MAX(K82:M82)>0,MAX(K82:M82),0)","v":215},{"$f":"IF(MAX(P82:R82)>0,MAX(P82:R82),0)","v":142.5},{"$f":"IF(MAX(U82:W82)>0,MAX(U82:W82),0)","v":265},{"$f":"AM82*IF($AM$11=\"PL\",IF(MIN(AV82:AX82)=0,0,AV82+AW82+AX82),IF($AM$11=\"PP\",IF(MIN(AW82:AX82)=0,0,AW82+AX82),IF($AM$11=\"BP\",AW82,IF($AM$11=\"DL\",AX82,AV82))))","v":622.5},{"$f":"ROUND(AY82*H82,5)","v":395.66098},{"$f":"ROUND(IFERROR(VLOOKUP(AS82,[3]DATA!$A$2:$B$63,2,FALSE),1)*AZ82,5)","v":395.66098},{"$f":"IFERROR(IF(AN82=1,AY82,IF(AN82=2,AZ82,IF(AN82=3,BA82,AZ82))),0)","v":622.5},null,null,null,null,null,null,null,null,null,null,null,null,null,null,null,null,null,null,null,null,null,null,null,{"$f":"IFERROR(IF(FIND(\"DT\",AE82),\"Y\",\"\"),\"\")","v":""},null,{"$f":"CONCATENATE(IF(AN82=4,\"\",D82),IF(AN82=1,F82,\"\"))","v":"MR-O93"},{"$f":"IF($AM$11=\"SQ\",AJ82,IF($AM$11=\"BP\",AK82,AL82))","v":12},{"$f":"1+COUNTIFS(INDIRECT(\"AN12:AN500\"),AN82,INDIRECT(\"CB12:CB500\"),CB82,INDIRECT(\"AO12:AO500\"),\">\"&AO82)\n+COUNTIFS(INDIRECT(\"AO12:AO500\"),AO82,INDIRECT(\"AN12:AN500\"),1,INDIRECT(\"CB12:CB500\"),CB82,INDIRECT(\"E12:E500\"),\"<\"&E82)\n+COUNTIFS(INDIRECT(\"AO12:AO500\"),AO82,INDIRECT(\"AN12:AN500\"),1,INDIRECT(\"CB12:CB500\"),CB82,INDIRECT(\"E12:E500\"),E82,INDIRECT(\"CC12:CC500\"),\"<\"&CC82)","v":4},{"$f":"1+COUNTIFS(INDIRECT(\"AN12:AN500\"),AN82,INDIRECT(\"CB12:CB500\"),CB82,INDIRECT(\"BB12:BB500\"),\">\"&BB82)\n+COUNTIFS(INDIRECT(\"BB12:BB500\"),BB82,INDIRECT(\"AN12:AN500\"),1,INDIRECT(\"CB12:CB500\"),CB82,INDIRECT(\"E12:E500\"),\"<\"&E82)","v":4}]
["3A","Neil Kern","NC","MR-O",92.12,{"$f":"IFERROR(VLOOKUP(E83,[3]DATA!$E$2:$G$22,IF(LEFT(D83,1)=\"M\",2,3)),\"\")","v":93},214,{"$f":"IFERROR(IF(LEFT(D83,1)=\"M\",Wilks_Men(IF($E$11=\"Bwt - Lb\",E83/2.2046,E83)),Wilks_Women(IF($E$11=\"Bwt - Lb\",E83/2.2046,E83))),\"\")","v":0.63109999895095825},"1988-03-22","20",185,202.5,207.5,{"$f":"IF(MAX(K83:M83)<=0,0,MAX(CELL(\"color\",K83)*K83,CELL(\"color\",L83)*L83,CELL(\"color\",M83)*M83))","v":207.5},"15-6",145,-150,150,{"$f":"IF(MAX(P83:R83)<=0,0,MAX(CELL(\"color\",P83)*P83,CELL(\"color\",Q83)*Q83,CELL(\"color\",R83)*R83))","v":150},{"$f":"IF(OR(N83=0,S83=0),0,N83+S83)","v":357.5},235,250,262.5,{"$f":"IF(MAX(U83:W83)<=0,0,MAX(CELL(\"color\",U83)*U83,CELL(\"color\",V83)*V83,CELL(\"color\",W83)*W83))","v":262.5},{"$f":"AM83*IF($AM$11=\"SQ\",N83,IF($AM$11=\"BP\",S83,IF($AM$11=\"DL\",X83,IF($AM$11=\"PP\",IF(OR(S83=0,X83=0),0,S83+X83),IF(OR(T83=0,X83=0),0,T83+X83)))))","v":620},{"$f":"IF(Y83=0,\"\",CONCATENATE(CD83,\"/\",IF(AN83=4,\"Wilks\",D83),\"/\",IF(AN83>1,\"\",F83),\"/\",$AM$11))","v":"5/MR-O/93/PL"},{"$f":"BB83","v":620},{"$f":"IF(AA83=0,\"\",CE83)","v":5},{"$f":"H83*IF($E$3=\"Kg\",Y83,Y83/2.2046)","v":391.28199934959412},{"$f":"IFERROR(VLOOKUP(AS83,[3]DATA!$A$2:$B$63,2,TRUE),0)*AC83","v":391.28199934959412},"PL",1015781,"NC",{"$f":"IFERROR(VLOOKUP(A83,[3]Setup!$Q$5:$R$20,2,FALSE),\"\")","v":0},{"$f":"IF(VALUE(INDIRECT(CONCATENATE($AI$11,ROW())))=0,\"\",ABS(INDIRECT(CONCATENATE($AI$11,ROW())))+0.000001*G83)","v":262.50021400000003},30,26,31,{"$f":"IF(ISERROR(SEARCH($AM$11,AE83)),0,1)","v":1},{"$f":"VLOOKUP(D83,[3]Setup!$I$6:$K$93,3,FALSE)","v":1},{"$f":"ROUND(IFERROR(IF(AN83=1,Y83,IF(AN83=2,AC83,IF(AN83=3,AD83,AC83))),0),5)","v":620},null,{"$f":"IFERROR(MATCH(D83,[3]Setup!$I$6:$I$93,0),\"\")","v":27},{"$f":"IFERROR(CONCATENATE(LEFT(D83,FIND(\"-\",D83)),IF(AS83=\"\",\"O\",VLOOKUP(AS83,[3]DATA!$E$35:$F$53,2,TRUE))),\"\")","v":"MR-O"},{"$f":"IF(YEAR($AR$7)-YEAR(I83)<40,DATEDIF(I83,$AR$7,\"Y\"),YEAR($AR$7)-YEAR(I83))","v":30},{"$f":"IF(AN83=1,MATCH(F83,[3]DATA!$AB$2:$AB$34,0),0)","v":26},null,{"$f":"IF(MAX(K83:M83)>0,MAX(K83:M83),0)","v":207.5},{"$f":"IF(MAX(P83:R83)>0,MAX(P83:R83),0)","v":150},{"$f":"IF(MAX(U83:W83)>0,MAX(U83:W83),0)","v":262.5},{"$f":"AM83*IF($AM$11=\"PL\",IF(MIN(AV83:AX83)=0,0,AV83+AW83+AX83),IF($AM$11=\"PP\",IF(MIN(AW83:AX83)=0,0,AW83+AX83),IF($AM$11=\"BP\",AW83,IF($AM$11=\"DL\",AX83,AV83))))","v":620},{"$f":"ROUND(AY83*H83,5)","v":391.28199999999998},{"$f":"ROUND(IFERROR(VLOOKUP(AS83,[3]DATA!$A$2:$B$63,2,FALSE),1)*AZ83,5)","v":391.28199999999998},{"$f":"IFERROR(IF(AN83=1,AY83,IF(AN83=2,AZ83,IF(AN83=3,BA83,AZ83))),0)","v":620},null,null,null,null,null,null,null,null,null,null,null,null,null,null,null,null,null,null,null,null,null,null,null,{"$f":"IFERROR(IF(FIND(\"DT\",AE83),\"Y\",\"\"),\"\")","v":""},null,{"$f":"CONCATENATE(IF(AN83=4,\"\",D83),IF(AN83=1,F83,\"\"))","v":"MR-O93"},{"$f":"IF($AM$11=\"SQ\",AJ83,IF($AM$11=\"BP\",AK83,AL83))","v":31},{"$f":"1+COUNTIFS(INDIRECT(\"AN12:AN500\"),AN83,INDIRECT(\"CB12:CB500\"),CB83,INDIRECT(\"AO12:AO500\"),\">\"&AO83)\n+COUNTIFS(INDIRECT(\"AO12:AO500\"),AO83,INDIRECT(\"AN12:AN500\"),1,INDIRECT(\"CB12:CB500\"),CB83,INDIRECT(\"E12:E500\"),\"<\"&E83)\n+COUNTIFS(INDIRECT(\"AO12:AO500\"),AO83,INDIRECT(\"AN12:AN500\"),1,INDIRECT(\"CB12:CB500\"),CB83,INDIRECT(\"E12:E500\"),E83,INDIRECT(\"CC12:CC500\"),\"<\"&CC83)","v":5},{"$f":"1+COUNTIFS(INDIRECT(\"AN12:AN500\"),AN83,INDIRECT(\"CB12:CB500\"),CB83,INDIRECT(\"BB12:BB500\"),\">\"&BB83)\n+COUNTIFS(INDIRECT(\"BB12:BB500\"),BB83,INDIRECT(\"AN12:AN500\"),1,INDIRECT(\"CB12:CB500\"),CB83,INDIRECT(\"E12:E500\"),\"<\"&E83)","v":5}]
["3A","Michael Markowkin","NC","MR-O",90.18,{"$f":"IFERROR(VLOOKUP(E84,[3]DATA!$E$2:$G$22,IF(LEFT(D84,1)=\"M\",2,3)),\"\")","v":93},610,{"$f":"IFERROR(IF(LEFT(D84,1)=\"M\",Wilks_Men(IF($E$11=\"Bwt - Lb\",E84/2.2046,E84)),Wilks_Women(IF($E$11=\"Bwt - Lb\",E84/2.2046,E84))),\"\")","v":0.63770002126693726},"1988-09-07","18",210,220,225,{"$f":"IF(MAX(K84:M84)<=0,0,MAX(CELL(\"color\",K84)*K84,CELL(\"color\",L84)*L84,CELL(\"color\",M84)*M84))","v":225},"15-7",152.5,-157.5,-157.5,{"$f":"IF(MAX(P84:R84)<=0,0,MAX(CELL(\"color\",P84)*P84,CELL(\"color\",Q84)*Q84,CELL(\"color\",R84)*R84))","v":152.5},{"$f":"IF(OR(N84=0,S84=0),0,N84+S84)","v":377.5},220,230,-235,{"$f":"IF(MAX(U84:W84)<=0,0,MAX(CELL(\"color\",U84)*U84,CELL(\"color\",V84)*V84,CELL(\"color\",W84)*W84))","v":230},{"$f":"AM84*IF($AM$11=\"SQ\",N84,IF($AM$11=\"BP\",S84,IF($AM$11=\"DL\",X84,IF($AM$11=\"PP\",IF(OR(S84=0,X84=0),0,S84+X84),IF(OR(T84=0,X84=0),0,T84+X84)))))","v":607.5},{"$f":"IF(Y84=0,\"\",CONCATENATE(CD84,\"/\",IF(AN84=4,\"Wilks\",D84),\"/\",IF(AN84>1,\"\",F84),\"/\",$AM$11))","v":"6/MR-O/93/PL"},{"$f":"BB84","v":607.5},{"$f":"IF(AA84=0,\"\",CE84)","v":6},{"$f":"H84*IF($E$3=\"Kg\",Y84,Y84/2.2046)","v":387.40276291966438},{"$f":"IFERROR(VLOOKUP(AS84,[3]DATA!$A$2:$B$63,2,TRUE),0)*AC84","v":387.40276291966438},"PL",1007467,"NC",{"$f":"IFERROR(VLOOKUP(A84,[3]Setup!$Q$5:$R$20,2,FALSE),\"\")","v":0},{"$f":"IF(VALUE(INDIRECT(CONCATENATE($AI$11,ROW())))=0,\"\",ABS(INDIRECT(CONCATENATE($AI$11,ROW())))+0.000001*G84)","v":235.00060999999999},33,10,20,{"$f":"IF(ISERROR(SEARCH($AM$11,AE84)),0,1)","v":1},{"$f":"VLOOKUP(D84,[3]Setup!$I$6:$K$93,3,FALSE)","v":1},{"$f":"ROUND(IFERROR(IF(AN84=1,Y84,IF(AN84=2,AC84,IF(AN84=3,AD84,AC84))),0),5)","v":607.5},null,{"$f":"IFERROR(MATCH(D84,[3]Setup!$I$6:$I$93,0),\"\")","v":27},{"$f":"IFERROR(CONCATENATE(LEFT(D84,FIND(\"-\",D84)),IF(AS84=\"\",\"O\",VLOOKUP(AS84,[3]DATA!$E$35:$F$53,2,TRUE))),\"\")","v":"MR-O"},{"$f":"IF(YEAR($AR$7)-YEAR(I84)<40,DATEDIF(I84,$AR$7,\"Y\"),YEAR($AR$7)-YEAR(I84))","v":29},{"$f":"IF(AN84=1,MATCH(F84,[3]DATA!$AB$2:$AB$34,0),0)","v":26},null,{"$f":"IF(MAX(K84:M84)>0,MAX(K84:M84),0)","v":225},{"$f":"IF(MAX(P84:R84)>0,MAX(P84:R84),0)","v":152.5},{"$f":"IF(MAX(U84:W84)>0,MAX(U84:W84),0)","v":230},{"$f":"AM84*IF($AM$11=\"PL\",IF(MIN(AV84:AX84)=0,0,AV84+AW84+AX84),IF($AM$11=\"PP\",IF(MIN(AW84:AX84)=0,0,AW84+AX84),IF($AM$11=\"BP\",AW84,IF($AM$11=\"DL\",AX84,AV84))))","v":607.5},{"$f":"ROUND(AY84*H84,5)","v":387.40276},{"$f":"ROUND(IFERROR(VLOOKUP(AS84,[3]DATA!$A$2:$B$63,2,FALSE),1)*AZ84,5)","v":387.40276},{"$f":"IFERROR(IF(AN84=1,AY84,IF(AN84=2,AZ84,IF(AN84=3,BA84,AZ84))),0)","v":607.5},null,null,null,null,null,null,null,null,null,null,null,null,null,null,null,null,null,null,null,null,null,null,null,{"$f":"IFERROR(IF(FIND(\"DT\",AE84),\"Y\",\"\"),\"\")","v":""},null,{"$f":"CONCATENATE(IF(AN84=4,\"\",D84),IF(AN84=1,F84,\"\"))","v":"MR-O93"},{"$f":"IF($AM$11=\"SQ\",AJ84,IF($AM$11=\"BP\",AK84,AL84))","v":20},{"$f":"1+COUNTIFS(INDIRECT(\"AN12:AN500\"),AN84,INDIRECT(\"CB12:CB500\"),CB84,INDIRECT(\"AO12:AO500\"),\">\"&AO84)\n+COUNTIFS(INDIRECT(\"AO12:AO500\"),AO84,INDIRECT(\"AN12:AN500\"),1,INDIRECT(\"CB12:CB500\"),CB84,INDIRECT(\"E12:E500\"),\"<\"&E84)\n+COUNTIFS(INDIRECT(\"AO12:AO500\"),AO84,INDIRECT(\"AN12:AN500\"),1,INDIRECT(\"CB12:CB500\"),CB84,INDIRECT(\"E12:E500\"),E84,INDIRECT(\"CC12:CC500\"),\"<\"&CC84)","v":6},{"$f":"1+COUNTIFS(INDIRECT(\"AN12:AN500\"),AN84,INDIRECT(\"CB12:CB500\"),CB84,INDIRECT(\"BB12:BB500\"),\">\"&BB84)\n+COUNTIFS(INDIRECT(\"BB12:BB500\"),BB84,INDIRECT(\"AN12:AN500\"),1,INDIRECT(\"CB12:CB500\"),CB84,INDIRECT(\"E12:E500\"),\"<\"&E84)","v":6}]
["1A","Colton Hurley","NC","MR-O",91.54,{"$f":"IFERROR(VLOOKUP(E85,[2]DATA!$E$2:$G$22,IF(LEFT(D85,1)=\"M\",2,3)),\"\")","v":93},10,{"$f":"IFERROR(IF(LEFT(D85,1)=\"M\",Wilks_Men(IF($E$11=\"Bwt - Lb\",E85/2.2046,E85)),Wilks_Women(IF($E$11=\"Bwt - Lb\",E85/2.2046,E85))),\"\")","v":0.63300001621246338},"2001-06-06","15",225,237.5,250,{"$f":"IF(MAX(K85:M85)<=0,0,MAX(CELL(\"color\",K85)*K85,CELL(\"color\",L85)*L85,CELL(\"color\",M85)*M85))","v":250},"13-6",127.5,-132.5,-132.5,{"$f":"IF(MAX(P85:R85)<=0,0,MAX(CELL(\"color\",P85)*P85,CELL(\"color\",Q85)*Q85,CELL(\"color\",R85)*R85))","v":127.5},{"$f":"IF(OR(N85=0,S85=0),0,N85+S85)","v":377.5},185,202.5,220,{"$f":"IF(MAX(U85:W85)<=0,0,MAX(CELL(\"color\",U85)*U85,CELL(\"color\",V85)*V85,CELL(\"color\",W85)*W85))","v":220},{"$f":"AM85*IF($AM$11=\"SQ\",N85,IF($AM$11=\"BP\",S85,IF($AM$11=\"DL\",X85,IF($AM$11=\"PP\",IF(OR(S85=0,X85=0),0,S85+X85),IF(OR(T85=0,X85=0),0,T85+X85)))))","v":597.5},{"$f":"IF(Y85=0,\"\",CONCATENATE(CD85,\"/\",IF(AN85=4,\"Wilks\",D85),\"/\",IF(AN85>1,\"\",F85),\"/\",$AM$11))","v":"7/MR-O/93/PL"},{"$f":"BB85","v":597.5},{"$f":"IF(AA85=0,\"\",CE85)","v":7},{"$f":"H85*IF($E$3=\"Kg\",Y85,Y85/2.2046)","v":378.21750968694687},{"$f":"IFERROR(VLOOKUP(AS85,[2]DATA!$A$2:$B$63,2,TRUE),0)*AC85","v":427.38578594624994},"PL"," ","NC",{"$f":"IFERROR(VLOOKUP(A85,[2]Setup!$Q$5:$R$20,2,FALSE),\"\")","v":0},{"$f":"IF(VALUE(INDIRECT(CONCATENATE($AI$11,ROW())))=0,\"\",ABS(INDIRECT(CONCATENATE($AI$11,ROW())))+0.000001*G85)","v":220.00001},31,10,33,{"$f":"IF(ISERROR(SEARCH($AM$11,AE85)),0,1)","v":1},{"$f":"VLOOKUP(D85,[2]Setup!$I$6:$K$93,3,FALSE)","v":1},{"$f":"ROUND(IFERROR(IF(AN85=1,Y85,IF(AN85=2,AC85,IF(AN85=3,AD85,AC85))),0),5)","v":597.5},null,{"$f":"IFERROR(MATCH(D85,[2]Setup!$I$6:$I$93,0),\"\")","v":27},{"$f":"IFERROR(CONCATENATE(LEFT(D85,FIND(\"-\",D85)),IF(AS85=\"\",\"O\",VLOOKUP(AS85,[2]DATA!$E$35:$F$53,2,TRUE))),\"\")","v":"MR-T2"},{"$f":"IF(YEAR($AR$7)-YEAR(I85)<40,DATEDIF(I85,$AR$7,\"Y\"),YEAR($AR$7)-YEAR(I85))","v":16},{"$f":"IF(AN85=1,MATCH(F85,[2]DATA!$AB$2:$AB$34,0),0)","v":26},null,{"$f":"IF(MAX(K85:M85)>0,MAX(K85:M85),0)","v":250},{"$f":"IF(MAX(P85:R85)>0,MAX(P85:R85),0)","v":127.5},{"$f":"IF(MAX(U85:W85)>0,MAX(U85:W85),0)","v":220},{"$f":"AM85*IF($AM$11=\"PL\",IF(MIN(AV85:AX85)=0,0,AV85+AW85+AX85),IF($AM$11=\"PP\",IF(MIN(AW85:AX85)=0,0,AW85+AX85),IF($AM$11=\"BP\",AW85,IF($AM$11=\"DL\",AX85,AV85))))","v":597.5},{"$f":"ROUND(AY85*H85,5)","v":378.21751},{"$f":"ROUND(IFERROR(VLOOKUP(AS85,[2]DATA!$A$2:$B$63,2,FALSE),1)*AZ85,5)","v":427.38578999999999},{"$f":"IFERROR(IF(AN85=1,AY85,IF(AN85=2,AZ85,IF(AN85=3,BA85,AZ85))),0)","v":597.5},null,null,null,null,null,null,null,null,null,null,null,null,null,null,null,null,null,null,null,null,null,null,null,{"$f":"IFERROR(IF(FIND(\"DT\",AE85),\"Y\",\"\"),\"\")","v":""},null,{"$f":"CONCATENATE(IF(AN85=4,\"\",D85),IF(AN85=1,F85,\"\"))","v":"MR-O93"},{"$f":"IF($AM$11=\"SQ\",AJ85,IF($AM$11=\"BP\",AK85,AL85))","v":33},{"$f":"1+COUNTIFS(INDIRECT(\"AN12:AN500\"),AN85,INDIRECT(\"CB12:CB500\"),CB85,INDIRECT(\"AO12:AO500\"),\">\"&AO85)\n+COUNTIFS(INDIRECT(\"AO12:AO500\"),AO85,INDIRECT(\"AN12:AN500\"),1,INDIRECT(\"CB12:CB500\"),CB85,INDIRECT(\"E12:E500\"),\"<\"&E85)\n+COUNTIFS(INDIRECT(\"AO12:AO500\"),AO85,INDIRECT(\"AN12:AN500\"),1,INDIRECT(\"CB12:CB500\"),CB85,INDIRECT(\"E12:E500\"),E85,INDIRECT(\"CC12:CC500\"),\"<\"&CC85)","v":7},{"$f":"1+COUNTIFS(INDIRECT(\"AN12:AN500\"),AN85,INDIRECT(\"CB12:CB500\"),CB85,INDIRECT(\"BB12:BB500\"),\">\"&BB85)\n+COUNTIFS(INDIRECT(\"BB12:BB500\"),BB85,INDIRECT(\"AN12:AN500\"),1,INDIRECT(\"CB12:CB500\"),CB85,INDIRECT(\"E12:E500\"),\"<\"&E85)","v":7}]
["3A","Nick Peterson","NC","MR-O",90.7,{"$f":"IFERROR(VLOOKUP(E86,[3]DATA!$E$2:$G$22,IF(LEFT(D86,1)=\"M\",2,3)),\"\")","v":93},602,{"$f":"IFERROR(IF(LEFT(D86,1)=\"M\",Wilks_Men(IF($E$11=\"Bwt - Lb\",E86/2.2046,E86)),Wilks_Women(IF($E$11=\"Bwt - Lb\",E86/2.2046,E86))),\"\")","v":0.63590002059936523},"1997-11-02","15",207.5,212.5,217.5,{"$f":"IF(MAX(K86:M86)<=0,0,MAX(CELL(\"color\",K86)*K86,CELL(\"color\",L86)*L86,CELL(\"color\",M86)*M86))","v":217.5},"15-7",115,125,135,{"$f":"IF(MAX(P86:R86)<=0,0,MAX(CELL(\"color\",P86)*P86,CELL(\"color\",Q86)*Q86,CELL(\"color\",R86)*R86))","v":135},{"$f":"IF(OR(N86=0,S86=0),0,N86+S86)","v":352.5},210,222.5,240,{"$f":"IF(MAX(U86:W86)<=0,0,MAX(CELL(\"color\",U86)*U86,CELL(\"color\",V86)*V86,CELL(\"color\",W86)*W86))","v":240},{"$f":"AM86*IF($AM$11=\"SQ\",N86,IF($AM$11=\"BP\",S86,IF($AM$11=\"DL\",X86,IF($AM$11=\"PP\",IF(OR(S86=0,X86=0),0,S86+X86),IF(OR(T86=0,X86=0),0,T86+X86)))))","v":592.5},{"$f":"IF(Y86=0,\"\",CONCATENATE(CD86,\"/\",IF(AN86=4,\"Wilks\",D86),\"/\",IF(AN86>1,\"\",F86),\"/\",$AM$11))","v":"8/MR-O/93/PL"},{"$f":"BB86","v":592.5},{"$f":"IF(AA86=0,\"\",CE86)","v":8},{"$f":"H86*IF($E$3=\"Kg\",Y86,Y86/2.2046)","v":376.7707622051239},{"$f":"IFERROR(VLOOKUP(AS86,[3]DATA!$A$2:$B$63,2,TRUE),0)*AC86","v":388.07388507127763},"PL",1011871,"NC",{"$f":"IFERROR(VLOOKUP(A86,[3]Setup!$Q$5:$R$20,2,FALSE),\"\")","v":0},{"$f":"IF(VALUE(INDIRECT(CONCATENATE($AI$11,ROW())))=0,\"\",ABS(INDIRECT(CONCATENATE($AI$11,ROW())))+0.000001*G86)","v":240.00060199999999},31,13,30,{"$f":"IF(ISERROR(SEARCH($AM$11,AE86)),0,1)","v":1},{"$f":"VLOOKUP(D86,[3]Setup!$I$6:$K$93,3,FALSE)","v":1},{"$f":"ROUND(IFERROR(IF(AN86=1,Y86,IF(AN86=2,AC86,IF(AN86=3,AD86,AC86))),0),5)","v":592.5},null,{"$f":"IFERROR(MATCH(D86,[3]Setup!$I$6:$I$93,0),\"\")","v":27},{"$f":"IFERROR(CONCATENATE(LEFT(D86,FIND(\"-\",D86)),IF(AS86=\"\",\"O\",VLOOKUP(AS86,[3]DATA!$E$35:$F$53,2,TRUE))),\"\")","v":"MR-Jr"},{"$f":"IF(YEAR($AR$7)-YEAR(I86)<40,DATEDIF(I86,$AR$7,\"Y\"),YEAR($AR$7)-YEAR(I86))","v":20},{"$f":"IF(AN86=1,MATCH(F86,[3]DATA!$AB$2:$AB$34,0),0)","v":26},null,{"$f":"IF(MAX(K86:M86)>0,MAX(K86:M86),0)","v":217.5},{"$f":"IF(MAX(P86:R86)>0,MAX(P86:R86),0)","v":135},{"$f":"IF(MAX(U86:W86)>0,MAX(U86:W86),0)","v":240},{"$f":"AM86*IF($AM$11=\"PL\",IF(MIN(AV86:AX86)=0,0,AV86+AW86+AX86),IF($AM$11=\"PP\",IF(MIN(AW86:AX86)=0,0,AW86+AX86),IF($AM$11=\"BP\",AW86,IF($AM$11=\"DL\",AX86,AV86))))","v":592.5},{"$f":"ROUND(AY86*H86,5)","v":376.77076},{"$f":"ROUND(IFERROR(VLOOKUP(AS86,[3]DATA!$A$2:$B$63,2,FALSE),1)*AZ86,5)","v":388.07387999999997},{"$f":"IFERROR(IF(AN86=1,AY86,IF(AN86=2,AZ86,IF(AN86=3,BA86,AZ86))),0)","v":592.5},null,null,null,null,null,null,null,null,null,null,null,null,null,null,null,null,null,null,null,null,null,null,null,{"$f":"IFERROR(IF(FIND(\"DT\",AE86),\"Y\",\"\"),\"\")","v":""},null,{"$f":"CONCATENATE(IF(AN86=4,\"\",D86),IF(AN86=1,F86,\"\"))","v":"MR-O93"},{"$f":"IF($AM$11=\"SQ\",AJ86,IF($AM$11=\"BP\",AK86,AL86))","v":30},{"$f":"1+COUNTIFS(INDIRECT(\"AN12:AN500\"),AN86,INDIRECT(\"CB12:CB500\"),CB86,INDIRECT(\"AO12:AO500\"),\">\"&AO86)\n+COUNTIFS(INDIRECT(\"AO12:AO500\"),AO86,INDIRECT(\"AN12:AN500\"),1,INDIRECT(\"CB12:CB500\"),CB86,INDIRECT(\"E12:E500\"),\"<\"&E86)\n+COUNTIFS(INDIRECT(\"AO12:AO500\"),AO86,INDIRECT(\"AN12:AN500\"),1,INDIRECT(\"CB12:CB500\"),CB86,INDIRECT(\"E12:E500\"),E86,INDIRECT(\"CC12:CC500\"),\"<\"&CC86)","v":8},{"$f":"1+COUNTIFS(INDIRECT(\"AN12:AN500\"),AN86,INDIRECT(\"CB12:CB500\"),CB86,INDIRECT(\"BB12:BB500\"),\">\"&BB86)\n+COUNTIFS(INDIRECT(\"BB12:BB500\"),BB86,INDIRECT(\"AN12:AN500\"),1,INDIRECT(\"CB12:CB500\"),CB86,INDIRECT(\"E12:E500\"),\"<\"&E86)","v":8}]
["3A","William Horstmann","TN","MR-O",92.1,{"$f":"IFERROR(VLOOKUP(E87,[3]DATA!$E$2:$G$22,IF(LEFT(D87,1)=\"M\",2,3)),\"\")","v":93},603,{"$f":"IFERROR(IF(LEFT(D87,1)=\"M\",Wilks_Men(IF($E$11=\"Bwt - Lb\",E87/2.2046,E87)),Wilks_Women(IF($E$11=\"Bwt - Lb\",E87/2.2046,E87))),\"\")","v":0.63109999895095825},"1994-12-09","18",-220,220,-230,{"$f":"IF(MAX(K87:M87)<=0,0,MAX(CELL(\"color\",K87)*K87,CELL(\"color\",L87)*L87,CELL(\"color\",M87)*M87))","v":220},"13-8",125,132.5,-137.5,{"$f":"IF(MAX(P87:R87)<=0,0,MAX(CELL(\"color\",P87)*P87,CELL(\"color\",Q87)*Q87,CELL(\"color\",R87)*R87))","v":132.5},{"$f":"IF(OR(N87=0,S87=0),0,N87+S87)","v":352.5},230,237.5,-242.5,{"$f":"IF(MAX(U87:W87)<=0,0,MAX(CELL(\"color\",U87)*U87,CELL(\"color\",V87)*V87,CELL(\"color\",W87)*W87))","v":237.5},{"$f":"AM87*IF($AM$11=\"SQ\",N87,IF($AM$11=\"BP\",S87,IF($AM$11=\"DL\",X87,IF($AM$11=\"PP\",IF(OR(S87=0,X87=0),0,S87+X87),IF(OR(T87=0,X87=0),0,T87+X87)))))","v":590},{"$f":"IF(Y87=0,\"\",CONCATENATE(CD87,\"/\",IF(AN87=4,\"Wilks\",D87),\"/\",IF(AN87>1,\"\",F87),\"/\",$AM$11))","v":"9/MR-O/93/PL"},{"$f":"BB87","v":590},{"$f":"IF(AA87=0,\"\",CE87)","v":9},{"$f":"H87*IF($E$3=\"Kg\",Y87,Y87/2.2046)","v":372.34899938106537},{"$f":"IFERROR(VLOOKUP(AS87,[3]DATA!$A$2:$B$63,2,TRUE),0)*AC87","v":372.34899938106537},"PL",1012064,"TN",{"$f":"IFERROR(VLOOKUP(A87,[3]Setup!$Q$5:$R$20,2,FALSE),\"\")","v":0},{"$f":"IF(VALUE(INDIRECT(CONCATENATE($AI$11,ROW())))=0,\"\",ABS(INDIRECT(CONCATENATE($AI$11,ROW())))+0.000001*G87)","v":242.50060300000001},23,15,22,{"$f":"IF(ISERROR(SEARCH($AM$11,AE87)),0,1)","v":1},{"$f":"VLOOKUP(D87,[3]Setup!$I$6:$K$93,3,FALSE)","v":1},{"$f":"ROUND(IFERROR(IF(AN87=1,Y87,IF(AN87=2,AC87,IF(AN87=3,AD87,AC87))),0),5)","v":590},null,{"$f":"IFERROR(MATCH(D87,[3]Setup!$I$6:$I$93,0),\"\")","v":27},{"$f":"IFERROR(CONCATENATE(LEFT(D87,FIND(\"-\",D87)),IF(AS87=\"\",\"O\",VLOOKUP(AS87,[3]DATA!$E$35:$F$53,2,TRUE))),\"\")","v":"MR-Jr"},{"$f":"IF(YEAR($AR$7)-YEAR(I87)<40,DATEDIF(I87,$AR$7,\"Y\"),YEAR($AR$7)-YEAR(I87))","v":23},{"$f":"IF(AN87=1,MATCH(F87,[3]DATA!$AB$2:$AB$34,0),0)","v":26},null,{"$f":"IF(MAX(K87:M87)>0,MAX(K87:M87),0)","v":220},{"$f":"IF(MAX(P87:R87)>0,MAX(P87:R87),0)","v":132.5},{"$f":"IF(MAX(U87:W87)>0,MAX(U87:W87),0)","v":237.5},{"$f":"AM87*IF($AM$11=\"PL\",IF(MIN(AV87:AX87)=0,0,AV87+AW87+AX87),IF($AM$11=\"PP\",IF(MIN(AW87:AX87)=0,0,AW87+AX87),IF($AM$11=\"BP\",AW87,IF($AM$11=\"DL\",AX87,AV87))))","v":590},{"$f":"ROUND(AY87*H87,5)","v":372.34899999999999},{"$f":"ROUND(IFERROR(VLOOKUP(AS87,[3]DATA!$A$2:$B$63,2,FALSE),1)*AZ87,5)","v":372.34899999999999},{"$f":"IFERROR(IF(AN87=1,AY87,IF(AN87=2,AZ87,IF(AN87=3,BA87,AZ87))),0)","v":590},null,null,null,null,null,null,null,null,null,null,null,null,null,null,null,null,null,null,null,null,null,null,null,{"$f":"IFERROR(IF(FIND(\"DT\",AE87),\"Y\",\"\"),\"\")","v":""},null,{"$f":"CONCATENATE(IF(AN87=4,\"\",D87),IF(AN87=1,F87,\"\"))","v":"MR-O93"},{"$f":"IF($AM$11=\"SQ\",AJ87,IF($AM$11=\"BP\",AK87,AL87))","v":22},{"$f":"1+COUNTIFS(INDIRECT(\"AN12:AN500\"),AN87,INDIRECT(\"CB12:CB500\"),CB87,INDIRECT(\"AO12:AO500\"),\">\"&AO87)\n+COUNTIFS(INDIRECT(\"AO12:AO500\"),AO87,INDIRECT(\"AN12:AN500\"),1,INDIRECT(\"CB12:CB500\"),CB87,INDIRECT(\"E12:E500\"),\"<\"&E87)\n+COUNTIFS(INDIRECT(\"AO12:AO500\"),AO87,INDIRECT(\"AN12:AN500\"),1,INDIRECT(\"CB12:CB500\"),CB87,INDIRECT(\"E12:E500\"),E87,INDIRECT(\"CC12:CC500\"),\"<\"&CC87)","v":9},{"$f":"1+COUNTIFS(INDIRECT(\"AN12:AN500\"),AN87,INDIRECT(\"CB12:CB500\"),CB87,INDIRECT(\"BB12:BB500\"),\">\"&BB87)\n+COUNTIFS(INDIRECT(\"BB12:BB500\"),BB87,INDIRECT(\"AN12:AN500\"),1,INDIRECT(\"CB12:CB500\"),CB87,INDIRECT(\"E12:E500\"),\"<\"&E87)","v":9}]
["3A","Will Hayes","NC","MR-O",90.84,{"$f":"IFERROR(VLOOKUP(E88,[3]DATA!$E$2:$G$22,IF(LEFT(D88,1)=\"M\",2,3)),\"\")","v":93},609,{"$f":"IFERROR(IF(LEFT(D88,1)=\"M\",Wilks_Men(IF($E$11=\"Bwt - Lb\",E88/2.2046,E88)),Wilks_Women(IF($E$11=\"Bwt - Lb\",E88/2.2046,E88))),\"\")","v":0.63539999723434448},"1988-06-19","18",205,220,-227.5,{"$f":"IF(MAX(K88:M88)<=0,0,MAX(CELL(\"color\",K88)*K88,CELL(\"color\",L88)*L88,CELL(\"color\",M88)*M88))","v":220},"15-6",130,135,-140,{"$f":"IF(MAX(P88:R88)<=0,0,MAX(CELL(\"color\",P88)*P88,CELL(\"color\",Q88)*Q88,CELL(\"color\",R88)*R88))","v":135},{"$f":"IF(OR(N88=0,S88=0),0,N88+S88)","v":355},210,227.5,-235,{"$f":"IF(MAX(U88:W88)<=0,0,MAX(CELL(\"color\",U88)*U88,CELL(\"color\",V88)*V88,CELL(\"color\",W88)*W88))","v":227.5},{"$f":"AM88*IF($AM$11=\"SQ\",N88,IF($AM$11=\"BP\",S88,IF($AM$11=\"DL\",X88,IF($AM$11=\"PP\",IF(OR(S88=0,X88=0),0,S88+X88),IF(OR(T88=0,X88=0),0,T88+X88)))))","v":582.5},{"$f":"IF(Y88=0,\"\",CONCATENATE(CD88,\"/\",IF(AN88=4,\"Wilks\",D88),\"/\",IF(AN88>1,\"\",F88),\"/\",$AM$11))","v":"10/MR-O/93/PL"},{"$f":"BB88","v":582.5},{"$f":"IF(AA88=0,\"\",CE88)","v":10},{"$f":"H88*IF($E$3=\"Kg\",Y88,Y88/2.2046)","v":370.12049838900566},{"$f":"IFERROR(VLOOKUP(AS88,[3]DATA!$A$2:$B$63,2,TRUE),0)*AC88","v":370.12049838900566},"PL",1015569,"NC",{"$f":"IFERROR(VLOOKUP(A88,[3]Setup!$Q$5:$R$20,2,FALSE),\"\")","v":0},{"$f":"IF(VALUE(INDIRECT(CONCATENATE($AI$11,ROW())))=0,\"\",ABS(INDIRECT(CONCATENATE($AI$11,ROW())))+0.000001*G88)","v":235.000609},24,17,19,{"$f":"IF(ISERROR(SEARCH($AM$11,AE88)),0,1)","v":1},{"$f":"VLOOKUP(D88,[3]Setup!$I$6:$K$93,3,FALSE)","v":1},{"$f":"ROUND(IFERROR(IF(AN88=1,Y88,IF(AN88=2,AC88,IF(AN88=3,AD88,AC88))),0),5)","v":582.5},null,{"$f":"IFERROR(MATCH(D88,[3]Setup!$I$6:$I$93,0),\"\")","v":27},{"$f":"IFERROR(CONCATENATE(LEFT(D88,FIND(\"-\",D88)),IF(AS88=\"\",\"O\",VLOOKUP(AS88,[3]DATA!$E$35:$F$53,2,TRUE))),\"\")","v":"MR-O"},{"$f":"IF(YEAR($AR$7)-YEAR(I88)<40,DATEDIF(I88,$AR$7,\"Y\"),YEAR($AR$7)-YEAR(I88))","v":29},{"$f":"IF(AN88=1,MATCH(F88,[3]DATA!$AB$2:$AB$34,0),0)","v":26},null,{"$f":"IF(MAX(K88:M88)>0,MAX(K88:M88),0)","v":220},{"$f":"IF(MAX(P88:R88)>0,MAX(P88:R88),0)","v":135},{"$f":"IF(MAX(U88:W88)>0,MAX(U88:W88),0)","v":227.5},{"$f":"AM88*IF($AM$11=\"PL\",IF(MIN(AV88:AX88)=0,0,AV88+AW88+AX88),IF($AM$11=\"PP\",IF(MIN(AW88:AX88)=0,0,AW88+AX88),IF($AM$11=\"BP\",AW88,IF($AM$11=\"DL\",AX88,AV88))))","v":582.5},{"$f":"ROUND(AY88*H88,5)","v":370.12049999999999},{"$f":"ROUND(IFERROR(VLOOKUP(AS88,[3]DATA!$A$2:$B$63,2,FALSE),1)*AZ88,5)","v":370.12049999999999},{"$f":"IFERROR(IF(AN88=1,AY88,IF(AN88=2,AZ88,IF(AN88=3,BA88,AZ88))),0)","v":582.5},null,null,null,null,null,null,null,null,null,null,null,null,null,null,null,null,null,null,null,null,null,null,null,{"$f":"IFERROR(IF(FIND(\"DT\",AE88),\"Y\",\"\"),\"\")","v":""},null,{"$f":"CONCATENATE(IF(AN88=4,\"\",D88),IF(AN88=1,F88,\"\"))","v":"MR-O93"},{"$f":"IF($AM$11=\"SQ\",AJ88,IF($AM$11=\"BP\",AK88,AL88))","v":19},{"$f":"1+COUNTIFS(INDIRECT(\"AN12:AN500\"),AN88,INDIRECT(\"CB12:CB500\"),CB88,INDIRECT(\"AO12:AO500\"),\">\"&AO88)\n+COUNTIFS(INDIRECT(\"AO12:AO500\"),AO88,INDIRECT(\"AN12:AN500\"),1,INDIRECT(\"CB12:CB500\"),CB88,INDIRECT(\"E12:E500\"),\"<\"&E88)\n+COUNTIFS(INDIRECT(\"AO12:AO500\"),AO88,INDIRECT(\"AN12:AN500\"),1,INDIRECT(\"CB12:CB500\"),CB88,INDIRECT(\"E12:E500\"),E88,INDIRECT(\"CC12:CC500\"),\"<\"&CC88)","v":10},{"$f":"1+COUNTIFS(INDIRECT(\"AN12:AN500\"),AN88,INDIRECT(\"CB12:CB500\"),CB88,INDIRECT(\"BB12:BB500\"),\">\"&BB88)\n+COUNTIFS(INDIRECT(\"BB12:BB500\"),BB88,INDIRECT(\"AN12:AN500\"),1,INDIRECT(\"CB12:CB500\"),CB88,INDIRECT(\"E12:E500\"),\"<\"&E88)","v":10}]
["3A","David Braden","SC","MR-O",84.72,{"$f":"IFERROR(VLOOKUP(E89,[3]DATA!$E$2:$G$22,IF(LEFT(D89,1)=\"M\",2,3)),\"\")","v":93},605,{"$f":"IFERROR(IF(LEFT(D89,1)=\"M\",Wilks_Men(IF($E$11=\"Bwt - Lb\",E89/2.2046,E89)),Wilks_Women(IF($E$11=\"Bwt - Lb\",E89/2.2046,E89))),\"\")","v":0.65960001945495605},"1990-07-24","17",200,210,217.5,{"$f":"IF(MAX(K89:M89)<=0,0,MAX(CELL(\"color\",K89)*K89,CELL(\"color\",L89)*L89,CELL(\"color\",M89)*M89))","v":217.5},"12-6",120,125,-130,{"$f":"IF(MAX(P89:R89)<=0,0,MAX(CELL(\"color\",P89)*P89,CELL(\"color\",Q89)*Q89,CELL(\"color\",R89)*R89))","v":125},{"$f":"IF(OR(N89=0,S89=0),0,N89+S89)","v":342.5},215,232.5,235,{"$f":"IF(MAX(U89:W89)<=0,0,MAX(CELL(\"color\",U89)*U89,CELL(\"color\",V89)*V89,CELL(\"color\",W89)*W89))","v":235},{"$f":"AM89*IF($AM$11=\"SQ\",N89,IF($AM$11=\"BP\",S89,IF($AM$11=\"DL\",X89,IF($AM$11=\"PP\",IF(OR(S89=0,X89=0),0,S89+X89),IF(OR(T89=0,X89=0),0,T89+X89)))))","v":577.5},{"$f":"IF(Y89=0,\"\",CONCATENATE(CD89,\"/\",IF(AN89=4,\"Wilks\",D89),\"/\",IF(AN89>1,\"\",F89),\"/\",$AM$11))","v":"11/MR-O/93/PL"},{"$f":"BB89","v":577.5},{"$f":"IF(AA89=0,\"\",CE89)","v":11},{"$f":"H89*IF($E$3=\"Kg\",Y89,Y89/2.2046)","v":380.91901123523712},{"$f":"IFERROR(VLOOKUP(AS89,[3]DATA!$A$2:$B$63,2,TRUE),0)*AC89","v":380.91901123523712},"PL",102764,"SC",{"$f":"IFERROR(VLOOKUP(A89,[3]Setup!$Q$5:$R$20,2,FALSE),\"\")","v":0},{"$f":"IF(VALUE(INDIRECT(CONCATENATE($AI$11,ROW())))=0,\"\",ABS(INDIRECT(CONCATENATE($AI$11,ROW())))+0.000001*G89)","v":235.00060500000001},32,24,28,{"$f":"IF(ISERROR(SEARCH($AM$11,AE89)),0,1)","v":1},{"$f":"VLOOKUP(D89,[3]Setup!$I$6:$K$93,3,FALSE)","v":1},{"$f":"ROUND(IFERROR(IF(AN89=1,Y89,IF(AN89=2,AC89,IF(AN89=3,AD89,AC89))),0),5)","v":577.5},null,{"$f":"IFERROR(MATCH(D89,[3]Setup!$I$6:$I$93,0),\"\")","v":27},{"$f":"IFERROR(CONCATENATE(LEFT(D89,FIND(\"-\",D89)),IF(AS89=\"\",\"O\",VLOOKUP(AS89,[3]DATA!$E$35:$F$53,2,TRUE))),\"\")","v":"MR-O"},{"$f":"IF(YEAR($AR$7)-YEAR(I89)<40,DATEDIF(I89,$AR$7,\"Y\"),YEAR($AR$7)-YEAR(I89))","v":27},{"$f":"IF(AN89=1,MATCH(F89,[3]DATA!$AB$2:$AB$34,0),0)","v":26},null,{"$f":"IF(MAX(K89:M89)>0,MAX(K89:M89),0)","v":217.5},{"$f":"IF(MAX(P89:R89)>0,MAX(P89:R89),0)","v":125},{"$f":"IF(MAX(U89:W89)>0,MAX(U89:W89),0)","v":235},{"$f":"AM89*IF($AM$11=\"PL\",IF(MIN(AV89:AX89)=0,0,AV89+AW89+AX89),IF($AM$11=\"PP\",IF(MIN(AW89:AX89)=0,0,AW89+AX89),IF($AM$11=\"BP\",AW89,IF($AM$11=\"DL\",AX89,AV89))))","v":577.5},{"$f":"ROUND(AY89*H89,5)","v":380.91901000000001},{"$f":"ROUND(IFERROR(VLOOKUP(AS89,[3]DATA!$A$2:$B$63,2,FALSE),1)*AZ89,5)","v":380.91901000000001},{"$f":"IFERROR(IF(AN89=1,AY89,IF(AN89=2,AZ89,IF(AN89=3,BA89,AZ89))),0)","v":577.5},null,null,null,null,null,null,null,null,null,null,null,null,null,null,null,null,null,null,null,null,null,null,null,{"$f":"IFERROR(IF(FIND(\"DT\",AE89),\"Y\",\"\"),\"\")","v":""},null,{"$f":"CONCATENATE(IF(AN89=4,\"\",D89),IF(AN89=1,F89,\"\"))","v":"MR-O93"},{"$f":"IF($AM$11=\"SQ\",AJ89,IF($AM$11=\"BP\",AK89,AL89))","v":28},{"$f":"1+COUNTIFS(INDIRECT(\"AN12:AN500\"),AN89,INDIRECT(\"CB12:CB500\"),CB89,INDIRECT(\"AO12:AO500\"),\">\"&AO89)\n+COUNTIFS(INDIRECT(\"AO12:AO500\"),AO89,INDIRECT(\"AN12:AN500\"),1,INDIRECT(\"CB12:CB500\"),CB89,INDIRECT(\"E12:E500\"),\"<\"&E89)\n+COUNTIFS(INDIRECT(\"AO12:AO500\"),AO89,INDIRECT(\"AN12:AN500\"),1,INDIRECT(\"CB12:CB500\"),CB89,INDIRECT(\"E12:E500\"),E89,INDIRECT(\"CC12:CC500\"),\"<\"&CC89)","v":11},{"$f":"1+COUNTIFS(INDIRECT(\"AN12:AN500\"),AN89,INDIRECT(\"CB12:CB500\"),CB89,INDIRECT(\"BB12:BB500\"),\">\"&BB89)\n+COUNTIFS(INDIRECT(\"BB12:BB500\"),BB89,INDIRECT(\"AN12:AN500\"),1,INDIRECT(\"CB12:CB500\"),CB89,INDIRECT(\"E12:E500\"),\"<\"&E89)","v":11}]
["3A","Justin Kiehl","NC","MR-O",88,{"$f":"IFERROR(VLOOKUP(E90,[3]DATA!$E$2:$G$22,IF(LEFT(D90,1)=\"M\",2,3)),\"\")","v":93},601,{"$f":"IFERROR(IF(LEFT(D90,1)=\"M\",Wilks_Men(IF($E$11=\"Bwt - Lb\",E90/2.2046,E90)),Wilks_Women(IF($E$11=\"Bwt - Lb\",E90/2.2046,E90))),\"\")","v":0.64590001106262207},"1997-04-11","18",162.5,175,187.5,{"$f":"IF(MAX(K90:M90)<=0,0,MAX(CELL(\"color\",K90)*K90,CELL(\"color\",L90)*L90,CELL(\"color\",M90)*M90))","v":187.5},"16-5",102.5,120,130,{"$f":"IF(MAX(P90:R90)<=0,0,MAX(CELL(\"color\",P90)*P90,CELL(\"color\",Q90)*Q90,CELL(\"color\",R90)*R90))","v":130},{"$f":"IF(OR(N90=0,S90=0),0,N90+S90)","v":317.5},207.5,220,237.5,{"$f":"IF(MAX(U90:W90)<=0,0,MAX(CELL(\"color\",U90)*U90,CELL(\"color\",V90)*V90,CELL(\"color\",W90)*W90))","v":237.5},{"$f":"AM90*IF($AM$11=\"SQ\",N90,IF($AM$11=\"BP\",S90,IF($AM$11=\"DL\",X90,IF($AM$11=\"PP\",IF(OR(S90=0,X90=0),0,S90+X90),IF(OR(T90=0,X90=0),0,T90+X90)))))","v":555},{"$f":"IF(Y90=0,\"\",CONCATENATE(CD90,\"/\",IF(AN90=4,\"Wilks\",D90),\"/\",IF(AN90>1,\"\",F90),\"/\",$AM$11))","v":"12/MR-O/93/PL"},{"$f":"BB90","v":555},{"$f":"IF(AA90=0,\"\",CE90)","v":12},{"$f":"H90*IF($E$3=\"Kg\",Y90,Y90/2.2046)","v":358.47450613975525},{"$f":"IFERROR(VLOOKUP(AS90,[3]DATA!$A$2:$B$63,2,TRUE),0)*AC90","v":369.22874132394793},"PL",1015835,"NC",{"$f":"IFERROR(VLOOKUP(A90,[3]Setup!$Q$5:$R$20,2,FALSE),\"\")","v":0},{"$f":"IF(VALUE(INDIRECT(CONCATENATE($AI$11,ROW())))=0,\"\",ABS(INDIRECT(CONCATENATE($AI$11,ROW())))+0.000001*G90)","v":237.50060099999999},29,23,29,{"$f":"IF(ISERROR(SEARCH($AM$11,AE90)),0,1)","v":1},{"$f":"VLOOKUP(D90,[3]Setup!$I$6:$K$93,3,FALSE)","v":1},{"$f":"ROUND(IFERROR(IF(AN90=1,Y90,IF(AN90=2,AC90,IF(AN90=3,AD90,AC90))),0),5)","v":555},null,{"$f":"IFERROR(MATCH(D90,[3]Setup!$I$6:$I$93,0),\"\")","v":27},{"$f":"IFERROR(CONCATENATE(LEFT(D90,FIND(\"-\",D90)),IF(AS90=\"\",\"O\",VLOOKUP(AS90,[3]DATA!$E$35:$F$53,2,TRUE))),\"\")","v":"MR-Jr"},{"$f":"IF(YEAR($AR$7)-YEAR(I90)<40,DATEDIF(I90,$AR$7,\"Y\"),YEAR($AR$7)-YEAR(I90))","v":20},{"$f":"IF(AN90=1,MATCH(F90,[3]DATA!$AB$2:$AB$34,0),0)","v":26},null,{"$f":"IF(MAX(K90:M90)>0,MAX(K90:M90),0)","v":187.5},{"$f":"IF(MAX(P90:R90)>0,MAX(P90:R90),0)","v":130},{"$f":"IF(MAX(U90:W90)>0,MAX(U90:W90),0)","v":237.5},{"$f":"AM90*IF($AM$11=\"PL\",IF(MIN(AV90:AX90)=0,0,AV90+AW90+AX90),IF($AM$11=\"PP\",IF(MIN(AW90:AX90)=0,0,AW90+AX90),IF($AM$11=\"BP\",AW90,IF($AM$11=\"DL\",AX90,AV90))))","v":555},{"$f":"ROUND(AY90*H90,5)","v":358.47451000000001},{"$f":"ROUND(IFERROR(VLOOKUP(AS90,[3]DATA!$A$2:$B$63,2,FALSE),1)*AZ90,5)","v":369.22874999999999},{"$f":"IFERROR(IF(AN90=1,AY90,IF(AN90=2,AZ90,IF(AN90=3,BA90,AZ90))),0)","v":555},null,null,null,null,null,null,null,null,null,null,null,null,null,null,null,null,null,null,null,null,null,null,null,{"$f":"IFERROR(IF(FIND(\"DT\",AE90),\"Y\",\"\"),\"\")","v":""},null,{"$f":"CONCATENATE(IF(AN90=4,\"\",D90),IF(AN90=1,F90,\"\"))","v":"MR-O93"},{"$f":"IF($AM$11=\"SQ\",AJ90,IF($AM$11=\"BP\",AK90,AL90))","v":29},{"$f":"1+COUNTIFS(INDIRECT(\"AN12:AN500\"),AN90,INDIRECT(\"CB12:CB500\"),CB90,INDIRECT(\"AO12:AO500\"),\">\"&AO90)\n+COUNTIFS(INDIRECT(\"AO12:AO500\"),AO90,INDIRECT(\"AN12:AN500\"),1,INDIRECT(\"CB12:CB500\"),CB90,INDIRECT(\"E12:E500\"),\"<\"&E90)\n+COUNTIFS(INDIRECT(\"AO12:AO500\"),AO90,INDIRECT(\"AN12:AN500\"),1,INDIRECT(\"CB12:CB500\"),CB90,INDIRECT(\"E12:E500\"),E90,INDIRECT(\"CC12:CC500\"),\"<\"&CC90)","v":12},{"$f":"1+COUNTIFS(INDIRECT(\"AN12:AN500\"),AN90,INDIRECT(\"CB12:CB500\"),CB90,INDIRECT(\"BB12:BB500\"),\">\"&BB90)\n+COUNTIFS(INDIRECT(\"BB12:BB500\"),BB90,INDIRECT(\"AN12:AN500\"),1,INDIRECT(\"CB12:CB500\"),CB90,INDIRECT(\"E12:E500\"),\"<\"&E90)","v":12}]
["3B","Jonathan Russell","SC","MR-O",91.4,{"$f":"IFERROR(VLOOKUP(E91,[3]DATA!$E$2:$G$22,IF(LEFT(D91,1)=\"M\",2,3)),\"\")","v":93},710,{"$f":"IFERROR(IF(LEFT(D91,1)=\"M\",Wilks_Men(IF($E$11=\"Bwt - Lb\",E91/2.2046,E91)),Wilks_Women(IF($E$11=\"Bwt - Lb\",E91/2.2046,E91))),\"\")","v":0.63349997997283936},"1986-05-21","17",-180,185,190,{"$f":"IF(MAX(K91:M91)<=0,0,MAX(CELL(\"color\",K91)*K91,CELL(\"color\",L91)*L91,CELL(\"color\",M91)*M91))","v":190},"15-8",130,-137.5,-137.5,{"$f":"IF(MAX(P91:R91)<=0,0,MAX(CELL(\"color\",P91)*P91,CELL(\"color\",Q91)*Q91,CELL(\"color\",R91)*R91))","v":130},{"$f":"IF(OR(N91=0,S91=0),0,N91+S91)","v":320},187.5,197.5,210,{"$f":"IF(MAX(U91:W91)<=0,0,MAX(CELL(\"color\",U91)*U91,CELL(\"color\",V91)*V91,CELL(\"color\",W91)*W91))","v":210},{"$f":"AM91*IF($AM$11=\"SQ\",N91,IF($AM$11=\"BP\",S91,IF($AM$11=\"DL\",X91,IF($AM$11=\"PP\",IF(OR(S91=0,X91=0),0,S91+X91),IF(OR(T91=0,X91=0),0,T91+X91)))))","v":530},{"$f":"IF(Y91=0,\"\",CONCATENATE(CD91,\"/\",IF(AN91=4,\"Wilks\",D91),\"/\",IF(AN91>1,\"\",F91),\"/\",$AM$11))","v":"13/MR-O/93/PL"},{"$f":"BB91","v":530},{"$f":"IF(AA91=0,\"\",CE91)","v":13},{"$f":"H91*IF($E$3=\"Kg\",Y91,Y91/2.2046)","v":335.75498938560486},{"$f":"IFERROR(VLOOKUP(AS91,[3]DATA!$A$2:$B$63,2,TRUE),0)*AC91","v":335.75498938560486},"PL BP",null,"SC",{"$f":"IFERROR(VLOOKUP(A91,[3]Setup!$Q$5:$R$20,2,FALSE),\"\")","v":1},{"$f":"IF(VALUE(INDIRECT(CONCATENATE($AI$11,ROW())))=0,\"\",ABS(INDIRECT(CONCATENATE($AI$11,ROW())))+0.000001*G91)","v":210.00071},56,29,52,{"$f":"IF(ISERROR(SEARCH($AM$11,AE91)),0,1)","v":1},{"$f":"VLOOKUP(D91,[3]Setup!$I$6:$K$93,3,FALSE)","v":1},{"$f":"ROUND(IFERROR(IF(AN91=1,Y91,IF(AN91=2,AC91,IF(AN91=3,AD91,AC91))),0),5)","v":530},null,{"$f":"IFERROR(MATCH(D91,[3]Setup!$I$6:$I$93,0),\"\")","v":27},{"$f":"IFERROR(CONCATENATE(LEFT(D91,FIND(\"-\",D91)),IF(AS91=\"\",\"O\",VLOOKUP(AS91,[3]DATA!$E$35:$F$53,2,TRUE))),\"\")","v":"MR-O"},{"$f":"IF(YEAR($AR$7)-YEAR(I91)<40,DATEDIF(I91,$AR$7,\"Y\"),YEAR($AR$7)-YEAR(I91))","v":31},{"$f":"IF(AN91=1,MATCH(F91,[3]DATA!$AB$2:$AB$34,0),0)","v":26},null,{"$f":"IF(MAX(K91:M91)>0,MAX(K91:M91),0)","v":190},{"$f":"IF(MAX(P91:R91)>0,MAX(P91:R91),0)","v":130},{"$f":"IF(MAX(U91:W91)>0,MAX(U91:W91),0)","v":210},{"$f":"AM91*IF($AM$11=\"PL\",IF(MIN(AV91:AX91)=0,0,AV91+AW91+AX91),IF($AM$11=\"PP\",IF(MIN(AW91:AX91)=0,0,AW91+AX91),IF($AM$11=\"BP\",AW91,IF($AM$11=\"DL\",AX91,AV91))))","v":530},{"$f":"ROUND(AY91*H91,5)","v":335.75499000000002},{"$f":"ROUND(IFERROR(VLOOKUP(AS91,[3]DATA!$A$2:$B$63,2,FALSE),1)*AZ91,5)","v":335.75499000000002},{"$f":"IFERROR(IF(AN91=1,AY91,IF(AN91=2,AZ91,IF(AN91=3,BA91,AZ91))),0)","v":530},null,null,null,null,null,null,null,null,null,null,null,null,null,null,null,null,null,null,null,null,null,null,null,{"$f":"IFERROR(IF(FIND(\"DT\",AE91),\"Y\",\"\"),\"\")","v":""},null,{"$f":"CONCATENATE(IF(AN91=4,\"\",D91),IF(AN91=1,F91,\"\"))","v":"MR-O93"},{"$f":"IF($AM$11=\"SQ\",AJ91,IF($AM$11=\"BP\",AK91,AL91))","v":52},{"$f":"1+COUNTIFS(INDIRECT(\"AN12:AN500\"),AN91,INDIRECT(\"CB12:CB500\"),CB91,INDIRECT(\"AO12:AO500\"),\">\"&AO91)\n+COUNTIFS(INDIRECT(\"AO12:AO500\"),AO91,INDIRECT(\"AN12:AN500\"),1,INDIRECT(\"CB12:CB500\"),CB91,INDIRECT(\"E12:E500\"),\"<\"&E91)\n+COUNTIFS(INDIRECT(\"AO12:AO500\"),AO91,INDIRECT(\"AN12:AN500\"),1,INDIRECT(\"CB12:CB500\"),CB91,INDIRECT(\"E12:E500\"),E91,INDIRECT(\"CC12:CC500\"),\"<\"&CC91)","v":13},{"$f":"1+COUNTIFS(INDIRECT(\"AN12:AN500\"),AN91,INDIRECT(\"CB12:CB500\"),CB91,INDIRECT(\"BB12:BB500\"),\">\"&BB91)\n+COUNTIFS(INDIRECT(\"BB12:BB500\"),BB91,INDIRECT(\"AN12:AN500\"),1,INDIRECT(\"CB12:CB500\"),CB91,INDIRECT(\"E12:E500\"),\"<\"&E91)","v":13}]
["1B","Josh Edwards","NC","MR-O",89.88,{"$f":"IFERROR(VLOOKUP(E92,[2]DATA!$E$2:$G$22,IF(LEFT(D92,1)=\"M\",2,3)),\"\")","v":93},106,{"$f":"IFERROR(IF(LEFT(D92,1)=\"M\",Wilks_Men(IF($E$11=\"Bwt - Lb\",E92/2.2046,E92)),Wilks_Women(IF($E$11=\"Bwt - Lb\",E92/2.2046,E92))),\"\")","v":0.63880002498626709},"1972-05-11","15",157.5,170,182.5,{"$f":"IF(MAX(K92:M92)<=0,0,MAX(CELL(\"color\",K92)*K92,CELL(\"color\",L92)*L92,CELL(\"color\",M92)*M92))","v":182.5},"15-8",62.5,92.5,110,{"$f":"IF(MAX(P92:R92)<=0,0,MAX(CELL(\"color\",P92)*P92,CELL(\"color\",Q92)*Q92,CELL(\"color\",R92)*R92))","v":110},{"$f":"IF(OR(N92=0,S92=0),0,N92+S92)","v":292.5},215,232.5,-242.5,{"$f":"IF(MAX(U92:W92)<=0,0,MAX(CELL(\"color\",U92)*U92,CELL(\"color\",V92)*V92,CELL(\"color\",W92)*W92))","v":232.5},{"$f":"AM92*IF($AM$11=\"SQ\",N92,IF($AM$11=\"BP\",S92,IF($AM$11=\"DL\",X92,IF($AM$11=\"PP\",IF(OR(S92=0,X92=0),0,S92+X92),IF(OR(T92=0,X92=0),0,T92+X92)))))","v":525},{"$f":"IF(Y92=0,\"\",CONCATENATE(CD92,\"/\",IF(AN92=4,\"Wilks\",D92),\"/\",IF(AN92>1,\"\",F92),\"/\",$AM$11))","v":"14/MR-O/93/PL"},{"$f":"BB92","v":525},{"$f":"IF(AA92=0,\"\",CE92)","v":14},{"$f":"H92*IF($E$3=\"Kg\",Y92,Y92/2.2046)","v":335.37001311779022},{"$f":"IFERROR(VLOOKUP(AS92,[2]DATA!$A$2:$B$63,2,TRUE),0)*AC92","v":358.1751740098},"PL",1012315,"NC",{"$f":"IFERROR(VLOOKUP(A92,[2]Setup!$Q$5:$R$20,2,FALSE),\"\")","v":1},{"$f":"IF(VALUE(INDIRECT(CONCATENATE($AI$11,ROW())))=0,\"\",ABS(INDIRECT(CONCATENATE($AI$11,ROW())))+0.000001*G92)","v":242.50010599999999},68,66,61,{"$f":"IF(ISERROR(SEARCH($AM$11,AE92)),0,1)","v":1},{"$f":"VLOOKUP(D92,[2]Setup!$I$6:$K$93,3,FALSE)","v":1},{"$f":"ROUND(IFERROR(IF(AN92=1,Y92,IF(AN92=2,AC92,IF(AN92=3,AD92,AC92))),0),5)","v":525},null,{"$f":"IFERROR(MATCH(D92,[2]Setup!$I$6:$I$93,0),\"\")","v":27},{"$f":"IFERROR(CONCATENATE(LEFT(D92,FIND(\"-\",D92)),IF(AS92=\"\",\"O\",VLOOKUP(AS92,[2]DATA!$E$35:$F$53,2,TRUE))),\"\")","v":"MR-M1b"},{"$f":"IF(YEAR($AR$7)-YEAR(I92)<40,DATEDIF(I92,$AR$7,\"Y\"),YEAR($AR$7)-YEAR(I92))","v":46},{"$f":"IF(AN92=1,MATCH(F92,[2]DATA!$AB$2:$AB$34,0),0)","v":26},null,{"$f":"IF(MAX(K92:M92)>0,MAX(K92:M92),0)","v":182.5},{"$f":"IF(MAX(P92:R92)>0,MAX(P92:R92),0)","v":110},{"$f":"IF(MAX(U92:W92)>0,MAX(U92:W92),0)","v":232.5},{"$f":"AM92*IF($AM$11=\"PL\",IF(MIN(AV92:AX92)=0,0,AV92+AW92+AX92),IF($AM$11=\"PP\",IF(MIN(AW92:AX92)=0,0,AW92+AX92),IF($AM$11=\"BP\",AW92,IF($AM$11=\"DL\",AX92,AV92))))","v":525},{"$f":"ROUND(AY92*H92,5)","v":335.37000999999998},{"$f":"ROUND(IFERROR(VLOOKUP(AS92,[2]DATA!$A$2:$B$63,2,FALSE),1)*AZ92,5)","v":358.17516999999998},{"$f":"IFERROR(IF(AN92=1,AY92,IF(AN92=2,AZ92,IF(AN92=3,BA92,AZ92))),0)","v":525},null,null,null,null,null,null,null,null,null,null,null,null,null,null,null,null,null,null,null,null,null,null,null,{"$f":"IFERROR(IF(FIND(\"DT\",AE92),\"Y\",\"\"),\"\")","v":""},null,{"$f":"CONCATENATE(IF(AN92=4,\"\",D92),IF(AN92=1,F92,\"\"))","v":"MR-O93"},{"$f":"IF($AM$11=\"SQ\",AJ92,IF($AM$11=\"BP\",AK92,AL92))","v":61},{"$f":"1+COUNTIFS(INDIRECT(\"AN12:AN500\"),AN92,INDIRECT(\"CB12:CB500\"),CB92,INDIRECT(\"AO12:AO500\"),\">\"&AO92)\n+COUNTIFS(INDIRECT(\"AO12:AO500\"),AO92,INDIRECT(\"AN12:AN500\"),1,INDIRECT(\"CB12:CB500\"),CB92,INDIRECT(\"E12:E500\"),\"<\"&E92)\n+COUNTIFS(INDIRECT(\"AO12:AO500\"),AO92,INDIRECT(\"AN12:AN500\"),1,INDIRECT(\"CB12:CB500\"),CB92,INDIRECT(\"E12:E500\"),E92,INDIRECT(\"CC12:CC500\"),\"<\"&CC92)","v":14},{"$f":"1+COUNTIFS(INDIRECT(\"AN12:AN500\"),AN92,INDIRECT(\"CB12:CB500\"),CB92,INDIRECT(\"BB12:BB500\"),\">\"&BB92)\n+COUNTIFS(INDIRECT(\"BB12:BB500\"),BB92,INDIRECT(\"AN12:AN500\"),1,INDIRECT(\"CB12:CB500\"),CB92,INDIRECT(\"E12:E500\"),\"<\"&E92)","v":14}]
["3A","Tony Donati","VA","MR-O",89.06,{"$f":"IFERROR(VLOOKUP(E93,[3]DATA!$E$2:$G$22,IF(LEFT(D93,1)=\"M\",2,3)),\"\")","v":93},206,{"$f":"IFERROR(IF(LEFT(D93,1)=\"M\",Wilks_Men(IF($E$11=\"Bwt - Lb\",E93/2.2046,E93)),Wilks_Women(IF($E$11=\"Bwt - Lb\",E93/2.2046,E93))),\"\")","v":0.64179998636245728},"1993-09-16","14",155,165,177.5,{"$f":"IF(MAX(K93:M93)<=0,0,MAX(CELL(\"color\",K93)*K93,CELL(\"color\",L93)*L93,CELL(\"color\",M93)*M93))","v":177.5},"14-8",130,137.5,147.5,{"$f":"IF(MAX(P93:R93)<=0,0,MAX(CELL(\"color\",P93)*P93,CELL(\"color\",Q93)*Q93,CELL(\"color\",R93)*R93))","v":147.5},{"$f":"IF(OR(N93=0,S93=0),0,N93+S93)","v":325},165,180,-190,{"$f":"IF(MAX(U93:W93)<=0,0,MAX(CELL(\"color\",U93)*U93,CELL(\"color\",V93)*V93,CELL(\"color\",W93)*W93))","v":180},{"$f":"AM93*IF($AM$11=\"SQ\",N93,IF($AM$11=\"BP\",S93,IF($AM$11=\"DL\",X93,IF($AM$11=\"PP\",IF(OR(S93=0,X93=0),0,S93+X93),IF(OR(T93=0,X93=0),0,T93+X93)))))","v":505},{"$f":"IF(Y93=0,\"\",CONCATENATE(CD93,\"/\",IF(AN93=4,\"Wilks\",D93),\"/\",IF(AN93>1,\"\",F93),\"/\",$AM$11))","v":"15/MR-O/93/PL"},{"$f":"BB93","v":505},{"$f":"IF(AA93=0,\"\",CE93)","v":15},{"$f":"H93*IF($E$3=\"Kg\",Y93,Y93/2.2046)","v":324.10899311304092},{"$f":"IFERROR(VLOOKUP(AS93,[3]DATA!$A$2:$B$63,2,TRUE),0)*AC93","v":324.10899311304092},"PL",1015493,"VA",{"$f":"IFERROR(VLOOKUP(A93,[3]Setup!$Q$5:$R$20,2,FALSE),\"\")","v":0},{"$f":"IF(VALUE(INDIRECT(CONCATENATE($AI$11,ROW())))=0,\"\",ABS(INDIRECT(CONCATENATE($AI$11,ROW())))+0.000001*G93)","v":190.00020599999999},28,25,15,{"$f":"IF(ISERROR(SEARCH($AM$11,AE93)),0,1)","v":1},{"$f":"VLOOKUP(D93,[3]Setup!$I$6:$K$93,3,FALSE)","v":1},{"$f":"ROUND(IFERROR(IF(AN93=1,Y93,IF(AN93=2,AC93,IF(AN93=3,AD93,AC93))),0),5)","v":505},null,{"$f":"IFERROR(MATCH(D93,[3]Setup!$I$6:$I$93,0),\"\")","v":27},{"$f":"IFERROR(CONCATENATE(LEFT(D93,FIND(\"-\",D93)),IF(AS93=\"\",\"O\",VLOOKUP(AS93,[3]DATA!$E$35:$F$53,2,TRUE))),\"\")","v":"MR-O"},{"$f":"IF(YEAR($AR$7)-YEAR(I93)<40,DATEDIF(I93,$AR$7,\"Y\"),YEAR($AR$7)-YEAR(I93))","v":24},{"$f":"IF(AN93=1,MATCH(F93,[3]DATA!$AB$2:$AB$34,0),0)","v":26},null,{"$f":"IF(MAX(K93:M93)>0,MAX(K93:M93),0)","v":177.5},{"$f":"IF(MAX(P93:R93)>0,MAX(P93:R93),0)","v":147.5},{"$f":"IF(MAX(U93:W93)>0,MAX(U93:W93),0)","v":180},{"$f":"AM93*IF($AM$11=\"PL\",IF(MIN(AV93:AX93)=0,0,AV93+AW93+AX93),IF($AM$11=\"PP\",IF(MIN(AW93:AX93)=0,0,AW93+AX93),IF($AM$11=\"BP\",AW93,IF($AM$11=\"DL\",AX93,AV93))))","v":505},{"$f":"ROUND(AY93*H93,5)","v":324.10899000000001},{"$f":"ROUND(IFERROR(VLOOKUP(AS93,[3]DATA!$A$2:$B$63,2,FALSE),1)*AZ93,5)","v":324.10899000000001},{"$f":"IFERROR(IF(AN93=1,AY93,IF(AN93=2,AZ93,IF(AN93=3,BA93,AZ93))),0)","v":505},null,null,null,null,null,null,null,null,null,null,null,null,null,null,null,null,null,null,null,null,null,null,null,{"$f":"IFERROR(IF(FIND(\"DT\",AE93),\"Y\",\"\"),\"\")","v":""},null,{"$f":"CONCATENATE(IF(AN93=4,\"\",D93),IF(AN93=1,F93,\"\"))","v":"MR-O93"},{"$f":"IF($AM$11=\"SQ\",AJ93,IF($AM$11=\"BP\",AK93,AL93))","v":15},{"$f":"1+COUNTIFS(INDIRECT(\"AN12:AN500\"),AN93,INDIRECT(\"CB12:CB500\"),CB93,INDIRECT(\"AO12:AO500\"),\">\"&AO93)\n+COUNTIFS(INDIRECT(\"AO12:AO500\"),AO93,INDIRECT(\"AN12:AN500\"),1,INDIRECT(\"CB12:CB500\"),CB93,INDIRECT(\"E12:E500\"),\"<\"&E93)\n+COUNTIFS(INDIRECT(\"AO12:AO500\"),AO93,INDIRECT(\"AN12:AN500\"),1,INDIRECT(\"CB12:CB500\"),CB93,INDIRECT(\"E12:E500\"),E93,INDIRECT(\"CC12:CC500\"),\"<\"&CC93)","v":15},{"$f":"1+COUNTIFS(INDIRECT(\"AN12:AN500\"),AN93,INDIRECT(\"CB12:CB500\"),CB93,INDIRECT(\"BB12:BB500\"),\">\"&BB93)\n+COUNTIFS(INDIRECT(\"BB12:BB500\"),BB93,INDIRECT(\"AN12:AN500\"),1,INDIRECT(\"CB12:CB500\"),CB93,INDIRECT(\"E12:E500\"),\"<\"&E93)","v":15}]
["3A","Justin Nuzum","NC","MR-O",90.64,{"$f":"IFERROR(VLOOKUP(E94,[3]DATA!$E$2:$G$22,IF(LEFT(D94,1)=\"M\",2,3)),\"\")","v":93},611,{"$f":"IFERROR(IF(LEFT(D94,1)=\"M\",Wilks_Men(IF($E$11=\"Bwt - Lb\",E94/2.2046,E94)),Wilks_Women(IF($E$11=\"Bwt - Lb\",E94/2.2046,E94))),\"\")","v":0.63609999418258667},"1988-03-01","18",145,150,-155,{"$f":"IF(MAX(K94:M94)<=0,0,MAX(CELL(\"color\",K94)*K94,CELL(\"color\",L94)*L94,CELL(\"color\",M94)*M94))","v":150},"14-6",125,132.5,-137.5,{"$f":"IF(MAX(P94:R94)<=0,0,MAX(CELL(\"color\",P94)*P94,CELL(\"color\",Q94)*Q94,CELL(\"color\",R94)*R94))","v":132.5},{"$f":"IF(OR(N94=0,S94=0),0,N94+S94)","v":282.5},180,185,187.5,{"$f":"IF(MAX(U94:W94)<=0,0,MAX(CELL(\"color\",U94)*U94,CELL(\"color\",V94)*V94,CELL(\"color\",W94)*W94))","v":187.5},{"$f":"AM94*IF($AM$11=\"SQ\",N94,IF($AM$11=\"BP\",S94,IF($AM$11=\"DL\",X94,IF($AM$11=\"PP\",IF(OR(S94=0,X94=0),0,S94+X94),IF(OR(T94=0,X94=0),0,T94+X94)))))","v":470},{"$f":"IF(Y94=0,\"\",CONCATENATE(CD94,\"/\",IF(AN94=4,\"Wilks\",D94),\"/\",IF(AN94>1,\"\",F94),\"/\",$AM$11))","v":"16/MR-O/93/PL"},{"$f":"BB94","v":470},{"$f":"IF(AA94=0,\"\",CE94)","v":16},{"$f":"H94*IF($E$3=\"Kg\",Y94,Y94/2.2046)","v":298.96699726581573},{"$f":"IFERROR(VLOOKUP(AS94,[3]DATA!$A$2:$B$63,2,TRUE),0)*AC94","v":298.96699726581573},"PL BP",1015833,"NC",{"$f":"IFERROR(VLOOKUP(A94,[3]Setup!$Q$5:$R$20,2,FALSE),\"\")","v":0},{"$f":"IF(VALUE(INDIRECT(CONCATENATE($AI$11,ROW())))=0,\"\",ABS(INDIRECT(CONCATENATE($AI$11,ROW())))+0.000001*G94)","v":187.50061099999999},16,16,27,{"$f":"IF(ISERROR(SEARCH($AM$11,AE94)),0,1)","v":1},{"$f":"VLOOKUP(D94,[3]Setup!$I$6:$K$93,3,FALSE)","v":1},{"$f":"ROUND(IFERROR(IF(AN94=1,Y94,IF(AN94=2,AC94,IF(AN94=3,AD94,AC94))),0),5)","v":470},null,{"$f":"IFERROR(MATCH(D94,[3]Setup!$I$6:$I$93,0),\"\")","v":27},{"$f":"IFERROR(CONCATENATE(LEFT(D94,FIND(\"-\",D94)),IF(AS94=\"\",\"O\",VLOOKUP(AS94,[3]DATA!$E$35:$F$53,2,TRUE))),\"\")","v":"MR-O"},{"$f":"IF(YEAR($AR$7)-YEAR(I94)<40,DATEDIF(I94,$AR$7,\"Y\"),YEAR($AR$7)-YEAR(I94))","v":30},{"$f":"IF(AN94=1,MATCH(F94,[3]DATA!$AB$2:$AB$34,0),0)","v":26},null,{"$f":"IF(MAX(K94:M94)>0,MAX(K94:M94),0)","v":150},{"$f":"IF(MAX(P94:R94)>0,MAX(P94:R94),0)","v":132.5},{"$f":"IF(MAX(U94:W94)>0,MAX(U94:W94),0)","v":187.5},{"$f":"AM94*IF($AM$11=\"PL\",IF(MIN(AV94:AX94)=0,0,AV94+AW94+AX94),IF($AM$11=\"PP\",IF(MIN(AW94:AX94)=0,0,AW94+AX94),IF($AM$11=\"BP\",AW94,IF($AM$11=\"DL\",AX94,AV94))))","v":470},{"$f":"ROUND(AY94*H94,5)","v":298.96699999999998},{"$f":"ROUND(IFERROR(VLOOKUP(AS94,[3]DATA!$A$2:$B$63,2,FALSE),1)*AZ94,5)","v":298.96699999999998},{"$f":"IFERROR(IF(AN94=1,AY94,IF(AN94=2,AZ94,IF(AN94=3,BA94,AZ94))),0)","v":470},null,null,null,null,null,null,null,null,null,null,null,null,null,null,null,null,null,null,null,null,null,null,null,{"$f":"IFERROR(IF(FIND(\"DT\",AE94),\"Y\",\"\"),\"\")","v":""},null,{"$f":"CONCATENATE(IF(AN94=4,\"\",D94),IF(AN94=1,F94,\"\"))","v":"MR-O93"},{"$f":"IF($AM$11=\"SQ\",AJ94,IF($AM$11=\"BP\",AK94,AL94))","v":27},{"$f":"1+COUNTIFS(INDIRECT(\"AN12:AN500\"),AN94,INDIRECT(\"CB12:CB500\"),CB94,INDIRECT(\"AO12:AO500\"),\">\"&AO94)\n+COUNTIFS(INDIRECT(\"AO12:AO500\"),AO94,INDIRECT(\"AN12:AN500\"),1,INDIRECT(\"CB12:CB500\"),CB94,INDIRECT(\"E12:E500\"),\"<\"&E94)\n+COUNTIFS(INDIRECT(\"AO12:AO500\"),AO94,INDIRECT(\"AN12:AN500\"),1,INDIRECT(\"CB12:CB500\"),CB94,INDIRECT(\"E12:E500\"),E94,INDIRECT(\"CC12:CC500\"),\"<\"&CC94)","v":16},{"$f":"1+COUNTIFS(INDIRECT(\"AN12:AN500\"),AN94,INDIRECT(\"CB12:CB500\"),CB94,INDIRECT(\"BB12:BB500\"),\">\"&BB94)\n+COUNTIFS(INDIRECT(\"BB12:BB500\"),BB94,INDIRECT(\"AN12:AN500\"),1,INDIRECT(\"CB12:CB500\"),CB94,INDIRECT(\"E12:E500\"),\"<\"&E94)","v":16}]
["1B","Russel Robinson","NC","MR-O",91.58,{"$f":"IFERROR(VLOOKUP(E95,[2]DATA!$E$2:$G$22,IF(LEFT(D95,1)=\"M\",2,3)),\"\")","v":93},108,{"$f":"IFERROR(IF(LEFT(D95,1)=\"M\",Wilks_Men(IF($E$11=\"Bwt - Lb\",E95/2.2046,E95)),Wilks_Women(IF($E$11=\"Bwt - Lb\",E95/2.2046,E95))),\"\")","v":0.63289999961853027},"1970-07-27","15",130,135,147.5,{"$f":"IF(MAX(K95:M95)<=0,0,MAX(CELL(\"color\",K95)*K95,CELL(\"color\",L95)*L95,CELL(\"color\",M95)*M95))","v":147.5},"14-6",102.5,107.5,-117.5,{"$f":"IF(MAX(P95:R95)<=0,0,MAX(CELL(\"color\",P95)*P95,CELL(\"color\",Q95)*Q95,CELL(\"color\",R95)*R95))","v":107.5},{"$f":"IF(OR(N95=0,S95=0),0,N95+S95)","v":255},152.5,160,167.5,{"$f":"IF(MAX(U95:W95)<=0,0,MAX(CELL(\"color\",U95)*U95,CELL(\"color\",V95)*V95,CELL(\"color\",W95)*W95))","v":167.5},{"$f":"AM95*IF($AM$11=\"SQ\",N95,IF($AM$11=\"BP\",S95,IF($AM$11=\"DL\",X95,IF($AM$11=\"PP\",IF(OR(S95=0,X95=0),0,S95+X95),IF(OR(T95=0,X95=0),0,T95+X95)))))","v":422.5},{"$f":"IF(Y95=0,\"\",CONCATENATE(CD95,\"/\",IF(AN95=4,\"Wilks\",D95),\"/\",IF(AN95>1,\"\",F95),\"/\",$AM$11))","v":"17/MR-O/93/PL"},{"$f":"BB95","v":422.5},{"$f":"IF(AA95=0,\"\",CE95)","v":17},{"$f":"H95*IF($E$3=\"Kg\",Y95,Y95/2.2046)","v":267.40024983882904},{"$f":"IFERROR(VLOOKUP(AS95,[2]DATA!$A$2:$B$63,2,TRUE),0)*AC95","v":293.33807407319546},"PL",null,"NC",{"$f":"IFERROR(VLOOKUP(A95,[2]Setup!$Q$5:$R$20,2,FALSE),\"\")","v":1},{"$f":"IF(VALUE(INDIRECT(CONCATENATE($AI$11,ROW())))=0,\"\",ABS(INDIRECT(CONCATENATE($AI$11,ROW())))+0.000001*G95)","v":167.50010800000001},65,52,70,{"$f":"IF(ISERROR(SEARCH($AM$11,AE95)),0,1)","v":1},{"$f":"VLOOKUP(D95,[2]Setup!$I$6:$K$93,3,FALSE)","v":1},{"$f":"ROUND(IFERROR(IF(AN95=1,Y95,IF(AN95=2,AC95,IF(AN95=3,AD95,AC95))),0),5)","v":422.5},null,{"$f":"IFERROR(MATCH(D95,[2]Setup!$I$6:$I$93,0),\"\")","v":27},{"$f":"IFERROR(CONCATENATE(LEFT(D95,FIND(\"-\",D95)),IF(AS95=\"\",\"O\",VLOOKUP(AS95,[2]DATA!$E$35:$F$53,2,TRUE))),\"\")","v":"MR-M1b"},{"$f":"IF(YEAR($AR$7)-YEAR(I95)<40,DATEDIF(I95,$AR$7,\"Y\"),YEAR($AR$7)-YEAR(I95))","v":48},{"$f":"IF(AN95=1,MATCH(F95,[2]DATA!$AB$2:$AB$34,0),0)","v":26},null,{"$f":"IF(MAX(K95:M95)>0,MAX(K95:M95),0)","v":147.5},{"$f":"IF(MAX(P95:R95)>0,MAX(P95:R95),0)","v":107.5},{"$f":"IF(MAX(U95:W95)>0,MAX(U95:W95),0)","v":167.5},{"$f":"AM95*IF($AM$11=\"PL\",IF(MIN(AV95:AX95)=0,0,AV95+AW95+AX95),IF($AM$11=\"PP\",IF(MIN(AW95:AX95)=0,0,AW95+AX95),IF($AM$11=\"BP\",AW95,IF($AM$11=\"DL\",AX95,AV95))))","v":422.5},{"$f":"ROUND(AY95*H95,5)","v":267.40025000000003},{"$f":"ROUND(IFERROR(VLOOKUP(AS95,[2]DATA!$A$2:$B$63,2,FALSE),1)*AZ95,5)","v":293.33807000000002},{"$f":"IFERROR(IF(AN95=1,AY95,IF(AN95=2,AZ95,IF(AN95=3,BA95,AZ95))),0)","v":422.5},null,null,null,null,null,null,null,null,null,null,null,null,null,null,null,null,null,null,null,null,null,null,null,{"$f":"IFERROR(IF(FIND(\"DT\",AE95),\"Y\",\"\"),\"\")","v":""},null,{"$f":"CONCATENATE(IF(AN95=4,\"\",D95),IF(AN95=1,F95,\"\"))","v":"MR-O93"},{"$f":"IF($AM$11=\"SQ\",AJ95,IF($AM$11=\"BP\",AK95,AL95))","v":70},{"$f":"1+COUNTIFS(INDIRECT(\"AN12:AN500\"),AN95,INDIRECT(\"CB12:CB500\"),CB95,INDIRECT(\"AO12:AO500\"),\">\"&AO95)\n+COUNTIFS(INDIRECT(\"AO12:AO500\"),AO95,INDIRECT(\"AN12:AN500\"),1,INDIRECT(\"CB12:CB500\"),CB95,INDIRECT(\"E12:E500\"),\"<\"&E95)\n+COUNTIFS(INDIRECT(\"AO12:AO500\"),AO95,INDIRECT(\"AN12:AN500\"),1,INDIRECT(\"CB12:CB500\"),CB95,INDIRECT(\"E12:E500\"),E95,INDIRECT(\"CC12:CC500\"),\"<\"&CC95)","v":17},{"$f":"1+COUNTIFS(INDIRECT(\"AN12:AN500\"),AN95,INDIRECT(\"CB12:CB500\"),CB95,INDIRECT(\"BB12:BB500\"),\">\"&BB95)\n+COUNTIFS(INDIRECT(\"BB12:BB500\"),BB95,INDIRECT(\"AN12:AN500\"),1,INDIRECT(\"CB12:CB500\"),CB95,INDIRECT(\"E12:E500\"),\"<\"&E95)","v":17}]
["3B","Matthew McHugh","MI","MR-O",104.6,{"$f":"IFERROR(VLOOKUP(E96,[3]DATA!$E$2:$G$22,IF(LEFT(D96,1)=\"M\",2,3)),\"\")","v":105},706,{"$f":"IFERROR(IF(LEFT(D96,1)=\"M\",Wilks_Men(IF($E$11=\"Bwt - Lb\",E96/2.2046,E96)),Wilks_Women(IF($E$11=\"Bwt - Lb\",E96/2.2046,E96))),\"\")","v":0.59839999675750732},"1989-02-11","17",260,272.5,-280,{"$f":"IF(MAX(K96:M96)<=0,0,MAX(CELL(\"color\",K96)*K96,CELL(\"color\",L96)*L96,CELL(\"color\",M96)*M96))","v":272.5},"16-8",172.5,185,-192.5,{"$f":"IF(MAX(P96:R96)<=0,0,MAX(CELL(\"color\",P96)*P96,CELL(\"color\",Q96)*Q96,CELL(\"color\",R96)*R96))","v":185},{"$f":"IF(OR(N96=0,S96=0),0,N96+S96)","v":457.5},265,280,-287.5,{"$f":"IF(MAX(U96:W96)<=0,0,MAX(CELL(\"color\",U96)*U96,CELL(\"color\",V96)*V96,CELL(\"color\",W96)*W96))","v":280},{"$f":"AM96*IF($AM$11=\"SQ\",N96,IF($AM$11=\"BP\",S96,IF($AM$11=\"DL\",X96,IF($AM$11=\"PP\",IF(OR(S96=0,X96=0),0,S96+X96),IF(OR(T96=0,X96=0),0,T96+X96)))))","v":737.5},{"$f":"IF(Y96=0,\"\",CONCATENATE(CD96,\"/\",IF(AN96=4,\"Wilks\",D96),\"/\",IF(AN96>1,\"\",F96),\"/\",$AM$11))","v":"1/MR-O/105/PL"},{"$f":"BB96","v":737.5},{"$f":"IF(AA96=0,\"\",CE96)","v":1},{"$f":"H96*IF($E$3=\"Kg\",Y96,Y96/2.2046)","v":441.31999760866165},{"$f":"IFERROR(VLOOKUP(AS96,[3]DATA!$A$2:$B$63,2,TRUE),0)*AC96","v":441.31999760866165},"PL",926746,"MI",{"$f":"IFERROR(VLOOKUP(A96,[3]Setup!$Q$5:$R$20,2,FALSE),\"\")","v":1},{"$f":"IF(VALUE(INDIRECT(CONCATENATE($AI$11,ROW())))=0,\"\",ABS(INDIRECT(CONCATENATE($AI$11,ROW())))+0.000001*G96)","v":287.50070599999998},55,46,50,{"$f":"IF(ISERROR(SEARCH($AM$11,AE96)),0,1)","v":1},{"$f":"VLOOKUP(D96,[3]Setup!$I$6:$K$93,3,FALSE)","v":1},{"$f":"ROUND(IFERROR(IF(AN96=1,Y96,IF(AN96=2,AC96,IF(AN96=3,AD96,AC96))),0),5)","v":737.5},null,{"$f":"IFERROR(MATCH(D96,[3]Setup!$I$6:$I$93,0),\"\")","v":27},{"$f":"IFERROR(CONCATENATE(LEFT(D96,FIND(\"-\",D96)),IF(AS96=\"\",\"O\",VLOOKUP(AS96,[3]DATA!$E$35:$F$53,2,TRUE))),\"\")","v":"MR-O"},{"$f":"IF(YEAR($AR$7)-YEAR(I96)<40,DATEDIF(I96,$AR$7,\"Y\"),YEAR($AR$7)-YEAR(I96))","v":29},{"$f":"IF(AN96=1,MATCH(F96,[3]DATA!$AB$2:$AB$34,0),0)","v":28},null,{"$f":"IF(MAX(K96:M96)>0,MAX(K96:M96),0)","v":272.5},{"$f":"IF(MAX(P96:R96)>0,MAX(P96:R96),0)","v":185},{"$f":"IF(MAX(U96:W96)>0,MAX(U96:W96),0)","v":280},{"$f":"AM96*IF($AM$11=\"PL\",IF(MIN(AV96:AX96)=0,0,AV96+AW96+AX96),IF($AM$11=\"PP\",IF(MIN(AW96:AX96)=0,0,AW96+AX96),IF($AM$11=\"BP\",AW96,IF($AM$11=\"DL\",AX96,AV96))))","v":737.5},{"$f":"ROUND(AY96*H96,5)","v":441.32},{"$f":"ROUND(IFERROR(VLOOKUP(AS96,[3]DATA!$A$2:$B$63,2,FALSE),1)*AZ96,5)","v":441.32},{"$f":"IFERROR(IF(AN96=1,AY96,IF(AN96=2,AZ96,IF(AN96=3,BA96,AZ96))),0)","v":737.5},null,null,null,null,null,null,null,null,null,null,null,null,null,null,null,null,null,null,null,null,null,null,null,{"$f":"IFERROR(IF(FIND(\"DT\",AE96),\"Y\",\"\"),\"\")","v":""},null,{"$f":"CONCATENATE(IF(AN96=4,\"\",D96),IF(AN96=1,F96,\"\"))","v":"MR-O105"},{"$f":"IF($AM$11=\"SQ\",AJ96,IF($AM$11=\"BP\",AK96,AL96))","v":50},{"$f":"1+COUNTIFS(INDIRECT(\"AN12:AN500\"),AN96,INDIRECT(\"CB12:CB500\"),CB96,INDIRECT(\"AO12:AO500\"),\">\"&AO96)\n+COUNTIFS(INDIRECT(\"AO12:AO500\"),AO96,INDIRECT(\"AN12:AN500\"),1,INDIRECT(\"CB12:CB500\"),CB96,INDIRECT(\"E12:E500\"),\"<\"&E96)\n+COUNTIFS(INDIRECT(\"AO12:AO500\"),AO96,INDIRECT(\"AN12:AN500\"),1,INDIRECT(\"CB12:CB500\"),CB96,INDIRECT(\"E12:E500\"),E96,INDIRECT(\"CC12:CC500\"),\"<\"&CC96)","v":1},{"$f":"1+COUNTIFS(INDIRECT(\"AN12:AN500\"),AN96,INDIRECT(\"CB12:CB500\"),CB96,INDIRECT(\"BB12:BB500\"),\">\"&BB96)\n+COUNTIFS(INDIRECT(\"BB12:BB500\"),BB96,INDIRECT(\"AN12:AN500\"),1,INDIRECT(\"CB12:CB500\"),CB96,INDIRECT(\"E12:E500\"),\"<\"&E96)","v":1}]
["3B","Brian Mason","SC","MR-O",94.7,{"$f":"IFERROR(VLOOKUP(E97,[3]DATA!$E$2:$G$22,IF(LEFT(D97,1)=\"M\",2,3)),\"\")","v":105},613,{"$f":"IFERROR(IF(LEFT(D97,1)=\"M\",Wilks_Men(IF($E$11=\"Bwt - Lb\",E97/2.2046,E97)),Wilks_Women(IF($E$11=\"Bwt - Lb\",E97/2.2046,E97))),\"\")","v":0.62290000915527344},"1984-12-25","16",210,225,230,{"$f":"IF(MAX(K97:M97)<=0,0,MAX(CELL(\"color\",K97)*K97,CELL(\"color\",L97)*L97,CELL(\"color\",M97)*M97))","v":230},"16-5",172.5,182.5,187.5,{"$f":"IF(MAX(P97:R97)<=0,0,MAX(CELL(\"color\",P97)*P97,CELL(\"color\",Q97)*Q97,CELL(\"color\",R97)*R97))","v":187.5},{"$f":"IF(OR(N97=0,S97=0),0,N97+S97)","v":417.5},277.5,297.5,-320,{"$f":"IF(MAX(U97:W97)<=0,0,MAX(CELL(\"color\",U97)*U97,CELL(\"color\",V97)*V97,CELL(\"color\",W97)*W97))","v":297.5},{"$f":"AM97*IF($AM$11=\"SQ\",N97,IF($AM$11=\"BP\",S97,IF($AM$11=\"DL\",X97,IF($AM$11=\"PP\",IF(OR(S97=0,X97=0),0,S97+X97),IF(OR(T97=0,X97=0),0,T97+X97)))))","v":715},{"$f":"IF(Y97=0,\"\",CONCATENATE(CD97,\"/\",IF(AN97=4,\"Wilks\",D97),\"/\",IF(AN97>1,\"\",F97),\"/\",$AM$11))","v":"2/MR-O/105/PL"},{"$f":"BB97","v":715},{"$f":"IF(AA97=0,\"\",CE97)","v":2},{"$f":"H97*IF($E$3=\"Kg\",Y97,Y97/2.2046)","v":445.37350654602051},{"$f":"IFERROR(VLOOKUP(AS97,[3]DATA!$A$2:$B$63,2,TRUE),0)*AC97","v":445.37350654602051},"PL BP",100401,"SC",{"$f":"IFERROR(VLOOKUP(A97,[3]Setup!$Q$5:$R$20,2,FALSE),\"\")","v":1},{"$f":"IF(VALUE(INDIRECT(CONCATENATE($AI$11,ROW())))=0,\"\",ABS(INDIRECT(CONCATENATE($AI$11,ROW())))+0.000001*G97)","v":320.00061299999999},61,54,51,{"$f":"IF(ISERROR(SEARCH($AM$11,AE97)),0,1)","v":1},{"$f":"VLOOKUP(D97,[3]Setup!$I$6:$K$93,3,FALSE)","v":1},{"$f":"ROUND(IFERROR(IF(AN97=1,Y97,IF(AN97=2,AC97,IF(AN97=3,AD97,AC97))),0),5)","v":715},null,{"$f":"IFERROR(MATCH(D97,[3]Setup!$I$6:$I$93,0),\"\")","v":27},{"$f":"IFERROR(CONCATENATE(LEFT(D97,FIND(\"-\",D97)),IF(AS97=\"\",\"O\",VLOOKUP(AS97,[3]DATA!$E$35:$F$53,2,TRUE))),\"\")","v":"MR-O"},{"$f":"IF(YEAR($AR$7)-YEAR(I97)<40,DATEDIF(I97,$AR$7,\"Y\"),YEAR($AR$7)-YEAR(I97))","v":33},{"$f":"IF(AN97=1,MATCH(F97,[3]DATA!$AB$2:$AB$34,0),0)","v":28},null,{"$f":"IF(MAX(K97:M97)>0,MAX(K97:M97),0)","v":230},{"$f":"IF(MAX(P97:R97)>0,MAX(P97:R97),0)","v":187.5},{"$f":"IF(MAX(U97:W97)>0,MAX(U97:W97),0)","v":297.5},{"$f":"AM97*IF($AM$11=\"PL\",IF(MIN(AV97:AX97)=0,0,AV97+AW97+AX97),IF($AM$11=\"PP\",IF(MIN(AW97:AX97)=0,0,AW97+AX97),IF($AM$11=\"BP\",AW97,IF($AM$11=\"DL\",AX97,AV97))))","v":715},{"$f":"ROUND(AY97*H97,5)","v":445.37351000000001},{"$f":"ROUND(IFERROR(VLOOKUP(AS97,[3]DATA!$A$2:$B$63,2,FALSE),1)*AZ97,5)","v":445.37351000000001},{"$f":"IFERROR(IF(AN97=1,AY97,IF(AN97=2,AZ97,IF(AN97=3,BA97,AZ97))),0)","v":715},null,null,null,null,null,null,null,null,null,null,null,null,null,null,null,null,null,null,null,null,null,null,null,{"$f":"IFERROR(IF(FIND(\"DT\",AE97),\"Y\",\"\"),\"\")","v":""},null,{"$f":"CONCATENATE(IF(AN97=4,\"\",D97),IF(AN97=1,F97,\"\"))","v":"MR-O105"},{"$f":"IF($AM$11=\"SQ\",AJ97,IF($AM$11=\"BP\",AK97,AL97))","v":51},{"$f":"1+COUNTIFS(INDIRECT(\"AN12:AN500\"),AN97,INDIRECT(\"CB12:CB500\"),CB97,INDIRECT(\"AO12:AO500\"),\">\"&AO97)\n+COUNTIFS(INDIRECT(\"AO12:AO500\"),AO97,INDIRECT(\"AN12:AN500\"),1,INDIRECT(\"CB12:CB500\"),CB97,INDIRECT(\"E12:E500\"),\"<\"&E97)\n+COUNTIFS(INDIRECT(\"AO12:AO500\"),AO97,INDIRECT(\"AN12:AN500\"),1,INDIRECT(\"CB12:CB500\"),CB97,INDIRECT(\"E12:E500\"),E97,INDIRECT(\"CC12:CC500\"),\"<\"&CC97)","v":2},{"$f":"1+COUNTIFS(INDIRECT(\"AN12:AN500\"),AN97,INDIRECT(\"CB12:CB500\"),CB97,INDIRECT(\"BB12:BB500\"),\">\"&BB97)\n+COUNTIFS(INDIRECT(\"BB12:BB500\"),BB97,INDIRECT(\"AN12:AN500\"),1,INDIRECT(\"CB12:CB500\"),CB97,INDIRECT(\"E12:E500\"),\"<\"&E97)","v":2}]
["3B","Randall Moss","SC","MR-O",104.94,{"$f":"IFERROR(VLOOKUP(E98,[3]DATA!$E$2:$G$22,IF(LEFT(D98,1)=\"M\",2,3)),\"\")","v":105},707,{"$f":"IFERROR(IF(LEFT(D98,1)=\"M\",Wilks_Men(IF($E$11=\"Bwt - Lb\",E98/2.2046,E98)),Wilks_Women(IF($E$11=\"Bwt - Lb\",E98/2.2046,E98))),\"\")","v":0.59769999980926514},"1989-02-03","17",235,250,257.5,{"$f":"IF(MAX(K98:M98)<=0,0,MAX(CELL(\"color\",K98)*K98,CELL(\"color\",L98)*L98,CELL(\"color\",M98)*M98))","v":257.5},"13-6",152.5,162.5,165,{"$f":"IF(MAX(P98:R98)<=0,0,MAX(CELL(\"color\",P98)*P98,CELL(\"color\",Q98)*Q98,CELL(\"color\",R98)*R98))","v":165},{"$f":"IF(OR(N98=0,S98=0),0,N98+S98)","v":422.5},250,265,272.5,{"$f":"IF(MAX(U98:W98)<=0,0,MAX(CELL(\"color\",U98)*U98,CELL(\"color\",V98)*V98,CELL(\"color\",W98)*W98))","v":272.5},{"$f":"AM98*IF($AM$11=\"SQ\",N98,IF($AM$11=\"BP\",S98,IF($AM$11=\"DL\",X98,IF($AM$11=\"PP\",IF(OR(S98=0,X98=0),0,S98+X98),IF(OR(T98=0,X98=0),0,T98+X98)))))","v":695},{"$f":"IF(Y98=0,\"\",CONCATENATE(CD98,\"/\",IF(AN98=4,\"Wilks\",D98),\"/\",IF(AN98>1,\"\",F98),\"/\",$AM$11))","v":"3/MR-O/105/PL"},{"$f":"BB98","v":695},{"$f":"IF(AA98=0,\"\",CE98)","v":3},{"$f":"H98*IF($E$3=\"Kg\",Y98,Y98/2.2046)","v":415.40149986743927},{"$f":"IFERROR(VLOOKUP(AS98,[3]DATA!$A$2:$B$63,2,TRUE),0)*AC98","v":415.40149986743927},"PL",920080,"SC",{"$f":"IFERROR(VLOOKUP(A98,[3]Setup!$Q$5:$R$20,2,FALSE),\"\")","v":1},{"$f":"IF(VALUE(INDIRECT(CONCATENATE($AI$11,ROW())))=0,\"\",ABS(INDIRECT(CONCATENATE($AI$11,ROW())))+0.000001*G98)","v":272.50070699999998},65,53,55,{"$f":"IF(ISERROR(SEARCH($AM$11,AE98)),0,1)","v":1},{"$f":"VLOOKUP(D98,[3]Setup!$I$6:$K$93,3,FALSE)","v":1},{"$f":"ROUND(IFERROR(IF(AN98=1,Y98,IF(AN98=2,AC98,IF(AN98=3,AD98,AC98))),0),5)","v":695},null,{"$f":"IFERROR(MATCH(D98,[3]Setup!$I$6:$I$93,0),\"\")","v":27},{"$f":"IFERROR(CONCATENATE(LEFT(D98,FIND(\"-\",D98)),IF(AS98=\"\",\"O\",VLOOKUP(AS98,[3]DATA!$E$35:$F$53,2,TRUE))),\"\")","v":"MR-O"},{"$f":"IF(YEAR($AR$7)-YEAR(I98)<40,DATEDIF(I98,$AR$7,\"Y\"),YEAR($AR$7)-YEAR(I98))","v":29},{"$f":"IF(AN98=1,MATCH(F98,[3]DATA!$AB$2:$AB$34,0),0)","v":28},null,{"$f":"IF(MAX(K98:M98)>0,MAX(K98:M98),0)","v":257.5},{"$f":"IF(MAX(P98:R98)>0,MAX(P98:R98),0)","v":165},{"$f":"IF(MAX(U98:W98)>0,MAX(U98:W98),0)","v":272.5},{"$f":"AM98*IF($AM$11=\"PL\",IF(MIN(AV98:AX98)=0,0,AV98+AW98+AX98),IF($AM$11=\"PP\",IF(MIN(AW98:AX98)=0,0,AW98+AX98),IF($AM$11=\"BP\",AW98,IF($AM$11=\"DL\",AX98,AV98))))","v":695},{"$f":"ROUND(AY98*H98,5)","v":415.4015},{"$f":"ROUND(IFERROR(VLOOKUP(AS98,[3]DATA!$A$2:$B$63,2,FALSE),1)*AZ98,5)","v":415.4015},{"$f":"IFERROR(IF(AN98=1,AY98,IF(AN98=2,AZ98,IF(AN98=3,BA98,AZ98))),0)","v":695},null,null,null,null,null,null,null,null,null,null,null,null,null,null,null,null,null,null,null,null,null,null,null,{"$f":"IFERROR(IF(FIND(\"DT\",AE98),\"Y\",\"\"),\"\")","v":""},null,{"$f":"CONCATENATE(IF(AN98=4,\"\",D98),IF(AN98=1,F98,\"\"))","v":"MR-O105"},{"$f":"IF($AM$11=\"SQ\",AJ98,IF($AM$11=\"BP\",AK98,AL98))","v":55},{"$f":"1+COUNTIFS(INDIRECT(\"AN12:AN500\"),AN98,INDIRECT(\"CB12:CB500\"),CB98,INDIRECT(\"AO12:AO500\"),\">\"&AO98)\n+COUNTIFS(INDIRECT(\"AO12:AO500\"),AO98,INDIRECT(\"AN12:AN500\"),1,INDIRECT(\"CB12:CB500\"),CB98,INDIRECT(\"E12:E500\"),\"<\"&E98)\n+COUNTIFS(INDIRECT(\"AO12:AO500\"),AO98,INDIRECT(\"AN12:AN500\"),1,INDIRECT(\"CB12:CB500\"),CB98,INDIRECT(\"E12:E500\"),E98,INDIRECT(\"CC12:CC500\"),\"<\"&CC98)","v":3},{"$f":"1+COUNTIFS(INDIRECT(\"AN12:AN500\"),AN98,INDIRECT(\"CB12:CB500\"),CB98,INDIRECT(\"BB12:BB500\"),\">\"&BB98)\n+COUNTIFS(INDIRECT(\"BB12:BB500\"),BB98,INDIRECT(\"AN12:AN500\"),1,INDIRECT(\"CB12:CB500\"),CB98,INDIRECT(\"E12:E500\"),\"<\"&E98)","v":3}]
["3B","Josh Przywara","SC","MR-O",102.62,{"$f":"IFERROR(VLOOKUP(E99,[3]DATA!$E$2:$G$22,IF(LEFT(D99,1)=\"M\",2,3)),\"\")","v":105},704,{"$f":"IFERROR(IF(LEFT(D99,1)=\"M\",Wilks_Men(IF($E$11=\"Bwt - Lb\",E99/2.2046,E99)),Wilks_Women(IF($E$11=\"Bwt - Lb\",E99/2.2046,E99))),\"\")","v":0.60250002145767212},"1992-03-08","19",210,220,235,{"$f":"IF(MAX(K99:M99)<=0,0,MAX(CELL(\"color\",K99)*K99,CELL(\"color\",L99)*L99,CELL(\"color\",M99)*M99))","v":235},"15-7",177.5,187.5,-195,{"$f":"IF(MAX(P99:R99)<=0,0,MAX(CELL(\"color\",P99)*P99,CELL(\"color\",Q99)*Q99,CELL(\"color\",R99)*R99))","v":187.5},{"$f":"IF(OR(N99=0,S99=0),0,N99+S99)","v":422.5},257.5,270,-277.5,{"$f":"IF(MAX(U99:W99)<=0,0,MAX(CELL(\"color\",U99)*U99,CELL(\"color\",V99)*V99,CELL(\"color\",W99)*W99))","v":270},{"$f":"AM99*IF($AM$11=\"SQ\",N99,IF($AM$11=\"BP\",S99,IF($AM$11=\"DL\",X99,IF($AM$11=\"PP\",IF(OR(S99=0,X99=0),0,S99+X99),IF(OR(T99=0,X99=0),0,T99+X99)))))","v":692.5},{"$f":"IF(Y99=0,\"\",CONCATENATE(CD99,\"/\",IF(AN99=4,\"Wilks\",D99),\"/\",IF(AN99>1,\"\",F99),\"/\",$AM$11))","v":"4/MR-O/105/PL"},{"$f":"BB99","v":692.5},{"$f":"IF(AA99=0,\"\",CE99)","v":4},{"$f":"H99*IF($E$3=\"Kg\",Y99,Y99/2.2046)","v":417.23126485943794},{"$f":"IFERROR(VLOOKUP(AS99,[3]DATA!$A$2:$B$63,2,TRUE),0)*AC99","v":417.23126485943794},"PL","4662-08-06","SC",{"$f":"IFERROR(VLOOKUP(A99,[3]Setup!$Q$5:$R$20,2,FALSE),\"\")","v":1},{"$f":"IF(VALUE(INDIRECT(CONCATENATE($AI$11,ROW())))=0,\"\",ABS(INDIRECT(CONCATENATE($AI$11,ROW())))+0.000001*G99)","v":277.50070399999998},64,47,48,{"$f":"IF(ISERROR(SEARCH($AM$11,AE99)),0,1)","v":1},{"$f":"VLOOKUP(D99,[3]Setup!$I$6:$K$93,3,FALSE)","v":1},{"$f":"ROUND(IFERROR(IF(AN99=1,Y99,IF(AN99=2,AC99,IF(AN99=3,AD99,AC99))),0),5)","v":692.5},null,{"$f":"IFERROR(MATCH(D99,[3]Setup!$I$6:$I$93,0),\"\")","v":27},{"$f":"IFERROR(CONCATENATE(LEFT(D99,FIND(\"-\",D99)),IF(AS99=\"\",\"O\",VLOOKUP(AS99,[3]DATA!$E$35:$F$53,2,TRUE))),\"\")","v":"MR-O"},{"$f":"IF(YEAR($AR$7)-YEAR(I99)<40,DATEDIF(I99,$AR$7,\"Y\"),YEAR($AR$7)-YEAR(I99))","v":26},{"$f":"IF(AN99=1,MATCH(F99,[3]DATA!$AB$2:$AB$34,0),0)","v":28},null,{"$f":"IF(MAX(K99:M99)>0,MAX(K99:M99),0)","v":235},{"$f":"IF(MAX(P99:R99)>0,MAX(P99:R99),0)","v":187.5},{"$f":"IF(MAX(U99:W99)>0,MAX(U99:W99),0)","v":270},{"$f":"AM99*IF($AM$11=\"PL\",IF(MIN(AV99:AX99)=0,0,AV99+AW99+AX99),IF($AM$11=\"PP\",IF(MIN(AW99:AX99)=0,0,AW99+AX99),IF($AM$11=\"BP\",AW99,IF($AM$11=\"DL\",AX99,AV99))))","v":692.5},{"$f":"ROUND(AY99*H99,5)","v":417.23126000000002},{"$f":"ROUND(IFERROR(VLOOKUP(AS99,[3]DATA!$A$2:$B$63,2,FALSE),1)*AZ99,5)","v":417.23126000000002},{"$f":"IFERROR(IF(AN99=1,AY99,IF(AN99=2,AZ99,IF(AN99=3,BA99,AZ99))),0)","v":692.5},null,null,null,null,null,null,null,null,null,null,null,null,null,null,null,null,null,null,null,null,null,null,null,{"$f":"IFERROR(IF(FIND(\"DT\",AE99),\"Y\",\"\"),\"\")","v":""},null,{"$f":"CONCATENATE(IF(AN99=4,\"\",D99),IF(AN99=1,F99,\"\"))","v":"MR-O105"},{"$f":"IF($AM$11=\"SQ\",AJ99,IF($AM$11=\"BP\",AK99,AL99))","v":48},{"$f":"1+COUNTIFS(INDIRECT(\"AN12:AN500\"),AN99,INDIRECT(\"CB12:CB500\"),CB99,INDIRECT(\"AO12:AO500\"),\">\"&AO99)\n+COUNTIFS(INDIRECT(\"AO12:AO500\"),AO99,INDIRECT(\"AN12:AN500\"),1,INDIRECT(\"CB12:CB500\"),CB99,INDIRECT(\"E12:E500\"),\"<\"&E99)\n+COUNTIFS(INDIRECT(\"AO12:AO500\"),AO99,INDIRECT(\"AN12:AN500\"),1,INDIRECT(\"CB12:CB500\"),CB99,INDIRECT(\"E12:E500\"),E99,INDIRECT(\"CC12:CC500\"),\"<\"&CC99)","v":4},{"$f":"1+COUNTIFS(INDIRECT(\"AN12:AN500\"),AN99,INDIRECT(\"CB12:CB500\"),CB99,INDIRECT(\"BB12:BB500\"),\">\"&BB99)\n+COUNTIFS(INDIRECT(\"BB12:BB500\"),BB99,INDIRECT(\"AN12:AN500\"),1,INDIRECT(\"CB12:CB500\"),CB99,INDIRECT(\"E12:E500\"),\"<\"&E99)","v":4}]
["3B","Tristan Stinson","NC","MR-O",98.6,{"$f":"IFERROR(VLOOKUP(E100,[3]DATA!$E$2:$G$22,IF(LEFT(D100,1)=\"M\",2,3)),\"\")","v":105},703,{"$f":"IFERROR(IF(LEFT(D100,1)=\"M\",Wilks_Men(IF($E$11=\"Bwt - Lb\",E100/2.2046,E100)),Wilks_Women(IF($E$11=\"Bwt - Lb\",E100/2.2046,E100))),\"\")","v":0.61210000514984131},"1993-05-15","15",-220,227.5,230,{"$f":"IF(MAX(K100:M100)<=0,0,MAX(CELL(\"color\",K100)*K100,CELL(\"color\",L100)*L100,CELL(\"color\",M100)*M100))","v":230},"14-6",160,167.5,-170,{"$f":"IF(MAX(P100:R100)<=0,0,MAX(CELL(\"color\",P100)*P100,CELL(\"color\",Q100)*Q100,CELL(\"color\",R100)*R100))","v":167.5},{"$f":"IF(OR(N100=0,S100=0),0,N100+S100)","v":397.5},255,275,-285,{"$f":"IF(MAX(U100:W100)<=0,0,MAX(CELL(\"color\",U100)*U100,CELL(\"color\",V100)*V100,CELL(\"color\",W100)*W100))","v":275},{"$f":"AM100*IF($AM$11=\"SQ\",N100,IF($AM$11=\"BP\",S100,IF($AM$11=\"DL\",X100,IF($AM$11=\"PP\",IF(OR(S100=0,X100=0),0,S100+X100),IF(OR(T100=0,X100=0),0,T100+X100)))))","v":672.5},{"$f":"IF(Y100=0,\"\",CONCATENATE(CD100,\"/\",IF(AN100=4,\"Wilks\",D100),\"/\",IF(AN100>1,\"\",F100),\"/\",$AM$11))","v":"5/MR-O/105/PL"},{"$f":"BB100","v":672.5},{"$f":"IF(AA100=0,\"\",CE100)","v":5},{"$f":"H100*IF($E$3=\"Kg\",Y100,Y100/2.2046)","v":411.63725346326828},{"$f":"IFERROR(VLOOKUP(AS100,[3]DATA!$A$2:$B$63,2,TRUE),0)*AC100","v":411.63725346326828},"PL"," ","NC",{"$f":"IFERROR(VLOOKUP(A100,[3]Setup!$Q$5:$R$20,2,FALSE),\"\")","v":1},{"$f":"IF(VALUE(INDIRECT(CONCATENATE($AI$11,ROW())))=0,\"\",ABS(INDIRECT(CONCATENATE($AI$11,ROW())))+0.000001*G100)","v":285.00070299999999},62,44,49,{"$f":"IF(ISERROR(SEARCH($AM$11,AE100)),0,1)","v":1},{"$f":"VLOOKUP(D100,[3]Setup!$I$6:$K$93,3,FALSE)","v":1},{"$f":"ROUND(IFERROR(IF(AN100=1,Y100,IF(AN100=2,AC100,IF(AN100=3,AD100,AC100))),0),5)","v":672.5},null,{"$f":"IFERROR(MATCH(D100,[3]Setup!$I$6:$I$93,0),\"\")","v":27},{"$f":"IFERROR(CONCATENATE(LEFT(D100,FIND(\"-\",D100)),IF(AS100=\"\",\"O\",VLOOKUP(AS100,[3]DATA!$E$35:$F$53,2,TRUE))),\"\")","v":"MR-O"},{"$f":"IF(YEAR($AR$7)-YEAR(I100)<40,DATEDIF(I100,$AR$7,\"Y\"),YEAR($AR$7)-YEAR(I100))","v":24},{"$f":"IF(AN100=1,MATCH(F100,[3]DATA!$AB$2:$AB$34,0),0)","v":28},null,{"$f":"IF(MAX(K100:M100)>0,MAX(K100:M100),0)","v":230},{"$f":"IF(MAX(P100:R100)>0,MAX(P100:R100),0)","v":167.5},{"$f":"IF(MAX(U100:W100)>0,MAX(U100:W100),0)","v":275},{"$f":"AM100*IF($AM$11=\"PL\",IF(MIN(AV100:AX100)=0,0,AV100+AW100+AX100),IF($AM$11=\"PP\",IF(MIN(AW100:AX100)=0,0,AW100+AX100),IF($AM$11=\"BP\",AW100,IF($AM$11=\"DL\",AX100,AV100))))","v":672.5},{"$f":"ROUND(AY100*H100,5)","v":411.63724999999999},{"$f":"ROUND(IFERROR(VLOOKUP(AS100,[3]DATA!$A$2:$B$63,2,FALSE),1)*AZ100,5)","v":411.63724999999999},{"$f":"IFERROR(IF(AN100=1,AY100,IF(AN100=2,AZ100,IF(AN100=3,BA100,AZ100))),0)","v":672.5},null,null,null,null,null,null,null,null,null,null,null,null,null,null,null,null,null,null,null,null,null,null,null,{"$f":"IFERROR(IF(FIND(\"DT\",AE100),\"Y\",\"\"),\"\")","v":""},null,{"$f":"CONCATENATE(IF(AN100=4,\"\",D100),IF(AN100=1,F100,\"\"))","v":"MR-O105"},{"$f":"IF($AM$11=\"SQ\",AJ100,IF($AM$11=\"BP\",AK100,AL100))","v":49},{"$f":"1+COUNTIFS(INDIRECT(\"AN12:AN500\"),AN100,INDIRECT(\"CB12:CB500\"),CB100,INDIRECT(\"AO12:AO500\"),\">\"&AO100)\n+COUNTIFS(INDIRECT(\"AO12:AO500\"),AO100,INDIRECT(\"AN12:AN500\"),1,INDIRECT(\"CB12:CB500\"),CB100,INDIRECT(\"E12:E500\"),\"<\"&E100)\n+COUNTIFS(INDIRECT(\"AO12:AO500\"),AO100,INDIRECT(\"AN12:AN500\"),1,INDIRECT(\"CB12:CB500\"),CB100,INDIRECT(\"E12:E500\"),E100,INDIRECT(\"CC12:CC500\"),\"<\"&CC100)","v":5},{"$f":"1+COUNTIFS(INDIRECT(\"AN12:AN500\"),AN100,INDIRECT(\"CB12:CB500\"),CB100,INDIRECT(\"BB12:BB500\"),\">\"&BB100)\n+COUNTIFS(INDIRECT(\"BB12:BB500\"),BB100,INDIRECT(\"AN12:AN500\"),1,INDIRECT(\"CB12:CB500\"),CB100,INDIRECT(\"E12:E500\"),\"<\"&E100)","v":5}]
["3B","Harrison Little","NC","MR-O",102.44,{"$f":"IFERROR(VLOOKUP(E101,[3]DATA!$E$2:$G$22,IF(LEFT(D101,1)=\"M\",2,3)),\"\")","v":105},615,{"$f":"IFERROR(IF(LEFT(D101,1)=\"M\",Wilks_Men(IF($E$11=\"Bwt - Lb\",E101/2.2046,E101)),Wilks_Women(IF($E$11=\"Bwt - Lb\",E101/2.2046,E101))),\"\")","v":0.60290002822875977},"1997-09-03","21",215,227.5,235,{"$f":"IF(MAX(K101:M101)<=0,0,MAX(CELL(\"color\",K101)*K101,CELL(\"color\",L101)*L101,CELL(\"color\",M101)*M101))","v":235},"15-9",145,155,162.5,{"$f":"IF(MAX(P101:R101)<=0,0,MAX(CELL(\"color\",P101)*P101,CELL(\"color\",Q101)*Q101,CELL(\"color\",R101)*R101))","v":162.5},{"$f":"IF(OR(N101=0,S101=0),0,N101+S101)","v":397.5},245,262.5,275,{"$f":"IF(MAX(U101:W101)<=0,0,MAX(CELL(\"color\",U101)*U101,CELL(\"color\",V101)*V101,CELL(\"color\",W101)*W101))","v":275},{"$f":"AM101*IF($AM$11=\"SQ\",N101,IF($AM$11=\"BP\",S101,IF($AM$11=\"DL\",X101,IF($AM$11=\"PP\",IF(OR(S101=0,X101=0),0,S101+X101),IF(OR(T101=0,X101=0),0,T101+X101)))))","v":672.5},{"$f":"IF(Y101=0,\"\",CONCATENATE(CD101,\"/\",IF(AN101=4,\"Wilks\",D101),\"/\",IF(AN101>1,\"\",F101),\"/\",$AM$11))","v":"6/MR-O/105/PL"},{"$f":"BB101","v":672.5},{"$f":"IF(AA101=0,\"\",CE101)","v":6},{"$f":"H101*IF($E$3=\"Kg\",Y101,Y101/2.2046)","v":405.45026898384094},{"$f":"IFERROR(VLOOKUP(AS101,[3]DATA!$A$2:$B$63,2,TRUE),0)*AC101","v":417.61377705335616},"PL",1013485,"NC",{"$f":"IFERROR(VLOOKUP(A101,[3]Setup!$Q$5:$R$20,2,FALSE),\"\")","v":1},{"$f":"IF(VALUE(INDIRECT(CONCATENATE($AI$11,ROW())))=0,\"\",ABS(INDIRECT(CONCATENATE($AI$11,ROW())))+0.000001*G101)","v":275.00061499999998},63,52,56,{"$f":"IF(ISERROR(SEARCH($AM$11,AE101)),0,1)","v":1},{"$f":"VLOOKUP(D101,[3]Setup!$I$6:$K$93,3,FALSE)","v":1},{"$f":"ROUND(IFERROR(IF(AN101=1,Y101,IF(AN101=2,AC101,IF(AN101=3,AD101,AC101))),0),5)","v":672.5},null,{"$f":"IFERROR(MATCH(D101,[3]Setup!$I$6:$I$93,0),\"\")","v":27},{"$f":"IFERROR(CONCATENATE(LEFT(D101,FIND(\"-\",D101)),IF(AS101=\"\",\"O\",VLOOKUP(AS101,[3]DATA!$E$35:$F$53,2,TRUE))),\"\")","v":"MR-Jr"},{"$f":"IF(YEAR($AR$7)-YEAR(I101)<40,DATEDIF(I101,$AR$7,\"Y\"),YEAR($AR$7)-YEAR(I101))","v":20},{"$f":"IF(AN101=1,MATCH(F101,[3]DATA!$AB$2:$AB$34,0),0)","v":28},null,{"$f":"IF(MAX(K101:M101)>0,MAX(K101:M101),0)","v":235},{"$f":"IF(MAX(P101:R101)>0,MAX(P101:R101),0)","v":162.5},{"$f":"IF(MAX(U101:W101)>0,MAX(U101:W101),0)","v":275},{"$f":"AM101*IF($AM$11=\"PL\",IF(MIN(AV101:AX101)=0,0,AV101+AW101+AX101),IF($AM$11=\"PP\",IF(MIN(AW101:AX101)=0,0,AW101+AX101),IF($AM$11=\"BP\",AW101,IF($AM$11=\"DL\",AX101,AV101))))","v":672.5},{"$f":"ROUND(AY101*H101,5)","v":405.45026999999999},{"$f":"ROUND(IFERROR(VLOOKUP(AS101,[3]DATA!$A$2:$B$63,2,FALSE),1)*AZ101,5)","v":417.61378000000002},{"$f":"IFERROR(IF(AN101=1,AY101,IF(AN101=2,AZ101,IF(AN101=3,BA101,AZ101))),0)","v":672.5},null,null,null,null,null,null,null,null,null,null,null,null,null,null,null,null,null,null,null,null,null,null,null,{"$f":"IFERROR(IF(FIND(\"DT\",AE101),\"Y\",\"\"),\"\")","v":""},null,{"$f":"CONCATENATE(IF(AN101=4,\"\",D101),IF(AN101=1,F101,\"\"))","v":"MR-O105"},{"$f":"IF($AM$11=\"SQ\",AJ101,IF($AM$11=\"BP\",AK101,AL101))","v":56},{"$f":"1+COUNTIFS(INDIRECT(\"AN12:AN500\"),AN101,INDIRECT(\"CB12:CB500\"),CB101,INDIRECT(\"AO12:AO500\"),\">\"&AO101)\n+COUNTIFS(INDIRECT(\"AO12:AO500\"),AO101,INDIRECT(\"AN12:AN500\"),1,INDIRECT(\"CB12:CB500\"),CB101,INDIRECT(\"E12:E500\"),\"<\"&E101)\n+COUNTIFS(INDIRECT(\"AO12:AO500\"),AO101,INDIRECT(\"AN12:AN500\"),1,INDIRECT(\"CB12:CB500\"),CB101,INDIRECT(\"E12:E500\"),E101,INDIRECT(\"CC12:CC500\"),\"<\"&CC101)","v":6},{"$f":"1+COUNTIFS(INDIRECT(\"AN12:AN500\"),AN101,INDIRECT(\"CB12:CB500\"),CB101,INDIRECT(\"BB12:BB500\"),\">\"&BB101)\n+COUNTIFS(INDIRECT(\"BB12:BB500\"),BB101,INDIRECT(\"AN12:AN500\"),1,INDIRECT(\"CB12:CB500\"),CB101,INDIRECT(\"E12:E500\"),\"<\"&E101)","v":6}]
["3B","Will Cauthen","NC","MR-O",102.22,{"$f":"IFERROR(VLOOKUP(E102,[3]DATA!$E$2:$G$22,IF(LEFT(D102,1)=\"M\",2,3)),\"\")","v":105},705,{"$f":"IFERROR(IF(LEFT(D102,1)=\"M\",Wilks_Men(IF($E$11=\"Bwt - Lb\",E102/2.2046,E102)),Wilks_Women(IF($E$11=\"Bwt - Lb\",E102/2.2046,E102))),\"\")","v":0.60339999198913574},"1990-11-28","18",205,215,225,{"$f":"IF(MAX(K102:M102)<=0,0,MAX(CELL(\"color\",K102)*K102,CELL(\"color\",L102)*L102,CELL(\"color\",M102)*M102))","v":225},"15-5",132.5,140,147.5,{"$f":"IF(MAX(P102:R102)<=0,0,MAX(CELL(\"color\",P102)*P102,CELL(\"color\",Q102)*Q102,CELL(\"color\",R102)*R102))","v":147.5},{"$f":"IF(OR(N102=0,S102=0),0,N102+S102)","v":372.5},257.5,267.5,280,{"$f":"IF(MAX(U102:W102)<=0,0,MAX(CELL(\"color\",U102)*U102,CELL(\"color\",V102)*V102,CELL(\"color\",W102)*W102))","v":280},{"$f":"AM102*IF($AM$11=\"SQ\",N102,IF($AM$11=\"BP\",S102,IF($AM$11=\"DL\",X102,IF($AM$11=\"PP\",IF(OR(S102=0,X102=0),0,S102+X102),IF(OR(T102=0,X102=0),0,T102+X102)))))","v":652.5},{"$f":"IF(Y102=0,\"\",CONCATENATE(CD102,\"/\",IF(AN102=4,\"Wilks\",D102),\"/\",IF(AN102>1,\"\",F102),\"/\",$AM$11))","v":"7/MR-O/105/PL"},{"$f":"BB102","v":652.5},{"$f":"IF(AA102=0,\"\",CE102)","v":7},{"$f":"H102*IF($E$3=\"Kg\",Y102,Y102/2.2046)","v":393.71849477291107},{"$f":"IFERROR(VLOOKUP(AS102,[3]DATA!$A$2:$B$63,2,TRUE),0)*AC102","v":393.71849477291107},"PL",null,"NC",{"$f":"IFERROR(VLOOKUP(A102,[3]Setup!$Q$5:$R$20,2,FALSE),\"\")","v":1},{"$f":"IF(VALUE(INDIRECT(CONCATENATE($AI$11,ROW())))=0,\"\",ABS(INDIRECT(CONCATENATE($AI$11,ROW())))+0.000001*G102)","v":280.00070499999998},60,51,57,{"$f":"IF(ISERROR(SEARCH($AM$11,AE102)),0,1)","v":1},{"$f":"VLOOKUP(D102,[3]Setup!$I$6:$K$93,3,FALSE)","v":1},{"$f":"ROUND(IFERROR(IF(AN102=1,Y102,IF(AN102=2,AC102,IF(AN102=3,AD102,AC102))),0),5)","v":652.5},null,{"$f":"IFERROR(MATCH(D102,[3]Setup!$I$6:$I$93,0),\"\")","v":27},{"$f":"IFERROR(CONCATENATE(LEFT(D102,FIND(\"-\",D102)),IF(AS102=\"\",\"O\",VLOOKUP(AS102,[3]DATA!$E$35:$F$53,2,TRUE))),\"\")","v":"MR-O"},{"$f":"IF(YEAR($AR$7)-YEAR(I102)<40,DATEDIF(I102,$AR$7,\"Y\"),YEAR($AR$7)-YEAR(I102))","v":27},{"$f":"IF(AN102=1,MATCH(F102,[3]DATA!$AB$2:$AB$34,0),0)","v":28},null,{"$f":"IF(MAX(K102:M102)>0,MAX(K102:M102),0)","v":225},{"$f":"IF(MAX(P102:R102)>0,MAX(P102:R102),0)","v":147.5},{"$f":"IF(MAX(U102:W102)>0,MAX(U102:W102),0)","v":280},{"$f":"AM102*IF($AM$11=\"PL\",IF(MIN(AV102:AX102)=0,0,AV102+AW102+AX102),IF($AM$11=\"PP\",IF(MIN(AW102:AX102)=0,0,AW102+AX102),IF($AM$11=\"BP\",AW102,IF($AM$11=\"DL\",AX102,AV102))))","v":652.5},{"$f":"ROUND(AY102*H102,5)","v":393.71848999999997},{"$f":"ROUND(IFERROR(VLOOKUP(AS102,[3]DATA!$A$2:$B$63,2,FALSE),1)*AZ102,5)","v":393.71848999999997},{"$f":"IFERROR(IF(AN102=1,AY102,IF(AN102=2,AZ102,IF(AN102=3,BA102,AZ102))),0)","v":652.5},null,null,null,null,null,null,null,null,null,null,null,null,null,null,null,null,null,null,null,null,null,null,null,{"$f":"IFERROR(IF(FIND(\"DT\",AE102),\"Y\",\"\"),\"\")","v":""},null,{"$f":"CONCATENATE(IF(AN102=4,\"\",D102),IF(AN102=1,F102,\"\"))","v":"MR-O105"},{"$f":"IF($AM$11=\"SQ\",AJ102,IF($AM$11=\"BP\",AK102,AL102))","v":57},{"$f":"1+COUNTIFS(INDIRECT(\"AN12:AN500\"),AN102,INDIRECT(\"CB12:CB500\"),CB102,INDIRECT(\"AO12:AO500\"),\">\"&AO102)\n+COUNTIFS(INDIRECT(\"AO12:AO500\"),AO102,INDIRECT(\"AN12:AN500\"),1,INDIRECT(\"CB12:CB500\"),CB102,INDIRECT(\"E12:E500\"),\"<\"&E102)\n+COUNTIFS(INDIRECT(\"AO12:AO500\"),AO102,INDIRECT(\"AN12:AN500\"),1,INDIRECT(\"CB12:CB500\"),CB102,INDIRECT(\"E12:E500\"),E102,INDIRECT(\"CC12:CC500\"),\"<\"&CC102)","v":7},{"$f":"1+COUNTIFS(INDIRECT(\"AN12:AN500\"),AN102,INDIRECT(\"CB12:CB500\"),CB102,INDIRECT(\"BB12:BB500\"),\">\"&BB102)\n+COUNTIFS(INDIRECT(\"BB12:BB500\"),BB102,INDIRECT(\"AN12:AN500\"),1,INDIRECT(\"CB12:CB500\"),CB102,INDIRECT(\"E12:E500\"),\"<\"&E102)","v":7}]
["1B","Royce Young","NC","MR-O",101.8,{"$f":"IFERROR(VLOOKUP(E103,[2]DATA!$E$2:$G$22,IF(LEFT(D103,1)=\"M\",2,3)),\"\")","v":105},109,{"$f":"IFERROR(IF(LEFT(D103,1)=\"M\",Wilks_Men(IF($E$11=\"Bwt - Lb\",E103/2.2046,E103)),Wilks_Women(IF($E$11=\"Bwt - Lb\",E103/2.2046,E103))),\"\")","v":0.60439997911453247},"1970-02-04","20",197.5,-205,207.5,{"$f":"IF(MAX(K103:M103)<=0,0,MAX(CELL(\"color\",K103)*K103,CELL(\"color\",L103)*L103,CELL(\"color\",M103)*M103))","v":207.5},"15-7",160,165,-170,{"$f":"IF(MAX(P103:R103)<=0,0,MAX(CELL(\"color\",P103)*P103,CELL(\"color\",Q103)*Q103,CELL(\"color\",R103)*R103))","v":165},{"$f":"IF(OR(N103=0,S103=0),0,N103+S103)","v":372.5},250,257.5,262.5,{"$f":"IF(MAX(U103:W103)<=0,0,MAX(CELL(\"color\",U103)*U103,CELL(\"color\",V103)*V103,CELL(\"color\",W103)*W103))","v":262.5},{"$f":"AM103*IF($AM$11=\"SQ\",N103,IF($AM$11=\"BP\",S103,IF($AM$11=\"DL\",X103,IF($AM$11=\"PP\",IF(OR(S103=0,X103=0),0,S103+X103),IF(OR(T103=0,X103=0),0,T103+X103)))))","v":635},{"$f":"IF(Y103=0,\"\",CONCATENATE(CD103,\"/\",IF(AN103=4,\"Wilks\",D103),\"/\",IF(AN103>1,\"\",F103),\"/\",$AM$11))","v":"8/MR-O/105/PL"},{"$f":"BB103","v":635},{"$f":"IF(AA103=0,\"\",CE103)","v":8},{"$f":"H103*IF($E$3=\"Kg\",Y103,Y103/2.2046)","v":383.79398673772812},{"$f":"IFERROR(VLOOKUP(AS103,[2]DATA!$A$2:$B$63,2,TRUE),0)*AC103","v":421.02200345128773},"PL BP",6860,"NC",{"$f":"IFERROR(VLOOKUP(A103,[2]Setup!$Q$5:$R$20,2,FALSE),\"\")","v":1},{"$f":"IF(VALUE(INDIRECT(CONCATENATE($AI$11,ROW())))=0,\"\",ABS(INDIRECT(CONCATENATE($AI$11,ROW())))+0.000001*G103)","v":262.50010900000001},70,63,80,{"$f":"IF(ISERROR(SEARCH($AM$11,AE103)),0,1)","v":1},{"$f":"VLOOKUP(D103,[2]Setup!$I$6:$K$93,3,FALSE)","v":1},{"$f":"ROUND(IFERROR(IF(AN103=1,Y103,IF(AN103=2,AC103,IF(AN103=3,AD103,AC103))),0),5)","v":635},null,{"$f":"IFERROR(MATCH(D103,[2]Setup!$I$6:$I$93,0),\"\")","v":27},{"$f":"IFERROR(CONCATENATE(LEFT(D103,FIND(\"-\",D103)),IF(AS103=\"\",\"O\",VLOOKUP(AS103,[2]DATA!$E$35:$F$53,2,TRUE))),\"\")","v":"MR-M1b"},{"$f":"IF(YEAR($AR$7)-YEAR(I103)<40,DATEDIF(I103,$AR$7,\"Y\"),YEAR($AR$7)-YEAR(I103))","v":48},{"$f":"IF(AN103=1,MATCH(F103,[2]DATA!$AB$2:$AB$34,0),0)","v":28},null,{"$f":"IF(MAX(K103:M103)>0,MAX(K103:M103),0)","v":207.5},{"$f":"IF(MAX(P103:R103)>0,MAX(P103:R103),0)","v":165},{"$f":"IF(MAX(U103:W103)>0,MAX(U103:W103),0)","v":262.5},{"$f":"AM103*IF($AM$11=\"PL\",IF(MIN(AV103:AX103)=0,0,AV103+AW103+AX103),IF($AM$11=\"PP\",IF(MIN(AW103:AX103)=0,0,AW103+AX103),IF($AM$11=\"BP\",AW103,IF($AM$11=\"DL\",AX103,AV103))))","v":635},{"$f":"ROUND(AY103*H103,5)","v":383.79399000000001},{"$f":"ROUND(IFERROR(VLOOKUP(AS103,[2]DATA!$A$2:$B$63,2,FALSE),1)*AZ103,5)","v":421.02201000000002},{"$f":"IFERROR(IF(AN103=1,AY103,IF(AN103=2,AZ103,IF(AN103=3,BA103,AZ103))),0)","v":635},null,null,null,null,null,null,null,null,null,null,null,null,null,null,null,null,null,null,null,null,null,null,null,{"$f":"IFERROR(IF(FIND(\"DT\",AE103),\"Y\",\"\"),\"\")","v":""},null,{"$f":"CONCATENATE(IF(AN103=4,\"\",D103),IF(AN103=1,F103,\"\"))","v":"MR-O105"},{"$f":"IF($AM$11=\"SQ\",AJ103,IF($AM$11=\"BP\",AK103,AL103))","v":80},{"$f":"1+COUNTIFS(INDIRECT(\"AN12:AN500\"),AN103,INDIRECT(\"CB12:CB500\"),CB103,INDIRECT(\"AO12:AO500\"),\">\"&AO103)\n+COUNTIFS(INDIRECT(\"AO12:AO500\"),AO103,INDIRECT(\"AN12:AN500\"),1,INDIRECT(\"CB12:CB500\"),CB103,INDIRECT(\"E12:E500\"),\"<\"&E103)\n+COUNTIFS(INDIRECT(\"AO12:AO500\"),AO103,INDIRECT(\"AN12:AN500\"),1,INDIRECT(\"CB12:CB500\"),CB103,INDIRECT(\"E12:E500\"),E103,INDIRECT(\"CC12:CC500\"),\"<\"&CC103)","v":8},{"$f":"1+COUNTIFS(INDIRECT(\"AN12:AN500\"),AN103,INDIRECT(\"CB12:CB500\"),CB103,INDIRECT(\"BB12:BB500\"),\">\"&BB103)\n+COUNTIFS(INDIRECT(\"BB12:BB500\"),BB103,INDIRECT(\"AN12:AN500\"),1,INDIRECT(\"CB12:CB500\"),CB103,INDIRECT(\"E12:E500\"),\"<\"&E103)","v":8}]
["3A","Chris Connell","NC","MR-O",94.4,{"$f":"IFERROR(VLOOKUP(E104,[3]DATA!$E$2:$G$22,IF(LEFT(D104,1)=\"M\",2,3)),\"\")","v":105},608,{"$f":"IFERROR(IF(LEFT(D104,1)=\"M\",Wilks_Men(IF($E$11=\"Bwt - Lb\",E104/2.2046,E104)),Wilks_Women(IF($E$11=\"Bwt - Lb\",E104/2.2046,E104))),\"\")","v":0.62379997968673706},"1988-12-18","11",225,-237.5,-237.5,{"$f":"IF(MAX(K104:M104)<=0,0,MAX(CELL(\"color\",K104)*K104,CELL(\"color\",L104)*L104,CELL(\"color\",M104)*M104))","v":225},"12-6",-165,165,-175,{"$f":"IF(MAX(P104:R104)<=0,0,MAX(CELL(\"color\",P104)*P104,CELL(\"color\",Q104)*Q104,CELL(\"color\",R104)*R104))","v":165},{"$f":"IF(OR(N104=0,S104=0),0,N104+S104)","v":390},225,242.5,-250,{"$f":"IF(MAX(U104:W104)<=0,0,MAX(CELL(\"color\",U104)*U104,CELL(\"color\",V104)*V104,CELL(\"color\",W104)*W104))","v":242.5},{"$f":"AM104*IF($AM$11=\"SQ\",N104,IF($AM$11=\"BP\",S104,IF($AM$11=\"DL\",X104,IF($AM$11=\"PP\",IF(OR(S104=0,X104=0),0,S104+X104),IF(OR(T104=0,X104=0),0,T104+X104)))))","v":632.5},{"$f":"IF(Y104=0,\"\",CONCATENATE(CD104,\"/\",IF(AN104=4,\"Wilks\",D104),\"/\",IF(AN104>1,\"\",F104),\"/\",$AM$11))","v":"9/MR-O/105/PL"},{"$f":"BB104","v":632.5},{"$f":"IF(AA104=0,\"\",CE104)","v":9},{"$f":"H104*IF($E$3=\"Kg\",Y104,Y104/2.2046)","v":394.55348715186119},{"$f":"IFERROR(VLOOKUP(AS104,[3]DATA!$A$2:$B$63,2,TRUE),0)*AC104","v":394.55348715186119},"PL BP",7696,"NC",{"$f":"IFERROR(VLOOKUP(A104,[3]Setup!$Q$5:$R$20,2,FALSE),\"\")","v":0},{"$f":"IF(VALUE(INDIRECT(CONCATENATE($AI$11,ROW())))=0,\"\",ABS(INDIRECT(CONCATENATE($AI$11,ROW())))+0.000001*G104)","v":250.000608},12,21,23,{"$f":"IF(ISERROR(SEARCH($AM$11,AE104)),0,1)","v":1},{"$f":"VLOOKUP(D104,[3]Setup!$I$6:$K$93,3,FALSE)","v":1},{"$f":"ROUND(IFERROR(IF(AN104=1,Y104,IF(AN104=2,AC104,IF(AN104=3,AD104,AC104))),0),5)","v":632.5},null,{"$f":"IFERROR(MATCH(D104,[3]Setup!$I$6:$I$93,0),\"\")","v":27},{"$f":"IFERROR(CONCATENATE(LEFT(D104,FIND(\"-\",D104)),IF(AS104=\"\",\"O\",VLOOKUP(AS104,[3]DATA!$E$35:$F$53,2,TRUE))),\"\")","v":"MR-O"},{"$f":"IF(YEAR($AR$7)-YEAR(I104)<40,DATEDIF(I104,$AR$7,\"Y\"),YEAR($AR$7)-YEAR(I104))","v":29},{"$f":"IF(AN104=1,MATCH(F104,[3]DATA!$AB$2:$AB$34,0),0)","v":28},null,{"$f":"IF(MAX(K104:M104)>0,MAX(K104:M104),0)","v":225},{"$f":"IF(MAX(P104:R104)>0,MAX(P104:R104),0)","v":165},{"$f":"IF(MAX(U104:W104)>0,MAX(U104:W104),0)","v":242.5},{"$f":"AM104*IF($AM$11=\"PL\",IF(MIN(AV104:AX104)=0,0,AV104+AW104+AX104),IF($AM$11=\"PP\",IF(MIN(AW104:AX104)=0,0,AW104+AX104),IF($AM$11=\"BP\",AW104,IF($AM$11=\"DL\",AX104,AV104))))","v":632.5},{"$f":"ROUND(AY104*H104,5)","v":394.55349000000001},{"$f":"ROUND(IFERROR(VLOOKUP(AS104,[3]DATA!$A$2:$B$63,2,FALSE),1)*AZ104,5)","v":394.55349000000001},{"$f":"IFERROR(IF(AN104=1,AY104,IF(AN104=2,AZ104,IF(AN104=3,BA104,AZ104))),0)","v":632.5},null,null,null,null,null,null,null,null,null,null,null,null,null,null,null,null,null,null,null,null,null,null,null,{"$f":"IFERROR(IF(FIND(\"DT\",AE104),\"Y\",\"\"),\"\")","v":""},null,{"$f":"CONCATENATE(IF(AN104=4,\"\",D104),IF(AN104=1,F104,\"\"))","v":"MR-O105"},{"$f":"IF($AM$11=\"SQ\",AJ104,IF($AM$11=\"BP\",AK104,AL104))","v":23},{"$f":"1+COUNTIFS(INDIRECT(\"AN12:AN500\"),AN104,INDIRECT(\"CB12:CB500\"),CB104,INDIRECT(\"AO12:AO500\"),\">\"&AO104)\n+COUNTIFS(INDIRECT(\"AO12:AO500\"),AO104,INDIRECT(\"AN12:AN500\"),1,INDIRECT(\"CB12:CB500\"),CB104,INDIRECT(\"E12:E500\"),\"<\"&E104)\n+COUNTIFS(INDIRECT(\"AO12:AO500\"),AO104,INDIRECT(\"AN12:AN500\"),1,INDIRECT(\"CB12:CB500\"),CB104,INDIRECT(\"E12:E500\"),E104,INDIRECT(\"CC12:CC500\"),\"<\"&CC104)","v":9},{"$f":"1+COUNTIFS(INDIRECT(\"AN12:AN500\"),AN104,INDIRECT(\"CB12:CB500\"),CB104,INDIRECT(\"BB12:BB500\"),\">\"&BB104)\n+COUNTIFS(INDIRECT(\"BB12:BB500\"),BB104,INDIRECT(\"AN12:AN500\"),1,INDIRECT(\"CB12:CB500\"),CB104,INDIRECT(\"E12:E500\"),\"<\"&E104)","v":9}]
["3B","James Mundy","NC","MR-O",100.02,{"$f":"IFERROR(VLOOKUP(E105,[3]DATA!$E$2:$G$22,IF(LEFT(D105,1)=\"M\",2,3)),\"\")","v":105},709,{"$f":"IFERROR(IF(LEFT(D105,1)=\"M\",Wilks_Men(IF($E$11=\"Bwt - Lb\",E105/2.2046,E105)),Wilks_Women(IF($E$11=\"Bwt - Lb\",E105/2.2046,E105))),\"\")","v":0.60850000381469727},"1987-02-16","20",177.5,190,202.5,{"$f":"IF(MAX(K105:M105)<=0,0,MAX(CELL(\"color\",K105)*K105,CELL(\"color\",L105)*L105,CELL(\"color\",M105)*M105))","v":202.5},"16-7",125,135,145,{"$f":"IF(MAX(P105:R105)<=0,0,MAX(CELL(\"color\",P105)*P105,CELL(\"color\",Q105)*Q105,CELL(\"color\",R105)*R105))","v":145},{"$f":"IF(OR(N105=0,S105=0),0,N105+S105)","v":347.5},215,230,242.5,{"$f":"IF(MAX(U105:W105)<=0,0,MAX(CELL(\"color\",U105)*U105,CELL(\"color\",V105)*V105,CELL(\"color\",W105)*W105))","v":242.5},{"$f":"AM105*IF($AM$11=\"SQ\",N105,IF($AM$11=\"BP\",S105,IF($AM$11=\"DL\",X105,IF($AM$11=\"PP\",IF(OR(S105=0,X105=0),0,S105+X105),IF(OR(T105=0,X105=0),0,T105+X105)))))","v":590},{"$f":"IF(Y105=0,\"\",CONCATENATE(CD105,\"/\",IF(AN105=4,\"Wilks\",D105),\"/\",IF(AN105>1,\"\",F105),\"/\",$AM$11))","v":"10/MR-O/105/PL"},{"$f":"BB105","v":590},{"$f":"IF(AA105=0,\"\",CE105)","v":10},{"$f":"H105*IF($E$3=\"Kg\",Y105,Y105/2.2046)","v":359.01500225067139},{"$f":"IFERROR(VLOOKUP(AS105,[3]DATA!$A$2:$B$63,2,TRUE),0)*AC105","v":359.01500225067139},"PL",1013932,"NC",{"$f":"IFERROR(VLOOKUP(A105,[3]Setup!$Q$5:$R$20,2,FALSE),\"\")","v":1},{"$f":"IF(VALUE(INDIRECT(CONCATENATE($AI$11,ROW())))=0,\"\",ABS(INDIRECT(CONCATENATE($AI$11,ROW())))+0.000001*G105)","v":242.500709},58,50,54,{"$f":"IF(ISERROR(SEARCH($AM$11,AE105)),0,1)","v":1},{"$f":"VLOOKUP(D105,[3]Setup!$I$6:$K$93,3,FALSE)","v":1},{"$f":"ROUND(IFERROR(IF(AN105=1,Y105,IF(AN105=2,AC105,IF(AN105=3,AD105,AC105))),0),5)","v":590},null,{"$f":"IFERROR(MATCH(D105,[3]Setup!$I$6:$I$93,0),\"\")","v":27},{"$f":"IFERROR(CONCATENATE(LEFT(D105,FIND(\"-\",D105)),IF(AS105=\"\",\"O\",VLOOKUP(AS105,[3]DATA!$E$35:$F$53,2,TRUE))),\"\")","v":"MR-O"},{"$f":"IF(YEAR($AR$7)-YEAR(I105)<40,DATEDIF(I105,$AR$7,\"Y\"),YEAR($AR$7)-YEAR(I105))","v":31},{"$f":"IF(AN105=1,MATCH(F105,[3]DATA!$AB$2:$AB$34,0),0)","v":28},null,{"$f":"IF(MAX(K105:M105)>0,MAX(K105:M105),0)","v":202.5},{"$f":"IF(MAX(P105:R105)>0,MAX(P105:R105),0)","v":145},{"$f":"IF(MAX(U105:W105)>0,MAX(U105:W105),0)","v":242.5},{"$f":"AM105*IF($AM$11=\"PL\",IF(MIN(AV105:AX105)=0,0,AV105+AW105+AX105),IF($AM$11=\"PP\",IF(MIN(AW105:AX105)=0,0,AW105+AX105),IF($AM$11=\"BP\",AW105,IF($AM$11=\"DL\",AX105,AV105))))","v":590},{"$f":"ROUND(AY105*H105,5)","v":359.01499999999999},{"$f":"ROUND(IFERROR(VLOOKUP(AS105,[3]DATA!$A$2:$B$63,2,FALSE),1)*AZ105,5)","v":359.01499999999999},{"$f":"IFERROR(IF(AN105=1,AY105,IF(AN105=2,AZ105,IF(AN105=3,BA105,AZ105))),0)","v":590},null,null,null,null,null,null,null,null,null,null,null,null,null,null,null,null,null,null,null,null,null,null,null,{"$f":"IFERROR(IF(FIND(\"DT\",AE105),\"Y\",\"\"),\"\")","v":""},null,{"$f":"CONCATENATE(IF(AN105=4,\"\",D105),IF(AN105=1,F105,\"\"))","v":"MR-O105"},{"$f":"IF($AM$11=\"SQ\",AJ105,IF($AM$11=\"BP\",AK105,AL105))","v":54},{"$f":"1+COUNTIFS(INDIRECT(\"AN12:AN500\"),AN105,INDIRECT(\"CB12:CB500\"),CB105,INDIRECT(\"AO12:AO500\"),\">\"&AO105)\n+COUNTIFS(INDIRECT(\"AO12:AO500\"),AO105,INDIRECT(\"AN12:AN500\"),1,INDIRECT(\"CB12:CB500\"),CB105,INDIRECT(\"E12:E500\"),\"<\"&E105)\n+COUNTIFS(INDIRECT(\"AO12:AO500\"),AO105,INDIRECT(\"AN12:AN500\"),1,INDIRECT(\"CB12:CB500\"),CB105,INDIRECT(\"E12:E500\"),E105,INDIRECT(\"CC12:CC500\"),\"<\"&CC105)","v":10},{"$f":"1+COUNTIFS(INDIRECT(\"AN12:AN500\"),AN105,INDIRECT(\"CB12:CB500\"),CB105,INDIRECT(\"BB12:BB500\"),\">\"&BB105)\n+COUNTIFS(INDIRECT(\"BB12:BB500\"),BB105,INDIRECT(\"AN12:AN500\"),1,INDIRECT(\"CB12:CB500\"),CB105,INDIRECT(\"E12:E500\"),\"<\"&E105)","v":10}]
["3B","Justin Miles","NC","MR-O",99.5,{"$f":"IFERROR(VLOOKUP(E106,[3]DATA!$E$2:$G$22,IF(LEFT(D106,1)=\"M\",2,3)),\"\")","v":105},711,{"$f":"IFERROR(IF(LEFT(D106,1)=\"M\",Wilks_Men(IF($E$11=\"Bwt - Lb\",E106/2.2046,E106)),Wilks_Women(IF($E$11=\"Bwt - Lb\",E106/2.2046,E106))),\"\")","v":0.60979998111724854},"1986-03-22","21",172.5,185,195,{"$f":"IF(MAX(K106:M106)<=0,0,MAX(CELL(\"color\",K106)*K106,CELL(\"color\",L106)*L106,CELL(\"color\",M106)*M106))","v":195},"14-5",125,130,135,{"$f":"IF(MAX(P106:R106)<=0,0,MAX(CELL(\"color\",P106)*P106,CELL(\"color\",Q106)*Q106,CELL(\"color\",R106)*R106))","v":135},{"$f":"IF(OR(N106=0,S106=0),0,N106+S106)","v":330},195,-215,227.5,{"$f":"IF(MAX(U106:W106)<=0,0,MAX(CELL(\"color\",U106)*U106,CELL(\"color\",V106)*V106,CELL(\"color\",W106)*W106))","v":227.5},{"$f":"AM106*IF($AM$11=\"SQ\",N106,IF($AM$11=\"BP\",S106,IF($AM$11=\"DL\",X106,IF($AM$11=\"PP\",IF(OR(S106=0,X106=0),0,S106+X106),IF(OR(T106=0,X106=0),0,T106+X106)))))","v":557.5},{"$f":"IF(Y106=0,\"\",CONCATENATE(CD106,\"/\",IF(AN106=4,\"Wilks\",D106),\"/\",IF(AN106>1,\"\",F106),\"/\",$AM$11))","v":"11/MR-O/105/PL"},{"$f":"BB106","v":557.5},{"$f":"IF(AA106=0,\"\",CE106)","v":11},{"$f":"H106*IF($E$3=\"Kg\",Y106,Y106/2.2046)","v":339.96348947286606},{"$f":"IFERROR(VLOOKUP(AS106,[3]DATA!$A$2:$B$63,2,TRUE),0)*AC106","v":339.96348947286606},"PL",5021,"NC",{"$f":"IFERROR(VLOOKUP(A106,[3]Setup!$Q$5:$R$20,2,FALSE),\"\")","v":1},{"$f":"IF(VALUE(INDIRECT(CONCATENATE($AI$11,ROW())))=0,\"\",ABS(INDIRECT(CONCATENATE($AI$11,ROW())))+0.000001*G106)","v":227.500711},57,48,53,{"$f":"IF(ISERROR(SEARCH($AM$11,AE106)),0,1)","v":1},{"$f":"VLOOKUP(D106,[3]Setup!$I$6:$K$93,3,FALSE)","v":1},{"$f":"ROUND(IFERROR(IF(AN106=1,Y106,IF(AN106=2,AC106,IF(AN106=3,AD106,AC106))),0),5)","v":557.5},null,{"$f":"IFERROR(MATCH(D106,[3]Setup!$I$6:$I$93,0),\"\")","v":27},{"$f":"IFERROR(CONCATENATE(LEFT(D106,FIND(\"-\",D106)),IF(AS106=\"\",\"O\",VLOOKUP(AS106,[3]DATA!$E$35:$F$53,2,TRUE))),\"\")","v":"MR-O"},{"$f":"IF(YEAR($AR$7)-YEAR(I106)<40,DATEDIF(I106,$AR$7,\"Y\"),YEAR($AR$7)-YEAR(I106))","v":32},{"$f":"IF(AN106=1,MATCH(F106,[3]DATA!$AB$2:$AB$34,0),0)","v":28},null,{"$f":"IF(MAX(K106:M106)>0,MAX(K106:M106),0)","v":195},{"$f":"IF(MAX(P106:R106)>0,MAX(P106:R106),0)","v":135},{"$f":"IF(MAX(U106:W106)>0,MAX(U106:W106),0)","v":227.5},{"$f":"AM106*IF($AM$11=\"PL\",IF(MIN(AV106:AX106)=0,0,AV106+AW106+AX106),IF($AM$11=\"PP\",IF(MIN(AW106:AX106)=0,0,AW106+AX106),IF($AM$11=\"BP\",AW106,IF($AM$11=\"DL\",AX106,AV106))))","v":557.5},{"$f":"ROUND(AY106*H106,5)","v":339.96348999999998},{"$f":"ROUND(IFERROR(VLOOKUP(AS106,[3]DATA!$A$2:$B$63,2,FALSE),1)*AZ106,5)","v":339.96348999999998},{"$f":"IFERROR(IF(AN106=1,AY106,IF(AN106=2,AZ106,IF(AN106=3,BA106,AZ106))),0)","v":557.5},null,null,null,null,null,null,null,null,null,null,null,null,null,null,null,null,null,null,null,null,null,null,null,{"$f":"IFERROR(IF(FIND(\"DT\",AE106),\"Y\",\"\"),\"\")","v":""},null,{"$f":"CONCATENATE(IF(AN106=4,\"\",D106),IF(AN106=1,F106,\"\"))","v":"MR-O105"},{"$f":"IF($AM$11=\"SQ\",AJ106,IF($AM$11=\"BP\",AK106,AL106))","v":53},{"$f":"1+COUNTIFS(INDIRECT(\"AN12:AN500\"),AN106,INDIRECT(\"CB12:CB500\"),CB106,INDIRECT(\"AO12:AO500\"),\">\"&AO106)\n+COUNTIFS(INDIRECT(\"AO12:AO500\"),AO106,INDIRECT(\"AN12:AN500\"),1,INDIRECT(\"CB12:CB500\"),CB106,INDIRECT(\"E12:E500\"),\"<\"&E106)\n+COUNTIFS(INDIRECT(\"AO12:AO500\"),AO106,INDIRECT(\"AN12:AN500\"),1,INDIRECT(\"CB12:CB500\"),CB106,INDIRECT(\"E12:E500\"),E106,INDIRECT(\"CC12:CC500\"),\"<\"&CC106)","v":11},{"$f":"1+COUNTIFS(INDIRECT(\"AN12:AN500\"),AN106,INDIRECT(\"CB12:CB500\"),CB106,INDIRECT(\"BB12:BB500\"),\">\"&BB106)\n+COUNTIFS(INDIRECT(\"BB12:BB500\"),BB106,INDIRECT(\"AN12:AN500\"),1,INDIRECT(\"CB12:CB500\"),CB106,INDIRECT(\"E12:E500\"),\"<\"&E106)","v":11}]
["3B","Ross Garner","NC","MR-O",96.3,{"$f":"IFERROR(VLOOKUP(E107,[3]DATA!$E$2:$G$22,IF(LEFT(D107,1)=\"M\",2,3)),\"\")","v":105},708,{"$f":"IFERROR(IF(LEFT(D107,1)=\"M\",Wilks_Men(IF($E$11=\"Bwt - Lb\",E107/2.2046,E107)),Wilks_Women(IF($E$11=\"Bwt - Lb\",E107/2.2046,E107))),\"\")","v":0.61830002069473267},"1987-09-25","21",182.5,195,207.5,{"$f":"IF(MAX(K107:M107)<=0,0,MAX(CELL(\"color\",K107)*K107,CELL(\"color\",L107)*L107,CELL(\"color\",M107)*M107))","v":207.5},"16-5",135,140,145,{"$f":"IF(MAX(P107:R107)<=0,0,MAX(CELL(\"color\",P107)*P107,CELL(\"color\",Q107)*Q107,CELL(\"color\",R107)*R107))","v":145},{"$f":"IF(OR(N107=0,S107=0),0,N107+S107)","v":352.5},-187.5,null,null,{"$f":"IF(MAX(U107:W107)<=0,0,MAX(CELL(\"color\",U107)*U107,CELL(\"color\",V107)*V107,CELL(\"color\",W107)*W107))","v":0},{"$f":"AM107*IF($AM$11=\"SQ\",N107,IF($AM$11=\"BP\",S107,IF($AM$11=\"DL\",X107,IF($AM$11=\"PP\",IF(OR(S107=0,X107=0),0,S107+X107),IF(OR(T107=0,X107=0),0,T107+X107)))))","v":0},{"$f":"IF(Y107=0,\"\",CONCATENATE(CD107,\"/\",IF(AN107=4,\"Wilks\",D107),\"/\",IF(AN107>1,\"\",F107),\"/\",$AM$11))","v":""},{"$f":"BB107","v":0},{"$f":"IF(AA107=0,\"\",CE107)","v":""},{"$f":"H107*IF($E$3=\"Kg\",Y107,Y107/2.2046)","v":0},{"$f":"IFERROR(VLOOKUP(AS107,[3]DATA!$A$2:$B$63,2,TRUE),0)*AC107","v":0},"PL",1015551,"NC",{"$f":"IFERROR(VLOOKUP(A107,[3]Setup!$Q$5:$R$20,2,FALSE),\"\")","v":1},{"$f":"IF(VALUE(INDIRECT(CONCATENATE($AI$11,ROW())))=0,\"\",ABS(INDIRECT(CONCATENATE($AI$11,ROW())))+0.000001*G107)","v":""},59,49,0,{"$f":"IF(ISERROR(SEARCH($AM$11,AE107)),0,1)","v":1},{"$f":"VLOOKUP(D107,[3]Setup!$I$6:$K$93,3,FALSE)","v":1},{"$f":"ROUND(IFERROR(IF(AN107=1,Y107,IF(AN107=2,AC107,IF(AN107=3,AD107,AC107))),0),5)","v":0},null,{"$f":"IFERROR(MATCH(D107,[3]Setup!$I$6:$I$93,0),\"\")","v":27},{"$f":"IFERROR(CONCATENATE(LEFT(D107,FIND(\"-\",D107)),IF(AS107=\"\",\"O\",VLOOKUP(AS107,[3]DATA!$E$35:$F$53,2,TRUE))),\"\")","v":"MR-O"},{"$f":"IF(YEAR($AR$7)-YEAR(I107)<40,DATEDIF(I107,$AR$7,\"Y\"),YEAR($AR$7)-YEAR(I107))","v":30},{"$f":"IF(AN107=1,MATCH(F107,[3]DATA!$AB$2:$AB$34,0),0)","v":28},null,{"$f":"IF(MAX(K107:M107)>0,MAX(K107:M107),0)","v":207.5},{"$f":"IF(MAX(P107:R107)>0,MAX(P107:R107),0)","v":145},{"$f":"IF(MAX(U107:W107)>0,MAX(U107:W107),0)","v":0},{"$f":"AM107*IF($AM$11=\"PL\",IF(MIN(AV107:AX107)=0,0,AV107+AW107+AX107),IF($AM$11=\"PP\",IF(MIN(AW107:AX107)=0,0,AW107+AX107),IF($AM$11=\"BP\",AW107,IF($AM$11=\"DL\",AX107,AV107))))","v":0},{"$f":"ROUND(AY107*H107,5)","v":0},{"$f":"ROUND(IFERROR(VLOOKUP(AS107,[3]DATA!$A$2:$B$63,2,FALSE),1)*AZ107,5)","v":0},{"$f":"IFERROR(IF(AN107=1,AY107,IF(AN107=2,AZ107,IF(AN107=3,BA107,AZ107))),0)","v":0},null,null,null,null,null,null,null,null,null,null,null,null,null,null,null,null,null,null,null,null,null,null,null,{"$f":"IFERROR(IF(FIND(\"DT\",AE107),\"Y\",\"\"),\"\")","v":""},null,{"$f":"CONCATENATE(IF(AN107=4,\"\",D107),IF(AN107=1,F107,\"\"))","v":"MR-O105"},{"$f":"IF($AM$11=\"SQ\",AJ107,IF($AM$11=\"BP\",AK107,AL107))","v":0},{"$f":"1+COUNTIFS(INDIRECT(\"AN12:AN500\"),AN107,INDIRECT(\"CB12:CB500\"),CB107,INDIRECT(\"AO12:AO500\"),\">\"&AO107)\n+COUNTIFS(INDIRECT(\"AO12:AO500\"),AO107,INDIRECT(\"AN12:AN500\"),1,INDIRECT(\"CB12:CB500\"),CB107,INDIRECT(\"E12:E500\"),\"<\"&E107)\n+COUNTIFS(INDIRECT(\"AO12:AO500\"),AO107,INDIRECT(\"AN12:AN500\"),1,INDIRECT(\"CB12:CB500\"),CB107,INDIRECT(\"E12:E500\"),E107,INDIRECT(\"CC12:CC500\"),\"<\"&CC107)","v":12},{"$f":"1+COUNTIFS(INDIRECT(\"AN12:AN500\"),AN107,INDIRECT(\"CB12:CB500\"),CB107,INDIRECT(\"BB12:BB500\"),\">\"&BB107)\n+COUNTIFS(INDIRECT(\"BB12:BB500\"),BB107,INDIRECT(\"AN12:AN500\"),1,INDIRECT(\"CB12:CB500\"),CB107,INDIRECT(\"E12:E500\"),\"<\"&E107)","v":12}]
["3C","Jevon Elliott","NC","MR-O",115.36,{"$f":"IFERROR(VLOOKUP(E108,[3]DATA!$E$2:$G$22,IF(LEFT(D108,1)=\"M\",2,3)),\"\")","v":120},804,{"$f":"IFERROR(IF(LEFT(D108,1)=\"M\",Wilks_Men(IF($E$11=\"Bwt - Lb\",E108/2.2046,E108)),Wilks_Women(IF($E$11=\"Bwt - Lb\",E108/2.2046,E108))),\"\")","v":0.58060002326965332},"1990-08-24","15",240,250,255,{"$f":"IF(MAX(K108:M108)<=0,0,MAX(CELL(\"color\",K108)*K108,CELL(\"color\",L108)*L108,CELL(\"color\",M108)*M108))","v":255},"14-8",155,160,165,{"$f":"IF(MAX(P108:R108)<=0,0,MAX(CELL(\"color\",P108)*P108,CELL(\"color\",Q108)*Q108,CELL(\"color\",R108)*R108))","v":165},{"$f":"IF(OR(N108=0,S108=0),0,N108+S108)","v":420},295,307.5,-317.5,{"$f":"IF(MAX(U108:W108)<=0,0,MAX(CELL(\"color\",U108)*U108,CELL(\"color\",V108)*V108,CELL(\"color\",W108)*W108))","v":307.5},{"$f":"AM108*IF($AM$11=\"SQ\",N108,IF($AM$11=\"BP\",S108,IF($AM$11=\"DL\",X108,IF($AM$11=\"PP\",IF(OR(S108=0,X108=0),0,S108+X108),IF(OR(T108=0,X108=0),0,T108+X108)))))","v":727.5},{"$f":"IF(Y108=0,\"\",CONCATENATE(CD108,\"/\",IF(AN108=4,\"Wilks\",D108),\"/\",IF(AN108>1,\"\",F108),\"/\",$AM$11))","v":"1/MR-O/120/PL"},{"$f":"BB108","v":727.5},{"$f":"IF(AA108=0,\"\",CE108)","v":1},{"$f":"H108*IF($E$3=\"Kg\",Y108,Y108/2.2046)","v":422.38651692867279},{"$f":"IFERROR(VLOOKUP(AS108,[3]DATA!$A$2:$B$63,2,TRUE),0)*AC108","v":422.38651692867279},"PL",1009053,"NC",{"$f":"IFERROR(VLOOKUP(A108,[3]Setup!$Q$5:$R$20,2,FALSE),\"\")","v":2},{"$f":"IF(VALUE(INDIRECT(CONCATENATE($AI$11,ROW())))=0,\"\",ABS(INDIRECT(CONCATENATE($AI$11,ROW())))+0.000001*G108)","v":317.50080400000002},84,73,71,{"$f":"IF(ISERROR(SEARCH($AM$11,AE108)),0,1)","v":1},{"$f":"VLOOKUP(D108,[3]Setup!$I$6:$K$93,3,FALSE)","v":1},{"$f":"ROUND(IFERROR(IF(AN108=1,Y108,IF(AN108=2,AC108,IF(AN108=3,AD108,AC108))),0),5)","v":727.5},null,{"$f":"IFERROR(MATCH(D108,[3]Setup!$I$6:$I$93,0),\"\")","v":27},{"$f":"IFERROR(CONCATENATE(LEFT(D108,FIND(\"-\",D108)),IF(AS108=\"\",\"O\",VLOOKUP(AS108,[3]DATA!$E$35:$F$53,2,TRUE))),\"\")","v":"MR-O"},{"$f":"IF(YEAR($AR$7)-YEAR(I108)<40,DATEDIF(I108,$AR$7,\"Y\"),YEAR($AR$7)-YEAR(I108))","v":27},{"$f":"IF(AN108=1,MATCH(F108,[3]DATA!$AB$2:$AB$34,0),0)","v":30},null,{"$f":"IF(MAX(K108:M108)>0,MAX(K108:M108),0)","v":255},{"$f":"IF(MAX(P108:R108)>0,MAX(P108:R108),0)","v":165},{"$f":"IF(MAX(U108:W108)>0,MAX(U108:W108),0)","v":307.5},{"$f":"AM108*IF($AM$11=\"PL\",IF(MIN(AV108:AX108)=0,0,AV108+AW108+AX108),IF($AM$11=\"PP\",IF(MIN(AW108:AX108)=0,0,AW108+AX108),IF($AM$11=\"BP\",AW108,IF($AM$11=\"DL\",AX108,AV108))))","v":727.5},{"$f":"ROUND(AY108*H108,5)","v":422.38652000000002},{"$f":"ROUND(IFERROR(VLOOKUP(AS108,[3]DATA!$A$2:$B$63,2,FALSE),1)*AZ108,5)","v":422.38652000000002},{"$f":"IFERROR(IF(AN108=1,AY108,IF(AN108=2,AZ108,IF(AN108=3,BA108,AZ108))),0)","v":727.5},null,null,null,null,"16:26:47",null,null,null,null,null,null,null,null,null,null,null,null,null,null,null,null,null,null,{"$f":"IFERROR(IF(FIND(\"DT\",AE108),\"Y\",\"\"),\"\")","v":""},null,{"$f":"CONCATENATE(IF(AN108=4,\"\",D108),IF(AN108=1,F108,\"\"))","v":"MR-O120"},{"$f":"IF($AM$11=\"SQ\",AJ108,IF($AM$11=\"BP\",AK108,AL108))","v":71},{"$f":"1+COUNTIFS(INDIRECT(\"AN12:AN500\"),AN108,INDIRECT(\"CB12:CB500\"),CB108,INDIRECT(\"AO12:AO500\"),\">\"&AO108)\n+COUNTIFS(INDIRECT(\"AO12:AO500\"),AO108,INDIRECT(\"AN12:AN500\"),1,INDIRECT(\"CB12:CB500\"),CB108,INDIRECT(\"E12:E500\"),\"<\"&E108)\n+COUNTIFS(INDIRECT(\"AO12:AO500\"),AO108,INDIRECT(\"AN12:AN500\"),1,INDIRECT(\"CB12:CB500\"),CB108,INDIRECT(\"E12:E500\"),E108,INDIRECT(\"CC12:CC500\"),\"<\"&CC108)","v":1},{"$f":"1+COUNTIFS(INDIRECT(\"AN12:AN500\"),AN108,INDIRECT(\"CB12:CB500\"),CB108,INDIRECT(\"BB12:BB500\"),\">\"&BB108)\n+COUNTIFS(INDIRECT(\"BB12:BB500\"),BB108,INDIRECT(\"AN12:AN500\"),1,INDIRECT(\"CB12:CB500\"),CB108,INDIRECT(\"E12:E500\"),\"<\"&E108)","v":1}]
["3C","Nick Stevens","SC","MR-O",115.44,{"$f":"IFERROR(VLOOKUP(E109,[3]DATA!$E$2:$G$22,IF(LEFT(D109,1)=\"M\",2,3)),\"\")","v":120},701,{"$f":"IFERROR(IF(LEFT(D109,1)=\"M\",Wilks_Men(IF($E$11=\"Bwt - Lb\",E109/2.2046,E109)),Wilks_Women(IF($E$11=\"Bwt - Lb\",E109/2.2046,E109))),\"\")","v":0.58050000667572021},"1998-01-10","17",225,240,250,{"$f":"IF(MAX(K109:M109)<=0,0,MAX(CELL(\"color\",K109)*K109,CELL(\"color\",L109)*L109,CELL(\"color\",M109)*M109))","v":250},"16-9",120,130,140,{"$f":"IF(MAX(P109:R109)<=0,0,MAX(CELL(\"color\",P109)*P109,CELL(\"color\",Q109)*Q109,CELL(\"color\",R109)*R109))","v":140},{"$f":"IF(OR(N109=0,S109=0),0,N109+S109)","v":390},257.5,272.5,-280,{"$f":"IF(MAX(U109:W109)<=0,0,MAX(CELL(\"color\",U109)*U109,CELL(\"color\",V109)*V109,CELL(\"color\",W109)*W109))","v":272.5},{"$f":"AM109*IF($AM$11=\"SQ\",N109,IF($AM$11=\"BP\",S109,IF($AM$11=\"DL\",X109,IF($AM$11=\"PP\",IF(OR(S109=0,X109=0),0,S109+X109),IF(OR(T109=0,X109=0),0,T109+X109)))))","v":662.5},{"$f":"IF(Y109=0,\"\",CONCATENATE(CD109,\"/\",IF(AN109=4,\"Wilks\",D109),\"/\",IF(AN109>1,\"\",F109),\"/\",$AM$11))","v":"2/MR-O/120/PL"},{"$f":"BB109","v":662.5},{"$f":"IF(AA109=0,\"\",CE109)","v":2},{"$f":"H109*IF($E$3=\"Kg\",Y109,Y109/2.2046)","v":384.58125442266464},{"$f":"IFERROR(VLOOKUP(AS109,[3]DATA!$A$2:$B$63,2,TRUE),0)*AC109","v":396.11869205534458},"PL",1013418,"SC",{"$f":"IFERROR(VLOOKUP(A109,[3]Setup!$Q$5:$R$20,2,FALSE),\"\")","v":2},{"$f":"IF(VALUE(INDIRECT(CONCATENATE($AI$11,ROW())))=0,\"\",ABS(INDIRECT(CONCATENATE($AI$11,ROW())))+0.000001*G109)","v":280.00070099999999},83,71,69,{"$f":"IF(ISERROR(SEARCH($AM$11,AE109)),0,1)","v":1},{"$f":"VLOOKUP(D109,[3]Setup!$I$6:$K$93,3,FALSE)","v":1},{"$f":"ROUND(IFERROR(IF(AN109=1,Y109,IF(AN109=2,AC109,IF(AN109=3,AD109,AC109))),0),5)","v":662.5},null,{"$f":"IFERROR(MATCH(D109,[3]Setup!$I$6:$I$93,0),\"\")","v":27},{"$f":"IFERROR(CONCATENATE(LEFT(D109,FIND(\"-\",D109)),IF(AS109=\"\",\"O\",VLOOKUP(AS109,[3]DATA!$E$35:$F$53,2,TRUE))),\"\")","v":"MR-Jr"},{"$f":"IF(YEAR($AR$7)-YEAR(I109)<40,DATEDIF(I109,$AR$7,\"Y\"),YEAR($AR$7)-YEAR(I109))","v":20},{"$f":"IF(AN109=1,MATCH(F109,[3]DATA!$AB$2:$AB$34,0),0)","v":30},null,{"$f":"IF(MAX(K109:M109)>0,MAX(K109:M109),0)","v":250},{"$f":"IF(MAX(P109:R109)>0,MAX(P109:R109),0)","v":140},{"$f":"IF(MAX(U109:W109)>0,MAX(U109:W109),0)","v":272.5},{"$f":"AM109*IF($AM$11=\"PL\",IF(MIN(AV109:AX109)=0,0,AV109+AW109+AX109),IF($AM$11=\"PP\",IF(MIN(AW109:AX109)=0,0,AW109+AX109),IF($AM$11=\"BP\",AW109,IF($AM$11=\"DL\",AX109,AV109))))","v":662.5},{"$f":"ROUND(AY109*H109,5)","v":384.58125000000001},{"$f":"ROUND(IFERROR(VLOOKUP(AS109,[3]DATA!$A$2:$B$63,2,FALSE),1)*AZ109,5)","v":396.11869000000002},{"$f":"IFERROR(IF(AN109=1,AY109,IF(AN109=2,AZ109,IF(AN109=3,BA109,AZ109))),0)","v":662.5},null,null,null,null,"16:25:20",null,null,null,null,null,null,null,null,null,null,null,null,null,null,null,null,null,null,{"$f":"IFERROR(IF(FIND(\"DT\",AE109),\"Y\",\"\"),\"\")","v":""},null,{"$f":"CONCATENATE(IF(AN109=4,\"\",D109),IF(AN109=1,F109,\"\"))","v":"MR-O120"},{"$f":"IF($AM$11=\"SQ\",AJ109,IF($AM$11=\"BP\",AK109,AL109))","v":69},{"$f":"1+COUNTIFS(INDIRECT(\"AN12:AN500\"),AN109,INDIRECT(\"CB12:CB500\"),CB109,INDIRECT(\"AO12:AO500\"),\">\"&AO109)\n+COUNTIFS(INDIRECT(\"AO12:AO500\"),AO109,INDIRECT(\"AN12:AN500\"),1,INDIRECT(\"CB12:CB500\"),CB109,INDIRECT(\"E12:E500\"),\"<\"&E109)\n+COUNTIFS(INDIRECT(\"AO12:AO500\"),AO109,INDIRECT(\"AN12:AN500\"),1,INDIRECT(\"CB12:CB500\"),CB109,INDIRECT(\"E12:E500\"),E109,INDIRECT(\"CC12:CC500\"),\"<\"&CC109)","v":2},{"$f":"1+COUNTIFS(INDIRECT(\"AN12:AN500\"),AN109,INDIRECT(\"CB12:CB500\"),CB109,INDIRECT(\"BB12:BB500\"),\">\"&BB109)\n+COUNTIFS(INDIRECT(\"BB12:BB500\"),BB109,INDIRECT(\"AN12:AN500\"),1,INDIRECT(\"CB12:CB500\"),CB109,INDIRECT(\"E12:E500\"),\"<\"&E109)","v":2}]
["3C","Josh Banks","NC","MR-O",117.5,{"$f":"IFERROR(VLOOKUP(E110,[3]DATA!$E$2:$G$22,IF(LEFT(D110,1)=\"M\",2,3)),\"\")","v":120},806,{"$f":"IFERROR(IF(LEFT(D110,1)=\"M\",Wilks_Men(IF($E$11=\"Bwt - Lb\",E110/2.2046,E110)),Wilks_Women(IF($E$11=\"Bwt - Lb\",E110/2.2046,E110))),\"\")","v":0.57779997587203979},"1987-09-11","20",197.5,210,217.5,{"$f":"IF(MAX(K110:M110)<=0,0,MAX(CELL(\"color\",K110)*K110,CELL(\"color\",L110)*L110,CELL(\"color\",M110)*M110))","v":217.5},"14-7",155,162.5,167.5,{"$f":"IF(MAX(P110:R110)<=0,0,MAX(CELL(\"color\",P110)*P110,CELL(\"color\",Q110)*Q110,CELL(\"color\",R110)*R110))","v":167.5},{"$f":"IF(OR(N110=0,S110=0),0,N110+S110)","v":385},235,-250,250,{"$f":"IF(MAX(U110:W110)<=0,0,MAX(CELL(\"color\",U110)*U110,CELL(\"color\",V110)*V110,CELL(\"color\",W110)*W110))","v":250},{"$f":"AM110*IF($AM$11=\"SQ\",N110,IF($AM$11=\"BP\",S110,IF($AM$11=\"DL\",X110,IF($AM$11=\"PP\",IF(OR(S110=0,X110=0),0,S110+X110),IF(OR(T110=0,X110=0),0,T110+X110)))))","v":635},{"$f":"IF(Y110=0,\"\",CONCATENATE(CD110,\"/\",IF(AN110=4,\"Wilks\",D110),\"/\",IF(AN110>1,\"\",F110),\"/\",$AM$11))","v":"3/MR-O/120/PL"},{"$f":"BB110","v":635},{"$f":"IF(AA110=0,\"\",CE110)","v":3},{"$f":"H110*IF($E$3=\"Kg\",Y110,Y110/2.2046)","v":366.90298467874527},{"$f":"IFERROR(VLOOKUP(AS110,[3]DATA!$A$2:$B$63,2,TRUE),0)*AC110","v":366.90298467874527},"PL",928393,"NC",{"$f":"IFERROR(VLOOKUP(A110,[3]Setup!$Q$5:$R$20,2,FALSE),\"\")","v":2},{"$f":"IF(VALUE(INDIRECT(CONCATENATE($AI$11,ROW())))=0,\"\",ABS(INDIRECT(CONCATENATE($AI$11,ROW())))+0.000001*G110)","v":250.00080600000001},81,74,74,{"$f":"IF(ISERROR(SEARCH($AM$11,AE110)),0,1)","v":1},{"$f":"VLOOKUP(D110,[3]Setup!$I$6:$K$93,3,FALSE)","v":1},{"$f":"ROUND(IFERROR(IF(AN110=1,Y110,IF(AN110=2,AC110,IF(AN110=3,AD110,AC110))),0),5)","v":635},null,{"$f":"IFERROR(MATCH(D110,[3]Setup!$I$6:$I$93,0),\"\")","v":27},{"$f":"IFERROR(CONCATENATE(LEFT(D110,FIND(\"-\",D110)),IF(AS110=\"\",\"O\",VLOOKUP(AS110,[3]DATA!$E$35:$F$53,2,TRUE))),\"\")","v":"MR-O"},{"$f":"IF(YEAR($AR$7)-YEAR(I110)<40,DATEDIF(I110,$AR$7,\"Y\"),YEAR($AR$7)-YEAR(I110))","v":30},{"$f":"IF(AN110=1,MATCH(F110,[3]DATA!$AB$2:$AB$34,0),0)","v":30},null,{"$f":"IF(MAX(K110:M110)>0,MAX(K110:M110),0)","v":217.5},{"$f":"IF(MAX(P110:R110)>0,MAX(P110:R110),0)","v":167.5},{"$f":"IF(MAX(U110:W110)>0,MAX(U110:W110),0)","v":250},{"$f":"AM110*IF($AM$11=\"PL\",IF(MIN(AV110:AX110)=0,0,AV110+AW110+AX110),IF($AM$11=\"PP\",IF(MIN(AW110:AX110)=0,0,AW110+AX110),IF($AM$11=\"BP\",AW110,IF($AM$11=\"DL\",AX110,AV110))))","v":635},{"$f":"ROUND(AY110*H110,5)","v":366.90298000000001},{"$f":"ROUND(IFERROR(VLOOKUP(AS110,[3]DATA!$A$2:$B$63,2,FALSE),1)*AZ110,5)","v":366.90298000000001},{"$f":"IFERROR(IF(AN110=1,AY110,IF(AN110=2,AZ110,IF(AN110=3,BA110,AZ110))),0)","v":635},null,null,null,null,"16:22:26",null,null,null,null,null,null,null,null,null,null,null,null,null,null,null,null,null,null,{"$f":"IFERROR(IF(FIND(\"DT\",AE110),\"Y\",\"\"),\"\")","v":""},null,{"$f":"CONCATENATE(IF(AN110=4,\"\",D110),IF(AN110=1,F110,\"\"))","v":"MR-O120"},{"$f":"IF($AM$11=\"SQ\",AJ110,IF($AM$11=\"BP\",AK110,AL110))","v":74},{"$f":"1+COUNTIFS(INDIRECT(\"AN12:AN500\"),AN110,INDIRECT(\"CB12:CB500\"),CB110,INDIRECT(\"AO12:AO500\"),\">\"&AO110)\n+COUNTIFS(INDIRECT(\"AO12:AO500\"),AO110,INDIRECT(\"AN12:AN500\"),1,INDIRECT(\"CB12:CB500\"),CB110,INDIRECT(\"E12:E500\"),\"<\"&E110)\n+COUNTIFS(INDIRECT(\"AO12:AO500\"),AO110,INDIRECT(\"AN12:AN500\"),1,INDIRECT(\"CB12:CB500\"),CB110,INDIRECT(\"E12:E500\"),E110,INDIRECT(\"CC12:CC500\"),\"<\"&CC110)","v":3},{"$f":"1+COUNTIFS(INDIRECT(\"AN12:AN500\"),AN110,INDIRECT(\"CB12:CB500\"),CB110,INDIRECT(\"BB12:BB500\"),\">\"&BB110)\n+COUNTIFS(INDIRECT(\"BB12:BB500\"),BB110,INDIRECT(\"AN12:AN500\"),1,INDIRECT(\"CB12:CB500\"),CB110,INDIRECT(\"E12:E500\"),\"<\"&E110)","v":3}]
["3C","Drew Miles","NC","MR-O",115.5,{"$f":"IFERROR(VLOOKUP(E111,[3]DATA!$E$2:$G$22,IF(LEFT(D111,1)=\"M\",2,3)),\"\")","v":120},803,{"$f":"IFERROR(IF(LEFT(D111,1)=\"M\",Wilks_Men(IF($E$11=\"Bwt - Lb\",E111/2.2046,E111)),Wilks_Women(IF($E$11=\"Bwt - Lb\",E111/2.2046,E111))),\"\")","v":0.58039999008178711},"1992-05-18","17",207.5,215,232.5,{"$f":"IF(MAX(K111:M111)<=0,0,MAX(CELL(\"color\",K111)*K111,CELL(\"color\",L111)*L111,CELL(\"color\",M111)*M111))","v":232.5},"16-9",145,155,-162.5,{"$f":"IF(MAX(P111:R111)<=0,0,MAX(CELL(\"color\",P111)*P111,CELL(\"color\",Q111)*Q111,CELL(\"color\",R111)*R111))","v":155},{"$f":"IF(OR(N111=0,S111=0),0,N111+S111)","v":387.5},220,235,242.5,{"$f":"IF(MAX(U111:W111)<=0,0,MAX(CELL(\"color\",U111)*U111,CELL(\"color\",V111)*V111,CELL(\"color\",W111)*W111))","v":242.5},{"$f":"AM111*IF($AM$11=\"SQ\",N111,IF($AM$11=\"BP\",S111,IF($AM$11=\"DL\",X111,IF($AM$11=\"PP\",IF(OR(S111=0,X111=0),0,S111+X111),IF(OR(T111=0,X111=0),0,T111+X111)))))","v":630},{"$f":"IF(Y111=0,\"\",CONCATENATE(CD111,\"/\",IF(AN111=4,\"Wilks\",D111),\"/\",IF(AN111>1,\"\",F111),\"/\",$AM$11))","v":"4/MR-O/120/PL"},{"$f":"BB111","v":630},{"$f":"IF(AA111=0,\"\",CE111)","v":4},{"$f":"H111*IF($E$3=\"Kg\",Y111,Y111/2.2046)","v":365.65199375152588},{"$f":"IFERROR(VLOOKUP(AS111,[3]DATA!$A$2:$B$63,2,TRUE),0)*AC111","v":365.65199375152588},"PL",1015265,"NC",{"$f":"IFERROR(VLOOKUP(A111,[3]Setup!$Q$5:$R$20,2,FALSE),\"\")","v":2},{"$f":"IF(VALUE(INDIRECT(CONCATENATE($AI$11,ROW())))=0,\"\",ABS(INDIRECT(CONCATENATE($AI$11,ROW())))+0.000001*G111)","v":242.50080299999999},82,65,73,{"$f":"IF(ISERROR(SEARCH($AM$11,AE111)),0,1)","v":1},{"$f":"VLOOKUP(D111,[3]Setup!$I$6:$K$93,3,FALSE)","v":1},{"$f":"ROUND(IFERROR(IF(AN111=1,Y111,IF(AN111=2,AC111,IF(AN111=3,AD111,AC111))),0),5)","v":630},null,{"$f":"IFERROR(MATCH(D111,[3]Setup!$I$6:$I$93,0),\"\")","v":27},{"$f":"IFERROR(CONCATENATE(LEFT(D111,FIND(\"-\",D111)),IF(AS111=\"\",\"O\",VLOOKUP(AS111,[3]DATA!$E$35:$F$53,2,TRUE))),\"\")","v":"MR-O"},{"$f":"IF(YEAR($AR$7)-YEAR(I111)<40,DATEDIF(I111,$AR$7,\"Y\"),YEAR($AR$7)-YEAR(I111))","v":25},{"$f":"IF(AN111=1,MATCH(F111,[3]DATA!$AB$2:$AB$34,0),0)","v":30},null,{"$f":"IF(MAX(K111:M111)>0,MAX(K111:M111),0)","v":232.5},{"$f":"IF(MAX(P111:R111)>0,MAX(P111:R111),0)","v":155},{"$f":"IF(MAX(U111:W111)>0,MAX(U111:W111),0)","v":242.5},{"$f":"AM111*IF($AM$11=\"PL\",IF(MIN(AV111:AX111)=0,0,AV111+AW111+AX111),IF($AM$11=\"PP\",IF(MIN(AW111:AX111)=0,0,AW111+AX111),IF($AM$11=\"BP\",AW111,IF($AM$11=\"DL\",AX111,AV111))))","v":630},{"$f":"ROUND(AY111*H111,5)","v":365.65199000000001},{"$f":"ROUND(IFERROR(VLOOKUP(AS111,[3]DATA!$A$2:$B$63,2,FALSE),1)*AZ111,5)","v":365.65199000000001},{"$f":"IFERROR(IF(AN111=1,AY111,IF(AN111=2,AZ111,IF(AN111=3,BA111,AZ111))),0)","v":630},null,null,null,null,"16:21:26",null,null,null,null,null,null,null,null,null,null,null,null,null,null,null,null,null,null,{"$f":"IFERROR(IF(FIND(\"DT\",AE111),\"Y\",\"\"),\"\")","v":""},null,{"$f":"CONCATENATE(IF(AN111=4,\"\",D111),IF(AN111=1,F111,\"\"))","v":"MR-O120"},{"$f":"IF($AM$11=\"SQ\",AJ111,IF($AM$11=\"BP\",AK111,AL111))","v":73},{"$f":"1+COUNTIFS(INDIRECT(\"AN12:AN500\"),AN111,INDIRECT(\"CB12:CB500\"),CB111,INDIRECT(\"AO12:AO500\"),\">\"&AO111)\n+COUNTIFS(INDIRECT(\"AO12:AO500\"),AO111,INDIRECT(\"AN12:AN500\"),1,INDIRECT(\"CB12:CB500\"),CB111,INDIRECT(\"E12:E500\"),\"<\"&E111)\n+COUNTIFS(INDIRECT(\"AO12:AO500\"),AO111,INDIRECT(\"AN12:AN500\"),1,INDIRECT(\"CB12:CB500\"),CB111,INDIRECT(\"E12:E500\"),E111,INDIRECT(\"CC12:CC500\"),\"<\"&CC111)","v":4},{"$f":"1+COUNTIFS(INDIRECT(\"AN12:AN500\"),AN111,INDIRECT(\"CB12:CB500\"),CB111,INDIRECT(\"BB12:BB500\"),\">\"&BB111)\n+COUNTIFS(INDIRECT(\"BB12:BB500\"),BB111,INDIRECT(\"AN12:AN500\"),1,INDIRECT(\"CB12:CB500\"),CB111,INDIRECT(\"E12:E500\"),\"<\"&E111)","v":4}]
["3C","Brandon Ballance","NC","MR-O",116.7,{"$f":"IFERROR(VLOOKUP(E112,[3]DATA!$E$2:$G$22,IF(LEFT(D112,1)=\"M\",2,3)),\"\")","v":120},802,{"$f":"IFERROR(IF(LEFT(D112,1)=\"M\",Wilks_Men(IF($E$11=\"Bwt - Lb\",E112/2.2046,E112)),Wilks_Women(IF($E$11=\"Bwt - Lb\",E112/2.2046,E112))),\"\")","v":0.5788000226020813},"1994-03-22","20",192.5,210,-227.5,{"$f":"IF(MAX(K112:M112)<=0,0,MAX(CELL(\"color\",K112)*K112,CELL(\"color\",L112)*L112,CELL(\"color\",M112)*M112))","v":210},"13.-9",137.5,147.5,152.5,{"$f":"IF(MAX(P112:R112)<=0,0,MAX(CELL(\"color\",P112)*P112,CELL(\"color\",Q112)*Q112,CELL(\"color\",R112)*R112))","v":152.5},{"$f":"IF(OR(N112=0,S112=0),0,N112+S112)","v":362.5},-232.5,232.5,-260,{"$f":"IF(MAX(U112:W112)<=0,0,MAX(CELL(\"color\",U112)*U112,CELL(\"color\",V112)*V112,CELL(\"color\",W112)*W112))","v":232.5},{"$f":"AM112*IF($AM$11=\"SQ\",N112,IF($AM$11=\"BP\",S112,IF($AM$11=\"DL\",X112,IF($AM$11=\"PP\",IF(OR(S112=0,X112=0),0,S112+X112),IF(OR(T112=0,X112=0),0,T112+X112)))))","v":595},{"$f":"IF(Y112=0,\"\",CONCATENATE(CD112,\"/\",IF(AN112=4,\"Wilks\",D112),\"/\",IF(AN112>1,\"\",F112),\"/\",$AM$11))","v":"5/MR-O/120/PL"},{"$f":"BB112","v":595},{"$f":"IF(AA112=0,\"\",CE112)","v":5},{"$f":"H112*IF($E$3=\"Kg\",Y112,Y112/2.2046)","v":344.38601344823837},{"$f":"IFERROR(VLOOKUP(AS112,[3]DATA!$A$2:$B$63,2,TRUE),0)*AC112","v":344.38601344823837},"PL",null,"NC",{"$f":"IFERROR(VLOOKUP(A112,[3]Setup!$Q$5:$R$20,2,FALSE),\"\")","v":2},{"$f":"IF(VALUE(INDIRECT(CONCATENATE($AI$11,ROW())))=0,\"\",ABS(INDIRECT(CONCATENATE($AI$11,ROW())))+0.000001*G112)","v":260.00080200000002},74,72,66,{"$f":"IF(ISERROR(SEARCH($AM$11,AE112)),0,1)","v":1},{"$f":"VLOOKUP(D112,[3]Setup!$I$6:$K$93,3,FALSE)","v":1},{"$f":"ROUND(IFERROR(IF(AN112=1,Y112,IF(AN112=2,AC112,IF(AN112=3,AD112,AC112))),0),5)","v":595},null,{"$f":"IFERROR(MATCH(D112,[3]Setup!$I$6:$I$93,0),\"\")","v":27},{"$f":"IFERROR(CONCATENATE(LEFT(D112,FIND(\"-\",D112)),IF(AS112=\"\",\"O\",VLOOKUP(AS112,[3]DATA!$E$35:$F$53,2,TRUE))),\"\")","v":"MR-O"},{"$f":"IF(YEAR($AR$7)-YEAR(I112)<40,DATEDIF(I112,$AR$7,\"Y\"),YEAR($AR$7)-YEAR(I112))","v":24},{"$f":"IF(AN112=1,MATCH(F112,[3]DATA!$AB$2:$AB$34,0),0)","v":30},null,{"$f":"IF(MAX(K112:M112)>0,MAX(K112:M112),0)","v":210},{"$f":"IF(MAX(P112:R112)>0,MAX(P112:R112),0)","v":152.5},{"$f":"IF(MAX(U112:W112)>0,MAX(U112:W112),0)","v":232.5},{"$f":"AM112*IF($AM$11=\"PL\",IF(MIN(AV112:AX112)=0,0,AV112+AW112+AX112),IF($AM$11=\"PP\",IF(MIN(AW112:AX112)=0,0,AW112+AX112),IF($AM$11=\"BP\",AW112,IF($AM$11=\"DL\",AX112,AV112))))","v":595},{"$f":"ROUND(AY112*H112,5)","v":344.38601},{"$f":"ROUND(IFERROR(VLOOKUP(AS112,[3]DATA!$A$2:$B$63,2,FALSE),1)*AZ112,5)","v":344.38601},{"$f":"IFERROR(IF(AN112=1,AY112,IF(AN112=2,AZ112,IF(AN112=3,BA112,AZ112))),0)","v":595},null,null,null,null,"16:23:27",null,null,null,null,null,null,null,null,null,null,null,null,null,null,null,null,null,null,{"$f":"IFERROR(IF(FIND(\"DT\",AE112),\"Y\",\"\"),\"\")","v":""},null,{"$f":"CONCATENATE(IF(AN112=4,\"\",D112),IF(AN112=1,F112,\"\"))","v":"MR-O120"},{"$f":"IF($AM$11=\"SQ\",AJ112,IF($AM$11=\"BP\",AK112,AL112))","v":66},{"$f":"1+COUNTIFS(INDIRECT(\"AN12:AN500\"),AN112,INDIRECT(\"CB12:CB500\"),CB112,INDIRECT(\"AO12:AO500\"),\">\"&AO112)\n+COUNTIFS(INDIRECT(\"AO12:AO500\"),AO112,INDIRECT(\"AN12:AN500\"),1,INDIRECT(\"CB12:CB500\"),CB112,INDIRECT(\"E12:E500\"),\"<\"&E112)\n+COUNTIFS(INDIRECT(\"AO12:AO500\"),AO112,INDIRECT(\"AN12:AN500\"),1,INDIRECT(\"CB12:CB500\"),CB112,INDIRECT(\"E12:E500\"),E112,INDIRECT(\"CC12:CC500\"),\"<\"&CC112)","v":5},{"$f":"1+COUNTIFS(INDIRECT(\"AN12:AN500\"),AN112,INDIRECT(\"CB12:CB500\"),CB112,INDIRECT(\"BB12:BB500\"),\">\"&BB112)\n+COUNTIFS(INDIRECT(\"BB12:BB500\"),BB112,INDIRECT(\"AN12:AN500\"),1,INDIRECT(\"CB12:CB500\"),CB112,INDIRECT(\"E12:E500\"),\"<\"&E112)","v":5}]
["3C","William Chapman","SC","MR-O",125.26,{"$f":"IFERROR(VLOOKUP(E113,[3]DATA!$E$2:$G$22,IF(LEFT(D113,1)=\"M\",2,3)),\"\")","v":"120+"},810,{"$f":"IFERROR(IF(LEFT(D113,1)=\"M\",Wilks_Men(IF($E$11=\"Bwt - Lb\",E113/2.2046,E113)),Wilks_Women(IF($E$11=\"Bwt - Lb\",E113/2.2046,E113))),\"\")","v":0.56959998607635498},"1993-04-02","14",-237.5,247.5,-262.5,{"$f":"IF(MAX(K113:M113)<=0,0,MAX(CELL(\"color\",K113)*K113,CELL(\"color\",L113)*L113,CELL(\"color\",M113)*M113))","v":247.5},"14-9",147.5,155,172.5,{"$f":"IF(MAX(P113:R113)<=0,0,MAX(CELL(\"color\",P113)*P113,CELL(\"color\",Q113)*Q113,CELL(\"color\",R113)*R113))","v":172.5},{"$f":"IF(OR(N113=0,S113=0),0,N113+S113)","v":420},237.5,252.5,262.5,{"$f":"IF(MAX(U113:W113)<=0,0,MAX(CELL(\"color\",U113)*U113,CELL(\"color\",V113)*V113,CELL(\"color\",W113)*W113))","v":262.5},{"$f":"AM113*IF($AM$11=\"SQ\",N113,IF($AM$11=\"BP\",S113,IF($AM$11=\"DL\",X113,IF($AM$11=\"PP\",IF(OR(S113=0,X113=0),0,S113+X113),IF(OR(T113=0,X113=0),0,T113+X113)))))","v":682.5},{"$f":"IF(Y113=0,\"\",CONCATENATE(CD113,\"/\",IF(AN113=4,\"Wilks\",D113),\"/\",IF(AN113>1,\"\",F113),\"/\",$AM$11))","v":"1/MR-O/120+/PL"},{"$f":"BB113","v":682.5},{"$f":"IF(AA113=0,\"\",CE113)","v":1},{"$f":"H113*IF($E$3=\"Kg\",Y113,Y113/2.2046)","v":388.75199049711227},{"$f":"IFERROR(VLOOKUP(AS113,[3]DATA!$A$2:$B$63,2,TRUE),0)*AC113","v":388.75199049711227},"PL",1015454,"SC",{"$f":"IFERROR(VLOOKUP(A113,[3]Setup!$Q$5:$R$20,2,FALSE),\"\")","v":2},{"$f":"IF(VALUE(INDIRECT(CONCATENATE($AI$11,ROW())))=0,\"\",ABS(INDIRECT(CONCATENATE($AI$11,ROW())))+0.000001*G113)","v":262.50081},78,75,75,{"$f":"IF(ISERROR(SEARCH($AM$11,AE113)),0,1)","v":1},{"$f":"VLOOKUP(D113,[3]Setup!$I$6:$K$93,3,FALSE)","v":1},{"$f":"ROUND(IFERROR(IF(AN113=1,Y113,IF(AN113=2,AC113,IF(AN113=3,AD113,AC113))),0),5)","v":682.5},null,{"$f":"IFERROR(MATCH(D113,[3]Setup!$I$6:$I$93,0),\"\")","v":27},{"$f":"IFERROR(CONCATENATE(LEFT(D113,FIND(\"-\",D113)),IF(AS113=\"\",\"O\",VLOOKUP(AS113,[3]DATA!$E$35:$F$53,2,TRUE))),\"\")","v":"MR-O"},{"$f":"IF(YEAR($AR$7)-YEAR(I113)<40,DATEDIF(I113,$AR$7,\"Y\"),YEAR($AR$7)-YEAR(I113))","v":24},{"$f":"IF(AN113=1,MATCH(F113,[3]DATA!$AB$2:$AB$34,0),0)","v":32},null,{"$f":"IF(MAX(K113:M113)>0,MAX(K113:M113),0)","v":247.5},{"$f":"IF(MAX(P113:R113)>0,MAX(P113:R113),0)","v":172.5},{"$f":"IF(MAX(U113:W113)>0,MAX(U113:W113),0)","v":262.5},{"$f":"AM113*IF($AM$11=\"PL\",IF(MIN(AV113:AX113)=0,0,AV113+AW113+AX113),IF($AM$11=\"PP\",IF(MIN(AW113:AX113)=0,0,AW113+AX113),IF($AM$11=\"BP\",AW113,IF($AM$11=\"DL\",AX113,AV113))))","v":682.5},{"$f":"ROUND(AY113*H113,5)","v":388.75198999999998},{"$f":"ROUND(IFERROR(VLOOKUP(AS113,[3]DATA!$A$2:$B$63,2,FALSE),1)*AZ113,5)","v":388.75198999999998},{"$f":"IFERROR(IF(AN113=1,AY113,IF(AN113=2,AZ113,IF(AN113=3,BA113,AZ113))),0)","v":682.5},null,null,null,null,"16:24:26",null,null,null,null,null,null,null,null,null,null,null,null,null,null,null,null,null,null,{"$f":"IFERROR(IF(FIND(\"DT\",AE113),\"Y\",\"\"),\"\")","v":""},null,{"$f":"CONCATENATE(IF(AN113=4,\"\",D113),IF(AN113=1,F113,\"\"))","v":"MR-O120+"},{"$f":"IF($AM$11=\"SQ\",AJ113,IF($AM$11=\"BP\",AK113,AL113))","v":75},{"$f":"1+COUNTIFS(INDIRECT(\"AN12:AN500\"),AN113,INDIRECT(\"CB12:CB500\"),CB113,INDIRECT(\"AO12:AO500\"),\">\"&AO113)\n+COUNTIFS(INDIRECT(\"AO12:AO500\"),AO113,INDIRECT(\"AN12:AN500\"),1,INDIRECT(\"CB12:CB500\"),CB113,INDIRECT(\"E12:E500\"),\"<\"&E113)\n+COUNTIFS(INDIRECT(\"AO12:AO500\"),AO113,INDIRECT(\"AN12:AN500\"),1,INDIRECT(\"CB12:CB500\"),CB113,INDIRECT(\"E12:E500\"),E113,INDIRECT(\"CC12:CC500\"),\"<\"&CC113)","v":1},{"$f":"1+COUNTIFS(INDIRECT(\"AN12:AN500\"),AN113,INDIRECT(\"CB12:CB500\"),CB113,INDIRECT(\"BB12:BB500\"),\">\"&BB113)\n+COUNTIFS(INDIRECT(\"BB12:BB500\"),BB113,INDIRECT(\"AN12:AN500\"),1,INDIRECT(\"CB12:CB500\"),CB113,INDIRECT(\"E12:E500\"),\"<\"&E113)","v":1}]
["1B","Scott Sherrill","NC","MR-O",128.4,{"$f":"IFERROR(VLOOKUP(E114,[2]DATA!$E$2:$G$22,IF(LEFT(D114,1)=\"M\",2,3)),\"\")","v":"120+"},113,{"$f":"IFERROR(IF(LEFT(D114,1)=\"M\",Wilks_Men(IF($E$11=\"Bwt - Lb\",E114/2.2046,E114)),Wilks_Women(IF($E$11=\"Bwt - Lb\",E114/2.2046,E114))),\"\")","v":0.56690001487731934},"1962-11-20","17",210,227.5,235,{"$f":"IF(MAX(K114:M114)<=0,0,MAX(CELL(\"color\",K114)*K114,CELL(\"color\",L114)*L114,CELL(\"color\",M114)*M114))","v":235},"14-8",152.5,-160,null,{"$f":"IF(MAX(P114:R114)<=0,0,MAX(CELL(\"color\",P114)*P114,CELL(\"color\",Q114)*Q114,CELL(\"color\",R114)*R114))","v":152.5},{"$f":"IF(OR(N114=0,S114=0),0,N114+S114)","v":387.5},225,252.5,257.5,{"$f":"IF(MAX(U114:W114)<=0,0,MAX(CELL(\"color\",U114)*U114,CELL(\"color\",V114)*V114,CELL(\"color\",W114)*W114))","v":257.5},{"$f":"AM114*IF($AM$11=\"SQ\",N114,IF($AM$11=\"BP\",S114,IF($AM$11=\"DL\",X114,IF($AM$11=\"PP\",IF(OR(S114=0,X114=0),0,S114+X114),IF(OR(T114=0,X114=0),0,T114+X114)))))","v":645},{"$f":"IF(Y114=0,\"\",CONCATENATE(CD114,\"/\",IF(AN114=4,\"Wilks\",D114),\"/\",IF(AN114>1,\"\",F114),\"/\",$AM$11))","v":"2/MR-O/120+/PL"},{"$f":"BB114","v":645},{"$f":"IF(AA114=0,\"\",CE114)","v":2},{"$f":"H114*IF($E$3=\"Kg\",Y114,Y114/2.2046)","v":365.65050959587097},{"$f":"IFERROR(VLOOKUP(AS114,[2]DATA!$A$2:$B$63,2,TRUE),0)*AC114","v":455.60053495645525},"PL BP",968460,"NC",{"$f":"IFERROR(VLOOKUP(A114,[2]Setup!$Q$5:$R$20,2,FALSE),\"\")","v":1},{"$f":"IF(VALUE(INDIRECT(CONCATENATE($AI$11,ROW())))=0,\"\",ABS(INDIRECT(CONCATENATE($AI$11,ROW())))+0.000001*G114)","v":257.500113},77,42,77,{"$f":"IF(ISERROR(SEARCH($AM$11,AE114)),0,1)","v":1},{"$f":"VLOOKUP(D114,[2]Setup!$I$6:$K$93,3,FALSE)","v":1},{"$f":"ROUND(IFERROR(IF(AN114=1,Y114,IF(AN114=2,AC114,IF(AN114=3,AD114,AC114))),0),5)","v":645},null,{"$f":"IFERROR(MATCH(D114,[2]Setup!$I$6:$I$93,0),\"\")","v":27},{"$f":"IFERROR(CONCATENATE(LEFT(D114,FIND(\"-\",D114)),IF(AS114=\"\",\"O\",VLOOKUP(AS114,[2]DATA!$E$35:$F$53,2,TRUE))),\"\")","v":"MR-M2b"},{"$f":"IF(YEAR($AR$7)-YEAR(I114)<40,DATEDIF(I114,$AR$7,\"Y\"),YEAR($AR$7)-YEAR(I114))","v":56},{"$f":"IF(AN114=1,MATCH(F114,[2]DATA!$AB$2:$AB$34,0),0)","v":32},null,{"$f":"IF(MAX(K114:M114)>0,MAX(K114:M114),0)","v":235},{"$f":"IF(MAX(P114:R114)>0,MAX(P114:R114),0)","v":152.5},{"$f":"IF(MAX(U114:W114)>0,MAX(U114:W114),0)","v":257.5},{"$f":"AM114*IF($AM$11=\"PL\",IF(MIN(AV114:AX114)=0,0,AV114+AW114+AX114),IF($AM$11=\"PP\",IF(MIN(AW114:AX114)=0,0,AW114+AX114),IF($AM$11=\"BP\",AW114,IF($AM$11=\"DL\",AX114,AV114))))","v":645},{"$f":"ROUND(AY114*H114,5)","v":365.65051},{"$f":"ROUND(IFERROR(VLOOKUP(AS114,[2]DATA!$A$2:$B$63,2,FALSE),1)*AZ114,5)","v":455.60054000000002},{"$f":"IFERROR(IF(AN114=1,AY114,IF(AN114=2,AZ114,IF(AN114=3,BA114,AZ114))),0)","v":645},null,null,null,null,null,null,null,null,null,null,null,null,null,null,null,null,null,null,null,null,null,null,null,{"$f":"IFERROR(IF(FIND(\"DT\",AE114),\"Y\",\"\"),\"\")","v":""},null,{"$f":"CONCATENATE(IF(AN114=4,\"\",D114),IF(AN114=1,F114,\"\"))","v":"MR-O120+"},{"$f":"IF($AM$11=\"SQ\",AJ114,IF($AM$11=\"BP\",AK114,AL114))","v":77},{"$f":"1+COUNTIFS(INDIRECT(\"AN12:AN500\"),AN114,INDIRECT(\"CB12:CB500\"),CB114,INDIRECT(\"AO12:AO500\"),\">\"&AO114)\n+COUNTIFS(INDIRECT(\"AO12:AO500\"),AO114,INDIRECT(\"AN12:AN500\"),1,INDIRECT(\"CB12:CB500\"),CB114,INDIRECT(\"E12:E500\"),\"<\"&E114)\n+COUNTIFS(INDIRECT(\"AO12:AO500\"),AO114,INDIRECT(\"AN12:AN500\"),1,INDIRECT(\"CB12:CB500\"),CB114,INDIRECT(\"E12:E500\"),E114,INDIRECT(\"CC12:CC500\"),\"<\"&CC114)","v":2},{"$f":"1+COUNTIFS(INDIRECT(\"AN12:AN500\"),AN114,INDIRECT(\"CB12:CB500\"),CB114,INDIRECT(\"BB12:BB500\"),\">\"&BB114)\n+COUNTIFS(INDIRECT(\"BB12:BB500\"),BB114,INDIRECT(\"AN12:AN500\"),1,INDIRECT(\"CB12:CB500\"),CB114,INDIRECT(\"E12:E500\"),\"<\"&E114)","v":2}]
["1B","Greg Simmons","SC","MR-O",146.78,{"$f":"IFERROR(VLOOKUP(E115,[2]DATA!$E$2:$G$22,IF(LEFT(D115,1)=\"M\",2,3)),\"\")","v":"120+"},112,{"$f":"IFERROR(IF(LEFT(D115,1)=\"M\",Wilks_Men(IF($E$11=\"Bwt - Lb\",E115/2.2046,E115)),Wilks_Women(IF($E$11=\"Bwt - Lb\",E115/2.2046,E115))),\"\")","v":0.55500000715255737},"1969-10-15","20in",210,215,227.5,{"$f":"IF(MAX(K115:M115)<=0,0,MAX(CELL(\"color\",K115)*K115,CELL(\"color\",L115)*L115,CELL(\"color\",M115)*M115))","v":227.5},"16-6",145,155,-165,{"$f":"IF(MAX(P115:R115)<=0,0,MAX(CELL(\"color\",P115)*P115,CELL(\"color\",Q115)*Q115,CELL(\"color\",R115)*R115))","v":155},{"$f":"IF(OR(N115=0,S115=0),0,N115+S115)","v":382.5},195,205,215,{"$f":"IF(MAX(U115:W115)<=0,0,MAX(CELL(\"color\",U115)*U115,CELL(\"color\",V115)*V115,CELL(\"color\",W115)*W115))","v":215},{"$f":"AM115*IF($AM$11=\"SQ\",N115,IF($AM$11=\"BP\",S115,IF($AM$11=\"DL\",X115,IF($AM$11=\"PP\",IF(OR(S115=0,X115=0),0,S115+X115),IF(OR(T115=0,X115=0),0,T115+X115)))))","v":597.5},{"$f":"IF(Y115=0,\"\",CONCATENATE(CD115,\"/\",IF(AN115=4,\"Wilks\",D115),\"/\",IF(AN115>1,\"\",F115),\"/\",$AM$11))","v":"3/MR-O/120+/PL"},{"$f":"BB115","v":597.5},{"$f":"IF(AA115=0,\"\",CE115)","v":3},{"$f":"H115*IF($E$3=\"Kg\",Y115,Y115/2.2046)","v":331.61250427365303},{"$f":"IFERROR(VLOOKUP(AS115,[2]DATA!$A$2:$B$63,2,TRUE),0)*AC115","v":369.0847172565758},"PL BP",1014212,"SC",{"$f":"IFERROR(VLOOKUP(A115,[2]Setup!$Q$5:$R$20,2,FALSE),\"\")","v":1},{"$f":"IF(VALUE(INDIRECT(CONCATENATE($AI$11,ROW())))=0,\"\",ABS(INDIRECT(CONCATENATE($AI$11,ROW())))+0.000001*G115)","v":215.000112},73,58,73,{"$f":"IF(ISERROR(SEARCH($AM$11,AE115)),0,1)","v":1},{"$f":"VLOOKUP(D115,[2]Setup!$I$6:$K$93,3,FALSE)","v":1},{"$f":"ROUND(IFERROR(IF(AN115=1,Y115,IF(AN115=2,AC115,IF(AN115=3,AD115,AC115))),0),5)","v":597.5},null,{"$f":"IFERROR(MATCH(D115,[2]Setup!$I$6:$I$93,0),\"\")","v":27},{"$f":"IFERROR(CONCATENATE(LEFT(D115,FIND(\"-\",D115)),IF(AS115=\"\",\"O\",VLOOKUP(AS115,[2]DATA!$E$35:$F$53,2,TRUE))),\"\")","v":"MR-M1b"},{"$f":"IF(YEAR($AR$7)-YEAR(I115)<40,DATEDIF(I115,$AR$7,\"Y\"),YEAR($AR$7)-YEAR(I115))","v":49},{"$f":"IF(AN115=1,MATCH(F115,[2]DATA!$AB$2:$AB$34,0),0)","v":32},null,{"$f":"IF(MAX(K115:M115)>0,MAX(K115:M115),0)","v":227.5},{"$f":"IF(MAX(P115:R115)>0,MAX(P115:R115),0)","v":155},{"$f":"IF(MAX(U115:W115)>0,MAX(U115:W115),0)","v":215},{"$f":"AM115*IF($AM$11=\"PL\",IF(MIN(AV115:AX115)=0,0,AV115+AW115+AX115),IF($AM$11=\"PP\",IF(MIN(AW115:AX115)=0,0,AW115+AX115),IF($AM$11=\"BP\",AW115,IF($AM$11=\"DL\",AX115,AV115))))","v":597.5},{"$f":"ROUND(AY115*H115,5)","v":331.61250000000001},{"$f":"ROUND(IFERROR(VLOOKUP(AS115,[2]DATA!$A$2:$B$63,2,FALSE),1)*AZ115,5)","v":369.08470999999997},{"$f":"IFERROR(IF(AN115=1,AY115,IF(AN115=2,AZ115,IF(AN115=3,BA115,AZ115))),0)","v":597.5},null,null,null,null,null,null,null,null,null,null,null,null,null,null,null,null,null,null,null,null,null,null,null,{"$f":"IFERROR(IF(FIND(\"DT\",AE115),\"Y\",\"\"),\"\")","v":""},null,{"$f":"CONCATENATE(IF(AN115=4,\"\",D115),IF(AN115=1,F115,\"\"))","v":"MR-O120+"},{"$f":"IF($AM$11=\"SQ\",AJ115,IF($AM$11=\"BP\",AK115,AL115))","v":73},{"$f":"1+COUNTIFS(INDIRECT(\"AN12:AN500\"),AN115,INDIRECT(\"CB12:CB500\"),CB115,INDIRECT(\"AO12:AO500\"),\">\"&AO115)\n+COUNTIFS(INDIRECT(\"AO12:AO500\"),AO115,INDIRECT(\"AN12:AN500\"),1,INDIRECT(\"CB12:CB500\"),CB115,INDIRECT(\"E12:E500\"),\"<\"&E115)\n+COUNTIFS(INDIRECT(\"AO12:AO500\"),AO115,INDIRECT(\"AN12:AN500\"),1,INDIRECT(\"CB12:CB500\"),CB115,INDIRECT(\"E12:E500\"),E115,INDIRECT(\"CC12:CC500\"),\"<\"&CC115)","v":3},{"$f":"1+COUNTIFS(INDIRECT(\"AN12:AN500\"),AN115,INDIRECT(\"CB12:CB500\"),CB115,INDIRECT(\"BB12:BB500\"),\">\"&BB115)\n+COUNTIFS(INDIRECT(\"BB12:BB500\"),BB115,INDIRECT(\"AN12:AN500\"),1,INDIRECT(\"CB12:CB500\"),CB115,INDIRECT(\"E12:E500\"),\"<\"&E115)","v":3}]
["3C","Forrest Faulk","GA","MR-O",159.32,{"$f":"IFERROR(VLOOKUP(E116,[3]DATA!$E$2:$G$22,IF(LEFT(D116,1)=\"M\",2,3)),\"\")","v":"120+"},811,{"$f":"IFERROR(IF(LEFT(D116,1)=\"M\",Wilks_Men(IF($E$11=\"Bwt - Lb\",E116/2.2046,E116)),Wilks_Women(IF($E$11=\"Bwt - Lb\",E116/2.2046,E116))),\"\")","v":0.54860001802444458},"1982-01-09","15",170,182.5,195,{"$f":"IF(MAX(K116:M116)<=0,0,MAX(CELL(\"color\",K116)*K116,CELL(\"color\",L116)*L116,CELL(\"color\",M116)*M116))","v":195},"16-9",125,-137.5,137.5,{"$f":"IF(MAX(P116:R116)<=0,0,MAX(CELL(\"color\",P116)*P116,CELL(\"color\",Q116)*Q116,CELL(\"color\",R116)*R116))","v":137.5},{"$f":"IF(OR(N116=0,S116=0),0,N116+S116)","v":332.5},170,182.5,195,{"$f":"IF(MAX(U116:W116)<=0,0,MAX(CELL(\"color\",U116)*U116,CELL(\"color\",V116)*V116,CELL(\"color\",W116)*W116))","v":195},{"$f":"AM116*IF($AM$11=\"SQ\",N116,IF($AM$11=\"BP\",S116,IF($AM$11=\"DL\",X116,IF($AM$11=\"PP\",IF(OR(S116=0,X116=0),0,S116+X116),IF(OR(T116=0,X116=0),0,T116+X116)))))","v":527.5},{"$f":"IF(Y116=0,\"\",CONCATENATE(CD116,\"/\",IF(AN116=4,\"Wilks\",D116),\"/\",IF(AN116>1,\"\",F116),\"/\",$AM$11))","v":"4/MR-O/120+/PL"},{"$f":"BB116","v":527.5},{"$f":"IF(AA116=0,\"\",CE116)","v":4},{"$f":"H116*IF($E$3=\"Kg\",Y116,Y116/2.2046)","v":289.38650950789452},{"$f":"IFERROR(VLOOKUP(AS116,[3]DATA!$A$2:$B$63,2,TRUE),0)*AC116","v":289.38650950789452},"PL",103021,"GA",{"$f":"IFERROR(VLOOKUP(A116,[3]Setup!$Q$5:$R$20,2,FALSE),\"\")","v":2},{"$f":"IF(VALUE(INDIRECT(CONCATENATE($AI$11,ROW())))=0,\"\",ABS(INDIRECT(CONCATENATE($AI$11,ROW())))+0.000001*G116)","v":195.000811},80,70,72,{"$f":"IF(ISERROR(SEARCH($AM$11,AE116)),0,1)","v":1},{"$f":"VLOOKUP(D116,[3]Setup!$I$6:$K$93,3,FALSE)","v":1},{"$f":"ROUND(IFERROR(IF(AN116=1,Y116,IF(AN116=2,AC116,IF(AN116=3,AD116,AC116))),0),5)","v":527.5},null,{"$f":"IFERROR(MATCH(D116,[3]Setup!$I$6:$I$93,0),\"\")","v":27},{"$f":"IFERROR(CONCATENATE(LEFT(D116,FIND(\"-\",D116)),IF(AS116=\"\",\"O\",VLOOKUP(AS116,[3]DATA!$E$35:$F$53,2,TRUE))),\"\")","v":"MR-O"},{"$f":"IF(YEAR($AR$7)-YEAR(I116)<40,DATEDIF(I116,$AR$7,\"Y\"),YEAR($AR$7)-YEAR(I116))","v":36},{"$f":"IF(AN116=1,MATCH(F116,[3]DATA!$AB$2:$AB$34,0),0)","v":32},null,{"$f":"IF(MAX(K116:M116)>0,MAX(K116:M116),0)","v":195},{"$f":"IF(MAX(P116:R116)>0,MAX(P116:R116),0)","v":137.5},{"$f":"IF(MAX(U116:W116)>0,MAX(U116:W116),0)","v":195},{"$f":"AM116*IF($AM$11=\"PL\",IF(MIN(AV116:AX116)=0,0,AV116+AW116+AX116),IF($AM$11=\"PP\",IF(MIN(AW116:AX116)=0,0,AW116+AX116),IF($AM$11=\"BP\",AW116,IF($AM$11=\"DL\",AX116,AV116))))","v":527.5},{"$f":"ROUND(AY116*H116,5)","v":289.38650999999999},{"$f":"ROUND(IFERROR(VLOOKUP(AS116,[3]DATA!$A$2:$B$63,2,FALSE),1)*AZ116,5)","v":289.38650999999999},{"$f":"IFERROR(IF(AN116=1,AY116,IF(AN116=2,AZ116,IF(AN116=3,BA116,AZ116))),0)","v":527.5},null,null,null,null,"16:20:02",null,null,null,null,null,null,null,null,null,null,null,null,null,null,null,null,null,null,{"$f":"IFERROR(IF(FIND(\"DT\",AE116),\"Y\",\"\"),\"\")","v":""},null,{"$f":"CONCATENATE(IF(AN116=4,\"\",D116),IF(AN116=1,F116,\"\"))","v":"MR-O120+"},{"$f":"IF($AM$11=\"SQ\",AJ116,IF($AM$11=\"BP\",AK116,AL116))","v":72},{"$f":"1+COUNTIFS(INDIRECT(\"AN12:AN500\"),AN116,INDIRECT(\"CB12:CB500\"),CB116,INDIRECT(\"AO12:AO500\"),\">\"&AO116)\n+COUNTIFS(INDIRECT(\"AO12:AO500\"),AO116,INDIRECT(\"AN12:AN500\"),1,INDIRECT(\"CB12:CB500\"),CB116,INDIRECT(\"E12:E500\"),\"<\"&E116)\n+COUNTIFS(INDIRECT(\"AO12:AO500\"),AO116,INDIRECT(\"AN12:AN500\"),1,INDIRECT(\"CB12:CB500\"),CB116,INDIRECT(\"E12:E500\"),E116,INDIRECT(\"CC12:CC500\"),\"<\"&CC116)","v":4},{"$f":"1+COUNTIFS(INDIRECT(\"AN12:AN500\"),AN116,INDIRECT(\"CB12:CB500\"),CB116,INDIRECT(\"BB12:BB500\"),\">\"&BB116)\n+COUNTIFS(INDIRECT(\"BB12:BB500\"),BB116,INDIRECT(\"AN12:AN500\"),1,INDIRECT(\"CB12:CB500\"),CB116,INDIRECT(\"E12:E500\"),\"<\"&E116)","v":4}]
["1B","Zak Mayo","NC","MR-M1a",92.26,{"$f":"IFERROR(VLOOKUP(E117,[2]DATA!$E$2:$G$22,IF(LEFT(D117,1)=\"M\",2,3)),\"\")","v":93},105,{"$f":"IFERROR(IF(LEFT(D117,1)=\"M\",Wilks_Men(IF($E$11=\"Bwt - Lb\",E117/2.2046,E117)),Wilks_Women(IF($E$11=\"Bwt - Lb\",E117/2.2046,E117))),\"\")","v":0.6305999755859375},"1974-04-30","16",230,242.5,247.5,{"$f":"IF(MAX(K117:M117)<=0,0,MAX(CELL(\"color\",K117)*K117,CELL(\"color\",L117)*L117,CELL(\"color\",M117)*M117))","v":247.5},"13-7",150,160,-165,{"$f":"IF(MAX(P117:R117)<=0,0,MAX(CELL(\"color\",P117)*P117,CELL(\"color\",Q117)*Q117,CELL(\"color\",R117)*R117))","v":160},{"$f":"IF(OR(N117=0,S117=0),0,N117+S117)","v":407.5},280,-300,-300,{"$f":"IF(MAX(U117:W117)<=0,0,MAX(CELL(\"color\",U117)*U117,CELL(\"color\",V117)*V117,CELL(\"color\",W117)*W117))","v":280},{"$f":"AM117*IF($AM$11=\"SQ\",N117,IF($AM$11=\"BP\",S117,IF($AM$11=\"DL\",X117,IF($AM$11=\"PP\",IF(OR(S117=0,X117=0),0,S117+X117),IF(OR(T117=0,X117=0),0,T117+X117)))))","v":687.5},{"$f":"IF(Y117=0,\"\",CONCATENATE(CD117,\"/\",IF(AN117=4,\"Wilks\",D117),\"/\",IF(AN117>1,\"\",F117),\"/\",$AM$11))","v":"1/MR-M1a//PL"},{"$f":"BB117","v":433.53748000000002},{"$f":"IF(AA117=0,\"\",CE117)","v":1},{"$f":"H117*IF($E$3=\"Kg\",Y117,Y117/2.2046)","v":433.53748321533203},{"$f":"IFERROR(VLOOKUP(AS117,[2]DATA!$A$2:$B$63,2,TRUE),0)*AC117","v":452.17959499359125},"PL",100399,"NC",{"$f":"IFERROR(VLOOKUP(A117,[2]Setup!$Q$5:$R$20,2,FALSE),\"\")","v":1},{"$f":"IF(VALUE(INDIRECT(CONCATENATE($AI$11,ROW())))=0,\"\",ABS(INDIRECT(CONCATENATE($AI$11,ROW())))+0.000001*G117)","v":300.00010500000002},78,60,50,{"$f":"IF(ISERROR(SEARCH($AM$11,AE117)),0,1)","v":1},{"$f":"VLOOKUP(D117,[2]Setup!$I$6:$K$93,3,FALSE)","v":2},{"$f":"ROUND(IFERROR(IF(AN117=1,Y117,IF(AN117=2,AC117,IF(AN117=3,AD117,AC117))),0),5)","v":433.53748000000002},null,{"$f":"IFERROR(MATCH(D117,[2]Setup!$I$6:$I$93,0),\"\")","v":28},{"$f":"IFERROR(CONCATENATE(LEFT(D117,FIND(\"-\",D117)),IF(AS117=\"\",\"O\",VLOOKUP(AS117,[2]DATA!$E$35:$F$53,2,TRUE))),\"\")","v":"MR-M1a"},{"$f":"IF(YEAR($AR$7)-YEAR(I117)<40,DATEDIF(I117,$AR$7,\"Y\"),YEAR($AR$7)-YEAR(I117))","v":44},{"$f":"IF(AN117=1,MATCH(F117,[2]DATA!$AB$2:$AB$34,0),0)","v":0},null,{"$f":"IF(MAX(K117:M117)>0,MAX(K117:M117),0)","v":247.5},{"$f":"IF(MAX(P117:R117)>0,MAX(P117:R117),0)","v":160},{"$f":"IF(MAX(U117:W117)>0,MAX(U117:W117),0)","v":280},{"$f":"AM117*IF($AM$11=\"PL\",IF(MIN(AV117:AX117)=0,0,AV117+AW117+AX117),IF($AM$11=\"PP\",IF(MIN(AW117:AX117)=0,0,AW117+AX117),IF($AM$11=\"BP\",AW117,IF($AM$11=\"DL\",AX117,AV117))))","v":687.5},{"$f":"ROUND(AY117*H117,5)","v":433.53748000000002},{"$f":"ROUND(IFERROR(VLOOKUP(AS117,[2]DATA!$A$2:$B$63,2,FALSE),1)*AZ117,5)","v":452.17959000000002},{"$f":"IFERROR(IF(AN117=1,AY117,IF(AN117=2,AZ117,IF(AN117=3,BA117,AZ117))),0)","v":433.53748000000002},null,null,null,null,null,null,null,null,null,null,null,null,null,null,null,null,null,null,null,null,null,null,null,{"$f":"IFERROR(IF(FIND(\"DT\",AE117),\"Y\",\"\"),\"\")","v":""},null,{"$f":"CONCATENATE(IF(AN117=4,\"\",D117),IF(AN117=1,F117,\"\"))","v":"MR-M1a"},{"$f":"IF($AM$11=\"SQ\",AJ117,IF($AM$11=\"BP\",AK117,AL117))","v":50},{"$f":"1+COUNTIFS(INDIRECT(\"AN12:AN500\"),AN117,INDIRECT(\"CB12:CB500\"),CB117,INDIRECT(\"AO12:AO500\"),\">\"&AO117)\n+COUNTIFS(INDIRECT(\"AO12:AO500\"),AO117,INDIRECT(\"AN12:AN500\"),1,INDIRECT(\"CB12:CB500\"),CB117,INDIRECT(\"E12:E500\"),\"<\"&E117)\n+COUNTIFS(INDIRECT(\"AO12:AO500\"),AO117,INDIRECT(\"AN12:AN500\"),1,INDIRECT(\"CB12:CB500\"),CB117,INDIRECT(\"E12:E500\"),E117,INDIRECT(\"CC12:CC500\"),\"<\"&CC117)","v":1},{"$f":"1+COUNTIFS(INDIRECT(\"AN12:AN500\"),AN117,INDIRECT(\"CB12:CB500\"),CB117,INDIRECT(\"BB12:BB500\"),\">\"&BB117)\n+COUNTIFS(INDIRECT(\"BB12:BB500\"),BB117,INDIRECT(\"AN12:AN500\"),1,INDIRECT(\"CB12:CB500\"),CB117,INDIRECT(\"E12:E500\"),\"<\"&E117)","v":1}]
["1B","Michael Barringer","NC","MR-M1a",82.7,{"$f":"IFERROR(VLOOKUP(E118,[2]DATA!$E$2:$G$22,IF(LEFT(D118,1)=\"M\",2,3)),\"\")","v":83},107,{"$f":"IFERROR(IF(LEFT(D118,1)=\"M\",Wilks_Men(IF($E$11=\"Bwt - Lb\",E118/2.2046,E118)),Wilks_Women(IF($E$11=\"Bwt - Lb\",E118/2.2046,E118))),\"\")","v":0.6689000129699707},"1971-01-23","13",220,-230,230,{"$f":"IF(MAX(K118:M118)<=0,0,MAX(CELL(\"color\",K118)*K118,CELL(\"color\",L118)*L118,CELL(\"color\",M118)*M118))","v":230},"11-6",125,-130,130,{"$f":"IF(MAX(P118:R118)<=0,0,MAX(CELL(\"color\",P118)*P118,CELL(\"color\",Q118)*Q118,CELL(\"color\",R118)*R118))","v":130},{"$f":"IF(OR(N118=0,S118=0),0,N118+S118)","v":360},225,237.5,252.5,{"$f":"IF(MAX(U118:W118)<=0,0,MAX(CELL(\"color\",U118)*U118,CELL(\"color\",V118)*V118,CELL(\"color\",W118)*W118))","v":252.5},{"$f":"AM118*IF($AM$11=\"SQ\",N118,IF($AM$11=\"BP\",S118,IF($AM$11=\"DL\",X118,IF($AM$11=\"PP\",IF(OR(S118=0,X118=0),0,S118+X118),IF(OR(T118=0,X118=0),0,T118+X118)))))","v":612.5},{"$f":"IF(Y118=0,\"\",CONCATENATE(CD118,\"/\",IF(AN118=4,\"Wilks\",D118),\"/\",IF(AN118>1,\"\",F118),\"/\",$AM$11))","v":"2/MR-M1a//PL"},{"$f":"BB118","v":409.70125999999999},{"$f":"IF(AA118=0,\"\",CE118)","v":2},{"$f":"H118*IF($E$3=\"Kg\",Y118,Y118/2.2046)","v":409.70125794410706},{"$f":"IFERROR(VLOOKUP(AS118,[2]DATA!$A$2:$B$63,2,TRUE),0)*AC118","v":443.29676109552389},"PL",989371,"NC",{"$f":"IFERROR(VLOOKUP(A118,[2]Setup!$Q$5:$R$20,2,FALSE),\"\")","v":1},{"$f":"IF(VALUE(INDIRECT(CONCATENATE($AI$11,ROW())))=0,\"\",ABS(INDIRECT(CONCATENATE($AI$11,ROW())))+0.000001*G118)","v":252.50010700000001},74,68,74,{"$f":"IF(ISERROR(SEARCH($AM$11,AE118)),0,1)","v":1},{"$f":"VLOOKUP(D118,[2]Setup!$I$6:$K$93,3,FALSE)","v":2},{"$f":"ROUND(IFERROR(IF(AN118=1,Y118,IF(AN118=2,AC118,IF(AN118=3,AD118,AC118))),0),5)","v":409.70125999999999},null,{"$f":"IFERROR(MATCH(D118,[2]Setup!$I$6:$I$93,0),\"\")","v":28},{"$f":"IFERROR(CONCATENATE(LEFT(D118,FIND(\"-\",D118)),IF(AS118=\"\",\"O\",VLOOKUP(AS118,[2]DATA!$E$35:$F$53,2,TRUE))),\"\")","v":"MR-M1b"},{"$f":"IF(YEAR($AR$7)-YEAR(I118)<40,DATEDIF(I118,$AR$7,\"Y\"),YEAR($AR$7)-YEAR(I118))","v":47},{"$f":"IF(AN118=1,MATCH(F118,[2]DATA!$AB$2:$AB$34,0),0)","v":0},null,{"$f":"IF(MAX(K118:M118)>0,MAX(K118:M118),0)","v":230},{"$f":"IF(MAX(P118:R118)>0,MAX(P118:R118),0)","v":130},{"$f":"IF(MAX(U118:W118)>0,MAX(U118:W118),0)","v":252.5},{"$f":"AM118*IF($AM$11=\"PL\",IF(MIN(AV118:AX118)=0,0,AV118+AW118+AX118),IF($AM$11=\"PP\",IF(MIN(AW118:AX118)=0,0,AW118+AX118),IF($AM$11=\"BP\",AW118,IF($AM$11=\"DL\",AX118,AV118))))","v":612.5},{"$f":"ROUND(AY118*H118,5)","v":409.70125999999999},{"$f":"ROUND(IFERROR(VLOOKUP(AS118,[2]DATA!$A$2:$B$63,2,FALSE),1)*AZ118,5)","v":443.29676000000001},{"$f":"IFERROR(IF(AN118=1,AY118,IF(AN118=2,AZ118,IF(AN118=3,BA118,AZ118))),0)","v":409.70125999999999},null,null,null,null,null,null,null,null,null,null,null,null,null,null,null,null,null,null,null,null,null,null,null,{"$f":"IFERROR(IF(FIND(\"DT\",AE118),\"Y\",\"\"),\"\")","v":""},null,{"$f":"CONCATENATE(IF(AN118=4,\"\",D118),IF(AN118=1,F118,\"\"))","v":"MR-M1a"},{"$f":"IF($AM$11=\"SQ\",AJ118,IF($AM$11=\"BP\",AK118,AL118))","v":74},{"$f":"1+COUNTIFS(INDIRECT(\"AN12:AN500\"),AN118,INDIRECT(\"CB12:CB500\"),CB118,INDIRECT(\"AO12:AO500\"),\">\"&AO118)\n+COUNTIFS(INDIRECT(\"AO12:AO500\"),AO118,INDIRECT(\"AN12:AN500\"),1,INDIRECT(\"CB12:CB500\"),CB118,INDIRECT(\"E12:E500\"),\"<\"&E118)\n+COUNTIFS(INDIRECT(\"AO12:AO500\"),AO118,INDIRECT(\"AN12:AN500\"),1,INDIRECT(\"CB12:CB500\"),CB118,INDIRECT(\"E12:E500\"),E118,INDIRECT(\"CC12:CC500\"),\"<\"&CC118)","v":2},{"$f":"1+COUNTIFS(INDIRECT(\"AN12:AN500\"),AN118,INDIRECT(\"CB12:CB500\"),CB118,INDIRECT(\"BB12:BB500\"),\">\"&BB118)\n+COUNTIFS(INDIRECT(\"BB12:BB500\"),BB118,INDIRECT(\"AN12:AN500\"),1,INDIRECT(\"CB12:CB500\"),CB118,INDIRECT(\"E12:E500\"),\"<\"&E118)","v":2}]
["1B","Royce Young","NC","MR-M1a",101.8,{"$f":"IFERROR(VLOOKUP(E119,[2]DATA!$E$2:$G$22,IF(LEFT(D119,1)=\"M\",2,3)),\"\")","v":105},109,{"$f":"IFERROR(IF(LEFT(D119,1)=\"M\",Wilks_Men(IF($E$11=\"Bwt - Lb\",E119/2.2046,E119)),Wilks_Women(IF($E$11=\"Bwt - Lb\",E119/2.2046,E119))),\"\")","v":0.60439997911453247},"1970-02-04","20",197.5,-205,207.5,{"$f":"IF(MAX(K119:M119)<=0,0,MAX(CELL(\"color\",K119)*K119,CELL(\"color\",L119)*L119,CELL(\"color\",M119)*M119))","v":207.5},"15-7",160,165,-170,{"$f":"IF(MAX(P119:R119)<=0,0,MAX(CELL(\"color\",P119)*P119,CELL(\"color\",Q119)*Q119,CELL(\"color\",R119)*R119))","v":165},{"$f":"IF(OR(N119=0,S119=0),0,N119+S119)","v":372.5},250,257.5,262.5,{"$f":"IF(MAX(U119:W119)<=0,0,MAX(CELL(\"color\",U119)*U119,CELL(\"color\",V119)*V119,CELL(\"color\",W119)*W119))","v":262.5},{"$f":"AM119*IF($AM$11=\"SQ\",N119,IF($AM$11=\"BP\",S119,IF($AM$11=\"DL\",X119,IF($AM$11=\"PP\",IF(OR(S119=0,X119=0),0,S119+X119),IF(OR(T119=0,X119=0),0,T119+X119)))))","v":635},{"$f":"IF(Y119=0,\"\",CONCATENATE(CD119,\"/\",IF(AN119=4,\"Wilks\",D119),\"/\",IF(AN119>1,\"\",F119),\"/\",$AM$11))","v":"3/MR-M1a//PL"},{"$f":"BB119","v":383.79399000000001},{"$f":"IF(AA119=0,\"\",CE119)","v":3},{"$f":"H119*IF($E$3=\"Kg\",Y119,Y119/2.2046)","v":383.79398673772812},{"$f":"IFERROR(VLOOKUP(AS119,[2]DATA!$A$2:$B$63,2,TRUE),0)*AC119","v":421.02200345128773},"PL BP",6860,"NC",{"$f":"IFERROR(VLOOKUP(A119,[2]Setup!$Q$5:$R$20,2,FALSE),\"\")","v":1},{"$f":"IF(VALUE(INDIRECT(CONCATENATE($AI$11,ROW())))=0,\"\",ABS(INDIRECT(CONCATENATE($AI$11,ROW())))+0.000001*G119)","v":262.50010900000001},69,62,79,{"$f":"IF(ISERROR(SEARCH($AM$11,AE119)),0,1)","v":1},{"$f":"VLOOKUP(D119,[2]Setup!$I$6:$K$93,3,FALSE)","v":2},{"$f":"ROUND(IFERROR(IF(AN119=1,Y119,IF(AN119=2,AC119,IF(AN119=3,AD119,AC119))),0),5)","v":383.79399000000001},null,{"$f":"IFERROR(MATCH(D119,[2]Setup!$I$6:$I$93,0),\"\")","v":28},{"$f":"IFERROR(CONCATENATE(LEFT(D119,FIND(\"-\",D119)),IF(AS119=\"\",\"O\",VLOOKUP(AS119,[2]DATA!$E$35:$F$53,2,TRUE))),\"\")","v":"MR-M1b"},{"$f":"IF(YEAR($AR$7)-YEAR(I119)<40,DATEDIF(I119,$AR$7,\"Y\"),YEAR($AR$7)-YEAR(I119))","v":48},{"$f":"IF(AN119=1,MATCH(F119,[2]DATA!$AB$2:$AB$34,0),0)","v":0},null,{"$f":"IF(MAX(K119:M119)>0,MAX(K119:M119),0)","v":207.5},{"$f":"IF(MAX(P119:R119)>0,MAX(P119:R119),0)","v":165},{"$f":"IF(MAX(U119:W119)>0,MAX(U119:W119),0)","v":262.5},{"$f":"AM119*IF($AM$11=\"PL\",IF(MIN(AV119:AX119)=0,0,AV119+AW119+AX119),IF($AM$11=\"PP\",IF(MIN(AW119:AX119)=0,0,AW119+AX119),IF($AM$11=\"BP\",AW119,IF($AM$11=\"DL\",AX119,AV119))))","v":635},{"$f":"ROUND(AY119*H119,5)","v":383.79399000000001},{"$f":"ROUND(IFERROR(VLOOKUP(AS119,[2]DATA!$A$2:$B$63,2,FALSE),1)*AZ119,5)","v":421.02201000000002},{"$f":"IFERROR(IF(AN119=1,AY119,IF(AN119=2,AZ119,IF(AN119=3,BA119,AZ119))),0)","v":383.79399000000001},null,null,null,null,null,null,null,null,null,null,null,null,null,null,null,null,null,null,null,null,null,null,null,{"$f":"IFERROR(IF(FIND(\"DT\",AE119),\"Y\",\"\"),\"\")","v":""},null,{"$f":"CONCATENATE(IF(AN119=4,\"\",D119),IF(AN119=1,F119,\"\"))","v":"MR-M1a"},{"$f":"IF($AM$11=\"SQ\",AJ119,IF($AM$11=\"BP\",AK119,AL119))","v":79},{"$f":"1+COUNTIFS(INDIRECT(\"AN12:AN500\"),AN119,INDIRECT(\"CB12:CB500\"),CB119,INDIRECT(\"AO12:AO500\"),\">\"&AO119)\n+COUNTIFS(INDIRECT(\"AO12:AO500\"),AO119,INDIRECT(\"AN12:AN500\"),1,INDIRECT(\"CB12:CB500\"),CB119,INDIRECT(\"E12:E500\"),\"<\"&E119)\n+COUNTIFS(INDIRECT(\"AO12:AO500\"),AO119,INDIRECT(\"AN12:AN500\"),1,INDIRECT(\"CB12:CB500\"),CB119,INDIRECT(\"E12:E500\"),E119,INDIRECT(\"CC12:CC500\"),\"<\"&CC119)","v":3},{"$f":"1+COUNTIFS(INDIRECT(\"AN12:AN500\"),AN119,INDIRECT(\"CB12:CB500\"),CB119,INDIRECT(\"BB12:BB500\"),\">\"&BB119)\n+COUNTIFS(INDIRECT(\"BB12:BB500\"),BB119,INDIRECT(\"AN12:AN500\"),1,INDIRECT(\"CB12:CB500\"),CB119,INDIRECT(\"E12:E500\"),\"<\"&E119)","v":3}]
["1B","Matt Naegel","SC","MR-M1a",91.04,{"$f":"IFERROR(VLOOKUP(E120,[2]DATA!$E$2:$G$22,IF(LEFT(D120,1)=\"M\",2,3)),\"\")","v":93},104,{"$f":"IFERROR(IF(LEFT(D120,1)=\"M\",Wilks_Men(IF($E$11=\"Bwt - Lb\",E120/2.2046,E120)),Wilks_Women(IF($E$11=\"Bwt - Lb\",E120/2.2046,E120))),\"\")","v":0.63470000028610229},"1976-03-14","16",182.5,190,-195,{"$f":"IF(MAX(K120:M120)<=0,0,MAX(CELL(\"color\",K120)*K120,CELL(\"color\",L120)*L120,CELL(\"color\",M120)*M120))","v":190},"13-7",155,157.5,-162.5,{"$f":"IF(MAX(P120:R120)<=0,0,MAX(CELL(\"color\",P120)*P120,CELL(\"color\",Q120)*Q120,CELL(\"color\",R120)*R120))","v":157.5},{"$f":"IF(OR(N120=0,S120=0),0,N120+S120)","v":347.5},210,217.5,-222.5,{"$f":"IF(MAX(U120:W120)<=0,0,MAX(CELL(\"color\",U120)*U120,CELL(\"color\",V120)*V120,CELL(\"color\",W120)*W120))","v":217.5},{"$f":"AM120*IF($AM$11=\"SQ\",N120,IF($AM$11=\"BP\",S120,IF($AM$11=\"DL\",X120,IF($AM$11=\"PP\",IF(OR(S120=0,X120=0),0,S120+X120),IF(OR(T120=0,X120=0),0,T120+X120)))))","v":565},{"$f":"IF(Y120=0,\"\",CONCATENATE(CD120,\"/\",IF(AN120=4,\"Wilks\",D120),\"/\",IF(AN120>1,\"\",F120),\"/\",$AM$11))","v":"4/MR-M1a//PL"},{"$f":"BB120","v":358.60550000000001},{"$f":"IF(AA120=0,\"\",CE120)","v":4},{"$f":"H120*IF($E$3=\"Kg\",Y120,Y120/2.2046)","v":358.6055001616478},{"$f":"IFERROR(VLOOKUP(AS120,[2]DATA!$A$2:$B$63,2,TRUE),0)*AC120","v":365.77761016488074},"PL",null,"SC",{"$f":"IFERROR(VLOOKUP(A120,[2]Setup!$Q$5:$R$20,2,FALSE),\"\")","v":1},{"$f":"IF(VALUE(INDIRECT(CONCATENATE($AI$11,ROW())))=0,\"\",ABS(INDIRECT(CONCATENATE($AI$11,ROW())))+0.000001*G120)","v":222.50010399999999},56,59,57,{"$f":"IF(ISERROR(SEARCH($AM$11,AE120)),0,1)","v":1},{"$f":"VLOOKUP(D120,[2]Setup!$I$6:$K$93,3,FALSE)","v":2},{"$f":"ROUND(IFERROR(IF(AN120=1,Y120,IF(AN120=2,AC120,IF(AN120=3,AD120,AC120))),0),5)","v":358.60550000000001},null,{"$f":"IFERROR(MATCH(D120,[2]Setup!$I$6:$I$93,0),\"\")","v":28},{"$f":"IFERROR(CONCATENATE(LEFT(D120,FIND(\"-\",D120)),IF(AS120=\"\",\"O\",VLOOKUP(AS120,[2]DATA!$E$35:$F$53,2,TRUE))),\"\")","v":"MR-M1a"},{"$f":"IF(YEAR($AR$7)-YEAR(I120)<40,DATEDIF(I120,$AR$7,\"Y\"),YEAR($AR$7)-YEAR(I120))","v":42},{"$f":"IF(AN120=1,MATCH(F120,[2]DATA!$AB$2:$AB$34,0),0)","v":0},null,{"$f":"IF(MAX(K120:M120)>0,MAX(K120:M120),0)","v":190},{"$f":"IF(MAX(P120:R120)>0,MAX(P120:R120),0)","v":157.5},{"$f":"IF(MAX(U120:W120)>0,MAX(U120:W120),0)","v":217.5},{"$f":"AM120*IF($AM$11=\"PL\",IF(MIN(AV120:AX120)=0,0,AV120+AW120+AX120),IF($AM$11=\"PP\",IF(MIN(AW120:AX120)=0,0,AW120+AX120),IF($AM$11=\"BP\",AW120,IF($AM$11=\"DL\",AX120,AV120))))","v":565},{"$f":"ROUND(AY120*H120,5)","v":358.60550000000001},{"$f":"ROUND(IFERROR(VLOOKUP(AS120,[2]DATA!$A$2:$B$63,2,FALSE),1)*AZ120,5)","v":365.77760999999998},{"$f":"IFERROR(IF(AN120=1,AY120,IF(AN120=2,AZ120,IF(AN120=3,BA120,AZ120))),0)","v":358.60550000000001},null,null,null,null,null,null,null,null,null,null,null,null,null,null,null,null,null,null,null,null,null,null,null,{"$f":"IFERROR(IF(FIND(\"DT\",AE120),\"Y\",\"\"),\"\")","v":""},null,{"$f":"CONCATENATE(IF(AN120=4,\"\",D120),IF(AN120=1,F120,\"\"))","v":"MR-M1a"},{"$f":"IF($AM$11=\"SQ\",AJ120,IF($AM$11=\"BP\",AK120,AL120))","v":57},{"$f":"1+COUNTIFS(INDIRECT(\"AN12:AN500\"),AN120,INDIRECT(\"CB12:CB500\"),CB120,INDIRECT(\"AO12:AO500\"),\">\"&AO120)\n+COUNTIFS(INDIRECT(\"AO12:AO500\"),AO120,INDIRECT(\"AN12:AN500\"),1,INDIRECT(\"CB12:CB500\"),CB120,INDIRECT(\"E12:E500\"),\"<\"&E120)\n+COUNTIFS(INDIRECT(\"AO12:AO500\"),AO120,INDIRECT(\"AN12:AN500\"),1,INDIRECT(\"CB12:CB500\"),CB120,INDIRECT(\"E12:E500\"),E120,INDIRECT(\"CC12:CC500\"),\"<\"&CC120)","v":4},{"$f":"1+COUNTIFS(INDIRECT(\"AN12:AN500\"),AN120,INDIRECT(\"CB12:CB500\"),CB120,INDIRECT(\"BB12:BB500\"),\">\"&BB120)\n+COUNTIFS(INDIRECT(\"BB12:BB500\"),BB120,INDIRECT(\"AN12:AN500\"),1,INDIRECT(\"CB12:CB500\"),CB120,INDIRECT(\"E12:E500\"),\"<\"&E120)","v":4}]
["1B","Josh Edwards","NC","MR-M1a",89.88,{"$f":"IFERROR(VLOOKUP(E121,[2]DATA!$E$2:$G$22,IF(LEFT(D121,1)=\"M\",2,3)),\"\")","v":93},106,{"$f":"IFERROR(IF(LEFT(D121,1)=\"M\",Wilks_Men(IF($E$11=\"Bwt - Lb\",E121/2.2046,E121)),Wilks_Women(IF($E$11=\"Bwt - Lb\",E121/2.2046,E121))),\"\")","v":0.63880002498626709},"1972-05-11","15",157.5,170,182.5,{"$f":"IF(MAX(K121:M121)<=0,0,MAX(CELL(\"color\",K121)*K121,CELL(\"color\",L121)*L121,CELL(\"color\",M121)*M121))","v":182.5},"15-8",62.5,92.5,110,{"$f":"IF(MAX(P121:R121)<=0,0,MAX(CELL(\"color\",P121)*P121,CELL(\"color\",Q121)*Q121,CELL(\"color\",R121)*R121))","v":110},{"$f":"IF(OR(N121=0,S121=0),0,N121+S121)","v":292.5},215,232.5,-242.5,{"$f":"IF(MAX(U121:W121)<=0,0,MAX(CELL(\"color\",U121)*U121,CELL(\"color\",V121)*V121,CELL(\"color\",W121)*W121))","v":232.5},{"$f":"AM121*IF($AM$11=\"SQ\",N121,IF($AM$11=\"BP\",S121,IF($AM$11=\"DL\",X121,IF($AM$11=\"PP\",IF(OR(S121=0,X121=0),0,S121+X121),IF(OR(T121=0,X121=0),0,T121+X121)))))","v":525},{"$f":"IF(Y121=0,\"\",CONCATENATE(CD121,\"/\",IF(AN121=4,\"Wilks\",D121),\"/\",IF(AN121>1,\"\",F121),\"/\",$AM$11))","v":"5/MR-M1a//PL"},{"$f":"BB121","v":335.37000999999998},{"$f":"IF(AA121=0,\"\",CE121)","v":5},{"$f":"H121*IF($E$3=\"Kg\",Y121,Y121/2.2046)","v":335.37001311779022},{"$f":"IFERROR(VLOOKUP(AS121,[2]DATA!$A$2:$B$63,2,TRUE),0)*AC121","v":358.1751740098},"PL",1012315,"NC",{"$f":"IFERROR(VLOOKUP(A121,[2]Setup!$Q$5:$R$20,2,FALSE),\"\")","v":1},{"$f":"IF(VALUE(INDIRECT(CONCATENATE($AI$11,ROW())))=0,\"\",ABS(INDIRECT(CONCATENATE($AI$11,ROW())))+0.000001*G121)","v":242.50010599999999},67,65,60,{"$f":"IF(ISERROR(SEARCH($AM$11,AE121)),0,1)","v":1},{"$f":"VLOOKUP(D121,[2]Setup!$I$6:$K$93,3,FALSE)","v":2},{"$f":"ROUND(IFERROR(IF(AN121=1,Y121,IF(AN121=2,AC121,IF(AN121=3,AD121,AC121))),0),5)","v":335.37000999999998},null,{"$f":"IFERROR(MATCH(D121,[2]Setup!$I$6:$I$93,0),\"\")","v":28},{"$f":"IFERROR(CONCATENATE(LEFT(D121,FIND(\"-\",D121)),IF(AS121=\"\",\"O\",VLOOKUP(AS121,[2]DATA!$E$35:$F$53,2,TRUE))),\"\")","v":"MR-M1b"},{"$f":"IF(YEAR($AR$7)-YEAR(I121)<40,DATEDIF(I121,$AR$7,\"Y\"),YEAR($AR$7)-YEAR(I121))","v":46},{"$f":"IF(AN121=1,MATCH(F121,[2]DATA!$AB$2:$AB$34,0),0)","v":0},null,{"$f":"IF(MAX(K121:M121)>0,MAX(K121:M121),0)","v":182.5},{"$f":"IF(MAX(P121:R121)>0,MAX(P121:R121),0)","v":110},{"$f":"IF(MAX(U121:W121)>0,MAX(U121:W121),0)","v":232.5},{"$f":"AM121*IF($AM$11=\"PL\",IF(MIN(AV121:AX121)=0,0,AV121+AW121+AX121),IF($AM$11=\"PP\",IF(MIN(AW121:AX121)=0,0,AW121+AX121),IF($AM$11=\"BP\",AW121,IF($AM$11=\"DL\",AX121,AV121))))","v":525},{"$f":"ROUND(AY121*H121,5)","v":335.37000999999998},{"$f":"ROUND(IFERROR(VLOOKUP(AS121,[2]DATA!$A$2:$B$63,2,FALSE),1)*AZ121,5)","v":358.17516999999998},{"$f":"IFERROR(IF(AN121=1,AY121,IF(AN121=2,AZ121,IF(AN121=3,BA121,AZ121))),0)","v":335.37000999999998},null,null,null,null,null,null,null,null,null,null,null,null,null,null,null,null,null,null,null,null,null,null,null,{"$f":"IFERROR(IF(FIND(\"DT\",AE121),\"Y\",\"\"),\"\")","v":""},null,{"$f":"CONCATENATE(IF(AN121=4,\"\",D121),IF(AN121=1,F121,\"\"))","v":"MR-M1a"},{"$f":"IF($AM$11=\"SQ\",AJ121,IF($AM$11=\"BP\",AK121,AL121))","v":60},{"$f":"1+COUNTIFS(INDIRECT(\"AN12:AN500\"),AN121,INDIRECT(\"CB12:CB500\"),CB121,INDIRECT(\"AO12:AO500\"),\">\"&AO121)\n+COUNTIFS(INDIRECT(\"AO12:AO500\"),AO121,INDIRECT(\"AN12:AN500\"),1,INDIRECT(\"CB12:CB500\"),CB121,INDIRECT(\"E12:E500\"),\"<\"&E121)\n+COUNTIFS(INDIRECT(\"AO12:AO500\"),AO121,INDIRECT(\"AN12:AN500\"),1,INDIRECT(\"CB12:CB500\"),CB121,INDIRECT(\"E12:E500\"),E121,INDIRECT(\"CC12:CC500\"),\"<\"&CC121)","v":5},{"$f":"1+COUNTIFS(INDIRECT(\"AN12:AN500\"),AN121,INDIRECT(\"CB12:CB500\"),CB121,INDIRECT(\"BB12:BB500\"),\">\"&BB121)\n+COUNTIFS(INDIRECT(\"BB12:BB500\"),BB121,INDIRECT(\"AN12:AN500\"),1,INDIRECT(\"CB12:CB500\"),CB121,INDIRECT(\"E12:E500\"),\"<\"&E121)","v":5}]
["1B","Greg Simmons","SC","MR-M1a",146.78,{"$f":"IFERROR(VLOOKUP(E122,[2]DATA!$E$2:$G$22,IF(LEFT(D122,1)=\"M\",2,3)),\"\")","v":"120+"},112,{"$f":"IFERROR(IF(LEFT(D122,1)=\"M\",Wilks_Men(IF($E$11=\"Bwt - Lb\",E122/2.2046,E122)),Wilks_Women(IF($E$11=\"Bwt - Lb\",E122/2.2046,E122))),\"\")","v":0.55500000715255737},"1969-10-15","20in",210,215,227.5,{"$f":"IF(MAX(K122:M122)<=0,0,MAX(CELL(\"color\",K122)*K122,CELL(\"color\",L122)*L122,CELL(\"color\",M122)*M122))","v":227.5},"15-6",145,155,-165,{"$f":"IF(MAX(P122:R122)<=0,0,MAX(CELL(\"color\",P122)*P122,CELL(\"color\",Q122)*Q122,CELL(\"color\",R122)*R122))","v":155},{"$f":"IF(OR(N122=0,S122=0),0,N122+S122)","v":382.5},195,205,215,{"$f":"IF(MAX(U122:W122)<=0,0,MAX(CELL(\"color\",U122)*U122,CELL(\"color\",V122)*V122,CELL(\"color\",W122)*W122))","v":215},{"$f":"AM122*IF($AM$11=\"SQ\",N122,IF($AM$11=\"BP\",S122,IF($AM$11=\"DL\",X122,IF($AM$11=\"PP\",IF(OR(S122=0,X122=0),0,S122+X122),IF(OR(T122=0,X122=0),0,T122+X122)))))","v":597.5},{"$f":"IF(Y122=0,\"\",CONCATENATE(CD122,\"/\",IF(AN122=4,\"Wilks\",D122),\"/\",IF(AN122>1,\"\",F122),\"/\",$AM$11))","v":"6/MR-M1a//PL"},{"$f":"BB122","v":331.61250000000001},{"$f":"IF(AA122=0,\"\",CE122)","v":6},{"$f":"H122*IF($E$3=\"Kg\",Y122,Y122/2.2046)","v":331.61250427365303},{"$f":"IFERROR(VLOOKUP(AS122,[2]DATA!$A$2:$B$63,2,TRUE),0)*AC122","v":369.0847172565758},"PL BP",1014212,"SC",{"$f":"IFERROR(VLOOKUP(A122,[2]Setup!$Q$5:$R$20,2,FALSE),\"\")","v":1},{"$f":"IF(VALUE(INDIRECT(CONCATENATE($AI$11,ROW())))=0,\"\",ABS(INDIRECT(CONCATENATE($AI$11,ROW())))+0.000001*G122)","v":215.000112},72,57,72,{"$f":"IF(ISERROR(SEARCH($AM$11,AE122)),0,1)","v":1},{"$f":"VLOOKUP(D122,[2]Setup!$I$6:$K$93,3,FALSE)","v":2},{"$f":"ROUND(IFERROR(IF(AN122=1,Y122,IF(AN122=2,AC122,IF(AN122=3,AD122,AC122))),0),5)","v":331.61250000000001},null,{"$f":"IFERROR(MATCH(D122,[2]Setup!$I$6:$I$93,0),\"\")","v":28},{"$f":"IFERROR(CONCATENATE(LEFT(D122,FIND(\"-\",D122)),IF(AS122=\"\",\"O\",VLOOKUP(AS122,[2]DATA!$E$35:$F$53,2,TRUE))),\"\")","v":"MR-M1b"},{"$f":"IF(YEAR($AR$7)-YEAR(I122)<40,DATEDIF(I122,$AR$7,\"Y\"),YEAR($AR$7)-YEAR(I122))","v":49},{"$f":"IF(AN122=1,MATCH(F122,[2]DATA!$AB$2:$AB$34,0),0)","v":0},null,{"$f":"IF(MAX(K122:M122)>0,MAX(K122:M122),0)","v":227.5},{"$f":"IF(MAX(P122:R122)>0,MAX(P122:R122),0)","v":155},{"$f":"IF(MAX(U122:W122)>0,MAX(U122:W122),0)","v":215},{"$f":"AM122*IF($AM$11=\"PL\",IF(MIN(AV122:AX122)=0,0,AV122+AW122+AX122),IF($AM$11=\"PP\",IF(MIN(AW122:AX122)=0,0,AW122+AX122),IF($AM$11=\"BP\",AW122,IF($AM$11=\"DL\",AX122,AV122))))","v":597.5},{"$f":"ROUND(AY122*H122,5)","v":331.61250000000001},{"$f":"ROUND(IFERROR(VLOOKUP(AS122,[2]DATA!$A$2:$B$63,2,FALSE),1)*AZ122,5)","v":369.08470999999997},{"$f":"IFERROR(IF(AN122=1,AY122,IF(AN122=2,AZ122,IF(AN122=3,BA122,AZ122))),0)","v":331.61250000000001},null,null,null,null,null,null,null,null,null,null,null,null,null,null,null,null,null,null,null,null,null,null,null,{"$f":"IFERROR(IF(FIND(\"DT\",AE122),\"Y\",\"\"),\"\")","v":""},null,{"$f":"CONCATENATE(IF(AN122=4,\"\",D122),IF(AN122=1,F122,\"\"))","v":"MR-M1a"},{"$f":"IF($AM$11=\"SQ\",AJ122,IF($AM$11=\"BP\",AK122,AL122))","v":72},{"$f":"1+COUNTIFS(INDIRECT(\"AN12:AN500\"),AN122,INDIRECT(\"CB12:CB500\"),CB122,INDIRECT(\"AO12:AO500\"),\">\"&AO122)\n+COUNTIFS(INDIRECT(\"AO12:AO500\"),AO122,INDIRECT(\"AN12:AN500\"),1,INDIRECT(\"CB12:CB500\"),CB122,INDIRECT(\"E12:E500\"),\"<\"&E122)\n+COUNTIFS(INDIRECT(\"AO12:AO500\"),AO122,INDIRECT(\"AN12:AN500\"),1,INDIRECT(\"CB12:CB500\"),CB122,INDIRECT(\"E12:E500\"),E122,INDIRECT(\"CC12:CC500\"),\"<\"&CC122)","v":6},{"$f":"1+COUNTIFS(INDIRECT(\"AN12:AN500\"),AN122,INDIRECT(\"CB12:CB500\"),CB122,INDIRECT(\"BB12:BB500\"),\">\"&BB122)\n+COUNTIFS(INDIRECT(\"BB12:BB500\"),BB122,INDIRECT(\"AN12:AN500\"),1,INDIRECT(\"CB12:CB500\"),CB122,INDIRECT(\"E12:E500\"),\"<\"&E122)","v":6}]
["1B","Russel Robinson","NC","MR-M1a",91.58,{"$f":"IFERROR(VLOOKUP(E123,[2]DATA!$E$2:$G$22,IF(LEFT(D123,1)=\"M\",2,3)),\"\")","v":93},108,{"$f":"IFERROR(IF(LEFT(D123,1)=\"M\",Wilks_Men(IF($E$11=\"Bwt - Lb\",E123/2.2046,E123)),Wilks_Women(IF($E$11=\"Bwt - Lb\",E123/2.2046,E123))),\"\")","v":0.63289999961853027},"1970-07-27","15",130,135,147.5,{"$f":"IF(MAX(K123:M123)<=0,0,MAX(CELL(\"color\",K123)*K123,CELL(\"color\",L123)*L123,CELL(\"color\",M123)*M123))","v":147.5},"14-6",102.5,107.5,-117.5,{"$f":"IF(MAX(P123:R123)<=0,0,MAX(CELL(\"color\",P123)*P123,CELL(\"color\",Q123)*Q123,CELL(\"color\",R123)*R123))","v":107.5},{"$f":"IF(OR(N123=0,S123=0),0,N123+S123)","v":255},152.5,160,167.5,{"$f":"IF(MAX(U123:W123)<=0,0,MAX(CELL(\"color\",U123)*U123,CELL(\"color\",V123)*V123,CELL(\"color\",W123)*W123))","v":167.5},{"$f":"AM123*IF($AM$11=\"SQ\",N123,IF($AM$11=\"BP\",S123,IF($AM$11=\"DL\",X123,IF($AM$11=\"PP\",IF(OR(S123=0,X123=0),0,S123+X123),IF(OR(T123=0,X123=0),0,T123+X123)))))","v":422.5},{"$f":"IF(Y123=0,\"\",CONCATENATE(CD123,\"/\",IF(AN123=4,\"Wilks\",D123),\"/\",IF(AN123>1,\"\",F123),\"/\",$AM$11))","v":"7/MR-M1a//PL"},{"$f":"BB123","v":267.40025000000003},{"$f":"IF(AA123=0,\"\",CE123)","v":7},{"$f":"H123*IF($E$3=\"Kg\",Y123,Y123/2.2046)","v":267.40024983882904},{"$f":"IFERROR(VLOOKUP(AS123,[2]DATA!$A$2:$B$63,2,TRUE),0)*AC123","v":293.33807407319546},"PL",null,"NC",{"$f":"IFERROR(VLOOKUP(A123,[2]Setup!$Q$5:$R$20,2,FALSE),\"\")","v":1},{"$f":"IF(VALUE(INDIRECT(CONCATENATE($AI$11,ROW())))=0,\"\",ABS(INDIRECT(CONCATENATE($AI$11,ROW())))+0.000001*G123)","v":167.50010800000001},64,51,69,{"$f":"IF(ISERROR(SEARCH($AM$11,AE123)),0,1)","v":1},{"$f":"VLOOKUP(D123,[2]Setup!$I$6:$K$93,3,FALSE)","v":2},{"$f":"ROUND(IFERROR(IF(AN123=1,Y123,IF(AN123=2,AC123,IF(AN123=3,AD123,AC123))),0),5)","v":267.40025000000003},null,{"$f":"IFERROR(MATCH(D123,[2]Setup!$I$6:$I$93,0),\"\")","v":28},{"$f":"IFERROR(CONCATENATE(LEFT(D123,FIND(\"-\",D123)),IF(AS123=\"\",\"O\",VLOOKUP(AS123,[2]DATA!$E$35:$F$53,2,TRUE))),\"\")","v":"MR-M1b"},{"$f":"IF(YEAR($AR$7)-YEAR(I123)<40,DATEDIF(I123,$AR$7,\"Y\"),YEAR($AR$7)-YEAR(I123))","v":48},{"$f":"IF(AN123=1,MATCH(F123,[2]DATA!$AB$2:$AB$34,0),0)","v":0},null,{"$f":"IF(MAX(K123:M123)>0,MAX(K123:M123),0)","v":147.5},{"$f":"IF(MAX(P123:R123)>0,MAX(P123:R123),0)","v":107.5},{"$f":"IF(MAX(U123:W123)>0,MAX(U123:W123),0)","v":167.5},{"$f":"AM123*IF($AM$11=\"PL\",IF(MIN(AV123:AX123)=0,0,AV123+AW123+AX123),IF($AM$11=\"PP\",IF(MIN(AW123:AX123)=0,0,AW123+AX123),IF($AM$11=\"BP\",AW123,IF($AM$11=\"DL\",AX123,AV123))))","v":422.5},{"$f":"ROUND(AY123*H123,5)","v":267.40025000000003},{"$f":"ROUND(IFERROR(VLOOKUP(AS123,[2]DATA!$A$2:$B$63,2,FALSE),1)*AZ123,5)","v":293.33807000000002},{"$f":"IFERROR(IF(AN123=1,AY123,IF(AN123=2,AZ123,IF(AN123=3,BA123,AZ123))),0)","v":267.40025000000003},null,null,null,null,null,null,null,null,null,null,null,null,null,null,null,null,null,null,null,null,null,null,null,{"$f":"IFERROR(IF(FIND(\"DT\",AE123),\"Y\",\"\"),\"\")","v":""},null,{"$f":"CONCATENATE(IF(AN123=4,\"\",D123),IF(AN123=1,F123,\"\"))","v":"MR-M1a"},{"$f":"IF($AM$11=\"SQ\",AJ123,IF($AM$11=\"BP\",AK123,AL123))","v":69},{"$f":"1+COUNTIFS(INDIRECT(\"AN12:AN500\"),AN123,INDIRECT(\"CB12:CB500\"),CB123,INDIRECT(\"AO12:AO500\"),\">\"&AO123)\n+COUNTIFS(INDIRECT(\"AO12:AO500\"),AO123,INDIRECT(\"AN12:AN500\"),1,INDIRECT(\"CB12:CB500\"),CB123,INDIRECT(\"E12:E500\"),\"<\"&E123)\n+COUNTIFS(INDIRECT(\"AO12:AO500\"),AO123,INDIRECT(\"AN12:AN500\"),1,INDIRECT(\"CB12:CB500\"),CB123,INDIRECT(\"E12:E500\"),E123,INDIRECT(\"CC12:CC500\"),\"<\"&CC123)","v":7},{"$f":"1+COUNTIFS(INDIRECT(\"AN12:AN500\"),AN123,INDIRECT(\"CB12:CB500\"),CB123,INDIRECT(\"BB12:BB500\"),\">\"&BB123)\n+COUNTIFS(INDIRECT(\"BB12:BB500\"),BB123,INDIRECT(\"AN12:AN500\"),1,INDIRECT(\"CB12:CB500\"),CB123,INDIRECT(\"E12:E500\"),\"<\"&E123)","v":7}]
["1B","Scott Sherrill","NC","MR-M2a",128.4,{"$f":"IFERROR(VLOOKUP(E124,[2]DATA!$E$2:$G$22,IF(LEFT(D124,1)=\"M\",2,3)),\"\")","v":"120+"},113,{"$f":"IFERROR(IF(LEFT(D124,1)=\"M\",Wilks_Men(IF($E$11=\"Bwt - Lb\",E124/2.2046,E124)),Wilks_Women(IF($E$11=\"Bwt - Lb\",E124/2.2046,E124))),\"\")","v":0.56690001487731934},"1962-11-20","17",210,227.5,235,{"$f":"IF(MAX(K124:M124)<=0,0,MAX(CELL(\"color\",K124)*K124,CELL(\"color\",L124)*L124,CELL(\"color\",M124)*M124))","v":235},"14-8",152.5,-160,null,{"$f":"IF(MAX(P124:R124)<=0,0,MAX(CELL(\"color\",P124)*P124,CELL(\"color\",Q124)*Q124,CELL(\"color\",R124)*R124))","v":152.5},{"$f":"IF(OR(N124=0,S124=0),0,N124+S124)","v":387.5},225,252.5,257.5,{"$f":"IF(MAX(U124:W124)<=0,0,MAX(CELL(\"color\",U124)*U124,CELL(\"color\",V124)*V124,CELL(\"color\",W124)*W124))","v":257.5},{"$f":"AM124*IF($AM$11=\"SQ\",N124,IF($AM$11=\"BP\",S124,IF($AM$11=\"DL\",X124,IF($AM$11=\"PP\",IF(OR(S124=0,X124=0),0,S124+X124),IF(OR(T124=0,X124=0),0,T124+X124)))))","v":645},{"$f":"IF(Y124=0,\"\",CONCATENATE(CD124,\"/\",IF(AN124=4,\"Wilks\",D124),\"/\",IF(AN124>1,\"\",F124),\"/\",$AM$11))","v":"1/MR-M2a//PL"},{"$f":"BB124","v":365.65051},{"$f":"IF(AA124=0,\"\",CE124)","v":1},{"$f":"H124*IF($E$3=\"Kg\",Y124,Y124/2.2046)","v":365.65050959587097},{"$f":"IFERROR(VLOOKUP(AS124,[2]DATA!$A$2:$B$63,2,TRUE),0)*AC124","v":455.60053495645525},"PL BP",968460,"NC",{"$f":"IFERROR(VLOOKUP(A124,[2]Setup!$Q$5:$R$20,2,FALSE),\"\")","v":1},{"$f":"IF(VALUE(INDIRECT(CONCATENATE($AI$11,ROW())))=0,\"\",ABS(INDIRECT(CONCATENATE($AI$11,ROW())))+0.000001*G124)","v":257.500113},76,41,76,{"$f":"IF(ISERROR(SEARCH($AM$11,AE124)),0,1)","v":1},{"$f":"VLOOKUP(D124,[2]Setup!$I$6:$K$93,3,FALSE)","v":2},{"$f":"ROUND(IFERROR(IF(AN124=1,Y124,IF(AN124=2,AC124,IF(AN124=3,AD124,AC124))),0),5)","v":365.65051},null,{"$f":"IFERROR(MATCH(D124,[2]Setup!$I$6:$I$93,0),\"\")","v":30},{"$f":"IFERROR(CONCATENATE(LEFT(D124,FIND(\"-\",D124)),IF(AS124=\"\",\"O\",VLOOKUP(AS124,[2]DATA!$E$35:$F$53,2,TRUE))),\"\")","v":"MR-M2b"},{"$f":"IF(YEAR($AR$7)-YEAR(I124)<40,DATEDIF(I124,$AR$7,\"Y\"),YEAR($AR$7)-YEAR(I124))","v":56},{"$f":"IF(AN124=1,MATCH(F124,[2]DATA!$AB$2:$AB$34,0),0)","v":0},null,{"$f":"IF(MAX(K124:M124)>0,MAX(K124:M124),0)","v":235},{"$f":"IF(MAX(P124:R124)>0,MAX(P124:R124),0)","v":152.5},{"$f":"IF(MAX(U124:W124)>0,MAX(U124:W124),0)","v":257.5},{"$f":"AM124*IF($AM$11=\"PL\",IF(MIN(AV124:AX124)=0,0,AV124+AW124+AX124),IF($AM$11=\"PP\",IF(MIN(AW124:AX124)=0,0,AW124+AX124),IF($AM$11=\"BP\",AW124,IF($AM$11=\"DL\",AX124,AV124))))","v":645},{"$f":"ROUND(AY124*H124,5)","v":365.65051},{"$f":"ROUND(IFERROR(VLOOKUP(AS124,[2]DATA!$A$2:$B$63,2,FALSE),1)*AZ124,5)","v":455.60054000000002},{"$f":"IFERROR(IF(AN124=1,AY124,IF(AN124=2,AZ124,IF(AN124=3,BA124,AZ124))),0)","v":365.65051},null,null,null,null,null,null,null,null,null,null,null,null,null,null,null,null,null,null,null,null,null,null,null,{"$f":"IFERROR(IF(FIND(\"DT\",AE124),\"Y\",\"\"),\"\")","v":""},null,{"$f":"CONCATENATE(IF(AN124=4,\"\",D124),IF(AN124=1,F124,\"\"))","v":"MR-M2a"},{"$f":"IF($AM$11=\"SQ\",AJ124,IF($AM$11=\"BP\",AK124,AL124))","v":76},{"$f":"1+COUNTIFS(INDIRECT(\"AN12:AN500\"),AN124,INDIRECT(\"CB12:CB500\"),CB124,INDIRECT(\"AO12:AO500\"),\">\"&AO124)\n+COUNTIFS(INDIRECT(\"AO12:AO500\"),AO124,INDIRECT(\"AN12:AN500\"),1,INDIRECT(\"CB12:CB500\"),CB124,INDIRECT(\"E12:E500\"),\"<\"&E124)\n+COUNTIFS(INDIRECT(\"AO12:AO500\"),AO124,INDIRECT(\"AN12:AN500\"),1,INDIRECT(\"CB12:CB500\"),CB124,INDIRECT(\"E12:E500\"),E124,INDIRECT(\"CC12:CC500\"),\"<\"&CC124)","v":1},{"$f":"1+COUNTIFS(INDIRECT(\"AN12:AN500\"),AN124,INDIRECT(\"CB12:CB500\"),CB124,INDIRECT(\"BB12:BB500\"),\">\"&BB124)\n+COUNTIFS(INDIRECT(\"BB12:BB500\"),BB124,INDIRECT(\"AN12:AN500\"),1,INDIRECT(\"CB12:CB500\"),CB124,INDIRECT(\"E12:E500\"),\"<\"&E124)","v":1}]
["1B","Tony Hennis","NC","MR-M2a",122.06,{"$f":"IFERROR(VLOOKUP(E125,[2]DATA!$E$2:$G$22,IF(LEFT(D125,1)=\"M\",2,3)),\"\")","v":"120+"},111,{"$f":"IFERROR(IF(LEFT(D125,1)=\"M\",Wilks_Men(IF($E$11=\"Bwt - Lb\",E125/2.2046,E125)),Wilks_Women(IF($E$11=\"Bwt - Lb\",E125/2.2046,E125))),\"\")","v":0.57270002365112305},"1967-03-08","20",-197.5,197.5,210,{"$f":"IF(MAX(K125:M125)<=0,0,MAX(CELL(\"color\",K125)*K125,CELL(\"color\",L125)*L125,CELL(\"color\",M125)*M125))","v":210},"16-8",152.5,167.5,-177.5,{"$f":"IF(MAX(P125:R125)<=0,0,MAX(CELL(\"color\",P125)*P125,CELL(\"color\",Q125)*Q125,CELL(\"color\",R125)*R125))","v":167.5},{"$f":"IF(OR(N125=0,S125=0),0,N125+S125)","v":377.5},242.5,252.5,260,{"$f":"IF(MAX(U125:W125)<=0,0,MAX(CELL(\"color\",U125)*U125,CELL(\"color\",V125)*V125,CELL(\"color\",W125)*W125))","v":260},{"$f":"AM125*IF($AM$11=\"SQ\",N125,IF($AM$11=\"BP\",S125,IF($AM$11=\"DL\",X125,IF($AM$11=\"PP\",IF(OR(S125=0,X125=0),0,S125+X125),IF(OR(T125=0,X125=0),0,T125+X125)))))","v":637.5},{"$f":"IF(Y125=0,\"\",CONCATENATE(CD125,\"/\",IF(AN125=4,\"Wilks\",D125),\"/\",IF(AN125>1,\"\",F125),\"/\",$AM$11))","v":"2/MR-M2a//PL"},{"$f":"BB125","v":365.09627},{"$f":"IF(AA125=0,\"\",CE125)","v":2},{"$f":"H125*IF($E$3=\"Kg\",Y125,Y125/2.2046)","v":365.09626507759094},{"$f":"IFERROR(VLOOKUP(AS125,[2]DATA!$A$2:$B$63,2,TRUE),0)*AC125","v":418.76541604399682},"PL BP",null,"NC",{"$f":"IFERROR(VLOOKUP(A125,[2]Setup!$Q$5:$R$20,2,FALSE),\"\")","v":1},{"$f":"IF(VALUE(INDIRECT(CONCATENATE($AI$11,ROW())))=0,\"\",ABS(INDIRECT(CONCATENATE($AI$11,ROW())))+0.000001*G125)","v":260.000111},71,64,78,{"$f":"IF(ISERROR(SEARCH($AM$11,AE125)),0,1)","v":1},{"$f":"VLOOKUP(D125,[2]Setup!$I$6:$K$93,3,FALSE)","v":2},{"$f":"ROUND(IFERROR(IF(AN125=1,Y125,IF(AN125=2,AC125,IF(AN125=3,AD125,AC125))),0),5)","v":365.09627},null,{"$f":"IFERROR(MATCH(D125,[2]Setup!$I$6:$I$93,0),\"\")","v":30},{"$f":"IFERROR(CONCATENATE(LEFT(D125,FIND(\"-\",D125)),IF(AS125=\"\",\"O\",VLOOKUP(AS125,[2]DATA!$E$35:$F$53,2,TRUE))),\"\")","v":"MR-M2a"},{"$f":"IF(YEAR($AR$7)-YEAR(I125)<40,DATEDIF(I125,$AR$7,\"Y\"),YEAR($AR$7)-YEAR(I125))","v":51},{"$f":"IF(AN125=1,MATCH(F125,[2]DATA!$AB$2:$AB$34,0),0)","v":0},null,{"$f":"IF(MAX(K125:M125)>0,MAX(K125:M125),0)","v":210},{"$f":"IF(MAX(P125:R125)>0,MAX(P125:R125),0)","v":167.5},{"$f":"IF(MAX(U125:W125)>0,MAX(U125:W125),0)","v":260},{"$f":"AM125*IF($AM$11=\"PL\",IF(MIN(AV125:AX125)=0,0,AV125+AW125+AX125),IF($AM$11=\"PP\",IF(MIN(AW125:AX125)=0,0,AW125+AX125),IF($AM$11=\"BP\",AW125,IF($AM$11=\"DL\",AX125,AV125))))","v":637.5},{"$f":"ROUND(AY125*H125,5)","v":365.09627},{"$f":"ROUND(IFERROR(VLOOKUP(AS125,[2]DATA!$A$2:$B$63,2,FALSE),1)*AZ125,5)","v":418.76542000000001},{"$f":"IFERROR(IF(AN125=1,AY125,IF(AN125=2,AZ125,IF(AN125=3,BA125,AZ125))),0)","v":365.09627},null,null,null,null,null,null,null,null,null,null,null,null,null,null,null,null,null,null,null,null,null,null,null,{"$f":"IFERROR(IF(FIND(\"DT\",AE125),\"Y\",\"\"),\"\")","v":""},null,{"$f":"CONCATENATE(IF(AN125=4,\"\",D125),IF(AN125=1,F125,\"\"))","v":"MR-M2a"},{"$f":"IF($AM$11=\"SQ\",AJ125,IF($AM$11=\"BP\",AK125,AL125))","v":78},{"$f":"1+COUNTIFS(INDIRECT(\"AN12:AN500\"),AN125,INDIRECT(\"CB12:CB500\"),CB125,INDIRECT(\"AO12:AO500\"),\">\"&AO125)\n+COUNTIFS(INDIRECT(\"AO12:AO500\"),AO125,INDIRECT(\"AN12:AN500\"),1,INDIRECT(\"CB12:CB500\"),CB125,INDIRECT(\"E12:E500\"),\"<\"&E125)\n+COUNTIFS(INDIRECT(\"AO12:AO500\"),AO125,INDIRECT(\"AN12:AN500\"),1,INDIRECT(\"CB12:CB500\"),CB125,INDIRECT(\"E12:E500\"),E125,INDIRECT(\"CC12:CC500\"),\"<\"&CC125)","v":2},{"$f":"1+COUNTIFS(INDIRECT(\"AN12:AN500\"),AN125,INDIRECT(\"CB12:CB500\"),CB125,INDIRECT(\"BB12:BB500\"),\">\"&BB125)\n+COUNTIFS(INDIRECT(\"BB12:BB500\"),BB125,INDIRECT(\"AN12:AN500\"),1,INDIRECT(\"CB12:CB500\"),CB125,INDIRECT(\"E12:E500\"),\"<\"&E125)","v":2}]
["1B","Keith Johnson","NC","MR-M2a",77.58,{"$f":"IFERROR(VLOOKUP(E126,[2]DATA!$E$2:$G$22,IF(LEFT(D126,1)=\"M\",2,3)),\"\")","v":83},103,{"$f":"IFERROR(IF(LEFT(D126,1)=\"M\",Wilks_Men(IF($E$11=\"Bwt - Lb\",E126/2.2046,E126)),Wilks_Women(IF($E$11=\"Bwt - Lb\",E126/2.2046,E126))),\"\")","v":0.696399986743927},"1964-08-15","16",152.5,-165,165,{"$f":"IF(MAX(K126:M126)<=0,0,MAX(CELL(\"color\",K126)*K126,CELL(\"color\",L126)*L126,CELL(\"color\",M126)*M126))","v":165},"14-6",102.5,110,112.5,{"$f":"IF(MAX(P126:R126)<=0,0,MAX(CELL(\"color\",P126)*P126,CELL(\"color\",Q126)*Q126,CELL(\"color\",R126)*R126))","v":112.5},{"$f":"IF(OR(N126=0,S126=0),0,N126+S126)","v":277.5},192.5,200,207.5,{"$f":"IF(MAX(U126:W126)<=0,0,MAX(CELL(\"color\",U126)*U126,CELL(\"color\",V126)*V126,CELL(\"color\",W126)*W126))","v":207.5},{"$f":"AM126*IF($AM$11=\"SQ\",N126,IF($AM$11=\"BP\",S126,IF($AM$11=\"DL\",X126,IF($AM$11=\"PP\",IF(OR(S126=0,X126=0),0,S126+X126),IF(OR(T126=0,X126=0),0,T126+X126)))))","v":485},{"$f":"IF(Y126=0,\"\",CONCATENATE(CD126,\"/\",IF(AN126=4,\"Wilks\",D126),\"/\",IF(AN126>1,\"\",F126),\"/\",$AM$11))","v":"3/MR-M2a//PL"},{"$f":"BB126","v":337.75398999999999},{"$f":"IF(AA126=0,\"\",CE126)","v":3},{"$f":"H126*IF($E$3=\"Kg\",Y126,Y126/2.2046)","v":337.7539935708046},{"$f":"IFERROR(VLOOKUP(AS126,[2]DATA!$A$2:$B$63,2,TRUE),0)*AC126","v":406.65580825924872},"PL",null,"NC",{"$f":"IFERROR(VLOOKUP(A126,[2]Setup!$Q$5:$R$20,2,FALSE),\"\")","v":1},{"$f":"IF(VALUE(INDIRECT(CONCATENATE($AI$11,ROW())))=0,\"\",ABS(INDIRECT(CONCATENATE($AI$11,ROW())))+0.000001*G126)","v":207.500103},66,67,71,{"$f":"IF(ISERROR(SEARCH($AM$11,AE126)),0,1)","v":1},{"$f":"VLOOKUP(D126,[2]Setup!$I$6:$K$93,3,FALSE)","v":2},{"$f":"ROUND(IFERROR(IF(AN126=1,Y126,IF(AN126=2,AC126,IF(AN126=3,AD126,AC126))),0),5)","v":337.75398999999999},null,{"$f":"IFERROR(MATCH(D126,[2]Setup!$I$6:$I$93,0),\"\")","v":30},{"$f":"IFERROR(CONCATENATE(LEFT(D126,FIND(\"-\",D126)),IF(AS126=\"\",\"O\",VLOOKUP(AS126,[2]DATA!$E$35:$F$53,2,TRUE))),\"\")","v":"MR-M2a"},{"$f":"IF(YEAR($AR$7)-YEAR(I126)<40,DATEDIF(I126,$AR$7,\"Y\"),YEAR($AR$7)-YEAR(I126))","v":54},{"$f":"IF(AN126=1,MATCH(F126,[2]DATA!$AB$2:$AB$34,0),0)","v":0},null,{"$f":"IF(MAX(K126:M126)>0,MAX(K126:M126),0)","v":165},{"$f":"IF(MAX(P126:R126)>0,MAX(P126:R126),0)","v":112.5},{"$f":"IF(MAX(U126:W126)>0,MAX(U126:W126),0)","v":207.5},{"$f":"AM126*IF($AM$11=\"PL\",IF(MIN(AV126:AX126)=0,0,AV126+AW126+AX126),IF($AM$11=\"PP\",IF(MIN(AW126:AX126)=0,0,AW126+AX126),IF($AM$11=\"BP\",AW126,IF($AM$11=\"DL\",AX126,AV126))))","v":485},{"$f":"ROUND(AY126*H126,5)","v":337.75398999999999},{"$f":"ROUND(IFERROR(VLOOKUP(AS126,[2]DATA!$A$2:$B$63,2,FALSE),1)*AZ126,5)","v":406.6558},{"$f":"IFERROR(IF(AN126=1,AY126,IF(AN126=2,AZ126,IF(AN126=3,BA126,AZ126))),0)","v":337.75398999999999},null,null,null,null,null,null,null,null,null,null,null,null,null,null,null,null,null,null,null,null,null,null,null,{"$f":"IFERROR(IF(FIND(\"DT\",AE126),\"Y\",\"\"),\"\")","v":""},null,{"$f":"CONCATENATE(IF(AN126=4,\"\",D126),IF(AN126=1,F126,\"\"))","v":"MR-M2a"},{"$f":"IF($AM$11=\"SQ\",AJ126,IF($AM$11=\"BP\",AK126,AL126))","v":71},{"$f":"1+COUNTIFS(INDIRECT(\"AN12:AN500\"),AN126,INDIRECT(\"CB12:CB500\"),CB126,INDIRECT(\"AO12:AO500\"),\">\"&AO126)\n+COUNTIFS(INDIRECT(\"AO12:AO500\"),AO126,INDIRECT(\"AN12:AN500\"),1,INDIRECT(\"CB12:CB500\"),CB126,INDIRECT(\"E12:E500\"),\"<\"&E126)\n+COUNTIFS(INDIRECT(\"AO12:AO500\"),AO126,INDIRECT(\"AN12:AN500\"),1,INDIRECT(\"CB12:CB500\"),CB126,INDIRECT(\"E12:E500\"),E126,INDIRECT(\"CC12:CC500\"),\"<\"&CC126)","v":3},{"$f":"1+COUNTIFS(INDIRECT(\"AN12:AN500\"),AN126,INDIRECT(\"CB12:CB500\"),CB126,INDIRECT(\"BB12:BB500\"),\">\"&BB126)\n+COUNTIFS(INDIRECT(\"BB12:BB500\"),BB126,INDIRECT(\"AN12:AN500\"),1,INDIRECT(\"CB12:CB500\"),CB126,INDIRECT(\"E12:E500\"),\"<\"&E126)","v":3}]
["1B","John Demchak","SC","MR-M2a",82.84,{"$f":"IFERROR(VLOOKUP(E127,[2]DATA!$E$2:$G$22,IF(LEFT(D127,1)=\"M\",2,3)),\"\")","v":83},101,{"$f":"IFERROR(IF(LEFT(D127,1)=\"M\",Wilks_Men(IF($E$11=\"Bwt - Lb\",E127/2.2046,E127)),Wilks_Women(IF($E$11=\"Bwt - Lb\",E127/2.2046,E127))),\"\")","v":0.66829997301101685},"1967-07-14","14",165,175,-182.5,{"$f":"IF(MAX(K127:M127)<=0,0,MAX(CELL(\"color\",K127)*K127,CELL(\"color\",L127)*L127,CELL(\"color\",M127)*M127))","v":175},"11-6",75,82.5,-90,{"$f":"IF(MAX(P127:R127)<=0,0,MAX(CELL(\"color\",P127)*P127,CELL(\"color\",Q127)*Q127,CELL(\"color\",R127)*R127))","v":82.5},{"$f":"IF(OR(N127=0,S127=0),0,N127+S127)","v":257.5},205,227.5,-235,{"$f":"IF(MAX(U127:W127)<=0,0,MAX(CELL(\"color\",U127)*U127,CELL(\"color\",V127)*V127,CELL(\"color\",W127)*W127))","v":227.5},{"$f":"AM127*IF($AM$11=\"SQ\",N127,IF($AM$11=\"BP\",S127,IF($AM$11=\"DL\",X127,IF($AM$11=\"PP\",IF(OR(S127=0,X127=0),0,S127+X127),IF(OR(T127=0,X127=0),0,T127+X127)))))","v":485},{"$f":"IF(Y127=0,\"\",CONCATENATE(CD127,\"/\",IF(AN127=4,\"Wilks\",D127),\"/\",IF(AN127>1,\"\",F127),\"/\",$AM$11))","v":"4/MR-M2a//PL"},{"$f":"BB127","v":324.12549000000001},{"$f":"IF(AA127=0,\"\",CE127)","v":4},{"$f":"H127*IF($E$3=\"Kg\",Y127,Y127/2.2046)","v":324.12548691034317},{"$f":"IFERROR(VLOOKUP(AS127,[2]DATA!$A$2:$B$63,2,TRUE),0)*AC127","v":371.77193348616362},"PL",12416,"SC",{"$f":"IFERROR(VLOOKUP(A127,[2]Setup!$Q$5:$R$20,2,FALSE),\"\")","v":1},{"$f":"IF(VALUE(INDIRECT(CONCATENATE($AI$11,ROW())))=0,\"\",ABS(INDIRECT(CONCATENATE($AI$11,ROW())))+0.000001*G127)","v":235.000101},54,47,58,{"$f":"IF(ISERROR(SEARCH($AM$11,AE127)),0,1)","v":1},{"$f":"VLOOKUP(D127,[2]Setup!$I$6:$K$93,3,FALSE)","v":2},{"$f":"ROUND(IFERROR(IF(AN127=1,Y127,IF(AN127=2,AC127,IF(AN127=3,AD127,AC127))),0),5)","v":324.12549000000001},null,{"$f":"IFERROR(MATCH(D127,[2]Setup!$I$6:$I$93,0),\"\")","v":30},{"$f":"IFERROR(CONCATENATE(LEFT(D127,FIND(\"-\",D127)),IF(AS127=\"\",\"O\",VLOOKUP(AS127,[2]DATA!$E$35:$F$53,2,TRUE))),\"\")","v":"MR-M2a"},{"$f":"IF(YEAR($AR$7)-YEAR(I127)<40,DATEDIF(I127,$AR$7,\"Y\"),YEAR($AR$7)-YEAR(I127))","v":51},{"$f":"IF(AN127=1,MATCH(F127,[2]DATA!$AB$2:$AB$34,0),0)","v":0},null,{"$f":"IF(MAX(K127:M127)>0,MAX(K127:M127),0)","v":175},{"$f":"IF(MAX(P127:R127)>0,MAX(P127:R127),0)","v":82.5},{"$f":"IF(MAX(U127:W127)>0,MAX(U127:W127),0)","v":227.5},{"$f":"AM127*IF($AM$11=\"PL\",IF(MIN(AV127:AX127)=0,0,AV127+AW127+AX127),IF($AM$11=\"PP\",IF(MIN(AW127:AX127)=0,0,AW127+AX127),IF($AM$11=\"BP\",AW127,IF($AM$11=\"DL\",AX127,AV127))))","v":485},{"$f":"ROUND(AY127*H127,5)","v":324.12549000000001},{"$f":"ROUND(IFERROR(VLOOKUP(AS127,[2]DATA!$A$2:$B$63,2,FALSE),1)*AZ127,5)","v":371.77193999999997},{"$f":"IFERROR(IF(AN127=1,AY127,IF(AN127=2,AZ127,IF(AN127=3,BA127,AZ127))),0)","v":324.12549000000001},null,null,null,null,null,null,null,null,null,null,null,null,null,null,null,null,null,null,null,null,null,null,null,{"$f":"IFERROR(IF(FIND(\"DT\",AE127),\"Y\",\"\"),\"\")","v":""},null,{"$f":"CONCATENATE(IF(AN127=4,\"\",D127),IF(AN127=1,F127,\"\"))","v":"MR-M2a"},{"$f":"IF($AM$11=\"SQ\",AJ127,IF($AM$11=\"BP\",AK127,AL127))","v":58},{"$f":"1+COUNTIFS(INDIRECT(\"AN12:AN500\"),AN127,INDIRECT(\"CB12:CB500\"),CB127,INDIRECT(\"AO12:AO500\"),\">\"&AO127)\n+COUNTIFS(INDIRECT(\"AO12:AO500\"),AO127,INDIRECT(\"AN12:AN500\"),1,INDIRECT(\"CB12:CB500\"),CB127,INDIRECT(\"E12:E500\"),\"<\"&E127)\n+COUNTIFS(INDIRECT(\"AO12:AO500\"),AO127,INDIRECT(\"AN12:AN500\"),1,INDIRECT(\"CB12:CB500\"),CB127,INDIRECT(\"E12:E500\"),E127,INDIRECT(\"CC12:CC500\"),\"<\"&CC127)","v":4},{"$f":"1+COUNTIFS(INDIRECT(\"AN12:AN500\"),AN127,INDIRECT(\"CB12:CB500\"),CB127,INDIRECT(\"BB12:BB500\"),\">\"&BB127)\n+COUNTIFS(INDIRECT(\"BB12:BB500\"),BB127,INDIRECT(\"AN12:AN500\"),1,INDIRECT(\"CB12:CB500\"),CB127,INDIRECT(\"E12:E500\"),\"<\"&E127)","v":4}]
["3A","Sean Hannigan","SC","M-O",91.46,{"$f":"IFERROR(VLOOKUP(E128,[3]DATA!$E$2:$G$22,IF(LEFT(D128,1)=\"M\",2,3)),\"\")","v":93},616,{"$f":"IFERROR(IF(LEFT(D128,1)=\"M\",Wilks_Men(IF($E$11=\"Bwt - Lb\",E128/2.2046,E128)),Wilks_Women(IF($E$11=\"Bwt - Lb\",E128/2.2046,E128))),\"\")","v":0.63330000638961792},"1985-01-27","16",75,null,null,{"$f":"IF(MAX(K128:M128)<=0,0,MAX(CELL(\"color\",K128)*K128,CELL(\"color\",L128)*L128,CELL(\"color\",M128)*M128))","v":75},"13-6",-225,225,-230,{"$f":"IF(MAX(P128:R128)<=0,0,MAX(CELL(\"color\",P128)*P128,CELL(\"color\",Q128)*Q128,CELL(\"color\",R128)*R128))","v":225},{"$f":"IF(OR(N128=0,S128=0),0,N128+S128)","v":300},75,null,null,{"$f":"IF(MAX(U128:W128)<=0,0,MAX(CELL(\"color\",U128)*U128,CELL(\"color\",V128)*V128,CELL(\"color\",W128)*W128))","v":75},{"$f":"AM128*IF($AM$11=\"SQ\",N128,IF($AM$11=\"BP\",S128,IF($AM$11=\"DL\",X128,IF($AM$11=\"PP\",IF(OR(S128=0,X128=0),0,S128+X128),IF(OR(T128=0,X128=0),0,T128+X128)))))","v":375},{"$f":"IF(Y128=0,\"\",CONCATENATE(CD128,\"/\",IF(AN128=4,\"Wilks\",D128),\"/\",IF(AN128>1,\"\",F128),\"/\",$AM$11))","v":"1/M-O/93/PL"},{"$f":"BB128","v":375},{"$f":"IF(AA128=0,\"\",CE128)","v":1},{"$f":"H128*IF($E$3=\"Kg\",Y128,Y128/2.2046)","v":237.48750239610672},{"$f":"IFERROR(VLOOKUP(AS128,[3]DATA!$A$2:$B$63,2,TRUE),0)*AC128","v":237.48750239610672},"PL BP",null,"SC",{"$f":"IFERROR(VLOOKUP(A128,[3]Setup!$Q$5:$R$20,2,FALSE),\"\")","v":0},{"$f":"IF(VALUE(INDIRECT(CONCATENATE($AI$11,ROW())))=0,\"\",ABS(INDIRECT(CONCATENATE($AI$11,ROW())))+0.000001*G128)","v":""},1,0,1,{"$f":"IF(ISERROR(SEARCH($AM$11,AE128)),0,1)","v":1},{"$f":"VLOOKUP(D128,[3]Setup!$I$6:$K$93,3,FALSE)","v":1},{"$f":"ROUND(IFERROR(IF(AN128=1,Y128,IF(AN128=2,AC128,IF(AN128=3,AD128,AC128))),0),5)","v":375},null,{"$f":"IFERROR(MATCH(D128,[3]Setup!$I$6:$I$93,0),\"\")","v":59},{"$f":"IFERROR(CONCATENATE(LEFT(D128,FIND(\"-\",D128)),IF(AS128=\"\",\"O\",VLOOKUP(AS128,[3]DATA!$E$35:$F$53,2,TRUE))),\"\")","v":"M-O"},{"$f":"IF(YEAR($AR$7)-YEAR(I128)<40,DATEDIF(I128,$AR$7,\"Y\"),YEAR($AR$7)-YEAR(I128))","v":33},{"$f":"IF(AN128=1,MATCH(F128,[3]DATA!$AB$2:$AB$34,0),0)","v":26},null,{"$f":"IF(MAX(K128:M128)>0,MAX(K128:M128),0)","v":75},{"$f":"IF(MAX(P128:R128)>0,MAX(P128:R128),0)","v":225},{"$f":"IF(MAX(U128:W128)>0,MAX(U128:W128),0)","v":75},{"$f":"AM128*IF($AM$11=\"PL\",IF(MIN(AV128:AX128)=0,0,AV128+AW128+AX128),IF($AM$11=\"PP\",IF(MIN(AW128:AX128)=0,0,AW128+AX128),IF($AM$11=\"BP\",AW128,IF($AM$11=\"DL\",AX128,AV128))))","v":375},{"$f":"ROUND(AY128*H128,5)","v":237.48750000000001},{"$f":"ROUND(IFERROR(VLOOKUP(AS128,[3]DATA!$A$2:$B$63,2,FALSE),1)*AZ128,5)","v":237.48750000000001},{"$f":"IFERROR(IF(AN128=1,AY128,IF(AN128=2,AZ128,IF(AN128=3,BA128,AZ128))),0)","v":375},null,null,null,null,null,null,null,null,null,null,null,null,null,null,null,null,null,null,null,null,null,null,null,{"$f":"IFERROR(IF(FIND(\"DT\",AE128),\"Y\",\"\"),\"\")","v":""},null,{"$f":"CONCATENATE(IF(AN128=4,\"\",D128),IF(AN128=1,F128,\"\"))","v":"M-O93"},{"$f":"IF($AM$11=\"SQ\",AJ128,IF($AM$11=\"BP\",AK128,AL128))","v":1},{"$f":"1+COUNTIFS(INDIRECT(\"AN12:AN500\"),AN128,INDIRECT(\"CB12:CB500\"),CB128,INDIRECT(\"AO12:AO500\"),\">\"&AO128)\n+COUNTIFS(INDIRECT(\"AO12:AO500\"),AO128,INDIRECT(\"AN12:AN500\"),1,INDIRECT(\"CB12:CB500\"),CB128,INDIRECT(\"E12:E500\"),\"<\"&E128)\n+COUNTIFS(INDIRECT(\"AO12:AO500\"),AO128,INDIRECT(\"AN12:AN500\"),1,INDIRECT(\"CB12:CB500\"),CB128,INDIRECT(\"E12:E500\"),E128,INDIRECT(\"CC12:CC500\"),\"<\"&CC128)","v":1},{"$f":"1+COUNTIFS(INDIRECT(\"AN12:AN500\"),AN128,INDIRECT(\"CB12:CB500\"),CB128,INDIRECT(\"BB12:BB500\"),\">\"&BB128)\n+COUNTIFS(INDIRECT(\"BB12:BB500\"),BB128,INDIRECT(\"AN12:AN500\"),1,INDIRECT(\"CB12:CB500\"),CB128,INDIRECT(\"E12:E500\"),\"<\"&E128)","v":1}]
["3C","Julian Onuoha","NC","M-O",116.62,{"$f":"IFERROR(VLOOKUP(E129,[3]DATA!$E$2:$G$22,IF(LEFT(D129,1)=\"M\",2,3)),\"\")","v":120},801,{"$f":"IFERROR(IF(LEFT(D129,1)=\"M\",Wilks_Men(IF($E$11=\"Bwt - Lb\",E129/2.2046,E129)),Wilks_Women(IF($E$11=\"Bwt - Lb\",E129/2.2046,E129))),\"\")","v":0.57889997959136963},"1997-06-08","16in",270,-285,285,{"$f":"IF(MAX(K129:M129)<=0,0,MAX(CELL(\"color\",K129)*K129,CELL(\"color\",L129)*L129,CELL(\"color\",M129)*M129))","v":285},"17-7",192.5,212.5,222.5,{"$f":"IF(MAX(P129:R129)<=0,0,MAX(CELL(\"color\",P129)*P129,CELL(\"color\",Q129)*Q129,CELL(\"color\",R129)*R129))","v":222.5},{"$f":"IF(OR(N129=0,S129=0),0,N129+S129)","v":507.5},285,305,-322.5,{"$f":"IF(MAX(U129:W129)<=0,0,MAX(CELL(\"color\",U129)*U129,CELL(\"color\",V129)*V129,CELL(\"color\",W129)*W129))","v":305},{"$f":"AM129*IF($AM$11=\"SQ\",N129,IF($AM$11=\"BP\",S129,IF($AM$11=\"DL\",X129,IF($AM$11=\"PP\",IF(OR(S129=0,X129=0),0,S129+X129),IF(OR(T129=0,X129=0),0,T129+X129)))))","v":812.5},{"$f":"IF(Y129=0,\"\",CONCATENATE(CD129,\"/\",IF(AN129=4,\"Wilks\",D129),\"/\",IF(AN129>1,\"\",F129),\"/\",$AM$11))","v":"1/M-O/120/PL"},{"$f":"BB129","v":812.5},{"$f":"IF(AA129=0,\"\",CE129)","v":1},{"$f":"H129*IF($E$3=\"Kg\",Y129,Y129/2.2046)","v":470.35623341798782},{"$f":"IFERROR(VLOOKUP(AS129,[3]DATA!$A$2:$B$63,2,TRUE),0)*AC129","v":484.46692042052746},"PL BP",989043,"NC",{"$f":"IFERROR(VLOOKUP(A129,[3]Setup!$Q$5:$R$20,2,FALSE),\"\")","v":2},{"$f":"IF(VALUE(INDIRECT(CONCATENATE($AI$11,ROW())))=0,\"\",ABS(INDIRECT(CONCATENATE($AI$11,ROW())))+0.000001*G129)","v":322.50080100000002},85,77,70,{"$f":"IF(ISERROR(SEARCH($AM$11,AE129)),0,1)","v":1},{"$f":"VLOOKUP(D129,[3]Setup!$I$6:$K$93,3,FALSE)","v":1},{"$f":"ROUND(IFERROR(IF(AN129=1,Y129,IF(AN129=2,AC129,IF(AN129=3,AD129,AC129))),0),5)","v":812.5},null,{"$f":"IFERROR(MATCH(D129,[3]Setup!$I$6:$I$93,0),\"\")","v":59},{"$f":"IFERROR(CONCATENATE(LEFT(D129,FIND(\"-\",D129)),IF(AS129=\"\",\"O\",VLOOKUP(AS129,[3]DATA!$E$35:$F$53,2,TRUE))),\"\")","v":"M-Jr"},{"$f":"IF(YEAR($AR$7)-YEAR(I129)<40,DATEDIF(I129,$AR$7,\"Y\"),YEAR($AR$7)-YEAR(I129))","v":20},{"$f":"IF(AN129=1,MATCH(F129,[3]DATA!$AB$2:$AB$34,0),0)","v":30},null,{"$f":"IF(MAX(K129:M129)>0,MAX(K129:M129),0)","v":285},{"$f":"IF(MAX(P129:R129)>0,MAX(P129:R129),0)","v":222.5},{"$f":"IF(MAX(U129:W129)>0,MAX(U129:W129),0)","v":305},{"$f":"AM129*IF($AM$11=\"PL\",IF(MIN(AV129:AX129)=0,0,AV129+AW129+AX129),IF($AM$11=\"PP\",IF(MIN(AW129:AX129)=0,0,AW129+AX129),IF($AM$11=\"BP\",AW129,IF($AM$11=\"DL\",AX129,AV129))))","v":812.5},{"$f":"ROUND(AY129*H129,5)","v":470.35622999999998},{"$f":"ROUND(IFERROR(VLOOKUP(AS129,[3]DATA!$A$2:$B$63,2,FALSE),1)*AZ129,5)","v":484.46692000000002},{"$f":"IFERROR(IF(AN129=1,AY129,IF(AN129=2,AZ129,IF(AN129=3,BA129,AZ129))),0)","v":812.5},null,null,null,null,"16:28:18",null,null,null,null,null,null,null,null,null,null,null,null,null,null,null,null,null,null,{"$f":"IFERROR(IF(FIND(\"DT\",AE129),\"Y\",\"\"),\"\")","v":""},null,{"$f":"CONCATENATE(IF(AN129=4,\"\",D129),IF(AN129=1,F129,\"\"))","v":"M-O120"},{"$f":"IF($AM$11=\"SQ\",AJ129,IF($AM$11=\"BP\",AK129,AL129))","v":70},{"$f":"1+COUNTIFS(INDIRECT(\"AN12:AN500\"),AN129,INDIRECT(\"CB12:CB500\"),CB129,INDIRECT(\"AO12:AO500\"),\">\"&AO129)\n+COUNTIFS(INDIRECT(\"AO12:AO500\"),AO129,INDIRECT(\"AN12:AN500\"),1,INDIRECT(\"CB12:CB500\"),CB129,INDIRECT(\"E12:E500\"),\"<\"&E129)\n+COUNTIFS(INDIRECT(\"AO12:AO500\"),AO129,INDIRECT(\"AN12:AN500\"),1,INDIRECT(\"CB12:CB500\"),CB129,INDIRECT(\"E12:E500\"),E129,INDIRECT(\"CC12:CC500\"),\"<\"&CC129)","v":1},{"$f":"1+COUNTIFS(INDIRECT(\"AN12:AN500\"),AN129,INDIRECT(\"CB12:CB500\"),CB129,INDIRECT(\"BB12:BB500\"),\">\"&BB129)\n+COUNTIFS(INDIRECT(\"BB12:BB500\"),BB129,INDIRECT(\"AN12:AN500\"),1,INDIRECT(\"CB12:CB500\"),CB129,INDIRECT(\"E12:E500\"),\"<\"&E129)","v":1}]
["1B","Charles Harvey","NC","MR-O",114.16,{"$f":"IFERROR(VLOOKUP(E130,[2]DATA!$E$2:$G$22,IF(LEFT(D130,1)=\"M\",2,3)),\"\")","v":120},116,{"$f":"IFERROR(IF(LEFT(D130,1)=\"M\",Wilks_Men(IF($E$11=\"Bwt - Lb\",E130/2.2046,E130)),Wilks_Women(IF($E$11=\"Bwt - Lb\",E130/2.2046,E130))),\"\")","v":0.58219999074935913},"1957-03-24",null,null,null,null,{"$f":"IF(MAX(K130:M130)<=0,0,MAX(CELL(\"color\",K130)*K130,CELL(\"color\",L130)*L130,CELL(\"color\",M130)*M130))","v":0},"15-7",127.5,135,137.5,{"$f":"IF(MAX(P130:R130)<=0,0,MAX(CELL(\"color\",P130)*P130,CELL(\"color\",Q130)*Q130,CELL(\"color\",R130)*R130))","v":137.5},{"$f":"IF(OR(N130=0,S130=0),0,N130+S130)","v":0},null,null,null,{"$f":"IF(MAX(U130:W130)<=0,0,MAX(CELL(\"color\",U130)*U130,CELL(\"color\",V130)*V130,CELL(\"color\",W130)*W130))","v":0},{"$f":"AM130*IF($AM$11=\"SQ\",N130,IF($AM$11=\"BP\",S130,IF($AM$11=\"DL\",X130,IF($AM$11=\"PP\",IF(OR(S130=0,X130=0),0,S130+X130),IF(OR(T130=0,X130=0),0,T130+X130)))))","v":0},{"$f":"IF(Y130=0,\"\",CONCATENATE(CD130,\"/\",IF(AN130=4,\"Wilks\",D130),\"/\",IF(AN130>1,\"\",F130),\"/\",$AM$11))","v":""},{"$f":"BB130","v":0},{"$f":"IF(AA130=0,\"\",CE130)","v":""},{"$f":"H130*IF($E$3=\"Kg\",Y130,Y130/2.2046)","v":0},{"$f":"IFERROR(VLOOKUP(AS130,[2]DATA!$A$2:$B$63,2,TRUE),0)*AC130","v":0},"BP",967255,"NC",{"$f":"IFERROR(VLOOKUP(A130,[2]Setup!$Q$5:$R$20,2,FALSE),\"\")","v":1},{"$f":"IF(VALUE(INDIRECT(CONCATENATE($AI$11,ROW())))=0,\"\",ABS(INDIRECT(CONCATENATE($AI$11,ROW())))+0.000001*G130)","v":""},0,71,0,{"$f":"IF(ISERROR(SEARCH($AM$11,AE130)),0,1)","v":0},{"$f":"VLOOKUP(D130,[2]Setup!$I$6:$K$93,3,FALSE)","v":1},{"$f":"ROUND(IFERROR(IF(AN130=1,Y130,IF(AN130=2,AC130,IF(AN130=3,AD130,AC130))),0),5)","v":0},null,{"$f":"IFERROR(MATCH(D130,[2]Setup!$I$6:$I$93,0),\"\")","v":27},{"$f":"IFERROR(CONCATENATE(LEFT(D130,FIND(\"-\",D130)),IF(AS130=\"\",\"O\",VLOOKUP(AS130,[2]DATA!$E$35:$F$53,2,TRUE))),\"\")","v":"MR-M3a"},{"$f":"IF(YEAR($AR$7)-YEAR(I130)<40,DATEDIF(I130,$AR$7,\"Y\"),YEAR($AR$7)-YEAR(I130))","v":61},{"$f":"IF(AN130=1,MATCH(F130,[2]DATA!$AB$2:$AB$34,0),0)","v":30},null,{"$f":"IF(MAX(K130:M130)>0,MAX(K130:M130),0)","v":0},{"$f":"IF(MAX(P130:R130)>0,MAX(P130:R130),0)","v":137.5},{"$f":"IF(MAX(U130:W130)>0,MAX(U130:W130),0)","v":0},{"$f":"AM130*IF($AM$11=\"PL\",IF(MIN(AV130:AX130)=0,0,AV130+AW130+AX130),IF($AM$11=\"PP\",IF(MIN(AW130:AX130)=0,0,AW130+AX130),IF($AM$11=\"BP\",AW130,IF($AM$11=\"DL\",AX130,AV130))))","v":0},{"$f":"ROUND(AY130*H130,5)","v":0},{"$f":"ROUND(IFERROR(VLOOKUP(AS130,[2]DATA!$A$2:$B$63,2,FALSE),1)*AZ130,5)","v":0},{"$f":"IFERROR(IF(AN130=1,AY130,IF(AN130=2,AZ130,IF(AN130=3,BA130,AZ130))),0)","v":0},null,null,null,null,null,null,null,null,null,null,null,null,null,null,null,null,null,null,null,null,null,null,null,{"$f":"IFERROR(IF(FIND(\"DT\",AE130),\"Y\",\"\"),\"\")","v":""},null,{"$f":"CONCATENATE(IF(AN130=4,\"\",D130),IF(AN130=1,F130,\"\"))","v":"MR-O120"},{"$f":"IF($AM$11=\"SQ\",AJ130,IF($AM$11=\"BP\",AK130,AL130))","v":0},{"$f":"1+COUNTIFS(INDIRECT(\"AN12:AN500\"),AN130,INDIRECT(\"CB12:CB500\"),CB130,INDIRECT(\"AO12:AO500\"),\">\"&AO130)\n+COUNTIFS(INDIRECT(\"AO12:AO500\"),AO130,INDIRECT(\"AN12:AN500\"),1,INDIRECT(\"CB12:CB500\"),CB130,INDIRECT(\"E12:E500\"),\"<\"&E130)\n+COUNTIFS(INDIRECT(\"AO12:AO500\"),AO130,INDIRECT(\"AN12:AN500\"),1,INDIRECT(\"CB12:CB500\"),CB130,INDIRECT(\"E12:E500\"),E130,INDIRECT(\"CC12:CC500\"),\"<\"&CC130)","v":6},{"$f":"1+COUNTIFS(INDIRECT(\"AN12:AN500\"),AN130,INDIRECT(\"CB12:CB500\"),CB130,INDIRECT(\"BB12:BB500\"),\">\"&BB130)\n+COUNTIFS(INDIRECT(\"BB12:BB500\"),BB130,INDIRECT(\"AN12:AN500\"),1,INDIRECT(\"CB12:CB500\"),CB130,INDIRECT(\"E12:E500\"),\"<\"&E130)","v":6}]
["1B","Kevin Sease","NC","MR-M1a",134.94,{"$f":"IFERROR(VLOOKUP(E131,[2]DATA!$E$2:$G$22,IF(LEFT(D131,1)=\"M\",2,3)),\"\")","v":"120+"},118,{"$f":"IFERROR(IF(LEFT(D131,1)=\"M\",Wilks_Men(IF($E$11=\"Bwt - Lb\",E131/2.2046,E131)),Wilks_Women(IF($E$11=\"Bwt - Lb\",E131/2.2046,E131))),\"\")","v":0.56199997663497925},"1976-07-12",null,null,null,null,{"$f":"IF(MAX(K131:M131)<=0,0,MAX(CELL(\"color\",K131)*K131,CELL(\"color\",L131)*L131,CELL(\"color\",M131)*M131))","v":0},"15-8",160,-170,172.5,{"$f":"IF(MAX(P131:R131)<=0,0,MAX(CELL(\"color\",P131)*P131,CELL(\"color\",Q131)*Q131,CELL(\"color\",R131)*R131))","v":172.5},{"$f":"IF(OR(N131=0,S131=0),0,N131+S131)","v":0},null,null,null,{"$f":"IF(MAX(U131:W131)<=0,0,MAX(CELL(\"color\",U131)*U131,CELL(\"color\",V131)*V131,CELL(\"color\",W131)*W131))","v":0},{"$f":"AM131*IF($AM$11=\"SQ\",N131,IF($AM$11=\"BP\",S131,IF($AM$11=\"DL\",X131,IF($AM$11=\"PP\",IF(OR(S131=0,X131=0),0,S131+X131),IF(OR(T131=0,X131=0),0,T131+X131)))))","v":0},{"$f":"IF(Y131=0,\"\",CONCATENATE(CD131,\"/\",IF(AN131=4,\"Wilks\",D131),\"/\",IF(AN131>1,\"\",F131),\"/\",$AM$11))","v":""},{"$f":"BB131","v":0},{"$f":"IF(AA131=0,\"\",CE131)","v":""},{"$f":"H131*IF($E$3=\"Kg\",Y131,Y131/2.2046)","v":0},{"$f":"IFERROR(VLOOKUP(AS131,[2]DATA!$A$2:$B$63,2,TRUE),0)*AC131","v":0},"BP",null,"NC",{"$f":"IFERROR(VLOOKUP(A131,[2]Setup!$Q$5:$R$20,2,FALSE),\"\")","v":1},{"$f":"IF(VALUE(INDIRECT(CONCATENATE($AI$11,ROW())))=0,\"\",ABS(INDIRECT(CONCATENATE($AI$11,ROW())))+0.000001*G131)","v":""},0,72,0,{"$f":"IF(ISERROR(SEARCH($AM$11,AE131)),0,1)","v":0},{"$f":"VLOOKUP(D131,[2]Setup!$I$6:$K$93,3,FALSE)","v":2},{"$f":"ROUND(IFERROR(IF(AN131=1,Y131,IF(AN131=2,AC131,IF(AN131=3,AD131,AC131))),0),5)","v":0},null,{"$f":"IFERROR(MATCH(D131,[2]Setup!$I$6:$I$93,0),\"\")","v":28},{"$f":"IFERROR(CONCATENATE(LEFT(D131,FIND(\"-\",D131)),IF(AS131=\"\",\"O\",VLOOKUP(AS131,[2]DATA!$E$35:$F$53,2,TRUE))),\"\")","v":"MR-M1a"},{"$f":"IF(YEAR($AR$7)-YEAR(I131)<40,DATEDIF(I131,$AR$7,\"Y\"),YEAR($AR$7)-YEAR(I131))","v":42},{"$f":"IF(AN131=1,MATCH(F131,[2]DATA!$AB$2:$AB$34,0),0)","v":0},null,{"$f":"IF(MAX(K131:M131)>0,MAX(K131:M131),0)","v":0},{"$f":"IF(MAX(P131:R131)>0,MAX(P131:R131),0)","v":172.5},{"$f":"IF(MAX(U131:W131)>0,MAX(U131:W131),0)","v":0},{"$f":"AM131*IF($AM$11=\"PL\",IF(MIN(AV131:AX131)=0,0,AV131+AW131+AX131),IF($AM$11=\"PP\",IF(MIN(AW131:AX131)=0,0,AW131+AX131),IF($AM$11=\"BP\",AW131,IF($AM$11=\"DL\",AX131,AV131))))","v":0},{"$f":"ROUND(AY131*H131,5)","v":0},{"$f":"ROUND(IFERROR(VLOOKUP(AS131,[2]DATA!$A$2:$B$63,2,FALSE),1)*AZ131,5)","v":0},{"$f":"IFERROR(IF(AN131=1,AY131,IF(AN131=2,AZ131,IF(AN131=3,BA131,AZ131))),0)","v":0},null,null,null,null,null,null,null,null,null,null,null,null,null,null,null,null,null,null,null,null,null,null,null,{"$f":"IFERROR(IF(FIND(\"DT\",AE131),\"Y\",\"\"),\"\")","v":""},null,{"$f":"CONCATENATE(IF(AN131=4,\"\",D131),IF(AN131=1,F131,\"\"))","v":"MR-M1a"},{"$f":"IF($AM$11=\"SQ\",AJ131,IF($AM$11=\"BP\",AK131,AL131))","v":0},{"$f":"1+COUNTIFS(INDIRECT(\"AN12:AN500\"),AN131,INDIRECT(\"CB12:CB500\"),CB131,INDIRECT(\"AO12:AO500\"),\">\"&AO131)\n+COUNTIFS(INDIRECT(\"AO12:AO500\"),AO131,INDIRECT(\"AN12:AN500\"),1,INDIRECT(\"CB12:CB500\"),CB131,INDIRECT(\"E12:E500\"),\"<\"&E131)\n+COUNTIFS(INDIRECT(\"AO12:AO500\"),AO131,INDIRECT(\"AN12:AN500\"),1,INDIRECT(\"CB12:CB500\"),CB131,INDIRECT(\"E12:E500\"),E131,INDIRECT(\"CC12:CC500\"),\"<\"&CC131)","v":8},{"$f":"1+COUNTIFS(INDIRECT(\"AN12:AN500\"),AN131,INDIRECT(\"CB12:CB500\"),CB131,INDIRECT(\"BB12:BB500\"),\">\"&BB131)\n+COUNTIFS(INDIRECT(\"BB12:BB500\"),BB131,INDIRECT(\"AN12:AN500\"),1,INDIRECT(\"CB12:CB500\"),CB131,INDIRECT(\"E12:E500\"),\"<\"&E131)","v":8}]
["1B","Eric Patton","SC","MR-M2a",82.02,{"$f":"IFERROR(VLOOKUP(E132,[2]DATA!$E$2:$G$22,IF(LEFT(D132,1)=\"M\",2,3)),\"\")","v":83},114,{"$f":"IFERROR(IF(LEFT(D132,1)=\"M\",Wilks_Men(IF($E$11=\"Bwt - Lb\",E132/2.2046,E132)),Wilks_Women(IF($E$11=\"Bwt - Lb\",E132/2.2046,E132))),\"\")","v":0.67229998111724854},"1962-04-19",null,null,null,null,{"$f":"IF(MAX(K132:M132)<=0,0,MAX(CELL(\"color\",K132)*K132,CELL(\"color\",L132)*L132,CELL(\"color\",M132)*M132))","v":0},"13-6",-120,120,-125,{"$f":"IF(MAX(P132:R132)<=0,0,MAX(CELL(\"color\",P132)*P132,CELL(\"color\",Q132)*Q132,CELL(\"color\",R132)*R132))","v":120},{"$f":"IF(OR(N132=0,S132=0),0,N132+S132)","v":0},null,null,null,{"$f":"IF(MAX(U132:W132)<=0,0,MAX(CELL(\"color\",U132)*U132,CELL(\"color\",V132)*V132,CELL(\"color\",W132)*W132))","v":0},{"$f":"AM132*IF($AM$11=\"SQ\",N132,IF($AM$11=\"BP\",S132,IF($AM$11=\"DL\",X132,IF($AM$11=\"PP\",IF(OR(S132=0,X132=0),0,S132+X132),IF(OR(T132=0,X132=0),0,T132+X132)))))","v":0},{"$f":"IF(Y132=0,\"\",CONCATENATE(CD132,\"/\",IF(AN132=4,\"Wilks\",D132),\"/\",IF(AN132>1,\"\",F132),\"/\",$AM$11))","v":""},{"$f":"BB132","v":0},{"$f":"IF(AA132=0,\"\",CE132)","v":""},{"$f":"H132*IF($E$3=\"Kg\",Y132,Y132/2.2046)","v":0},{"$f":"IFERROR(VLOOKUP(AS132,[2]DATA!$A$2:$B$63,2,TRUE),0)*AC132","v":0},"BP",null,"SC",{"$f":"IFERROR(VLOOKUP(A132,[2]Setup!$Q$5:$R$20,2,FALSE),\"\")","v":1},{"$f":"IF(VALUE(INDIRECT(CONCATENATE($AI$11,ROW())))=0,\"\",ABS(INDIRECT(CONCATENATE($AI$11,ROW())))+0.000001*G132)","v":""},0,54,0,{"$f":"IF(ISERROR(SEARCH($AM$11,AE132)),0,1)","v":0},{"$f":"VLOOKUP(D132,[2]Setup!$I$6:$K$93,3,FALSE)","v":2},{"$f":"ROUND(IFERROR(IF(AN132=1,Y132,IF(AN132=2,AC132,IF(AN132=3,AD132,AC132))),0),5)","v":0},null,{"$f":"IFERROR(MATCH(D132,[2]Setup!$I$6:$I$93,0),\"\")","v":30},{"$f":"IFERROR(CONCATENATE(LEFT(D132,FIND(\"-\",D132)),IF(AS132=\"\",\"O\",VLOOKUP(AS132,[2]DATA!$E$35:$F$53,2,TRUE))),\"\")","v":"MR-M2b"},{"$f":"IF(YEAR($AR$7)-YEAR(I132)<40,DATEDIF(I132,$AR$7,\"Y\"),YEAR($AR$7)-YEAR(I132))","v":56},{"$f":"IF(AN132=1,MATCH(F132,[2]DATA!$AB$2:$AB$34,0),0)","v":0},null,{"$f":"IF(MAX(K132:M132)>0,MAX(K132:M132),0)","v":0},{"$f":"IF(MAX(P132:R132)>0,MAX(P132:R132),0)","v":120},{"$f":"IF(MAX(U132:W132)>0,MAX(U132:W132),0)","v":0},{"$f":"AM132*IF($AM$11=\"PL\",IF(MIN(AV132:AX132)=0,0,AV132+AW132+AX132),IF($AM$11=\"PP\",IF(MIN(AW132:AX132)=0,0,AW132+AX132),IF($AM$11=\"BP\",AW132,IF($AM$11=\"DL\",AX132,AV132))))","v":0},{"$f":"ROUND(AY132*H132,5)","v":0},{"$f":"ROUND(IFERROR(VLOOKUP(AS132,[2]DATA!$A$2:$B$63,2,FALSE),1)*AZ132,5)","v":0},{"$f":"IFERROR(IF(AN132=1,AY132,IF(AN132=2,AZ132,IF(AN132=3,BA132,AZ132))),0)","v":0},null,null,null,null,null,null,null,null,null,null,null,null,null,null,null,null,null,null,null,null,null,null,null,{"$f":"IFERROR(IF(FIND(\"DT\",AE132),\"Y\",\"\"),\"\")","v":""},null,{"$f":"CONCATENATE(IF(AN132=4,\"\",D132),IF(AN132=1,F132,\"\"))","v":"MR-M2a"},{"$f":"IF($AM$11=\"SQ\",AJ132,IF($AM$11=\"BP\",AK132,AL132))","v":0},{"$f":"1+COUNTIFS(INDIRECT(\"AN12:AN500\"),AN132,INDIRECT(\"CB12:CB500\"),CB132,INDIRECT(\"AO12:AO500\"),\">\"&AO132)\n+COUNTIFS(INDIRECT(\"AO12:AO500\"),AO132,INDIRECT(\"AN12:AN500\"),1,INDIRECT(\"CB12:CB500\"),CB132,INDIRECT(\"E12:E500\"),\"<\"&E132)\n+COUNTIFS(INDIRECT(\"AO12:AO500\"),AO132,INDIRECT(\"AN12:AN500\"),1,INDIRECT(\"CB12:CB500\"),CB132,INDIRECT(\"E12:E500\"),E132,INDIRECT(\"CC12:CC500\"),\"<\"&CC132)","v":5},{"$f":"1+COUNTIFS(INDIRECT(\"AN12:AN500\"),AN132,INDIRECT(\"CB12:CB500\"),CB132,INDIRECT(\"BB12:BB500\"),\">\"&BB132)\n+COUNTIFS(INDIRECT(\"BB12:BB500\"),BB132,INDIRECT(\"AN12:AN500\"),1,INDIRECT(\"CB12:CB500\"),CB132,INDIRECT(\"E12:E500\"),\"<\"&E132)","v":5}]
["1B","Charles Harvey","NC","MR-M3a",114.16,{"$f":"IFERROR(VLOOKUP(E133,[2]DATA!$E$2:$G$22,IF(LEFT(D133,1)=\"M\",2,3)),\"\")","v":120},116,{"$f":"IFERROR(IF(LEFT(D133,1)=\"M\",Wilks_Men(IF($E$11=\"Bwt - Lb\",E133/2.2046,E133)),Wilks_Women(IF($E$11=\"Bwt - Lb\",E133/2.2046,E133))),\"\")","v":0.58219999074935913},"1957-03-24",null,null,null,null,{"$f":"IF(MAX(K133:M133)<=0,0,MAX(CELL(\"color\",K133)*K133,CELL(\"color\",L133)*L133,CELL(\"color\",M133)*M133))","v":0},"15-7",127.5,135,137.5,{"$f":"IF(MAX(P133:R133)<=0,0,MAX(CELL(\"color\",P133)*P133,CELL(\"color\",Q133)*Q133,CELL(\"color\",R133)*R133))","v":137.5},{"$f":"IF(OR(N133=0,S133=0),0,N133+S133)","v":0},null,null,null,{"$f":"IF(MAX(U133:W133)<=0,0,MAX(CELL(\"color\",U133)*U133,CELL(\"color\",V133)*V133,CELL(\"color\",W133)*W133))","v":0},{"$f":"AM133*IF($AM$11=\"SQ\",N133,IF($AM$11=\"BP\",S133,IF($AM$11=\"DL\",X133,IF($AM$11=\"PP\",IF(OR(S133=0,X133=0),0,S133+X133),IF(OR(T133=0,X133=0),0,T133+X133)))))","v":0},{"$f":"IF(Y133=0,\"\",CONCATENATE(CD133,\"/\",IF(AN133=4,\"Wilks\",D133),\"/\",IF(AN133>1,\"\",F133),\"/\",$AM$11))","v":""},{"$f":"BB133","v":0},{"$f":"IF(AA133=0,\"\",CE133)","v":""},{"$f":"H133*IF($E$3=\"Kg\",Y133,Y133/2.2046)","v":0},{"$f":"IFERROR(VLOOKUP(AS133,[2]DATA!$A$2:$B$63,2,TRUE),0)*AC133","v":0},"BP",967255,"NC",{"$f":"IFERROR(VLOOKUP(A133,[2]Setup!$Q$5:$R$20,2,FALSE),\"\")","v":1},{"$f":"IF(VALUE(INDIRECT(CONCATENATE($AI$11,ROW())))=0,\"\",ABS(INDIRECT(CONCATENATE($AI$11,ROW())))+0.000001*G133)","v":""},0,70,0,{"$f":"IF(ISERROR(SEARCH($AM$11,AE133)),0,1)","v":0},{"$f":"VLOOKUP(D133,[2]Setup!$I$6:$K$93,3,FALSE)","v":2},{"$f":"ROUND(IFERROR(IF(AN133=1,Y133,IF(AN133=2,AC133,IF(AN133=3,AD133,AC133))),0),5)","v":0},null,{"$f":"IFERROR(MATCH(D133,[2]Setup!$I$6:$I$93,0),\"\")","v":32},{"$f":"IFERROR(CONCATENATE(LEFT(D133,FIND(\"-\",D133)),IF(AS133=\"\",\"O\",VLOOKUP(AS133,[2]DATA!$E$35:$F$53,2,TRUE))),\"\")","v":"MR-M3a"},{"$f":"IF(YEAR($AR$7)-YEAR(I133)<40,DATEDIF(I133,$AR$7,\"Y\"),YEAR($AR$7)-YEAR(I133))","v":61},{"$f":"IF(AN133=1,MATCH(F133,[2]DATA!$AB$2:$AB$34,0),0)","v":0},null,{"$f":"IF(MAX(K133:M133)>0,MAX(K133:M133),0)","v":0},{"$f":"IF(MAX(P133:R133)>0,MAX(P133:R133),0)","v":137.5},{"$f":"IF(MAX(U133:W133)>0,MAX(U133:W133),0)","v":0},{"$f":"AM133*IF($AM$11=\"PL\",IF(MIN(AV133:AX133)=0,0,AV133+AW133+AX133),IF($AM$11=\"PP\",IF(MIN(AW133:AX133)=0,0,AW133+AX133),IF($AM$11=\"BP\",AW133,IF($AM$11=\"DL\",AX133,AV133))))","v":0},{"$f":"ROUND(AY133*H133,5)","v":0},{"$f":"ROUND(IFERROR(VLOOKUP(AS133,[2]DATA!$A$2:$B$63,2,FALSE),1)*AZ133,5)","v":0},{"$f":"IFERROR(IF(AN133=1,AY133,IF(AN133=2,AZ133,IF(AN133=3,BA133,AZ133))),0)","v":0},null,null,null,null,null,null,null,null,null,null,null,null,null,null,null,null,null,null,null,null,null,null,null,{"$f":"IFERROR(IF(FIND(\"DT\",AE133),\"Y\",\"\"),\"\")","v":""},null,{"$f":"CONCATENATE(IF(AN133=4,\"\",D133),IF(AN133=1,F133,\"\"))","v":"MR-M3a"},{"$f":"IF($AM$11=\"SQ\",AJ133,IF($AM$11=\"BP\",AK133,AL133))","v":0},{"$f":"1+COUNTIFS(INDIRECT(\"AN12:AN500\"),AN133,INDIRECT(\"CB12:CB500\"),CB133,INDIRECT(\"AO12:AO500\"),\">\"&AO133)\n+COUNTIFS(INDIRECT(\"AO12:AO500\"),AO133,INDIRECT(\"AN12:AN500\"),1,INDIRECT(\"CB12:CB500\"),CB133,INDIRECT(\"E12:E500\"),\"<\"&E133)\n+COUNTIFS(INDIRECT(\"AO12:AO500\"),AO133,INDIRECT(\"AN12:AN500\"),1,INDIRECT(\"CB12:CB500\"),CB133,INDIRECT(\"E12:E500\"),E133,INDIRECT(\"CC12:CC500\"),\"<\"&CC133)","v":1},{"$f":"1+COUNTIFS(INDIRECT(\"AN12:AN500\"),AN133,INDIRECT(\"CB12:CB500\"),CB133,INDIRECT(\"BB12:BB500\"),\">\"&BB133)\n+COUNTIFS(INDIRECT(\"BB12:BB500\"),BB133,INDIRECT(\"AN12:AN500\"),1,INDIRECT(\"CB12:CB500\"),CB133,INDIRECT(\"E12:E500\"),\"<\"&E133)","v":1}]
["1B","John von Rohr","SC","M-M4a",118.48,{"$f":"IFERROR(VLOOKUP(E134,[2]DATA!$E$2:$G$22,IF(LEFT(D134,1)=\"M\",2,3)),\"\")","v":120},117,{"$f":"IFERROR(IF(LEFT(D134,1)=\"M\",Wilks_Men(IF($E$11=\"Bwt - Lb\",E134/2.2046,E134)),Wilks_Women(IF($E$11=\"Bwt - Lb\",E134/2.2046,E134))),\"\")","v":0.57669997215270996},"1947-12-08",null,null,null,null,{"$f":"IF(MAX(K134:M134)<=0,0,MAX(CELL(\"color\",K134)*K134,CELL(\"color\",L134)*L134,CELL(\"color\",M134)*M134))","v":0},null,-132.5,-132.5,null,{"$f":"IF(MAX(P134:R134)<=0,0,MAX(CELL(\"color\",P134)*P134,CELL(\"color\",Q134)*Q134,CELL(\"color\",R134)*R134))","v":0},{"$f":"IF(OR(N134=0,S134=0),0,N134+S134)","v":0},null,null,null,{"$f":"IF(MAX(U134:W134)<=0,0,MAX(CELL(\"color\",U134)*U134,CELL(\"color\",V134)*V134,CELL(\"color\",W134)*W134))","v":0},{"$f":"AM134*IF($AM$11=\"SQ\",N134,IF($AM$11=\"BP\",S134,IF($AM$11=\"DL\",X134,IF($AM$11=\"PP\",IF(OR(S134=0,X134=0),0,S134+X134),IF(OR(T134=0,X134=0),0,T134+X134)))))","v":0},{"$f":"IF(Y134=0,\"\",CONCATENATE(CD134,\"/\",IF(AN134=4,\"Wilks\",D134),\"/\",IF(AN134>1,\"\",F134),\"/\",$AM$11))","v":""},{"$f":"BB134","v":0},{"$f":"IF(AA134=0,\"\",CE134)","v":""},{"$f":"H134*IF($E$3=\"Kg\",Y134,Y134/2.2046)","v":0},{"$f":"IFERROR(VLOOKUP(AS134,[2]DATA!$A$2:$B$63,2,TRUE),0)*AC134","v":0},"BP",996918,"SC",{"$f":"IFERROR(VLOOKUP(A134,[2]Setup!$Q$5:$R$20,2,FALSE),\"\")","v":1},{"$f":"IF(VALUE(INDIRECT(CONCATENATE($AI$11,ROW())))=0,\"\",ABS(INDIRECT(CONCATENATE($AI$11,ROW())))+0.000001*G134)","v":""},0,0,0,{"$f":"IF(ISERROR(SEARCH($AM$11,AE134)),0,1)","v":0},{"$f":"VLOOKUP(D134,[2]Setup!$I$6:$K$93,3,FALSE)","v":2},{"$f":"ROUND(IFERROR(IF(AN134=1,Y134,IF(AN134=2,AC134,IF(AN134=3,AD134,AC134))),0),5)","v":0},null,{"$f":"IFERROR(MATCH(D134,[2]Setup!$I$6:$I$93,0),\"\")","v":66},{"$f":"IFERROR(CONCATENATE(LEFT(D134,FIND(\"-\",D134)),IF(AS134=\"\",\"O\",VLOOKUP(AS134,[2]DATA!$E$35:$F$53,2,TRUE))),\"\")","v":"M-M4a"},{"$f":"IF(YEAR($AR$7)-YEAR(I134)<40,DATEDIF(I134,$AR$7,\"Y\"),YEAR($AR$7)-YEAR(I134))","v":71},{"$f":"IF(AN134=1,MATCH(F134,[2]DATA!$AB$2:$AB$34,0),0)","v":0},null,{"$f":"IF(MAX(K134:M134)>0,MAX(K134:M134),0)","v":0},{"$f":"IF(MAX(P134:R134)>0,MAX(P134:R134),0)","v":0},{"$f":"IF(MAX(U134:W134)>0,MAX(U134:W134),0)","v":0},{"$f":"AM134*IF($AM$11=\"PL\",IF(MIN(AV134:AX134)=0,0,AV134+AW134+AX134),IF($AM$11=\"PP\",IF(MIN(AW134:AX134)=0,0,AW134+AX134),IF($AM$11=\"BP\",AW134,IF($AM$11=\"DL\",AX134,AV134))))","v":0},{"$f":"ROUND(AY134*H134,5)","v":0},{"$f":"ROUND(IFERROR(VLOOKUP(AS134,[2]DATA!$A$2:$B$63,2,FALSE),1)*AZ134,5)","v":0},{"$f":"IFERROR(IF(AN134=1,AY134,IF(AN134=2,AZ134,IF(AN134=3,BA134,AZ134))),0)","v":0},null,null,null,null,null,null,null,null,null,null,null,null,null,null,null,null,null,null,null,null,null,null,null,{"$f":"IFERROR(IF(FIND(\"DT\",AE134),\"Y\",\"\"),\"\")","v":""},null,{"$f":"CONCATENATE(IF(AN134=4,\"\",D134),IF(AN134=1,F134,\"\"))","v":"M-M4a"},{"$f":"IF($AM$11=\"SQ\",AJ134,IF($AM$11=\"BP\",AK134,AL134))","v":0},{"$f":"1+COUNTIFS(INDIRECT(\"AN12:AN500\"),AN134,INDIRECT(\"CB12:CB500\"),CB134,INDIRECT(\"AO12:AO500\"),\">\"&AO134)\n+COUNTIFS(INDIRECT(\"AO12:AO500\"),AO134,INDIRECT(\"AN12:AN500\"),1,INDIRECT(\"CB12:CB500\"),CB134,INDIRECT(\"E12:E500\"),\"<\"&E134)\n+COUNTIFS(INDIRECT(\"AO12:AO500\"),AO134,INDIRECT(\"AN12:AN500\"),1,INDIRECT(\"CB12:CB500\"),CB134,INDIRECT(\"E12:E500\"),E134,INDIRECT(\"CC12:CC500\"),\"<\"&CC134)","v":1},{"$f":"1+COUNTIFS(INDIRECT(\"AN12:AN500\"),AN134,INDIRECT(\"CB12:CB500\"),CB134,INDIRECT(\"BB12:BB500\"),\">\"&BB134)\n+COUNTIFS(INDIRECT(\"BB12:BB500\"),BB134,INDIRECT(\"AN12:AN500\"),1,INDIRECT(\"CB12:CB500\"),CB134,INDIRECT(\"E12:E500\"),\"<\"&E134)","v":1}]

{"sheet":"Setup","index":1,"n_rows":101,"n_cols":26,"rows_kept":101,"cut":false,"hidden":false,"merged":[[0,1,0,6],[2,16,3,16],[2,12,3,13],[2,1,3,6],[2,8,3,10],[0,8,0,9],[39,16,39,21],[38,1,39,3],[38,4,39,6],[37,21,37,26],[52,1,53,6],[50,1,50,6],[49,2,49,5],[45,3,45,4],[47,1,48,6],[56,1,56,6],[5,1,6,6],[8,1,9,6],[11,1,12,6],[14,1,15,3],[14,4,15,5],[14,6,15,6],[32,1,33,1],[32,2,33,3],[32,4,33,4],[36,1,37,6],[32,5,33,6],[54,1,55,6],[42,1,43,5],[42,6,43,6],[44,2,44,5]]}
[null,"video tutorial:  https://www.youtube.com/watch?v=o-PyI1n_EMI",null,null,null,null,null,null,"Current Update",null,"2018-01-10",null,null,null,null,null,null,null,null,{"$f":"MATCH(B9,T2:T6,0)","v":1},null,null,null,null,null,{"$f":"MAX(K:K)","v":43110}]
[null,null,null,null,null,null,null,null,null,null,null,null,null,null,null,null,null,null,null,"Powerlifting (3 lift meet)"]
[null,"Reset for New Contest",null,null,null,null,null,null,"IPF Divisions",null,null,null,"Teams",null,null,null,"Flt",null,null,"Bench Press Only"]
[null,null,null,null,null,null,null,null,null,null,null,null,null,null,null,null,null,null,null,"Squat Only"]
[null,null,null,null,null,null,null,null,"M or F-Div","Description","Pl Code",null,"Abrev","Team Name",null,{"$f":"CONCATENATE($Q$3,\" \",Q5)","v":"Flt 1A"},"1A",{"$f":"IF(ROW(P5)<$S$5,ROW(P5)+$S$5+1,ROW(P5)-$S$5)","v":15},{"$f":"IFERROR(MATCH(Lifting!A11,Setup!P5:P20,0)+4,0)","v":9},"Deadlift Only"]
[null,"2018 Battle on the  Border",null,null,null,null,null,null,"FR-Y1","Raw Women (8-9)",1,null,"NC","North Carolina",null,"Flt 1B","1B",{"$f":"IF(ROW(P6)<$S$5,ROW(P6)+$S$5+1,ROW(P6)-$S$5)","v":16},null,"Push Pull (Bench & Deadlift)"]
[null,null,null,null,null,null,null,null,"FR-Y2","Raw Women (10-11)",1,null,"SC","South Carolina",null,"Flt 1C","1C",17]
[null,null,null,null,null,null,null,null,"FR-Y3","Raw Women (12-13)",1,null,"GA","Georgia",null,"Flt 1D","1D",18]
[null,"Powerlifting (3 lift meet)",null,null,null,null,null,null,"FR-T1","Raw Women (14-15)",1,null,"MS","Missouri",null,"Flt 2A","2A",0,null,"Data!M1:M51"]
[null,null,null,null,null,null,null,null,"FR-T2","Raw Women (16-17)",1,null,"NH","New Hampshire",null,"Flt 2B","2B",1]
[null,null,null,null,null,null,null,null,"FR-T3","Raw Women (18-19)",1,null,"NJ","New Jersey",null,"Flt 2C","2C",2]
[null,"2018-03-24",null,null,null,null,null,null,"FR-JR","Raw Women (20-23)",1,null,"NV","Nevada",null,"Flt 2D","2D",3]
[null,null,null,null,null,null,null,null,"FR-O","Raw Women",1,null,"WA","Washington",null,"Flt 3A","3A",4]
[null,null,null,null,null,null,null,null,"FR-M1a","Raw Women (40-49)",2,null,"WI","Wiconsin",null,"Flt 3B","3B",5]
[null,"Platform Weights",null,null,"Platform Weight Set",null,"Kg",null,"FR-M1b","Raw Women (45-49)",2,null,"NY","New York",null,"Flt 3C","3C",6]
[null,null,null,null,null,null,null,null,"FR-M2a","Raw Women (50-59)",2,null,"FL","Florida",null,"Flt 3D","3D",7]
[null,null,{"$f":"G15","v":"Kg"},null,"Eleiko",{"$f":"G15","v":"Kg"},null,null,"FR-M2b","Raw Women (55-59)",2,null,"VA","Virginia",null,"Flt ",null,8]
[null,null,{"$f":"Lists!B36","v":105},{"$f":"2*(D21*C21+D22*C22+D23*C23+D24*C24+D25*C25+D26*C26+D27*C27+D28*C28+D29*C29+D30*C30+D31*C31)+D32","v":55},null,{"$f":"C18","v":105},{"$f":"2*(G21*F21+G22*F22+G23*F23+G24*F24+G25*F25+G26*F26+F27*G27+G28*F28+G29*F29+G30*F30+G31*F31)+G32","v":105},null,"FR-M3a","Raw Women (60-69)",2,null,"MN","Minnesota",null,"Flt ",null,9]
[null,"How","Pound","LOAD","How","Kilo","LOAD",null,"FR-M3b","Raw Women (65-69)",2,null,"TN","Tennessee",null,"Flt ",null,10]
[null,"Many?","Plates","on Bar","Many?","Plates","on Bar",null,"FR-M4a","Raw Women (70-79)",2,null,null,null,null,"Flt ",null,11]
[null,0,110,{"$f":"IF(OR(C18<D32,C17=\"Kg\"),0,MIN(INT((C18-D32)/(2*C21)),B21/2))","v":0},0,50,{"$f":"IF(OR(C18<G32,F17=\"Lb\"),0,MIN(INT((F18-G32)/(2*F21)),E21/2))","v":0},null,"FR-M4b","Raw Women (75-79)",2]
[null,0,100,{"$f":"IF(OR(C18<D32,C17=\"Kg\"),0,MIN(INT((C18-D32-2*D21*C21)/(2*C22)),B22/2))","v":0},0,45,{"$f":"IF(OR(C18<G32,F17=\"Lb\"),0,MIN(INT((F18-G32-2*G21*F21)/(2*F22)),E22/2))","v":0},null,"FR-M5a","Raw Women (80-84)",2]
[null,0,55,{"$f":"IF(OR(C18<D32,C17=\"Kg\"),0,MIN(INT((C18-D32-2*D21*C21-2*D22*C22)/(2*C23)),B23/2))","v":0},14,25,{"$f":"IF(OR(C18<G32,F17=\"Lb\"),0,MIN(INT((F18-G32-2*G21*F21-2*G22*F22)/(2*F23)),E23/2))","v":1},null,"FR-M5b","Raw Women (85-89)",2]
[null,16,45,{"$f":"IF(OR(C18<D32,C17=\"Kg\"),0,MIN(INT((C18-D32-2*D21*C21-2*D22*C22-2*D23*C23)/(2*C24)),B24/2))","v":0},2,20,{"$f":"IF(OR(C18<G32,F17=\"Lb\"),0,MIN(INT((F18-G32-2*G21*F21-2*G22*F22-2*G23*F23)/(2*F24)),E24/2))","v":0},null,"FR-M6","Raw Women (90+)-",2]
[null,2,35,{"$f":"IF(OR(C18<D32,C17=\"Kg\"),0,MIN(INT((C18-D32-2*D21*C21-2*D22*C22-2*D23*C23-2*D24*C24)/(2*C25)),B25/2))","v":0},2,15,{"$f":"IF(OR(C18<G32,F17=\"Lb\"),0,MIN(INT((F18-G32-2*G21*F21-2*G22*F22-2*G23*F23-2*G24*F24)/(2*F25)),E25/2))","v":1},null,"MR-Y1","Raw Men (8-9)",1]
[null,2,25,{"$f":"IF(OR(C18<D32,C17=\"Kg\"),0,MIN(INT((C18-D32-2*D21*C21-2*D22*C22-2*D23*C23-2*D24*C24-2*D25*C25)/(2*C26)),B26/2))","v":0},2,10,{"$f":"IF(OR(C18<G32,F17=\"Lb\"),0,MIN(INT((F18-G32-2*G21*F21-2*G22*F22-2*G23*F23-2*G24*F24-2*G25*F25)/(2*F26)),E26/2))","v":0},null,"MR-Y2","Raw Men (10-11)",1]
[null,4,10,{"$f":"IF(OR(C18<D32,C17=\"Kg\"),0,MIN(INT((C18-D32-2*D21*C21-2*D22*C22-2*D23*C23-2*D24*C24-2*D25*C25-2*D26*C26)/(2*C27)),B27/2))","v":0},2,5,{"$f":"IF(OR(C18<G32,F17=\"Lb\"),0,MIN(INT((F18-G32-2*G21*F21-2*G22*F22-2*G23*F23-2*G24*F24-2*G25*F25-2*F26*G26)/(2*F27)),E27/2))","v":0},null,"MR-Y3","Raw Men (12-13)",1]
[null,2,5,{"$f":"IF(OR(C18<D32,C17=\"Kg\"),0,MIN(INT((C18-D32-2*D21*C21-2*D22*C22-2*D23*C23-2*D24*C24-2*D25*C25-2*D26*C26-2*D27*C27)/(2*C28)),B28/2))","v":0},2,2.5,{"$f":"IF(OR(C18<G32,F17=\"Lb\"),0,MIN(INT((F18-G32-2*G21*F21-2*G22*F22-2*G23*F23-2*G24*F24-2*G25*F25-2*F26*G26-2*F27*G27)/(2*F28)),E28/2))","v":0},null,"MR-T1","Raw Men (14-15)",1]
[null,2,2.5,{"$f":"IF(OR(C18<D32,C17=\"Kg\"),0,MIN(INT((C18-D32-2*D21*C21-2*D22*C22-2*D23*C23-2*D24*C24-2*D25*C25-2*D26*C26-2*D27*C27-2*D28*C28)/(2*C29)),B29/2))","v":0},2,1.25,{"$f":"IF(OR(C18<G32,F17=\"Lb\"),0,MIN(INT((F18-G32-2*G21*F21-2*G22*F22-2*G23*F23-2*G24*F24-2*G25*F25-2*F26*G26-2*F27*G27-2*G28*F28)/(2*F29)),E29/2))","v":0},null,"MR-T2","Raw Men (16-17)",1]
[null,4,1.25,{"$f":"IF(OR(C18<D32,C17=\"Kg\"),0,MIN(INT((C18-D32-2*D21*C21-2*D22*C22-2*D23*C23-2*D24*C24-2*D25*C25-2*D26*C26-2*D27*C27-2*D28*C28-2*D29*C29)/(2*C30)),B30/2))","v":0},2,0.5,{"$f":"IF(OR(C18<G32,F17=\"Lb\"),0,MIN(INT((F18-G32-2*G21*F21-2*G22*F22-2*G23*F23-2*G24*F24-2*G25*F25-2*F26*G26-2*G27*F27-2*G28*F28-2*G29*F29)/(2*F30)),E30/2))","v":0},null,"MR-T3","Raw Men (18-19)",1]
[null,2,0.5,{"$f":"IF(OR(C18<D32,C17=\"Kg\"),0,MIN(INT((C18-D32-2*D21*C21-2*D22*C22-2*D23*C23-2*D24*C24-2*D25*C25-2*D26*C26-2*D27*C27-2*D28*C28-2*D29*C29-2*D30*C30)/(2*C31)),B31/2))","v":0},2,0.25,{"$f":"IF(OR(C18<G32,F17=\"Lb\"),0,MIN(INT((F18-G32-2*G21*F21-2*G22*F22-2*G23*F23-2*G24*F24-2*G25*F25-2*G26*F26-2*G27*F27-2*G28*F28-2*G29*F29-2*G30*F30)/(2*F31)),E31/2))","v":0},null,"MR-JR","Raw Men (20-23)",1]
[null,"bar & collars",null,55,"bar & collars",null,25,null,"MR-O","Raw Men",1]
[null,{"$f":"B21*C21+B22*C22+B23*C23+B24*C24+B25*C25+B26*C26+B27*C27+B28*C28+B29*C29+B30*C30+B31*C31+D32","v":956},"Lbs Available on the Platform",null,{"$f":"E21*F21+E22*F22+E23*F23+E24*F24+E25*F25+E26*F26+E27*F27+E28*F28+E29*F29+E30*F30+E31*F31+G32","v":484},"Kilos Available on the Platform",null,null,"MR-M1a","Raw Men (40-49)",2]
[null,null,null,null,null,null,null,null,"MR-M1b","Raw Men (45-49)",2]
[null,null,null,null,null,null,null,null,"MR-M2a","Raw Men (50-59)",2]
[null,null,null,null,null,null,null,null,"MR-M2b","Raw Men (55-59)",2]
[null,"Lifter Body Weight (select from dropdown lists)",null,null,null,null,null,null,"MR-M3a","Raw Men (60-69)",2]
[null,null,null,null,null,null,null,null,"MR-M3b","Raw Men (65-69)",2]
[null,"Kilograms",null,null,"IPF Wt Classes",null,null,null,"MR-M4a","Raw Men (70-79)",2]
[null,null,null,null,null,null,null,null,"MR-M4b","Raw Men (75-79)",2]
[null,null,null,null,null,null,null,null,"MR-M5a","Raw Men (80-89)",2]
[null,null,null,null,null,null,null,null,"MR-M5b","Raw Men (85-89)",2]
[null,"Update Records",null,null,null,null,"NC",null,"MR-M6","Raw Men (90+)-",2]
[null,null,null,null,null,null,null,null,"F-T1","Women (14-15)",1]
[null,null,"Latest Update - NC Records",null,null,null,null,null,"F-T2","Women (16-17)",1]
[null,null,null,"2018-03-22",null,null,null,null,"F-T3","Women (18-19)",1]
[null,null,null,null,null,null,null,null,"F-JR","Women (20-23)",1]
[null,"Create Web Scoreboard File",null,null,null,null,null,null,"F-O","Women",1]
[null,null,null,null,null,null,null,null,"F-M1a","Women (40-44)",2]
[null,null,"Score Board File Name",null,null,null,null,null,"F-M1b","Women (45-49)",2]
[null,null,null,null,null,null,null,null,"F-M2a","Women (50-54)",2]
[null,null,null,null,null,null,null,null,"F-M2b","Women (55-59)",2]
[null,"Generate Results File",null,null,null,null,null,null,"F-M3a","Women (60-64)",2]
[null,null,null,null,null,null,null,null,"F-M3b","Women (65-69)",2]
[null,"Use the results upload tool at the following link to send the contest results to the USAPowerlifitng database",null,null,null,null,null,null,"F-M4a","Women (70-74)",2]
[null,null,null,null,null,null,null,null,"F-M4b","Women (75-79)",2]
[null,"https://secure.jotformpro.com/nationalofficeusapl/MeetResults",null,null,null,null,null,null,"F-M5a","Women (80-84)",2]
[null,null,null,null,null,null,null,null,"F-M5b","Women (85-89)",2]
[null,null,null,null,null,null,null,null,"F-M6","Women (90+)-",2]
[null,null,null,null,null,null,null,null,"M-T1","Men (14-15)",1]
[null,null,null,null,null,null,null,null,"M-T2","Men (16-17)",1]
[null,null,null,null,null,null,null,null,"M-T3","Men (18-19)",1]
[null,null,null,null,null,null,null,null,"M-JR","Men (20-23)",1]
[null,null,null,null,null,null,null,null,"M-O","Men",1]
[null,null,null,null,null,null,null,null,"M-M1a","Men (40-44)",2]
[null,null,null,null,null,null,null,null,"M-M1b","Men (45-49)",2]
[null,null,null,null,null,null,null,null,"M-M2a","Men (50-54)",2]
[null,null,null,null,null,null,null,null,"M-M2b","Men (55-59)",2]
[null,null,null,null,null,null,null,null,"M-M3a","Men (60-64)",2]
[null,null,null,null,null,null,null,null,"M-M3b","Men (65-69)",2]
[null,null,null,null,null,null,null,null,"M-M4a","Men (70-74)",2]
[null,null,null,null,null,null,null,null,"M-M4b","Men (75-79)",2]
[null,null,null,null,null,null,null,null,"M-M5a","Men (80-84)",2]
[null,null,null,null,null,null,null,null,"M-M5b","Men (85-89)",2]
[null,null,null,null,null,null,null,null,"M-M6","Men (90+)-",2]
[]
[]
[]
[]
[]
[]
[]
[]
[]
[]
[]
[]
[]
[]
[]
[]
[]
[]
[]
[null,null,null,null,"Eleiko","Ivanko","Titex"]
[null,null,null,10,{"$f":"IF(E17=E95,G26,0)","v":0},{"$f":"IF(F95=E17,G26,0)","v":0},{"$f":"IF(G95=E17,G26,0)","v":0}]
[null,null,null,5,{"$f":"IF(E95=E17,G27,0)","v":0},{"$f":"IF(F95=E17,G27,0)","v":0},{"$f":"IF(G95=E17,G27,0)","v":0}]
[null,null,null,2.5,{"$f":"IF(E95=E17,G28,0)","v":0},{"$f":"IF(F95=E17,G28,0)","v":0},{"$f":"IF(G95=E17,G28,0)","v":0}]
[]
[]
[null,null,"2015_Nextlifter_R102 Scoreboard.xlsx"]

{"sheet":"Lists","index":2,"n_rows":67,"n_cols":23,"rows_kept":67,"cut":false,"hidden":true,"merged":[]}
["Attempts",null,"col",null,{"$f":"MATCH(Setup!B9,Lists!F1:J1,0)","v":1},"Powerlifting (3 lift meet)","Squat Only","Bench Press Only","Deadlift Only","Push Pull (Bench & Deadlift)",null,"column #","column Ltr",null,"Barload for Next Lifter"]
["Squat 1","SQ-1",11,null,{"$f":"OFFSET(E2,0,$E$1)","v":"Squat 1"},"Squat 1","Squat 1","Bench Press 1","Deadlift 1","Bench Press 1",null,1,"A",null,null,{"$f":"Setup!G15","v":"Kg"},null,null,null,null,null,null,"Y1"]
["Squat 2","SQ-2",12,null,"Squat 2","Squat 2","Squat 2","Bench Press 2","Deadlift 2","Bench Press 2",null,2,"B",null,null,{"$f":"ABS(Lists!B41)","v":157.5},{"$f":"2*(Q6*P6+Q7*P7+Q8*P8+Q9*P9+Q10*P10+Q11*P11+Q12*P12+Q13*P13+Q14*P14+Q15*P15+Q16*P16)+Q35","v":55},null,null,null,null,null,"Y2"]
["Squat 3","SQ-3",13,null,"Squat 3","Squat 3","Squat 3","Bench Press 3","Deadlift 3","Bench Press 3",null,3,"C",null,"How","Pound","LOAD",null,null,null,null,null,"Y3"]
["Bench Press 1","BP-1",16,null,"Bench Press 1","Bench Press 1","------------","------------","------------","Deadlift 1",null,4,"D",null,"Many?","Plates","on Bar",null,null,null,null,null,"T1"]
["Bench Press 2","BP-2",17,null,"Bench Press 2","Bench Press 2","New Lifter","New Lifter","New Lifter","Deadlift 2",null,5,"E",null,{"$f":"Setup!B21","v":0},110,{"$f":"IF(OR(P3<Q35,P2=\"Kg\"),0,MIN(INT((P3-Q35)/(2*P6)),O6/2))","v":0},{"$f":"IF(Q6=0,\"\",IF(Q6>1,CONCATENATE(Q6,\"/\",P6,\" \"),CONCATENATE(P6,\" \")))","v":""},null,null,null,null,"T2"]
["Bench Press 3","BP-3",18,null,"Bench Press 3","Bench Press 3",null,null,null,"Deadlift 3",null,6,"F",null,{"$f":"Setup!B22","v":0},100,{"$f":"IF(OR(P3<Q35,P2=\"Kg\"),0,MIN(INT((P3-Q35-2*Q6*P6)/(2*P7)),O7/2))","v":0},{"$f":"IF(Q7=0,\"\",IF(Q7>1,CONCATENATE(Q7,\"/\",P7,\" \"),CONCATENATE(P7,\" \")))","v":""},null,null,null,null,"T3"]
["Deadlift 1","DL-1",21,null,"Deadlift 1","Deadlift 1",null,null,null,"------------",null,7,"G",null,{"$f":"Setup!B23","v":0},55,{"$f":"IF(OR(P3<Q35,P2=\"Kg\"),0,MIN(INT((P3-Q35-2*Q6*P6-2*Q7*P7)/(2*P8)),O8/2))","v":0},{"$f":"IF(Q8=0,\"\",IF(Q8>1,CONCATENATE(Q8,\"/\",P8,\" \"),CONCATENATE(P8,\" \")))","v":""},null,null,null,null,"JR"]
["Deadlift 2","DL-2",22,null,"Deadlift 2","Deadlift 2",null,null,null,"New Lifter",null,8,"H",null,{"$f":"Setup!B24","v":16},45,{"$f":"IF(OR(P3<Q35,P2=\"Kg\"),0,MIN(INT((P3-Q35-2*Q6*P6-2*Q7*P7-2*Q8*P8)/(2*P9)),O9/2))","v":0},{"$f":"IF(Q9=0,\"\",IF(Q9>1,CONCATENATE(Q9,\"/\",P9,\" \"),CONCATENATE(P9,\" \")))","v":""},null,null,null,null,"O"]
["Deadlift 3","DL-3",23,null,"Deadlift 3","Deadlift 3",null,null,null,null,null,9,"I",null,{"$f":"Setup!B25","v":2},35,{"$f":"IF(OR(P3<Q35,P2=\"Kg\"),0,MIN(INT((P3-Q35-2*Q6*P6-2*Q7*P7-2*Q8*P8-2*Q9*P9)/(2*P10)),O10/2))","v":0},{"$f":"IF(Q10=0,\"\",IF(Q10>1,CONCATENATE(P10,\"/\",Q10,\" \"),CONCATENATE(P10,\" \")))","v":""},null,null,null,null,"M1a"]
["------------",null,null,null,"------------","------------",null,null,null,null,null,10,"J",null,{"$f":"Setup!B26","v":2},25,{"$f":"IF(OR(P3<Q35,P2=\"Kg\"),0,MIN(INT((P3-Q35-2*Q6*P6-2*Q7*P7-2*Q8*P8-2*Q9*P9-2*Q10*P10)/(2*P11)),O11/2))","v":0},"",null,null,null,null,"M1b"]
["New Lifter",null,null,null,{"$f":"OFFSET(E12,0,$E$1)","v":"New Lifter"},"New Lifter",null,null,null,null,null,11,"K",null,{"$f":"Setup!B27","v":4},10,{"$f":"IF(OR(P3<Q35,P2=\"Kg\"),0,MIN(INT((P3-Q35-2*Q6*P6-2*Q7*P7-2*Q8*P8-2*Q9*P9-2*Q10*P10-2*Q11*P11)/(2*P12)),O12/2))","v":0},"",null,null,null,null,"M2a"]
["Deadlift 2",null,null,null,null,null,null,null,null,null,null,12,"L",null,{"$f":"Setup!B28","v":2},5,{"$f":"IF(OR(P3<Q35,P2=\"Kg\"),0,MIN(INT((P3-Q35-2*Q6*P6-2*Q7*P7-2*Q8*P8-2*Q9*P9-2*Q10*P10-2*Q11*P11-2*Q12*P12)/(2*P13)),O13/2))","v":0},"",null,null,null,null,"M2b"]
["Weigh-in Macro values",null,null,null,null,null,null,null,null,null,null,13,"M",null,{"$f":"Setup!B29","v":2},2.5,{"$f":"IF(OR(P3<Q35,P2=\"Kg\"),0,MIN(INT((P3-Q35-2*Q6*P6-2*Q7*P7-2*Q8*P8-2*Q9*P9-2*Q10*P10-2*Q11*P11-2*Q12*P12-2*Q13*P13)/(2*P14)),O14/2))","v":0},"",null,null,null,null,"M3a"]
["Endrow (RowSort, EndSort for SQ1 BP1 DL1)",{"$f":"COUNTA(INDIRECT(\"Lifting!B13:B500\"))+12","v":134},null,null,null,null,null,null,null,null,null,14,"N",null,{"$f":"Setup!B30","v":4},1.25,{"$f":"IF(OR(P3<Q35,P2=\"Kg\"),0,MIN(INT((P3-Q35-2*Q6*P6-2*Q7*P7-2*Q8*P8-2*Q9*P9-2*Q10*P10-2*Q11*P11-2*Q12*P12-2*Q13*P13-2*Q14*P14)/(2*P15)),O15/2))","v":0},"",null,null,null,null,"M3b"]
["CopyRows",{"$f":"COUNTA(INDIRECT(\"'Weigh-In'!F1:F500\"))+1","v":2},null,null,null,null,null,null,null,null,null,15,"O",null,{"$f":"Setup!B31","v":2},0.5,{"$f":"IF(OR(P3<Q35,P2=\"Kg\"),0,MIN(INT((P3-Q35-2*Q6*P6-2*Q7*P7-2*Q8*P8-2*Q9*P9-2*Q10*P10-2*Q11*P11-2*Q12*P12-2*Q13*P13-2*Q14*P14-2*Q15*P15)/(2*P16)),O16/2))","v":0},"",null,null,null,null,"M4a"]
[null,null,null,null,null,null,null,null,null,null,null,16,"P",null,null,{"$f":"Setup!G15","v":"Kg"},null,null,null,null,null,null,"M4b"]
["Lifting Sheet Macro Values",null,null,null,null,null,null,null,null,null,null,17,"Q",null,null,{"$f":"P3","v":157.5},{"$f":"2*(Q21*P21+Q22*P22+Q23*P23+Q24*P24+Q25*P25+Q26*P26+Q27*P27+Q28*P28+Q29*P29+Q30*P30+Q31*P31)+Q36","v":157.5},null,null,null,null,null,"M5a"]
["Lifting Sheet Sort","on",null,null,null,null,null,null,null,null,null,18,"R",null,"How","Kilo","LOAD",null,null,null,null,null,"M5b"]
["Lifting sheet row",13,null,null,null,null,null,null,null,null,null,19,"S",null,"Many?","Plates","on Bar",null,null,null,null,null,"M6"]
["Lifting sheet column",1,null,null,null,null,null,null,null,null,null,20,"T",null,{"$f":"Setup!E21","v":0},50,{"$f":"IF(OR(P3<Q36,P17=\"Lb\"),0,MIN(INT((P18-Q36)/(2*P21)),O21/2))","v":0},{"$f":"IF(Q21=0,\"\",IF(Q21>1,CONCATENATE(Q21,\"/\",P21,\" \"),CONCATENATE(P21,\" \")))","v":""},null,null,null,null,"R-T1"]
["Lifting Sheet Cell",{"$f":"ADDRESS(B20,B21,,1,\"Lifting\")","v":"Lifting!$A$13"},null,null,null,null,null,null,null,null,null,21,"U",null,{"$f":"Setup!E22","v":0},45,{"$f":"IF(OR(P3<Q36,P17=\"Lb\"),0,MIN(INT((P18-Q36-2*Q21*P21)/(2*P22)),O22/2))","v":0},{"$f":"IF(Q22=0,\"\",IF(Q22>1,CONCATENATE(Q22,\"/\",P22,\" \"),CONCATENATE(P22,\" \")))","v":""},null,null,null,null,"R-T2"]
["Attempt",{"$f":"VLOOKUP(Lifting!A3,Lists!A2:C10,2,FALSE)","v":"DL-3"},null,null,null,null,null,null,null,null,null,22,"V",null,{"$f":"Setup!E23","v":14},25,{"$f":"IF(OR(P3<Q36,P17=\"Lb\"),0,MIN(INT((P18-Q36-2*Q21*P21-2*Q22*P22)/(2*P23)),O23/2))","v":2},{"$f":"IF(Q23=0,\"\",IF(Q23>1,CONCATENATE(Q23,\"/\",P23,\" \"),CONCATENATE(P23,\" \")))","v":"2/25 "},null,null,null,null,"R-T3"]
["Attempt column",{"$f":"MATCH(B23,INDIRECT(\"Lifting!A11:AZ11\"),0)","v":23},null,null,null,null,null,null,null,null,null,23,"W",null,{"$f":"Setup!E24","v":2},20,{"$f":"IF(OR(P3<Q36,P17=\"Lb\"),0,MIN(INT((P18-Q36-2*Q21*P21-2*Q22*P22-2*Q23*P23)/(2*P24)),O24/2))","v":0},{"$f":"IF(Q24=0,\"\",IF(Q24>1,CONCATENATE(P24,\"/\",Q24,\" \"),CONCATENATE(P24,\" \")))","v":""},null,null,null,null,"R-Y1"]
["Active lifter row",{"$f":"MATCH(Lifting!A1,INDIRECT(\"Lifting!B1:B500\"),0)","v":48},null,null,null,null,null,null,null,null,null,24,"X",null,{"$f":"Setup!E25","v":2},15,{"$f":"IF(OR(P3<Q36,P17=\"Lb\"),0,MIN(INT((P18-Q36-2*Q21*P21-2*Q22*P22-2*Q23*P23-2*Q24*P24)/(2*P25)),O25/2))","v":1},"15 ",null,null,null,null,"R-Y2"]
["Last Row",{"$f":"COUNTA(INDIRECT(\"Lifting!B12:B500\"))+12","v":134},null,null,null,null,null,null,null,null,null,25,"Y",null,{"$f":"Setup!E26","v":2},10,{"$f":"IF(OR(P3<Q36,P17=\"Lb\"),0,MIN(INT((P18-Q36-2*Q21*P21-2*Q22*P22-2*Q23*P23-2*Q24*P24-2*Q25*P25)/(2*P26)),O26/2))","v":0},"",null,null,null,null,"R-Y3"]
["Event Flight","2A",{"$f":"VLOOKUP(Lifting!A11,Setup!P5:Q20,2,FALSE)","v":"2A"},null,null,null,null,null,null,null,null,26,"Z",null,{"$f":"Setup!E27","v":2},5,{"$f":"IF(OR(P3<Q36,P17=\"Lb\"),0,MIN(INT((P18-Q36-2*Q21*P21-2*Q22*P22-2*Q23*P23-2*Q24*P24-2*Q25*P25-2*Q26*P26)/(2*P27)),O27/2))","v":0},"",null,null,null,null,"R-JR"]
["event flight 1st row (RowSort, StartSort)",{"$f":"MATCH(B27,INDIRECT(\"Lifting!A1:A500\"),0)","v":13},null,null,null,null,null,null,null,null,null,null,null,null,{"$f":"Setup!E28","v":2},2.5,{"$f":"IF(OR(P3<Q36,P17=\"Lb\"),0,MIN(INT((P18-Q36-2*Q21*P21-2*Q22*P22-2*Q23*P23-2*Q24*P24-2*Q25*P25-2*Q26*P26-2*Q27*P27)/(2*P28)),O28/2))","v":0},"",null,null,null,null,"R-O"]
["event flight last row (RowSort, EndSort)",{"$f":"COUNTIF(INDIRECT(\"Lifting!A1:A500\"),B27)+B28-1","v":26},null,null,null,null,null,null,null,null,null,null,null,null,{"$f":"Setup!E29","v":2},1.25,{"$f":"IF(OR(P3<Q36,P17=\"Lb\"),0,MIN(INT((P18-Q36-2*Q21*P21-2*Q22*P22-2*Q23*P23-2*Q24*P24-2*Q25*P25-2*Q26*P26-2*Q27*P27-2*Q28*P28)/(2*P29)),O29/2))","v":1},"1.25 ",null,null,null,null,"R-M1A"]
["Sort Column #",23,null,null,null,null,null,null,null,null,null,null,null,null,{"$f":"Setup!E30","v":2},0.5,{"$f":"IF(OR(P3<Q36,P17=\"Lb\"),0,MIN(INT((P18-Q36-2*Q21*P21-2*Q22*P22-2*Q23*P23-2*Q24*P24-2*Q25*P25-2*Q26*P26-2*Q27*P27-2*Q28*P28-2*Q29*P29)/(2*P30)),O30/2))","v":0},"",null,null,null,null,"R-M1B"]
["Sort Column Ltr",{"$f":"VLOOKUP(B30,L2:M27,2,FALSE)","v":"W"},null,null,null,null,null,null,null,null,null,null,null,null,{"$f":"Setup!E31","v":2},0.25,{"$f":"IF(OR(P3<Q36,P17=\"Lb\"),0,MIN(INT((P18-Q36-2*Q21*P21-2*Q22*P22-2*Q23*P23-2*Q24*P24-2*Q25*P25-2*Q26*P26-2*Q27*P27-2*Q28*P28-2*Q29*P29-2*Q30*P30)/(2*P31)),O31/2))","v":0},"",null,null,null,null,"R-M2A"]
["Active Flt Last Row",{"$f":"COUNTIF(INDIRECT(\"Lifting!A1:A500\"),B27)+12","v":26},null,null,null,null,null,null,null,null,null,null,null,null,null,null,null,null,null,null,null,null,"R-M2B"]
["Max index SQ",{"$f":"MAX(INDIRECT(\"Lifting!AJ1:AJ500\"))","v":105},null,null,null,null,null,null,null,null,null,null,null,null,null,null,null,null,null,null,null,null,"R-M3A"]
["Max index BP",{"$f":"MAX(INDIRECT(\"Lifting!AK1:AK500\"))","v":98},null,null,null,null,null,null,null,null,null,null,null,null,null,null,null,null,null,null,null,null,"R-M3B"]
["Max index DL",{"$f":"MAX(INDIRECT(\"Lifting!AL1:AL500\"))","v":113},null,"Total?",null,null,null,null,null,null,null,null,null,null,"bar & collars - lbs",null,{"$f":"Setup!D32","v":55},null,null,null,null,null,"R-M4A"]
["Wt on Bar",{"$f":"ABS(INDIRECT(CONCATENATE(\"Lifting!\",VLOOKUP(B24,L2:M27,2,FALSE),B25)))","v":105},null,{"$f":"INDIRECT(ADDRESS(B25,25,1,1,\"Lifting\"))","v":200},null,null,null,null,null,null,null,null,null,null,"bar & collars - kg",null,{"$f":"Setup!G32","v":25},null,null,null,null,null,"R-M4B"]
["Rack Height",{"$f":"IF(LEFT(B23,1)=\"D\",\"\",CONCATENATE(\"Rack \",INDIRECT(CONCATENATE(\"Lifting!\",IF(LEFT(B23,1)=\"S\",\"J\",IF(LEFT(B23,1)=\"B\",\"O\",\"Z\")),B25))))","v":""},null,null,null,null,null,null,null,null,null,null,null,null,null,null,null,null,null,null,null,null,"R-M5A"]
["Placing Code Max",{"$f":"MAX(INDIRECT(\"Setup!K6:K500\"))","v":2},null,null,null,null,null,null,null,null,null,null,null,"on deck barload",{"$f":"IF(AND(RIGHT(B23,1)=\"3\",B25=B32),\"\",IF(B36=B41,\"On Deck Barload - No Change\",CONCATENATE(\"On Deck Barload \",R6,R7,R8,R9,R10,R11,R12,R13,R14,R15,R16,R21,R22,R23,R24,R25,R26,R27,R28,R29,R30,R31)))","v":"On Deck Barload 2/25 15 1.25 "},null,null,null,null,null,null,null,"R-M5B"]
["Lifter Wt Cls",{"$f":"Lifting!D2","v":84}]
["Lifter Div",{"$f":"INDIRECT(CONCATENATE(\"Lifting!D\",B25))","v":"FR-M4a"},null,null,"Lifter Lot#","Repeats"]
["Next Barload",{"$f":"INDIRECT(ADDRESS(IF(B25+F41>B29,13,B25+F41),IF(B25+F41>B29,B24+1,B24),1,1,\"Lifting\"))","v":157.5},null,{"$f":"AND(B32=B25,RIGHT(B23,1)=3)","v":false},{"$f":"INDIRECT(ADDRESS(Lists!B25,7,1,1,\"Lifting\"))","v":410},{"$f":"COUNTIF(INDIRECT(\"Lifting!B13:B100\"),Lifting!A1)","v":1}]
["QuickPrint PasteCol",{"$f":"COUNTA(INDIRECT(\"QuickPrint!A2:A500\"))+1","v":148}]
["QuickPrint RowClear",{"$f":"COUNTA(INDIRECT(\"QuickPrint!B1:B500\"))+6","v":154}]
["Entered in Event",{"$f":"COUNTIF(INDIRECT(\"Lifting!AM1:AM500\"),1)","v":117}]
["PasteRow on QuickPrint",{"$f":"C45+D45","v":151},{"$f":"COUNTA(INDIRECT(\"QuickPrint!B1:B200\"))+1","v":149},{"$f":"COUNTIF(QuickPrint!B:B,\"Name\")","v":2}]
["Next Flt Sort Value",{"$f":"INDIRECT(CONCATENATE(\"Lifting!\",IF(B23=\"SQ-3\",\"AK\",\"AL\"),B32+1))","v":63},"sorts next flt if = 0"]
["Next Flt sort Col",{"$f":"IF(B23=\"SQ-3\",\"P\",\"U\")","v":"U"}]
["Next flt Start",{"$f":"IFERROR(MATCH(1,INDIRECT(\"Lifting!AH1:AH500\"),0),0)","v":23}]
["Next flt end",{"$f":"COUNTIF(INDIRECT(\"Lifting!$A$1:$A$100\"),INDIRECT(ADDRESS(B32+1,1,1,1,\"Lifting\")))+B32","v":36},null,null,"Wt Class-Event-Div","BP only","DL only",{"$f":"IF(IFERROR(SEARCH(\"PL\",INDIRECT(CONCATENATE(\"Lifting!AE\",B25))),0)>0,\"PL\",\"\")","v":"PL"},"div","lookup Event"]
["Concatenated Record Data",null,null,null,{"$f":"CONCATENATE(Lists!B39,\"-\",J50)","v":"84-DL"},{"$f":"IFERROR(IF(AND(SEARCH(\"BP\",INDIRECT(CONCATENATE(\"Lifting!AE\",B25))),LEFT(B23,2)=\"BP\"),\"BPO\",\"\"),\"\")","v":""},{"$f":"IFERROR(IF(AND(SEARCH(\"DL\",INDIRECT(CONCATENATE(\"Lifting!AE\",B25))),LEFT(B23,2)=\"DL\"),\"DLO\",\"\"),\"\")","v":""},{"$f":"LEFT(B23,2)","v":"DL"},{"$f":"CONCATENATE(IF(MID(B40,2,1)=\"R\",\"R-\",\"\"),VLOOKUP(INDIRECT(CONCATENATE(\"Lifting!AS\",B25)),DATA!E35:F52,2,TRUE))","v":"R-M4a"},{"$f":"IF(IFERROR(SEARCH(\"PL\",INDIRECT(CONCATENATE(\"Lifting!AE\",B25))),0)+IFERROR(SEARCH(\"PP\",INDIRECT(CONCATENATE(\"Lifting!AE\",B25))),0)>0,H50,CONCATENATE(F50,G50))","v":"DL"}]
["Number of lifter in Event",{"$f":"SUM(INDIRECT(\"Lifting!AM1:AM500\"))","v":117},null,null,{"$f":"IFERROR(OFFSET(INDIRECT(B56),MATCH(E50,DATA!AF1:AF150,0)-1,I51-1),\"\")","v":0},{"$f":"IFERROR(OFFSET(INDIRECT(B56),MATCH(E50,DATA!AF1:AF150,0)-1,I53-1),\"\")","v":175},null,null,{"$f":"IFERROR(MATCH(I50,INDIRECT(\"'KG Records'!1:1\"),0),\"\")","v":35}]
[null,null,null,null,{"$f":"CONCATENATE(Lists!B39,\"-TL\")","v":"84-TL"},null,null,null,{"$f":"CONCATENATE(IF(LEFT(I50,1)=\"R\",\"R-\",\"\"),\"O\")","v":"R-O"}]
[null,null,null,null,{"$f":"IFERROR(IF(H49=\"PL\",OFFSET(INDIRECT(B56),MATCH(E52,DATA!AF1:AF150,0)-1,I51-1),\"\"),\"\")","v":0},{"$f":"IFERROR(IF(H49=\"PL\",OFFSET(INDIRECT(B56),MATCH(E52,DATA!AF1:AF150,0)-1,I53-1),\"\"),\"\")","v":402.5},null,null,{"$f":"IFERROR(MATCH(I52,INDIRECT(\"'KG Records'!1:1\"),0),\"\")","v":28}]
[]
["Record Lookups LB or Kilos",{"$f":"Setup!G15","v":"Kg"}]
[null,{"$f":"IF(B55=\"Kg\",\"'KG Records'!$A$1\",\"'LB Records'!$A$1\")","v":"'KG Records'!$A$1"}]
[null,{"$f":"IF(B55=\"Kg\",\"'KG Records'!$A1:$AO1\",\"'LB Records'!$A1:$AO1\")","v":"'KG Records'!$A1:$AO1"}]
[null,{"$f":"IF(B55=\"Kg\",\"'KG Records'!$A1:$A110\",\"'LB Records'!$A1:$A110\")","v":"'KG Records'!$A1:$A110"}]
[]
[]
["Record Lookups"]
["body weights in",{"$f":"Setup!B39","v":"Kilograms"},null,null,null,null,null,null,{"$f":"VLOOKUP(INDIRECT(CONCATENATE(\"Lifting!AS\",B25)),DATA!E35:F52,2,TRUE)","v":"M4a"}]
["Weight classes ",{"$f":"Setup!E39","v":"IPF Wt Classes"}]
["bodyweight",{"$f":"INDIRECT(CONCATENATE(\"Lifting!E\",B25))","v":74},null,{"$f":"VLOOKUP(B64,INDIRECT(E64),IF(LEFT(B40,1)=\"M\",2,3),TRUE)","v":84},{"$f":"IF(AND(B62=\"Kilograms\",B63=\"High School Wt Classes\"),\"DATA!X2:Z22\",IF(AND(B62=\"Pounds\",B63=\"High School Wt Classes\"),\"DATA!R2:T22\",IF(AND(B62=\"Kilograms\",B63=\"IPF Wt Classes\"),\"DATA!X2:Z22\",\"DATA!R2:T22\")))","v":"DATA!X2:Z22"}]
[]
[]
["pasterow on Results sheet",{"$f":"COUNTA(ContestResults!#REF!)+1","v":2}]

{"sheet":"DATA","index":3,"n_rows":151,"n_cols":43,"rows_kept":151,"cut":false,"hidden":true,"merged":[[0,36,0,38],[0,40,0,42]]}
["Age","Coeff",null,null,"wt","IPF Men-kg","IPF women-kg",null,"wt class list","rank",null,"US State:","USAPL",null,"WT","HS Men-lb","HS Women-lb","WT","IPF Men-lb","IPF women-lb","wt","HS Men-kg","HS women-kg","wt","IPF Men-kg","IPF women-kg",null,"wt class rank kg","wt class rank lb","wt class rank kg",null,null,null,null,null,null,"USAPL Dvisions",null,null,null,"IPF Divisions"]
[14,1.23,"Foster",null,10,30,30,null,43,1,null,"Alabama","AL",null,88.186204599999996,114,97,22.045999999999999,66,66,10,52,44,10,30,30,null,30,66,30,null,"30-SQ","30-SQ","66-SQ",null,null,"FR-Y1","Raw Women (8-9)",1,null,"FR-SJr","Raw Women (14-18)",1]
[15,1.18,null,null,30.001000000000001,35,35,null,44,2,null,"Alaska","AK",null,97.004604599999993,114,105,66.140204600000004,77,77,44.000999999999998,52,48,30.001000000000001,35,35,null,35,77,35,null,"30-BP","30-BP","66-BP",null,null,"FR-Y2","Raw Women (10-11)",1,null,"FR-Jr","Raw Women (19-23)",1]
[16,1.1299999999999999,null,null,35.000999999999998,40,40,null,47,3,null,"Arizona","AZ",null,105.8230046,114,114,77.1632046,88,88,48.000999999999998,52,52,35.000999999999998,40,40,null,40,88,40,null,"30-DL","30-DL","66-DL",null,null,"FR-Y3","Raw Women (12-13)",1,null,"FR-O","Raw Women",1]
[17,1.08,null,null,40.000999999999998,44,43,null,48,4,null,"Arkansas","AR",null,114.6414046,123,123,88.186204599999996,97,94,52.000999999999998,56,56,40.000999999999998,44,43,null,43,94,43,null,"30-TL","30-TL","66-TL",null,null,"FR-T1","Raw Women (14-15)",1,null,"FR-M1","Raw Women (40-49)",1]
[18,1.06,null,null,43.000999999999998,44,47,null,52,5,null,"California","CA",null,123.4598046,132,132,94.800004599999994,97,103,56.000999999999998,60,60,43.000999999999998,44,47,null,44,97,44,null,"35-SQ","35-SQ","77-SQ",null,null,"FR-T2","Raw Women (16-17)",1,null,"FR-M2","Raw Women (50-59)",1]
[19,1.04,null,null,44.000999999999998,48,47,null,53,6,null,"Colorado","CO",null,132.27820460000001,148,148,97.004604599999993,105,103,60.000999999999998,67.5,67.5,44.000999999999998,48,47,null,47,103,47,null,"35-BP","35-BP","77-BP",null,null,"FR-T3","Raw Women (18-19)",1,null,"FR-M3","Raw Women (60-69)",1]
[20,1.03,null,null,47.000999999999998,48,52,null,56,7,null,"Connecticut","CT",null,148.81270460000002,165,165,103.61840460000001,105,114,67.501000000000005,75,75,47.000999999999998,48,52,null,48,105,48,null,"35-DL","35-DL","77-DL",null,null,"FR-JR","Raw Women (20-23)",1,null,"FR-M4","Raw Women (70+)-",1]
[21,1.02,null,null,48.000999999999998,53,52,null,57,8,null,"Delaware","DE",null,165.34720460000003,181,181,105.8230046,116,114,75.001000000000005,82.5,82.5,48.000999999999998,53,52,null,52,114,52,null,"35-TL","35-TL","77-TL",null,null,"FR-O","Raw Women",1,null,"MR-SJr","Raw Men (14-18)",1]
[22,1.01,null,null,52.000999999999998,53,57,null,59,9,null,"Florida","FL",null,181.88170460000001,198,198,114.6414046,116,125,82.501000000000005,90,90,52.000999999999998,53,57,null,53,116,53,null,"40-SQ","40-SQ","88-SQ",null,null,"FR-M1a","Raw Women (40-44)",1,null,"MR-Jr","Raw Men (19-23)",1]
[23,1,null,null,53.000999999999998,59,57,null,60,10,null,"Georgia","GA",null,198.41620460000001,220,"198+",116.8460046,130,125,90.001000000000005,100,"90+",53.000999999999998,59,57,null,56,123,56,null,"40-BP","40-BP","88-BP",null,null,"FR-M1b","Raw Women (45-49)",1,null,"MR-O","Raw Men",1]
[30,1,null,null,57.000999999999998,59,63,null,63,11,null,"Hawaii","HI",null,220.46220460000004,242,"198+",125.6644046,130,138,100.001,110,"90+",57.000999999999998,59,63,null,57,125,57,null,"40-DL","40-DL","88-DL",null,null,"FR-M2a","Raw Women (50-54)",1,null,"MR-M1","Raw Men (40-49)",1]
[40,1,"McCulloch",null,59.000999999999998,66,63,null,66,12,null,"Idaho","ID",null,242.50820460000003,275,"198+",130.07360460000001,145,138,110.001,125,"90+",59.000999999999998,66,63,null,59,130,59,null,"40-TL","40-TL","88-TL",null,null,"FR-M2b","Raw Women (55-59)",1,null,"MR-M2","Raw Men (50-59)",1]
[41,1.01,null,null,63.000999999999998,66,72,null,67.5,13,null,"Illinois","IL",null,275.57720460000002,"275+","198+",138.89200460000001,145,158,125.001,"125+","90+",63.000999999999998,66,72,null,60,132,60,null,"44-SQ","44-SQ","97-SQ",null,null,"FR-M3a","Raw Women (60-64)",1,null,"MR-M3","Raw Men (60-69)",1]
[42,1.02,null,null,66.001000000000005,74,72,null,72,14,null,"Indiana","IN",null,null,null,null,145.5058046,163,158,null,null,null,66.001000000000005,74,72,null,63,138,63,null,"44-BP","44-BP","97-BP",null,null,"FR-M3b","Raw Women (65-69)",1,null,"MR-M4","Raw Men (70+)-",1]
[43,1.0309999999999999,null,null,72.001000000000005,74,84,null,74,15,null,"Iowa","IA",null,null,null,null,158.73340460000003,163,185,null,null,null,72.001000000000005,74,84,null,66,145,66,null,"44-DL","44-DL","97-DL",null,null,"FR-M4a","Raw Women (70-74)",1,null,"F-SJr"," Women (14 -18)",1]
[44,1.0429999999999999,null,null,74.001000000000005,83,84,null,75,16,null,"Kansas","KS",null,null,null,null,163.14260460000003,183,185,null,null,null,74.001000000000005,83,84,null,67.5,148,67.5,null,"44-TL","44-TL","97-TL",null,null,"FR-M4b","Raw Women (75-79)",1,null,"F-Jr"," Women (19 -23)",1]
[45,1.0549999999999999,null,null,83.01,93,84,null,82.5,17,null,"Kentucky","KY",null,null,null,null,183.00384600000001,183,185,null,null,null,83.01,93,84,null,72,158,72,null,"48-SQ","48-SQ","105-SQ",null,null,"FR-M5a","Raw Women (80-84)",1,null,"F-O"," Women",1]
[46,1.0680000000000001,null,null,84.001000000000005,93,"84+",null,83,18,null,"Louisiana","LA",null,null,null,null,185.18860460000002,205,"185+",null,null,null,84.001000000000005,93,"84+",null,74,163,74,null,"48-BP","48-BP","105-BP",null,null,"FR-M5b","Raw Women (85-89)",1,null,"F-M1"," Women (40 -49)",1]
[47,1.0820000000000001,null,null,93.001000000000005,105,"84+",null,84,19,null,"Maine","ME",null,null,null,null,205.03000460000001,231,"185+",null,null,null,93.001000000000005,105,"84+",null,75,165,75,null,"48-DL","48-DL","105-DL",null,null,"FR-M6","Raw Women (90+)-",1,null,"F-M2"," Women (50 -59)",1]
[48,1.097,null,null,105.001,120,"84+",null,"84+",20,null,"Maryland","MD",null,null,null,null,231.48520460000003,264,"185+",null,null,null,105.001,120,"84+",null,82.5,181,82.5,null,"48-TL","48-TL","105-TL",null,null,"MR-Y1","Raw Men (8-9)",1,null,"F-M3"," Women (60 -69)",1]
[49,1.113,null,null,120.001,"120+","84+",null,90,21,null,"Massachusetts","MA",null,null,null,null,264.55420460000005,"264+","185+",null,null,null,120.001,"120+","84+",null,83,183,83,null,"53-SQ","53-SQ","116-SQ",null,null,"MR-Y2","Raw Men (10-11)",1,null,"F-M4"," Women (70+) -",1]
[50,1.1299999999999999,null,null,null,null,null,null,"90+",22,null,"Michigan","MI",null,null,null,null,null,null,null,null,null,null,null,null,null,null,84,185,84,null,"53-BP","53-BP","116-BP",null,null,"MR-Y3","Raw Men (12-13)",1,null,"M-SJr"," Men (14 -18)",1]
[51,1.147,null,null,null,null,null,null,93,23,null,"Minnesota","MN",null,null,null,null,null,null,null,null,null,null,null,null,null,null,"84+","185+","84+",null,"53-DL","53-DL","116-DL",null,null,"MR-T1","Raw Men (14-15)",1,null,"M-Jr"," Men (19 -23)",1]
[52,1.165,null,null,null,null,null,null,100,24,null,"Mississippi","MS",null,null,null,null,null,null,null,null,null,null,null,null,null,null,90,198,90,null,"53-TL","53-TL","116-TL",null,null,"MR-T2","Raw Men (16-17)",1,null,"M-O"," Men",1]
[53,1.1839999999999999,null,null,null,null,null,null,105,25,null,"Missouri","MO",null,null,null,null,null,null,null,null,null,null,null,null,null,null,"90+","198+","90+",null,"59-SQ","59-SQ","130-SQ",null,null,"MR-T3","Raw Men (18-19)",1,null,"M-M1"," Men (40 -49)",1]
[54,1.204,null,null,null,null,null,null,110,26,null,"Montana","MT",null,null,null,null,null,null,null,null,null,null,null,null,null,null,93,205,93,null,"59-BP","59-BP","130-BP",null,null,"MR-JR","Raw Men (20-23)",1,null,"M-M2"," Men (50 -59)",1]
[55,1.2250000000000001,null,null,null,null,null,null,120,27,null,"Nebraska","NE",null,null,null,null,null,null,null,null,null,null,null,null,null,null,100,220,100,null,"59-DL","59-DL","130-DL",null,null,"MR-O","Raw Men",1,null,"M-M3"," Men (60 -69)",1]
[56,1.246,null,null,null,null,null,null,"120+",28,null,"Nevada","NV",null,null,null,null,null,null,null,null,null,null,null,null,null,null,105,231,105,null,"59-TL","59-TL","130-TL",null,null,"MR-M1a","Raw Men (40-44)",1,null,"M-M4"," Men (70+) -",1]
[57,1.258,null,null,null,null,null,null,125,29,null,"New Hampshire","NH",null,null,null,null,null,null,null,null,null,null,null,null,null,null,110,242,110,null,"66-SQ","66-SQ","145-SQ",null,null,"MR-M1b","Raw Men (45-49)",1]
[58,1.292,null,null,null,null,null,null,"125+",30,null,"New Jersey","NJ",null,null,null,null,null,null,null,null,null,null,null,null,null,null,120,264,120,null,"66-BP","66-BP","145-BP",null,null,"MR-M2a","Raw Men (50-54)",1]
[59,1.3149999999999999,null,null,null,null,null,null,94,31,null,"New Mexico","NM",null,null,null,null,null,null,null,null,null,null,null,null,null,null,125,275,125,null,"66-DL","66-DL","145-DL",null,null,"MR-M2b","Raw Men (55-59)",1]
[60,1.34,null,null,null,null,null,null,97,32,null,"New York","NY",null,null,null,null,null,null,null,null,null,null,null,null,null,null,"120+","264+","120+",null,"66-TL","66-TL","145-TL",null,null,"MR-M3a","Raw Men (60-64)",1]
[61,1.3660000000000001,null,null,"Age","USAPL Age Div",null,null,103,33,null,"North Carolina","NC",null,null,null,null,null,null,null,null,null,null,null,null,null,null,"125+","275+","125+",null,"74-SQ","74-SQ","163-SQ",null,null,"MR-M3b","Raw Men (65-69)",1]
[62,1.393,null,null,8,"Y1",null,null,105,34,null,"North Dakota","ND",null,null,null,null,null,null,null,null,null,null,null,null,null,null,null,null,null,null,"74-BP","74-BP","163-BP",null,null,"MR-M4a","Raw Men (70-74)",1]
[63,1.421,null,null,10,"Y2",null,null,114,35,null,"Ohio","OH",null,null,null,null,null,null,null,null,null,null,null,null,null,null,null,null,null,null,"74-DL","74-DL","163-DL",null,null,"MR-M4b","Raw Men (75-79)",1]
[64,1.45,null,null,12,"Y3",null,null,116,36,null,"Oklahoma","OK",null,null,null,null,null,null,null,null,null,null,null,null,null,null,null,null,null,null,"74-TL","74-TL","163-TL",null,null,"MR-M5a","Raw Men (80-84)",1]
[65,1.48,null,null,14,"T1",null,null,123,37,null,"Oregon","OR",null,null,null,null,null,null,null,null,null,null,null,null,null,null,null,null,null,null,"83-SQ","83-SQ","183-SQ",null,null,"MR-M5b","Raw Men (85-89)",1]
[66,1.5109999999999999,null,null,16,"T2",null,null,125,38,null,"Pennsylvania","PA",null,null,null,null,null,null,null,null,null,null,null,null,null,null,null,null,null,null,"83-BP","83-BP","183-BP",null,null,"MR-M6","Raw Men (90+)-",1]
[67,1.5429999999999999,null,null,18,"T3",null,null,130,39,null,"Rhode Island","RI",null,null,null,null,null,null,null,null,null,null,null,null,null,null,null,null,null,null,"83-DL","83-DL","183-DL",null,null,"F-T1","Women (14-15)",1]
[68,1.5780000000000001,null,null,20,"Jr",null,null,132,40,null,"South Carolina","SC",null,null,null,null,null,null,null,null,null,null,null,null,null,null,null,null,null,null,"83-TL","83-TL","183-TL",null,null,"F-T2","Women (16-17)",1]
[69,1.61,null,null,24,"O",null,null,138,41,null,"South Dakota","SD",null,null,null,null,null,null,null,null,null,null,null,null,null,null,null,null,null,null,"93-SQ","93-SQ","205-SQ",null,null,"F-T3","Women (18-19)",1]
[70,1.645,null,null,40,"M1a",null,null,145,42,null,"Tennessee","TN",null,null,null,null,null,null,null,null,null,null,null,null,null,null,null,null,null,null,"93-BP","93-BP","205-BP",null,null,"F-JR","Women (20-23)",1]
[71,1.681,null,null,45,"M1b",null,null,148,43,null,"Texas","TX",null,null,null,null,null,null,null,null,null,null,null,null,null,null,null,null,null,null,"93-DL","93-DL","205-DL",null,null,"F-O","Women",1]
[72,1.718,null,null,50,"M2a",null,null,158,44,null,"Utah","UT",null,null,null,null,null,null,null,null,null,null,null,null,null,null,null,null,null,null,"93-TL","93-TL","205-TL",null,null,"F-M1a","Women (40-44)",1]
[73,1.756,null,null,55,"M2b",null,null,163,45,null,"Vermont","VT",null,null,null,null,null,null,null,null,null,null,null,null,null,null,null,null,null,null,"105-SQ","105-SQ","231-SQ",null,null,"F-M1b","Women (45-49)",1]
[74,1.7949999999999999,null,null,60,"M3a",null,null,165,46,null,"Virginia","VA",null,null,null,null,null,null,null,null,null,null,null,null,null,null,null,null,null,null,"105-BP","105-BP","231-BP",null,null,"F-M2a","Women (50-54)",1]
[75,1.835,null,null,65,"M3b",null,null,181,47,null,"Washington","WA",null,null,null,null,null,null,null,null,null,null,null,null,null,null,null,null,null,null,"105-DL","105-DL","231-DL",null,null,"F-M2b","Women (55-59)",1]
[76,1.8759999999999999,null,null,70,"M4a",null,null,182,48,null,"West Virginia","WV",null,null,null,null,null,null,null,null,null,null,null,null,null,null,null,null,null,null,"105-TL","105-TL","231-TL",null,null,"F-M3a","Women (60-64)",1]
[77,1.9179999999999999,null,null,75,"M4b",null,null,185,49,null,"Wisconsin","WI",null,null,null,null,null,null,null,null,null,null,null,null,null,null,null,null,null,null,"120-SQ","120-SQ","264-SQ",null,null,"F-M3b","Women (65-69)",1]
[78,1.9610000000000001,null,null,80,"M5a",null,null,"185+",50,null,"Wyoming","WY",null,null,null,null,null,null,null,null,null,null,null,null,null,null,null,null,null,null,"120-BP","120-BP","264-BP",null,null,"F-M4a","Women (70-74)",1]
[79,2.0049999999999999,null,null,85,"M5b","",null,198,51,null,"American Samoa","AS",null,null,null,null,null,null,null,null,null,null,null,null,null,null,null,null,null,null,"120-DL","120-DL","264-DL",null,null,"F-M4b","Women (75-79)",1]
[80,2.0499999999999998,null,null,90,"M6","",null,"198+",52,null,"District of Columbia","DC",null,null,null,null,null,null,null,null,null,null,null,null,null,null,null,null,null,null,"120-TL","120-TL","264-TL",null,null,"F-M5a","Women (80-84)",1]
[81,2.0960000000000001,null,null,null,null,"",null,205,53,null,"Federated States of Micronesia","FM",null,null,null,null,null,null,null,null,null,null,null,null,null,null,null,null,null,null,"120+-SQ","120+-SQ","264+-SQ",null,null,"F-M5b","Women (85-89)",1]
[82,2.1429999999999998,null,null,null,null,"",null,220,54,null,"Guam","GU",null,null,null,null,null,null,null,null,null,null,null,null,null,null,null,null,null,null,"120+-BP","120+-BP","264+-BP",null,null,"F-M6","Women (90+)-",1]
[83,2.19,null,null,null,null,"",null,231,55,null,"Marshall Islands","MH",null,null,null,null,null,null,null,null,null,null,null,null,null,null,null,null,null,null,"120+-DL","120+-DL","264+-DL",null,null,"M-T1","Men (14-15)",1]
[84,2.238,null,null,null,null,"",null,242,56,null,"Northern Mariana Islands","MP",null,null,null,null,null,null,null,null,null,null,null,null,null,null,null,null,null,null,"120+-TL","120+-TL","264+-TL",null,null,"M-T2","Men (16-17)",1]
[85,2.2869999999999999,null,null,null,null,"",null,264,57,null,"Palau","PW",null,null,null,null,null,null,null,null,null,null,null,null,null,null,null,null,null,null,"30-BPO","30-BPO","66-BPO",null,null,"M-T3","Men (18-19)",1]
[86,2.3370000000000002,null,null,null,null,"",null,"264+",58,null,"Puerto Rico","PR",null,null,null,null,null,null,null,null,null,null,null,null,null,null,null,null,null,null,"35-BPO","35-BPO","77-BPO",null,null,"M-JR","Men (20-23)",1]
[87,2.3879999999999999,null,null,null,null,"",null,275,59,null,"Virgin Islands","VI",null,null,null,null,null,null,null,null,null,null,null,null,null,null,null,null,null,null,"40-BPO","40-BPO","88-BPO",null,null,"M-O","Men",1]
[88,2.44,null,null,null,null,"",null,"275+",60,null,null,"OOS",null,null,null,null,null,null,null,null,null,null,null,null,null,null,null,null,null,null,"44-BPO","44-BPO","97-BPO",null,null,"M-M1a","Men (40-44)",1]
[89,2.4940000000000002,null,null,null,null,null,null,null,null,null,null,null,null,null,null,null,null,null,null,null,null,null,null,null,null,null,null,null,null,null,"48-BPO","48-BPO","105-BPO",null,null,"M-M1b","Men (45-49)",1]
[90,2.5489999999999999,null,null,null,null,null,null,null,null,null,null,null,null,null,null,null,null,null,null,null,null,null,null,null,null,null,null,null,null,null,"53-BPO","53-BPO","116-BPO",null,null,"M-M2a","Men (50-54)",1]
[null,null,null,null,null,null,null,null,null,null,null,null,null,null,null,null,null,null,null,null,null,null,null,null,null,null,null,null,null,null,null,"59-BPO","59-BPO","130-BPO",null,null,"M-M2b","Men (55-59)",1]
[null,null,null,null,null,null,null,null,null,null,null,null,null,null,null,null,null,null,null,null,null,null,null,null,null,null,null,null,null,null,null,"66-BPO","66-BPO","145-BPO",null,null,"M-M3a","Men (60-64)",1]
[null,null,null,null,null,null,null,null,null,null,null,null,null,null,null,null,null,null,null,null,null,null,null,null,null,null,null,null,null,null,null,"74-BPO","74-BPO","163-BPO",null,null,"M-M3b","Men (65-69)",1]
[null,null,null,null,null,null,null,null,null,null,null,null,null,null,null,null,null,null,null,null,null,null,null,null,null,null,null,null,null,null,null,"83-BPO","83-BPO","183-BPO",null,null,"M-M4a","Men (70-74)",1]
[null,null,null,null,null,null,null,null,null,null,null,null,null,null,null,null,null,null,null,null,null,null,null,null,null,null,null,null,null,null,null,"93-BPO","93-BPO","205-BPO",null,null,"M-M4b","Men (75-79)",1]
[null,null,null,null,null,null,null,null,null,null,null,null,null,null,null,null,null,null,null,null,null,null,null,null,null,null,null,null,null,null,null,"105-BPO","105-BPO","231-BPO",null,null,"M-M5a","Men (80-84)",1]
[null,null,null,null,null,null,null,null,null,null,null,null,null,null,null,null,null,null,null,null,null,null,null,null,null,null,null,null,null,null,null,"120-BPO","120-BPO","264-BPO",null,null,"M-M5b","Men (85-89)",1]
[null,null,null,null,null,null,null,null,null,null,null,null,null,null,null,null,null,null,null,null,null,null,null,null,null,null,null,null,null,null,null,"120+-BPO","120+-BPO","264+-BPO",null,null,"M-M6","Men (90+)-",1]
[null,null,null,null,null,null,null,null,null,null,null,null,null,null,null,null,null,null,null,null,null,null,null,null,null,null,null,null,null,null,null,"30-DLO","30-DLO","66-DLO"]
[null,null,null,null,null,null,null,null,null,null,null,null,null,null,null,null,null,null,null,null,null,null,null,null,null,null,null,null,null,null,null,"35-DLO","35-DLO","77-DLO"]
[null,null,null,null,null,null,null,null,null,null,null,null,null,null,null,null,null,null,null,null,null,null,null,null,null,null,null,null,null,null,null,"40-DLO","40-DLO","88-DLO"]
[null,null,null,null,null,null,null,null,null,null,null,null,null,null,null,null,null,null,null,null,null,null,null,null,null,null,null,null,null,null,null,"44-DLO","44-DLO","97-DLO"]
[null,null,null,null,null,null,null,null,null,null,null,null,null,null,null,null,null,null,null,null,null,null,null,null,null,null,null,null,null,null,null,"48-DLO","48-DLO","105-DLO"]
[null,null,null,null,null,null,null,null,null,null,null,null,null,null,null,null,null,null,null,null,null,null,null,null,null,null,null,null,null,null,null,"53-DLO","53-DLO","116-DLO"]
[null,null,null,null,null,null,null,null,null,null,null,null,null,null,null,null,null,null,null,null,null,null,null,null,null,null,null,null,null,null,null,"59-DLO","59-DLO","130-DLO"]
[null,null,null,null,null,null,null,null,null,null,null,null,null,null,null,null,null,null,null,null,null,null,null,null,null,null,null,null,null,null,null,"66-DLO","66-DLO","145-DLO"]
[null,null,null,null,null,null,null,null,null,null,null,null,null,null,null,null,null,null,null,null,null,null,null,null,null,null,null,null,null,null,null,"74-DLO","74-DLO","163-DLO"]
[null,null,null,null,null,null,null,null,null,null,null,null,null,null,null,null,null,null,null,null,null,null,null,null,null,null,null,null,null,null,null,"83-DLO","83-DLO","183-DLO"]
[null,null,null,null,null,null,null,null,null,null,null,null,null,null,null,null,null,null,null,null,null,null,null,null,null,null,null,null,null,null,null,"93-DLO","93-DLO","205-DLO"]
[null,null,null,null,null,null,null,null,null,null,null,null,null,null,null,null,null,null,null,null,null,null,null,null,null,null,null,null,null,null,null,"105-DLO","105-DLO","231-DLO"]
[null,null,null,null,null,null,null,null,null,null,null,null,null,null,null,null,null,null,null,null,null,null,null,null,null,null,null,null,null,null,null,"120-DLO","120-DLO","264-DLO"]
[null,null,null,null,null,null,null,null,null,null,null,null,null,null,null,null,null,null,null,null,null,null,null,null,null,null,null,null,null,null,null,"120+-DLO","120+-DLO","264+-DLO"]
[null,null,null,null,null,null,null,null,null,null,null,null,null,null,null,null,null,null,null,null,null,null,null,null,null,null,null,null,null,null,null,"30-SQ","30-SQ","66-SQ"]
[null,null,null,null,null,null,null,null,null,null,null,null,null,null,null,null,null,null,null,null,null,null,null,null,null,null,null,null,null,null,null,"30-BP","30-BP","66-BP"]
[null,null,null,null,null,null,null,null,null,null,null,null,null,null,null,null,null,null,null,null,null,null,null,null,null,null,null,null,null,null,null,"30-DL","30-DL","66-DL"]
[null,null,null,null,null,null,null,null,null,null,null,null,null,null,null,null,null,null,null,null,null,null,null,null,null,null,null,null,null,null,null,"30-TL","30-TL","66-TL"]
[null,null,null,null,null,null,null,null,null,null,null,null,null,null,null,null,null,null,null,null,null,null,null,null,null,null,null,null,null,null,null,"35-SQ","35-SQ","77-SQ"]
[null,null,null,null,null,null,null,null,null,null,null,null,null,null,null,null,null,null,null,null,null,null,null,null,null,null,null,null,null,null,null,"35-BP","35-BP","77-BP"]
[null,null,null,null,null,null,null,null,null,null,null,null,null,null,null,null,null,null,null,null,null,null,null,null,null,null,null,null,null,null,null,"35-DL","35-DL","77-DL"]
[null,null,null,null,null,null,null,null,null,null,null,null,null,null,null,null,null,null,null,null,null,null,null,null,null,null,null,null,null,null,null,"35-TL","35-TL","77-TL"]
[null,null,null,null,null,null,null,null,null,null,null,null,null,null,null,null,null,null,null,null,null,null,null,null,null,null,null,null,null,null,null,"40-SQ","40-SQ","88-SQ"]
[null,null,null,null,null,null,null,null,null,null,null,null,null,null,null,null,null,null,null,null,null,null,null,null,null,null,null,null,null,null,null,"40-BP","40-BP","88-BP"]
[null,null,null,null,null,null,null,null,null,null,null,null,null,null,null,null,null,null,null,null,null,null,null,null,null,null,null,null,null,null,null,"40-DL","40-DL","88-DL"]
[null,null,null,null,null,null,null,null,null,null,null,null,null,null,null,null,null,null,null,null,null,null,null,null,null,null,null,null,null,null,null,"40-TL","40-TL","88-TL"]
[null,null,null,null,null,null,null,null,null,null,null,null,null,null,null,null,null,null,null,null,null,null,null,null,null,null,null,null,null,null,null,"43-SQ","43-SQ","94-SQ"]
[null,null,null,null,null,null,null,null,null,null,null,null,null,null,null,null,null,null,null,null,null,null,null,null,null,null,null,null,null,null,null,"43-BP","43-BP","94-BP"]
[null,null,null,null,null,null,null,null,null,null,null,null,null,null,null,null,null,null,null,null,null,null,null,null,null,null,null,null,null,null,null,"43-DL","43-DL","94-DL"]
[null,null,null,null,null,null,null,null,null,null,null,null,null,null,null,null,null,null,null,null,null,null,null,null,null,null,null,null,null,null,null,"43-TL","43-TL","94-TL"]
[null,null,null,null,null,null,null,null,null,null,null,null,null,null,null,null,null,null,null,null,null,null,null,null,null,null,null,null,null,null,null,"47-SQ","47-SQ","103-SQ"]
[null,null,null,null,null,null,null,null,null,null,null,null,null,null,null,null,null,null,null,null,null,null,null,null,null,null,null,null,null,null,null,"47-BP","47-BP","103-BP"]
[null,null,null,null,null,null,null,null,null,null,null,null,null,null,null,null,null,null,null,null,null,null,null,null,null,null,null,null,null,null,null,"47-DL","47-DL","103-DL"]
[null,null,null,null,null,null,null,null,null,null,null,null,null,null,null,null,null,null,null,null,null,null,null,null,null,null,null,null,null,null,null,"47-TL","47-TL","103-TL"]
[null,null,null,null,null,null,null,null,null,null,null,null,null,null,null,null,null,null,null,null,null,null,null,null,null,null,null,null,null,null,null,"52-SQ","52-SQ","114-SQ"]
[null,null,null,null,null,null,null,null,null,null,null,null,null,null,null,null,null,null,null,null,null,null,null,null,null,null,null,null,null,null,null,"52-BP","52-BP","114-BP"]
[null,null,null,null,null,null,null,null,null,null,null,null,null,null,null,null,null,null,null,null,null,null,null,null,null,null,null,null,null,null,null,"52-DL","52-DL","114-DL"]
[null,null,null,null,null,null,null,null,null,null,null,null,null,null,null,null,null,null,null,null,null,null,null,null,null,null,null,null,null,null,null,"52-TL","52-TL","114-TL"]
[null,null,null,null,null,null,null,null,null,null,null,null,null,null,null,null,null,null,null,null,null,null,null,null,null,null,null,null,null,null,null,"57-SQ","57-SQ","125-SQ"]
[null,null,null,null,null,null,null,null,null,null,null,null,null,null,null,null,null,null,null,null,null,null,null,null,null,null,null,null,null,null,null,"57-BP","57-BP","125-BP"]
[null,null,null,null,null,null,null,null,null,null,null,null,null,null,null,null,null,null,null,null,null,null,null,null,null,null,null,null,null,null,null,"57-DL","57-DL","125-DL"]
[null,null,null,null,null,null,null,null,null,null,null,null,null,null,null,null,null,null,null,null,null,null,null,null,null,null,null,null,null,null,null,"57-TL","57-TL","125-TL"]
[null,null,null,null,null,null,null,null,null,null,null,null,null,null,null,null,null,null,null,null,null,null,null,null,null,null,null,null,null,null,null,"63-SQ","63-SQ","138-SQ"]
[null,null,null,null,null,null,null,null,null,null,null,null,null,null,null,null,null,null,null,null,null,null,null,null,null,null,null,null,null,null,null,"63-BP","63-BP","138-BP"]
[null,null,null,null,null,null,null,null,null,null,null,null,null,null,null,null,null,null,null,null,null,null,null,null,null,null,null,null,null,null,null,"63-DL","63-DL","138-DL"]
[null,null,null,null,null,null,null,null,null,null,null,null,null,null,null,null,null,null,null,null,null,null,null,null,null,null,null,null,null,null,null,"63-TL","63-TL","138-TL"]
[null,null,null,null,null,null,null,null,null,null,null,null,null,null,null,null,null,null,null,null,null,null,null,null,null,null,null,null,null,null,null,"72-SQ","72-SQ","158-SQ"]
[null,null,null,null,null,null,null,null,null,null,null,null,null,null,null,null,null,null,null,null,null,null,null,null,null,null,null,null,null,null,null,"72-BP","72-BP","158-BP"]
[null,null,null,null,null,null,null,null,null,null,null,null,null,null,null,null,null,null,null,null,null,null,null,null,null,null,null,null,null,null,null,"72-DL","72-DL","158-DL"]
[null,null,null,null,null,null,null,null,null,null,null,null,null,null,null,null,null,null,null,null,null,null,null,null,null,null,null,null,null,null,null,"72-TL","72-TL","158-TL"]
[null,null,null,null,null,null,null,null,null,null,null,null,null,null,null,null,null,null,null,null,null,null,null,null,null,null,null,null,null,null,null,"84-SQ","84-SQ","185-SQ"]
[null,null,null,null,null,null,null,null,null,null,null,null,null,null,null,null,null,null,null,null,null,null,null,null,null,null,null,null,null,null,null,"84-BP","84-BP","185-BP"]
[null,null,null,null,null,null,null,null,null,null,null,null,null,null,null,null,null,null,null,null,null,null,null,null,null,null,null,null,null,null,null,"84-DL","84-DL","185-DL"]
[null,null,null,null,null,null,null,null,null,null,null,null,null,null,null,null,null,null,null,null,null,null,null,null,null,null,null,null,null,null,null,"84-TL","84-TL","185-TL"]
[null,null,null,null,null,null,null,null,null,null,null,null,null,null,null,null,null,null,null,null,null,null,null,null,null,null,null,null,null,null,null,"84+-SQ","84+-SQ","185+-SQ"]
[null,null,null,null,null,null,null,null,null,null,null,null,null,null,null,null,null,null,null,null,null,null,null,null,null,null,null,null,null,null,null,"84+-BP","84+-BP","185+-BP"]
[null,null,null,null,null,null,null,null,null,null,null,null,null,null,null,null,null,null,null,null,null,null,null,null,null,null,null,null,null,null,null,"84+-DL","84+-DL","185+-DL"]
[null,null,null,null,null,null,null,null,null,null,null,null,null,null,null,null,null,null,null,null,null,null,null,null,null,null,null,null,null,null,null,"84+-TL","84+-TL","185+-TL"]
[null,null,null,null,null,null,null,null,null,null,null,null,null,null,null,null,null,null,null,null,null,null,null,null,null,null,null,null,null,null,null,"30-BPO","30-BPO","66-BPO"]
[null,null,null,null,null,null,null,null,null,null,null,null,null,null,null,null,null,null,null,null,null,null,null,null,null,null,null,null,null,null,null,"35-BPO","35-BPO","77-BPO"]
[null,null,null,null,null,null,null,null,null,null,null,null,null,null,null,null,null,null,null,null,null,null,null,null,null,null,null,null,null,null,null,"40-BPO","40-BPO","88-BPO"]
[null,null,null,null,null,null,null,null,null,null,null,null,null,null,null,null,null,null,null,null,null,null,null,null,null,null,null,null,null,null,null,"43-BPO","43-BPO","94-BPO"]
[null,null,null,null,null,null,null,null,null,null,null,null,null,null,null,null,null,null,null,null,null,null,null,null,null,null,null,null,null,null,null,"47-BPO","47-BPO","103-BPO"]
[null,null,null,null,null,null,null,null,null,null,null,null,null,null,null,null,null,null,null,null,null,null,null,null,null,null,null,null,null,null,null,"52-BPO","52-BPO","114-BPO"]
[null,null,null,null,null,null,null,null,null,null,null,null,null,null,null,null,null,null,null,null,null,null,null,null,null,null,null,null,null,null,null,"57-BPO","57-BPO","125-BPO"]
[null,null,null,null,null,null,null,null,null,null,null,null,null,null,null,null,null,null,null,null,null,null,null,null,null,null,null,null,null,null,null,"63-BPO","63-BPO","138-BPO"]
[null,null,null,null,null,null,null,null,null,null,null,null,null,null,null,null,null,null,null,null,null,null,null,null,null,null,null,null,null,null,null,"72-BPO","72-BPO","158-BPO"]
[null,null,null,null,null,null,null,null,null,null,null,null,null,null,null,null,null,null,null,null,null,null,null,null,null,null,null,null,null,null,null,"84-BPO","84-BPO","185-BPO"]
[null,null,null,null,null,null,null,null,null,null,null,null,null,null,null,null,null,null,null,null,null,null,null,null,null,null,null,null,null,null,null,"84+-BPO","84+-BPO","185+-BPO"]
[null,null,null,null,null,null,null,null,null,null,null,null,null,null,null,null,null,null,null,null,null,null,null,null,null,null,null,null,null,null,null,"30-DLO","30-DLO","66-DLO"]
[null,null,null,null,null,null,null,null,null,null,null,null,null,null,null,null,null,null,null,null,null,null,null,null,null,null,null,null,null,null,null,"35-DLO","35-DLO","77-DLO"]
[null,null,null,null,null,null,null,null,null,null,null,null,null,null,null,null,null,null,null,null,null,null,null,null,null,null,null,null,null,null,null,"40-DLO","40-DLO","88-DLO"]
[null,null,null,null,null,null,null,null,null,null,null,null,null,null,null,null,null,null,null,null,null,null,null,null,null,null,null,null,null,null,null,"43-DLO","43-DLO","94-DLO"]
[null,null,null,null,null,null,null,null,null,null,null,null,null,null,null,null,null,null,null,null,null,null,null,null,null,null,null,null,null,null,null,"47-DLO","47-DLO","103-DLO"]
[null,null,null,null,null,null,null,null,null,null,null,null,null,null,null,null,null,null,null,null,null,null,null,null,null,null,null,null,null,null,null,"52-DLO","52-DLO","114-DLO"]
[null,null,null,null,null,null,null,null,null,null,null,null,null,null,null,null,null,null,null,null,null,null,null,null,null,null,null,null,null,null,null,"57-DLO","57-DLO","125-DLO"]
[null,null,null,null,null,null,null,null,null,null,null,null,null,null,null,null,null,null,null,null,null,null,null,null,null,null,null,null,null,null,null,"63-DLO","63-DLO","138-DLO"]
[null,null,null,null,null,null,null,null,null,null,null,null,null,null,null,null,null,null,null,null,null,null,null,null,null,null,null,null,null,null,null,"72-DLO","72-DLO","158-DLO"]
[null,null,null,null,null,null,null,null,null,null,null,null,null,null,null,null,null,null,null,null,null,null,null,null,null,null,null,null,null,null,null,"84-DLO","84-DLO","185-DLO"]
[null,null,null,null,null,null,null,null,null,null,null,null,null,null,null,null,null,null,null,null,null,null,null,null,null,null,null,null,null,null,null,"84+-DLO","84+-DLO","185+-DLO"]

{"sheet":"Weigh-In","index":4,"n_rows":3,"n_cols":65,"rows_kept":3,"cut":false,"hidden":false,"merged":[]}
[null,null,null,null,null,null,null,null,null,null,null,null,null,null,null,null,null,null,null,null,null,null,null,null,null,126]
["Flt Grp","Name","MemberID","Team","M/F-Div",{"$f":"IF(Setup!B39=\"Kilograms\",\"Bwt - kg\",\"Bwt - Lb\")","v":"Bwt - kg"},"lot#","DOB\nMM/DD/YY","SQ rack",{"$f":"CONCATENATE(\"SQ-1 (\",T2,\")\")","v":"SQ-1 (Kg)"},"BP rack",{"$f":"CONCATENATE(\"BP-1 (\",T2,\")\")","v":"BP-1 (Kg)"},{"$f":"CONCATENATE(\"DL-1 (\",T2,\")\")","v":"DL-1 (Kg)"},"Events Entered","State","Print Card","Nominated Wt Class",null,null,{"$f":"Setup!G15","v":"Kg"},{"$f":"COUNTA(F:F)+1","v":2},{"$f":"CONCATENATE(\"Setup!I6:I\",COUNTA(Setup!I:I)+3)","v":"Setup!I6:I76"},{"$f":"CONCATENATE(\"Setup!M6:M\",COUNTA(Setup!M:M)+3)","v":"Setup!M6:M19"},{"$f":"CONCATENATE(\"Setup!Q5:Q\",COUNTA(Setup!Q:Q)+4)","v":"Setup!Q5:Q17"},{"$f":"CONCATENATE(\"DATA!$M$2:$M$61\")","v":"DATA!$M$2:$M$61"},2,{"$f":"COUNTA(F:F)+1","v":2},null,null,null,null,null,null,null,null,null,null,null,null,"flight sort data","att sort data",null,null,null,null,null,null,null,null,null,"SQ-1","SQ-2","SQ-3","Best SQ Att","BP rack","BP-1","BP-2","BP-3","Best BP Att","Sub Total","DL-1","DL-2","DL-3","Best DL Att"]
[null,null,null,null,null,null,null,null,null,null,null,null,null,null,null,null,null,null,null,null,null,null,null,null,null,null,null,null,null,null,null,null,null,null,null,null,null,null,null,null,null,null,null,null,null,null,null,null,null,null,null,null,null,null,null,null,null,null,null,null,null,null,null,null,3]

{"sheet":"QuickPrint","index":5,"n_rows":149,"n_cols":33,"rows_kept":149,"cut":false,"hidden":false,"merged":[]}
[null,"2018-03-24","2018 Battle on the  Border"]
["Flt 2A","Name","Team","Div","Bwt - kg","IPF Wt Cls","lot#","Wilks Coeff","DOB","SQ rack","SQ-1","SQ-2","SQ-3","Best SQ","BP rack","BP-1","BP-2","BP-3","Best BP","Sub Total","DL-1","DL-2","DL-3","Best DL","PL Total","Pl/Div/Cls/Event","Forecast\nScore","F'cast Place","Wilks Pts","Age-Wilks","Events Entered","MemberID","State"]
["2A","Heather Faas","SC","FR-O",51.8,52,301,1.2503999471664429,"1983-04-08","9",117.5,122.5,125,125,"8-3",62.5,65,67.5,67.5,192.5,150,157.5,-165,157.5,350,"1/FR-O/52/PL",350,1,437.639981508255,437.639981508255,"PL",908764,"SC"]
["2A","Karen Naegel","SC","FR-O",55.9,57,310,1.1783000230789185,"1972-07-21","11",-95,95,97.5,97.5,"12-5",57.5,-60,-60,57.5,155,130,135,142.5,142.5,297.5,"1/FR-O/57/PL",297.5,1,350.54425686597824,374.38126633286475,"PL",1003204,"SC"]
["2A","Lisa Womble","NC","FR-O",55.4,57,305,1.1865999698638916,"1977-03-29","11",95,-100,105,105,"14-4",52.5,57.5,-60,57.5,162.5,112.5,122.5,130,130,292.5,"2/FR-O/57/PL",292.5,2,347.08049118518829,350.55129609704017,"PL",992752,"NC"]
["2A","Arielle Patra","NC","FR-O",56.85,57,302,1.1627999544143677,"1997-05-16","12",85,100,105,105,"11-5",42.5,47.5,-55,47.5,152.5,-115,125,140,140,292.5,"3/FR-O/57/PL",292.5,3,340.11898666620255,350.32255626618866,"PL",null,"NC"]
["2A","Jerri Lamar","NC","FR-O",56.5,57,303,1.1684000492095947,"1989-05-04","10",102.5,107.5,-110,107.5,"11-4",-55,-55,-55,0,0,110,112.5,115,115,0,"",0,"",0,0,"PL",959966,"NC"]
["2A","Amy Mason","NC","FR-O",62.4,63,309,1.0817999839782715,"1976-03-17","6",132.5,137.5,-140,137.5,"9-4",62.5,65,-67.5,65,202.5,150,157.5,165,165,367.5,"1/FR-O/63/PL",367.5,1,397.56149411201477,405.51272399425505,"PL",961103,"NC"]
["2A","Brianna Green","NC","FR-O",62.8,63,307,1.0765000581741333,"1994-08-02","12",97.5,105,110,110,"14-6",65,70,-72.5,70,180,125,135,-142.5,135,315,"2/FR-O/63/PL",315,2,339.09751832485199,339.09751832485199,"PL",1005553,"NC"]
["2A","Betty Polenik","SC","FR-O",61.45,63,312,1.094499945640564,"1958-01-25","8",100,107.5,110,110,"10-6",55,-60,-60,55,165,112.5,122.5,127.5,127.5,292.5,"3/FR-O/63/PL",292.5,3,320.14123409986496,428.98925369381908,"PL",1029185,"SC"]
["2A","Leslie Snapper","NC","FR-O",61.1,63,308,1.0994000434875488,"1993-01-02","14",85,100,-105,100,"10-7",60,65,70,70,170,97.5,105,115,115,285,"4/FR-O/63/PL",285,4,313.32901239395142,313.32901239395142,"PL BP",null,"NC"]
["2A","Michele Moe","NC","FR-O",62.1,63,311,1.0858000516891479,"1969-06-20","10",80,85,92.5,92.5,"9-6",52.5,57.5,-60,57.5,150,115,125,132.5,132.5,282.5,"5/FR-O/63/PL",282.5,5,306.7385146021843,341.39996675223114,"PL",1009213,"NC"]
["2B","Tracy Cook","NC","FR-O",70.2,72,407,0.99290001392364502,"1970-07-10","9",127.5,137.5,-140,137.5,"11-6",72.5,75,80,80,217.5,155,165,170,170,387.5,"1/FR-O/72/PL",387.5,1,384.74875539541245,422.06938466876744,"PL BP",920178,"NC"]
["2B","Meghan Bradsher-James","NC","FR-O",66.55,72,402,1.0311000347137451,"1991-10-22","11",117.5,125,130,130,"12-7",67.5,72.5,75,75,205,155,165,167.5,167.5,372.5,"2/FR-O/72/PL",372.5,2,384.08476293087006,384.08476293087006,"PL",944717,"NC"]
["2B","Jessica Dulkis","NC","FR-O",67.2,72,401,1.023900032043457,"1994-03-06","15",110,120,122.5,122.5,"12-5",80,85,87.5,87.5,210,137.5,150,155,155,365,"3/FR-O/72/PL",365,3,373.72351169586182,373.72351169586182,"PL BP",1010365,"NC"]
["2B","Linda Mertens","MN","FR-O",65.55,72,408,1.0426000356674194,"1966-03-30","8",90,97.5,102.5,102.5,null,47.5,52.5,57.5,57.5,160,127.5,135,140,140,300,"4/FR-O/72/PL",300,4,312.78001070022583,364.38871246576309,"PL",1026356,"MN"]
["2B","Rebecca Marino","NC","FR-O",68.400000000000006,72,405,1.0110000371932983,"1987-11-20","12",77.5,87.5,95,95,"12-5",57.5,60,-62.5,60,155,117.5,127.5,137.5,137.5,292.5,"5/FR-O/72/PL",292.5,5,295.71751087903976,295.71751087903976,"PL",995471,"NC"]
["2B","Michelle Wittke","SC","FR-O",69.5,72,404,0.99980002641677856,"1988-10-10","12",92.5,102.5,-110,102.5,"11-5",47.5,52.5,55,55,157.5,120,127.5,-137.5,127.5,285,"6/FR-O/72/PL",285,6,284.94300752878189,284.94300752878189,"PL",101072,"SC"]
["2B","Erin Ball","NC","FR-O",71,72,406,0.98519998788833618,"1976-09-19","14",72.5,82.5,87.5,87.5,"12-7",35,40,45,45,132.5,82.5,92.5,105,105,237.5,"7/FR-O/72/PL",237.5,7,233.98499712347984,238.66469706594944,"PL",null,"NC"]
["2C","Ashley Banks","NC","FR-O",83.4,84,502,0.89499998092651367,"1989-06-05","14",142.5,152.5,-155,152.5,"13-7",55,60,-62.5,60,212.5,152.5,167.5,-177.5,167.5,380,"1/FR-O/84/PL",380,1,340.0999927520752,340.0999927520752,"PL",967324,"NC"]
["2C","Daynya Quigley","NC","FR-O",76.45,84,504,0.93949997425079346,"1981-03-12","11",125,132.5,140,140,"12-7",55,60,-62.5,60,200,135,142.5,-150,142.5,342.5,"2/FR-O/84/PL",342.5,2,321.77874118089676,321.77874118089676,"PL",997736,"NC"]
["2C","Tomika Baldwin","NC","FR-O",83.8,84,506,0.892799973487854,"1970-03-27","13",-120,-120,-120,0,"13-5",72.5,75,-77.5,75,0,157.5,0,0,157.5,0,"",0,"",0,0,"PL",null,"NC"]
["2C","Mary Rodriguez","NC","FR-O",103.85,"84+",509,0.82400000095367432,"1990-02-16","11",160,175,192.5,192.5,"13-6",95,102.5,-112.5,102.5,295,-150,170,-175,170,465,"1/FR-O/84+/PL",465,1,383.16000044345856,383.16000044345856,"PL BP",1009251,"NC"]
["2C","Kristin McCarthy","NC","FR-O",101.75,"84+",510,0.82849997282028198,"1973-01-18","11",125,130,132.5,132.5,"13-7",67.5,70,-72.5,70,202.5,140,147.5,155,155,357.5,"2/FR-O/84+/PL",357.5,2,296.18874028325081,312.47912099882956,"PL",1013477,"NC"]
["2C","Chrissy Helton","NC","FR-O",87.9,"84+",501,0.87290000915527344,"1992-03-16","13",102.5,110,-117.5,110,"11-6",67.5,-72.5,-72.5,67.5,177.5,130,137.5,-145,137.5,315,"3/FR-O/84+/PL",315,3,274.96350288391113,274.96350288391113,"PL",null,"NC"]
["2C","Jennifer Patton","SC","FR-O",105,"84+",503,0.82169997692108154,"1982-09-05",null,null,null,null,0,"12-6",85,90,92.5,92.5,0,null,null,null,0,0,"",0,"",0,0,"PL BP",null,"SC"]
["2A","Amy Mason","NC","FR-M1a",62.4,63,309,1.0817999839782715,"1976-03-17","6",132.5,137.5,-140,137.5,"9-4",62.5,65,-67.5,65,202.5,150,157.5,165,165,367.5,"1/FR-M1a//PL",397.56148999999999,1,397.56149411201477,405.51272399425505,"PL",961103,"NC"]
["2B","Tracy Cook","NC","FR-M1a",70.2,72,407,0.99290001392364502,"1970-07-10","9",127.5,137.5,-140,137.5,"12-6",72.5,75,80,80,217.5,155,165,170,170,387.5,"2/FR-M1a//PL",384.74876,2,384.74875539541245,422.06938466876744,"PL BP",920178,"NC"]
["2A","Lisa Womble","NC","FR-M1a",55.4,57,305,1.1865999698638916,"1977-03-29","11",95,-100,105,105,"14-4",52.5,57.5,-60,57.5,162.5,112.5,122.5,130,130,292.5,"3/FR-M1a//PL",347.08049,3,347.08049118518829,350.55129609704017,"PL",992752,"NC"]
["2A","Michele Moe","NC","FR-M1a",62.1,63,311,1.0858000516891479,"1969-06-20","10",80,85,92.5,92.5,"9-6",52.5,57.5,-60,57.5,150,115,125,132.5,132.5,282.5,"4/FR-M1a//PL",306.73851000000002,4,306.7385146021843,341.39996675223114,"PL",1009213,"NC"]
["2C","Kristin McCarthy","NC","FR-M1a",101.75,"84+",510,0.82849997282028198,"1973-01-18","11",125,130,132.5,132.5,"13-7",67.5,70,-72.5,70,202.5,140,147.5,155,155,357.5,"5/FR-M1a//PL",296.18874,5,296.18874028325081,312.47912099882956,"PL",1013477,"NC"]
["2B","Erin Ball","NC","FR-M1a",71,72,406,0.98519998788833618,"1976-09-19","14",72.5,82.5,87.5,87.5,"12-7",35,40,45,45,132.5,82.5,92.5,105,105,237.5,"6/FR-M1a//PL",233.98500000000001,6,233.98499712347984,238.66469706594944,"PL",null,"NC"]
["2C","Tomika Baldwin","NC","FR-M1a",83.8,84,506,0.892799973487854,"1970-03-27","13",-120,-120,-120,0,"13-5",72.5,75,-77.5,75,0,157.5,0,0,157.5,0,"",0,"",0,0,"PL",null,"NC"]
["2B","Linda Mertens","MN","FR-M2a",65.55,72,408,1.0426000356674194,"1966-03-30","8",90,97.5,102.5,102.5,"12-6",47.5,52.5,57.5,57.5,160,127.5,135,140,140,300,"1/FR-M2a//PL",312.78001,1,312.78001070022583,364.38871246576309,"PL",1026356,"MN"]
["2C","Kim Lewis","NC","FR-M2a",74.400000000000006,84,507,0.95550000667572021,"1967-12-20","13",-97.5,-97.5,97.5,97.5,"13-6",40,47.5,55,55,152.5,120,127.5,137.5,137.5,290,"2/FR-M2a//PL",277.09500000000003,2,277.09500193595886,317.82796722054479,"PL",1018982,"NC"]
["2C","Patricia Rumsey","NC","FR-M2a",79.7,84,409,0.91689997911453247,"1960-03-20","10",-107.5,-107.5,-107.5,0,"11-6",52.5,55,-57.5,55,0,105,110,-117.5,110,0,"",0,"",0,0,"PL BP",985361,"NC"]
["2A","Betty Polenik","SC","FR-M3a",61.45,63,312,1.094499945640564,"1958-01-25",null,100,107.5,110,110,"10-6",55,-60,-60,55,165,112.5,122.5,127.5,127.5,292.5,"1/FR-M3a//PL",320.14123000000001,1,320.14123409986496,428.98925369381908,"PL",1029185,"SC"]
["2C","Linda Odum","VA","FR-M4a",74,84,410,0.95870000123977661,"1945-05-04","9",45,52.5,57.5,57.5,"14-5",-32.5,32.5,37.5,37.5,95,87.5,97.5,105,105,200,"1/FR-M4a//PL",191.74,1,191.74000024795532,336.69544043540952,"PL",1007279,"VA"]
["1A","Tucker Thompson","NC","MR-T1",50.32,53,1,1.0161000490188599,"2003-11-08","7",95,102.5,110,110,"7-4",52.5,60,65,65,175,100,107.5,117.5,117.5,292.5,"1/MR-T1/53/PL",292.5,1,297.20926433801651,365.56739513576031,"PL",null,"NC"]
["1A","Ryan O'Connor","NC","MR-T1",68.959999999999994,74,3,0.75809997320175171,"2002-08-16","17",90,100,107.5,107.5,"13-5",47.5,52.5,-57.5,52.5,160,115,-125,125,125,285,"1/MR-T1/74/PL",285,1,216.05849236249924,254.94902098774909,"PL",1013719,"NC"]
["1A","Noah Anderson","NC","MR-T1",77.5,83,5,0.69690001010894775,"2003-03-16","16",70,77.5,87.5,87.5,"14-5",47.5,55,-62.5,55,142.5,112.5,125,137.5,137.5,280,"1/MR-T1/83/PL",280,1,195.13200283050537,230.25576333999632,"PL",null,"NC"]
["1A","Konner Stoneberg","NC","MR-T1",91.8,93,12,0.63209998607635498,"2002-09-17","16",120,120,-140,120,"15-6",60,65,-77.5,65,185,157.5,165,-172.5,165,350,"1/MR-T1/93/PL",350,1,221.23499512672424,261.05729424953461,"PL",1013614,"NC"]
["1A","Om Desai","NC","MR-T1",85.64,93,9,0.65560001134872437,"2003-05-05","13",-82.5,-82.5,82.5,82.5,"12-5",-37.5,37.5,-42.5,37.5,120,115,120,-137.5,120,240,"2/MR-T1/93/PL",240,2,157.34400272369385,193.53312335014343,"PL",null,"NC"]
["1A","Joshua Lynch","NC","MR-T2",58.14,59,2,0.8781999945640564,"2001-02-15","11",117.5,130,140,140,"11-6",72.5,80,-90,80,220,120,132.5,137.5,137.5,357.5,"1/MR-T2/59/PL",357.5,1,313.95649805665016,339.0730179011822,"PL",1016962,"NC"]
["1A","Keegan Gaddy","NC","MR-T2",80.48,83,7,0.68010002374649048,"2000-12-08","15",180,195,205,205,"11-6",130,140,150,150,355,200,212.5,220,220,575,"1/MR-T2/83/PL",575,1,391.05751365423203,422.34211474657059,"PL",1000412,"NC"]
["1A","Tyler O'Neal","NC","MR-T2",77.14,83,4,0.69900000095367432,"2001-03-21","15",137.5,152.5,165,165,"12-7",92.5,105,115,115,280,182.5,195,205,205,485,"2/MR-T2/83/PL",485,2,339.01500046253204,366.13620049953465,"PL",1016960,"NC"]
["1A","Roberto Valle","NC","MR-T2",81.319999999999993,83,6,0.67580002546310425,"2001-08-07","16",122.5,-137.5,137.5,137.5,"13-5",77.5,-85,-85,77.5,215,162.5,165,167.5,167.5,382.5,"3/MR-T2/83/PL",382.5,3,258.49350973963737,292.09766600579019,"PL",1015387,"NC"]
["1A","Colton Hurley","NC","MR-T2",91.54,93,10,0.63300001621246338,"2001-06-06","15",225,237.5,250,250,"13-6",127.5,-132.5,-132.5,127.5,377.5,185,202.5,220,220,597.5,"1/MR-T2/93/PL",597.5,1,378.21750968694687,427.38578594624994,"PL"," ","NC"]
["1A","Logan Wagner","NC","MR-T3",115,120,13,0.5810999870300293,"2000-07-14","18",-120,120,127.5,127.5,"15-7",77.5,85,92.5,92.5,220,170,192.5,200,200,420,"1/MR-T3/120/PL",420,1,244.0619945526123,263.58695411682129,"PL",null,"NC"]
["2D","Frank Bottone Jr. ","NC","MR-O",64.540000000000006,66,901,0.80000001192092896,"1969-11-13","15",120,130,-137.5,130,"14-5",87.5,92.5,97.5,97.5,227.5,142.5,155,160,160,387.5,"1/MR-O/66/PL",387.5,1,310.00000461935997,345.03000514134766,"PL",988924,"NC"]
["2D","Rodney Alexander","NC","MR-O",70.260000000000005,74,908,0.74730002880096436,"1987-02-24","11",200,212.5,220,220,"11-5",135,140,-145,140,360,222.5,-232.5,232.5,232.5,592.5,"1/MR-O/74/PL",592.5,1,442.77526706457138,442.77526706457138,"PL",92002,"NC"]
["2D","Scottie Duncan","SC","MR-O",73.180000000000007,74,905,0.72509998083114624,"1993-06-10","14",200,212.5,222.5,222.5,"14-8",-140,140,-142.5,140,362.5,215,225,-230,225,587.5,"2/MR-O/74/PL",587.5,2,425.99623873829842,425.99623873829842,"PL BP"," ","SC"]
["2D","Simon Jiang","NC","MR-O",72.400000000000006,74,902,0.73070001602172852,"1995-11-23","13",165,175,185,185,"13-5",120,130,-135,130,315,200,215,227.5,227.5,542.5,"3/MR-O/74/PL",542.5,3,396.40475869178772,400.36880627870562,"PL",921742,"NC"]
["2D","Mark Langley","NC","MR-O",72.959999999999994,74,909,0.72659999132156372,"1984-11-02","14",175,187.5,-190,187.5,"10-8",115,122.5,-127.5,122.5,310,190,205,212.5,212.5,522.5,"4/MR-O/74/PL",522.5,4,379.64849546551704,379.64849546551704,"PL",1000799,"NC"]
["2D","Zach Henderson","TN","MR-O",67.239999999999995,74,907,0.77340000867843628,"1988-07-11","13",152.5,157.5,167.5,167.5,"13-5",92.5,100,107.5,107.5,275,185,190,195,195,470,"5/MR-O/74/PL",470,5,363.49800407886505,363.49800407886505,"PL",null,"TN"]
["2D","Mike Jordan","NC","MR-O",73.52,74,906,0.72269999980926514,"1990-08-09","12",122.5,132.5,142.5,142.5,"13-7",110,117.5,122.5,122.5,265,170,175,182.5,182.5,447.5,"6/MR-O/74/PL",447.5,6,323.40824991464615,323.40824991464615,"PL",1013401,"NC"]
["1C","JamaRR Royster","NC","MR-O",82.92,83,211,0.66790002584457397,"1991-01-09","12",265,277.5,-287.5,277.5,"14-7",155,165,170,170,447.5,270,282.5,290,290,737.5,"1/MR-O/83/PL",737.5,1,492.57626906037331,492.57626906037331,"PL",null,"NC"]
["1C","Todd Talford","SC","MR-O",82.7,83,210,0.6689000129699707,"1990-07-22","17",227.5,237.5,240,240,"14-5",187.5,197.5,205,205,445,262.5,282.5,290,290,735,"2/MR-O/83/PL",735,2,491.64150953292847,491.64150953292847,"PL BP",null,"SC"]
["1C","Maurice McFadden","SC","MR-O",81.94,83,207,0.67269998788833618,"1990-11-24","14",232.5,245,252.5,252.5,"13-6",145,150,-157.5,150,402.5,250,262.5,272.5,272.5,675,"3/MR-O/83/PL",675,3,454.07249182462692,454.07249182462692,"PL",null,"SC"]
["1C","Dominic Rowden","NC","MR-O",80.02,83,203,0.68260002136230469,"1996-12-19","13",210,217.5,-230,217.5,"15-6",125,135,-140,135,352.5,230,245,260,260,612.5,"4/MR-O/83/PL",612.5,4,418.09251308441162,426.45436334609985,"PL",991217,"NC"]
["1B","Michael Barringer","NC","MR-O",82.7,83,107,0.6689000129699707,"1971-01-23","13",220,-230,230,230,"11-6",125,-130,130,130,360,225,237.5,252.5,252.5,612.5,"5/MR-O/83/PL",612.5,5,409.70125794410706,443.29676109552389,"PL",989371,"NC"]
["1C","Terry Zervos","NH","MR-O",80.599999999999994,83,201,0.67949998378753662,"1997-09-30","14",182.5,192.5,-202.5,192.5,"12-6",132.5,140,145,145,337.5,205,217.5,227.5,227.5,565,"6/MR-O/83/PL",565,6,383.91749083995819,395.43501556515696,"PL",1013810,"NH"]
["1C","Mason Dwinnell","NC","MR-O",82.38,83,202,0.67049998044967651,"1997-01-11","18",182.5,192.5,-200,192.5,"14-7",102.5,107.5,120,120,312.5,205,215,222.5,222.5,535,"7/MR-O/83/PL",535,7,358.71748954057693,365.8918393313885,"PL",1013802,"NC"]
["1C","DJ Redmond","NC","MR-O",82.26,83,212,0.67110002040863037,"1990-11-02","16",172.5,177.5,182.5,182.5,"13-7",120,125,-130,125,307.5,202.5,210,-215,210,517.5,"8/MR-O/83/PL",517.5,8,347.29426056146622,347.29426056146622,"PL",995507,"NC"]
["1C","Kaleb Johnson","NC","MR-O",82.7,83,205,0.6689000129699707,"1993-07-22","17",152.5,162.5,167.5,167.5,"12-5",110,120,125,125,292.5,185,200,210,210,502.5,"9/MR-O/83/PL",502.5,9,336.12225651741028,336.12225651741028,"PL",928351,"NC"]
["1C","Justin Mugno","NC","MR-O",78.42,83,213,0.69150000810623169,"1989-01-02","16",160,175,180,180,"15-6",112.5,120,130,130,310,175,185,190,190,500,"10/MR-O/83/PL",500,10,345.75000405311584,345.75000405311584,"PL",1015766,"NC"]
["1B","John Demchak","SC","MR-O",82.84,83,101,0.66829997301101685,"1967-07-14","14",165,175,-182.5,175,"11-6",75,82.5,-90,82.5,257.5,205,227.5,-235,227.5,485,"11/MR-O/83/PL",485,11,324.12548691034317,371.77193348616362,"PL",12416,"SC"]
["1C","Jacob Melvin","NC","MR-O",80.62,83,209,0.67940002679824829,"1991-03-10","15",207.5,210,215,215,"14-7",-145,-145,-145,0,0,237.5,245,250,250,0,"",0,"",0,0,"PL",995460,"NC"]
["3A","Andre' Easter II","NC","MR-O",91.8,93,606,0.63209998607635498,"1990-09-28","14",267.5,275,-285,275,"14-8",190,195,-202.5,195,470,270,287.5,300,300,770,"1/MR-O/93/PL",770,1,486.71698927879333,486.71698927879333,"PL BP",967174,"NC"]
["3A","Rob Rykowski","NC","MR-O",92.26,93,612,0.6305999755859375,"1984-07-17","18",230,242.5,250,250,"16-7",137.5,142.5,null,142.5,392.5,300,310,-317.5,310,702.5,"2/MR-O/93/PL",702.5,2,442.99648284912109,442.99648284912109,"PL",967293,"NC"]
["1B","Zak Mayo","NC","MR-O",92.26,93,105,0.6305999755859375,"1974-04-30","16",230,242.5,247.5,247.5,"13-7",150,160,-165,160,407.5,280,-300,-300,280,687.5,"3/MR-O/93/PL",687.5,3,433.53748321533203,452.17959499359125,"PL",100399,"NC"]
["3A","Joshua Riley","NC","MR-O",90.8,93,604,0.63559997081756592,"1992-03-25","18",205,215,-227.5,215,"17-7",135,142.5,-145,142.5,357.5,265,-277.5,-277.5,265,622.5,"4/MR-O/93/PL",622.5,4,395.66098183393478,395.66098183393478,"PL",998986,"NC"]
["3A","Neil Kern","NC","MR-O",92.12,93,214,0.63109999895095825,"1988-03-22","20",185,202.5,207.5,207.5,"15-6",145,-150,150,150,357.5,235,250,262.5,262.5,620,"5/MR-O/93/PL",620,5,391.28199934959412,391.28199934959412,"PL",1015781,"NC"]
["3A","Michael Markowkin","NC","MR-O",90.18,93,610,0.63770002126693726,"1988-09-07","18",210,220,225,225,"15-7",152.5,-157.5,-157.5,152.5,377.5,220,230,-235,230,607.5,"6/MR-O/93/PL",607.5,6,387.40276291966438,387.40276291966438,"PL",1007467,"NC"]
["1A","Colton Hurley","NC","MR-O",91.54,93,10,0.63300001621246338,"2001-06-06","15",225,237.5,250,250,"13-6",127.5,-132.5,-132.5,127.5,377.5,185,202.5,220,220,597.5,"7/MR-O/93/PL",597.5,7,378.21750968694687,427.38578594624994,"PL"," ","NC"]
["3A","Nick Peterson","NC","MR-O",90.7,93,602,0.63590002059936523,"1997-11-02","15",207.5,212.5,217.5,217.5,"15-7",115,125,135,135,352.5,210,222.5,240,240,592.5,"8/MR-O/93/PL",592.5,8,376.7707622051239,388.07388507127763,"PL",1011871,"NC"]
["3A","William Horstmann","TN","MR-O",92.1,93,603,0.63109999895095825,"1994-12-09","18",-220,220,-230,220,"13-8",125,132.5,-137.5,132.5,352.5,230,237.5,-242.5,237.5,590,"9/MR-O/93/PL",590,9,372.34899938106537,372.34899938106537,"PL",1012064,"TN"]
["3A","Will Hayes","NC","MR-O",90.84,93,609,0.63539999723434448,"1988-06-19","18",205,220,-227.5,220,"15-6",130,135,-140,135,355,210,227.5,-235,227.5,582.5,"10/MR-O/93/PL",582.5,10,370.12049838900566,370.12049838900566,"PL",1015569,"NC"]
["3A","David Braden","SC","MR-O",84.72,93,605,0.65960001945495605,"1990-07-24","17",200,210,217.5,217.5,"12-6",120,125,-130,125,342.5,215,232.5,235,235,577.5,"11/MR-O/93/PL",577.5,11,380.91901123523712,380.91901123523712,"PL",102764,"SC"]
["3A","Justin Kiehl","NC","MR-O",88,93,601,0.64590001106262207,"1997-04-11","18",162.5,175,187.5,187.5,"16-5",102.5,120,130,130,317.5,207.5,220,237.5,237.5,555,"12/MR-O/93/PL",555,12,358.47450613975525,369.22874132394793,"PL",1015835,"NC"]
["3B","Jonathan Russell","SC","MR-O",91.4,93,710,0.63349997997283936,"1986-05-21","17",-180,185,190,190,"15-8",130,-137.5,-137.5,130,320,187.5,197.5,210,210,530,"13/MR-O/93/PL",530,13,335.75498938560486,335.75498938560486,"PL BP",null,"SC"]
["1B","Josh Edwards","NC","MR-O",89.88,93,106,0.63880002498626709,"1972-05-11","15",157.5,170,182.5,182.5,"15-8",62.5,92.5,110,110,292.5,215,232.5,-242.5,232.5,525,"14/MR-O/93/PL",525,14,335.37001311779022,358.1751740098,"PL",1012315,"NC"]
["3A","Tony Donati","VA","MR-O",89.06,93,206,0.64179998636245728,"1993-09-16","14",155,165,177.5,177.5,"14-8",130,137.5,147.5,147.5,325,165,180,-190,180,505,"15/MR-O/93/PL",505,15,324.10899311304092,324.10899311304092,"PL",1015493,"VA"]
["3A","Justin Nuzum","NC","MR-O",90.64,93,611,0.63609999418258667,"1988-03-01","18",145,150,-155,150,"14-6",125,132.5,-137.5,132.5,282.5,180,185,187.5,187.5,470,"16/MR-O/93/PL",470,16,298.96699726581573,298.96699726581573,"PL BP",1015833,"NC"]
["1B","Russel Robinson","NC","MR-O",91.58,93,108,0.63289999961853027,"1970-07-27","15",130,135,147.5,147.5,"14-6",102.5,107.5,-117.5,107.5,255,152.5,160,167.5,167.5,422.5,"17/MR-O/93/PL",422.5,17,267.40024983882904,293.33807407319546,"PL",null,"NC"]
["3B","Matthew McHugh","MI","MR-O",104.6,105,706,0.59839999675750732,"1989-02-11","17",260,272.5,-280,272.5,"16-8",172.5,185,-192.5,185,457.5,265,280,-287.5,280,737.5,"1/MR-O/105/PL",737.5,1,441.31999760866165,441.31999760866165,"PL",926746,"MI"]
["3B","Brian Mason","SC","MR-O",94.7,105,613,0.62290000915527344,"1984-12-25","16",210,225,230,230,"16-5",172.5,182.5,187.5,187.5,417.5,277.5,297.5,-320,297.5,715,"2/MR-O/105/PL",715,2,445.37350654602051,445.37350654602051,"PL BP",100401,"SC"]
["3B","Randall Moss","SC","MR-O",104.94,105,707,0.59769999980926514,"1989-02-03","17",235,250,257.5,257.5,"13-6",152.5,162.5,165,165,422.5,250,265,272.5,272.5,695,"3/MR-O/105/PL",695,3,415.40149986743927,415.40149986743927,"PL",920080,"SC"]
["3B","Josh Przywara","SC","MR-O",102.62,105,704,0.60250002145767212,"1992-03-08","19",210,220,235,235,"15-7",177.5,187.5,-195,187.5,422.5,257.5,270,-277.5,270,692.5,"4/MR-O/105/PL",692.5,4,417.23126485943794,417.23126485943794,"PL",1009019,"SC"]
["3B","Tristan Stinson","NC","MR-O",98.6,105,703,0.61210000514984131,"1993-05-15","15",-220,227.5,230,230,"14-6",160,167.5,-170,167.5,397.5,255,275,-285,275,672.5,"5/MR-O/105/PL",672.5,5,411.63725346326828,411.63725346326828,"PL"," ","NC"]
["3B","Harrison Little","NC","MR-O",102.44,105,615,0.60290002822875977,"1997-09-03","21",215,227.5,235,235,"15-9",145,155,162.5,162.5,397.5,245,262.5,275,275,672.5,"6/MR-O/105/PL",672.5,6,405.45026898384094,417.61377705335616,"PL",1013485,"NC"]
["3B","Will Cauthen","NC","MR-O",102.22,105,705,0.60339999198913574,"1990-11-28","18",205,215,225,225,"15-5",132.5,140,147.5,147.5,372.5,257.5,267.5,280,280,652.5,"7/MR-O/105/PL",652.5,7,393.71849477291107,393.71849477291107,"PL",null,"NC"]
["1B","Royce Young","NC","MR-O",101.8,105,109,0.60439997911453247,"1970-02-04","20",197.5,-205,207.5,207.5,"15-7",160,165,-170,165,372.5,250,257.5,262.5,262.5,635,"8/MR-O/105/PL",635,8,383.79398673772812,421.02200345128773,"PL BP",6860,"NC"]
["3A","Chris Connell","NC","MR-O",94.4,105,608,0.62379997968673706,"1988-12-18","11",225,-237.5,-237.5,225,"12-6",-165,165,-175,165,390,225,242.5,-250,242.5,632.5,"9/MR-O/105/PL",632.5,9,394.55348715186119,394.55348715186119,"PL BP",7696,"NC"]
["3B","James Mundy","NC","MR-O",100.02,105,709,0.60850000381469727,"1987-02-16","20",177.5,190,202.5,202.5,"16-7",125,135,145,145,347.5,215,230,242.5,242.5,590,"10/MR-O/105/PL",590,10,359.01500225067139,359.01500225067139,"PL",1013932,"NC"]
["3B","Justin Miles","NC","MR-O",99.5,105,711,0.60979998111724854,"1986-03-22","21",172.5,185,195,195,"14-5",125,130,135,135,330,195,-215,227.5,227.5,557.5,"11/MR-O/105/PL",557.5,11,339.96348947286606,339.96348947286606,"PL",5021,"NC"]
["3B","Ross Garner","NC","MR-O",96.3,105,708,0.61830002069473267,"1987-09-25","21",182.5,195,207.5,207.5,"16-5",135,140,145,145,352.5,-187.5,null,null,0,0,"",0,"",0,0,"PL",1015551,"NC"]
["3C","Jevon Elliott","NC","MR-O",115.36,120,804,0.58060002326965332,"1990-08-24","15",240,250,255,255,"14-8",155,160,165,165,420,295,307.5,-317.5,307.5,727.5,"1/MR-O/120/PL",727.5,1,422.38651692867279,422.38651692867279,"PL",1009053,"NC"]
["3C","Nick Stevens","SC","MR-O",115.44,120,701,0.58050000667572021,"1998-01-10","17",225,240,250,250,"16-9",120,130,140,140,390,257.5,272.5,-280,272.5,662.5,"2/MR-O/120/PL",662.5,2,384.58125442266464,396.11869205534458,"PL",1013418,"SC"]
["3C","Josh Banks","NC","MR-O",117.5,120,806,0.57779997587203979,"1987-09-11","20",197.5,210,217.5,217.5,"14-7",155,162.5,167.5,167.5,385,235,-250,250,250,635,"3/MR-O/120/PL",635,3,366.90298467874527,366.90298467874527,"PL",928393,"NC"]
["3C","Drew Miles","NC","MR-O",115.5,120,803,0.58039999008178711,"1992-05-18","17",207.5,215,232.5,232.5,"16-9",145,155,-162.5,155,387.5,220,235,242.5,242.5,630,"4/MR-O/120/PL",630,4,365.65199375152588,365.65199375152588,"PL",1015265,"NC"]
["3C","Brandon Ballance","NC","MR-O",116.7,120,802,0.5788000226020813,"1994-03-22","20",192.5,210,-227.5,210,"13.-9",137.5,147.5,152.5,152.5,362.5,-232.5,232.5,-260,232.5,595,"5/MR-O/120/PL",595,5,344.38601344823837,344.38601344823837,"PL",null,"NC"]
["3C","William Chapman","SC","MR-O",125.26,"120+",810,0.56959998607635498,"1993-04-02","14",-237.5,247.5,-262.5,247.5,"14-9",147.5,155,172.5,172.5,420,237.5,252.5,262.5,262.5,682.5,"1/MR-O/120+/PL",682.5,1,388.75199049711227,388.75199049711227,"PL",1015454,"SC"]
["1B","Scott Sherrill","NC","MR-O",128.4,"120+",113,0.56690001487731934,"1962-11-20","17",210,227.5,235,235,"14-8",152.5,-160,null,152.5,387.5,225,252.5,257.5,257.5,645,"2/MR-O/120+/PL",645,2,365.65050959587097,455.60053495645525,"PL BP",968460,"NC"]
["1B","Greg Simmons","SC","MR-O",146.78,"120+",112,0.55500000715255737,"1969-10-15","20in",210,215,227.5,227.5,"16-6",145,155,-165,155,382.5,195,205,215,215,597.5,"3/MR-O/120+/PL",597.5,3,331.61250427365303,369.0847172565758,"PL BP",1014212,"SC"]
["3C","Forrest Faulk","GA","MR-O",159.32,"120+",811,0.54860001802444458,"1982-01-09","15",170,182.5,195,195,"16-9",125,-137.5,137.5,137.5,332.5,170,182.5,195,195,527.5,"4/MR-O/120+/PL",527.5,4,289.38650950789452,289.38650950789452,"PL",103021,"GA"]
["1B","Zak Mayo","NC","MR-M1a",92.26,93,105,0.6305999755859375,"1974-04-30","16",230,242.5,247.5,247.5,"13-7",150,160,-165,160,407.5,280,-300,-300,280,687.5,"1/MR-M1a//PL",433.53748000000002,1,433.53748321533203,452.17959499359125,"PL",100399,"NC"]
["1B","Michael Barringer","NC","MR-M1a",82.7,83,107,0.6689000129699707,"1971-01-23","13",220,-230,230,230,"11-6",125,-130,130,130,360,225,237.5,252.5,252.5,612.5,"2/MR-M1a//PL",409.70125999999999,2,409.70125794410706,443.29676109552389,"PL",989371,"NC"]
["1B","Royce Young","NC","MR-M1a",101.8,105,109,0.60439997911453247,"1970-02-04","20",197.5,-205,207.5,207.5,"15-7",160,165,-170,165,372.5,250,257.5,262.5,262.5,635,"3/MR-M1a//PL",383.79399000000001,3,383.79398673772812,421.02200345128773,"PL BP",6860,"NC"]
["1B","Matt Naegel","SC","MR-M1a",91.04,93,104,0.63470000028610229,"1976-03-14","16",182.5,190,-195,190,"13-7",155,157.5,-162.5,157.5,347.5,210,217.5,-222.5,217.5,565,"4/MR-M1a//PL",358.60550000000001,4,358.6055001616478,365.77761016488074,"PL",null,"SC"]
["1B","Josh Edwards","NC","MR-M1a",89.88,93,106,0.63880002498626709,"1972-05-11","15",157.5,170,182.5,182.5,"15-8",62.5,92.5,110,110,292.5,215,232.5,-242.5,232.5,525,"5/MR-M1a//PL",335.37000999999998,5,335.37001311779022,358.1751740098,"PL",1012315,"NC"]
["1B","Greg Simmons","SC","MR-M1a",146.78,"120+",112,0.55500000715255737,"1969-10-15","20in",210,215,227.5,227.5,"15-6",145,155,-165,155,382.5,195,205,215,215,597.5,"6/MR-M1a//PL",331.61250000000001,6,331.61250427365303,369.0847172565758,"PL BP",1014212,"SC"]
["1B","Russel Robinson","NC","MR-M1a",91.58,93,108,0.63289999961853027,"1970-07-27","15",130,135,147.5,147.5,"14-6",102.5,107.5,-117.5,107.5,255,152.5,160,167.5,167.5,422.5,"7/MR-M1a//PL",267.40025000000003,7,267.40024983882904,293.33807407319546,"PL",null,"NC"]
["1B","Scott Sherrill","NC","MR-M2a",128.4,"120+",113,0.56690001487731934,"1962-11-20","17",210,227.5,235,235,"14-8",152.5,-160,null,152.5,387.5,225,252.5,257.5,257.5,645,"1/MR-M2a//PL",365.65051,1,365.65050959587097,455.60053495645525,"PL BP",968460,"NC"]
["1B","Tony Hennis","NC","MR-M2a",122.06,"120+",111,0.57270002365112305,"1967-03-08","20",-197.5,197.5,210,210,"16-8",152.5,167.5,-177.5,167.5,377.5,242.5,252.5,260,260,637.5,"2/MR-M2a//PL",365.09627,2,365.09626507759094,418.76541604399682,"PL BP",null,"NC"]
["1B","Keith Johnson","NC","MR-M2a",77.58,83,103,0.696399986743927,"1964-08-15","16",152.5,-165,165,165,"14-6",102.5,110,112.5,112.5,277.5,192.5,200,207.5,207.5,485,"3/MR-M2a//PL",337.75398999999999,3,337.7539935708046,406.65580825924872,"PL",null,"NC"]
["1B","John Demchak","SC","MR-M2a",82.84,83,101,0.66829997301101685,"1967-07-14","14",165,175,-182.5,175,"11-6",75,82.5,-90,82.5,257.5,205,227.5,-235,227.5,485,"4/MR-M2a//PL",324.12549000000001,4,324.12548691034317,371.77193348616362,"PL",12416,"SC"]
["3A","Sean Hannigan","SC","M-O",91.46,93,616,0.63330000638961792,"1985-01-27","16",75,null,null,75,"13-6",-225,225,-230,225,300,75,null,null,75,375,"1/M-O/93/PL",375,1,237.48750239610672,237.48750239610672,"PL BP",null,"SC"]
["3C","Julian Onuoha","NC","M-O",116.62,120,801,0.57889997959136963,"1997-06-08","16in",270,-285,285,285,"17-7",192.5,212.5,222.5,222.5,507.5,285,305,-322.5,305,812.5,"1/M-O/120/PL",812.5,1,470.35623341798782,484.46692042052746,"PL BP",989043,"NC"]
[]
["Flt 2A","Name","Team","Div","Bwt - kg","IPF Wt Cls","lot#","Wilks Coeff","DOB","SQ rack",null,null,null,null,"BP rack","BP-1","BP-2","BP-3","Best BP","Sub Total",null,null,null,null,"Best BP","Pl/Div/Cls/Event","Forecast\nScore","F'cast Place","Wilks Pts","Age-Wilks","Events Entered","MemberID","State"]
["2A","Leslie Snapper","NC","FR-O",61.1,63,308,1.0994000434875488,"1993-01-02","14",null,null,null,null,"10-7",60,65,70,70,170,null,null,null,null,70,"1/FR-O/63/BP",70,1,76.958003044128418,76.958003044128418,"PL BP",null,"NC"]
["2B","Jessica Dulkis","NC","FR-O",67.2,72,401,1.023900032043457,"1994-03-06","15",null,null,null,null,"12-5",80,85,87.5,87.5,210,null,null,null,null,87.5,"1/FR-O/72/BP",87.5,1,89.59125280380249,89.59125280380249,"PL BP",1010365,"NC"]
["2B","Tracy Cook","NC","FR-O",70.2,72,407,0.99290001392364502,"1970-07-10","9",null,null,null,null,"11-6",72.5,75,80,80,217.5,null,null,null,null,80,"2/FR-O/72/BP",80,2,79.432001113891602,87.136905221939088,"PL BP",920178,"NC"]
["2C","Mary Rodriguez","NC","FR-O",103.85,"84+",509,0.82400000095367432,"1990-02-16","11",null,null,null,null,"13-6",95,102.5,-112.5,102.5,295,null,null,null,null,102.5,"1/FR-O/84+/BP",102.5,1,84.460000097751617,84.460000097751617,"PL BP",1009251,"NC"]
["2C","Jennifer Patton","SC","FR-O",105,"84+",503,0.82169997692108154,"1982-09-05",null,null,null,null,null,"12-6",85,90,92.5,92.5,0,null,null,null,null,92.5,"2/FR-O/84+/BP",92.5,2,76.007247865200043,76.007247865200043,"PL BP",null,"SC"]
["2B","Tracy Cook","NC","FR-M1a",70.2,72,407,0.99290001392364502,"1970-07-10","9",null,null,null,null,"12-6",72.5,75,80,80,217.5,null,null,null,null,80,"1/FR-M1a//BP",79.432000000000002,1,79.432001113891602,87.136905221939088,"PL BP",920178,"NC"]
["2C","Patricia Rumsey","NC","FR-M2a",79.7,84,409,0.91689997911453247,"1960-03-20","10",null,null,null,null,"11-6",52.5,55,-57.5,55,0,null,null,null,null,55,"1/FR-M2a//BP",50.429499999999997,1,50.429498851299286,65.154912515878678,"PL BP",985361,"NC"]
["2D","Scottie Duncan","SC","MR-O",73.180000000000007,74,905,0.72509998083114624,"1993-06-10","14",null,null,null,null,"14-8",-140,140,-142.5,140,362.5,null,null,null,null,140,"1/MR-O/74/BP",140,1,101.51399731636047,101.51399731636047,"PL BP"," ","SC"]
["1C","Todd Talford","SC","MR-O",82.7,83,210,0.6689000129699707,"1990-07-22","17",null,null,null,null,"14-5",187.5,197.5,205,205,445,null,null,null,null,205,"1/MR-O/83/BP",205,1,137.12450265884399,137.12450265884399,"PL BP",null,"SC"]
["3A","Andre' Easter II","NC","MR-O",91.8,93,606,0.63209998607635498,"1990-09-28","14",null,null,null,null,"14-8",190,195,-202.5,195,470,null,null,null,null,195,"1/MR-O/93/BP",195,1,123.25949728488922,123.25949728488922,"PL BP",967174,"NC"]
["3A","Justin Nuzum","NC","MR-O",90.64,93,611,0.63609999418258667,"1988-03-01","18",null,null,null,null,"14-6",125,132.5,-137.5,132.5,282.5,null,null,null,null,132.5,"2/MR-O/93/BP",132.5,2,84.283249229192734,84.283249229192734,"PL BP",1015833,"NC"]
["3B","Jonathan Russell","SC","MR-O",91.4,93,710,0.63349997997283936,"1986-05-21","17",null,null,null,null,"15-8",130,-137.5,-137.5,130,320,null,null,null,null,130,"3/MR-O/93/BP",130,3,82.354997396469116,82.354997396469116,"PL BP",null,"SC"]
["3B","Brian Mason","SC","MR-O",94.7,105,613,0.62290000915527344,"1984-12-25","16",null,null,null,null,"16-5",172.5,182.5,187.5,187.5,417.5,null,null,null,null,187.5,"1/MR-O/105/BP",187.5,1,116.79375171661377,116.79375171661377,"PL BP",100401,"SC"]
["3A","Chris Connell","NC","MR-O",94.4,105,608,0.62379997968673706,"1988-12-18","11",null,null,null,null,"12-6",-165,165,-175,165,390,null,null,null,null,165,"2/MR-O/105/BP",165,2,102.92699664831161,102.92699664831161,"PL BP",7696,"NC"]
["1B","Royce Young","NC","MR-O",101.8,105,109,0.60439997911453247,"1970-02-04","20",null,null,null,null,"15-7",160,165,-170,165,372.5,null,null,null,null,165,"3/MR-O/105/BP",165,3,99.725996553897858,109.39941821962594,"PL BP",6860,"NC"]
["1B","Charles Harvey","NC","MR-O",114.16,120,116,0.58219999074935913,"1957-03-24",null,null,null,null,null,"15-7",127.5,135,137.5,137.5,0,null,null,null,null,137.5,"1/MR-O/120/BP",137.5,1,80.05249872803688,109.35171326249839,"BP",967255,"NC"]
["1B","Greg Simmons","SC","MR-O",146.78,"120+",112,0.55500000715255737,"1969-10-15","20in",null,null,null,null,"16-6",145,155,-165,155,382.5,null,null,null,null,155,"1/MR-O/120+/BP",155,1,86.025001108646393,95.745826233923438,"PL BP",1014212,"SC"]
["1B","Scott Sherrill","NC","MR-O",128.4,"120+",113,0.56690001487731934,"1962-11-20","17",null,null,null,null,"14-8",152.5,-160,null,152.5,387.5,null,null,null,null,152.5,"2/MR-O/120+/BP",152.5,2,86.452252268791199,107.71950632691383,"PL BP",968460,"NC"]
["1B","Royce Young","NC","MR-M1a",101.8,105,109,0.60439997911453247,"1970-02-04","20",null,null,null,null,"15-7",160,165,-170,165,372.5,null,null,null,null,165,"1/MR-M1a//BP",99.725999999999999,1,99.725996553897858,109.39941821962594,"PL BP",6860,"NC"]
["1B","Kevin Sease","NC","MR-M1a",134.94,"120+",118,0.56199997663497925,"1976-07-12",null,null,null,null,null,"15-8",160,-170,172.5,172.5,0,null,null,null,null,172.5,"2/MR-M1a//BP",96.944999999999993,2,96.94499596953392,98.883895888924599,"BP",null,"NC"]
["1B","Greg Simmons","SC","MR-M1a",146.78,"120+",112,0.55500000715255737,"1969-10-15","20in",null,null,null,null,"15-6",145,155,-165,155,382.5,null,null,null,null,155,"3/MR-M1a//BP",86.025000000000006,3,86.025001108646393,95.745826233923438,"PL BP",1014212,"SC"]
["1B","Tony Hennis","NC","MR-M2a",122.06,"120+",111,0.57270002365112305,"1967-03-08","20",null,null,null,null,"16-8",152.5,167.5,-177.5,167.5,377.5,null,null,null,null,167.5,"1/MR-M2a//BP",95.927250000000001,1,95.92725396156311,110.02856029391289,"PL BP",null,"NC"]
["1B","Scott Sherrill","NC","MR-M2a",128.4,"120+",113,0.56690001487731934,"1962-11-20","17",null,null,null,null,"14-8",152.5,-160,null,152.5,387.5,null,null,null,null,152.5,"2/MR-M2a//BP",86.452250000000006,2,86.452252268791199,107.71950632691383,"PL BP",968460,"NC"]
["1B","Eric Patton","SC","MR-M2a",82.02,83,114,0.67229998111724854,"1962-04-19",null,null,null,null,null,"13-6",-120,120,-125,120,0,null,null,null,null,120,"3/MR-M2a//BP",80.676000000000002,3,80.675997734069824,100.522293176651,"BP",null,"SC"]
["1B","Charles Harvey","NC","MR-M3a",114.16,120,116,0.58219999074935913,"1957-03-24",null,null,null,null,null,"15-7",127.5,135,137.5,137.5,0,null,null,null,null,137.5,"1/MR-M3a//BP",80.052499999999995,1,80.05249872803688,109.35171326249839,"BP",967255,"NC"]
["3A","Sean Hannigan","SC","M-O",91.46,93,616,0.63330000638961792,"1985-01-27","16",null,null,null,null,"13-6",-225,225,-230,225,300,null,null,null,null,225,"1/M-O/93/BP",225,1,142.49250143766403,142.49250143766403,"PL BP",null,"SC"]
["3C","Julian Onuoha","NC","M-O",116.62,120,801,0.57889997959136963,"1997-06-08","16in",null,null,null,null,"17-7",192.5,212.5,222.5,222.5,507.5,null,null,null,null,222.5,"1/M-O/120/BP",222.5,1,128.80524545907974,132.66940282285213,"PL BP",989043,"NC"]
["1B","John von Rohr","SC","M-M4a",118.48,120,117,0.57669997215270996,"1947-12-08",null,null,null,null,null,null,-132.5,-132.5,null,0,0,null,null,null,null,0,"",0,"",0,0,"BP",996918,"SC"]

{"sheet":"Awards","index":6,"n_rows":48,"n_cols":22,"rows_kept":48,"cut":false,"hidden":false,"merged":[[1,0,1,4]]}
[null,null,null,null,null,null,null,null,null,null,null,"FillRows",{"$f":"COUNTA(P:P)+1","v":48}]
["Raw Men 3-Lift 120+-kg cls",null,null,null,null,null,null,null,null,{"$f":"OFFSET($V$1,MATCH(A2,$U:$U,0)-1,0)","v":"MR-O/120+/PL"},null,{"$f":"CONCATENATE(\"U3:U\",M1)","v":"U3:U48"},null,null,null,"Div","Cls","Event"]
["PLACE","NAME",{"$f":"Lifting!E3","v":"Kg"},{"$f":"IF(Q3=\"\",\"Points\",\"\")","v":""},"Team",null,null,null,"row",null,null,"PL","3-Lift",null,null,"FR-O",52,"PL",{"$f":"IF($P3=\"Wilks\",$P3,VLOOKUP($P3,Setup!$I:$J,2,FALSE))","v":"Raw Women"},{"$f":"VLOOKUP(R3,$L$3:$M$7,2,FALSE)","v":"3-Lift"},{"$f":"CONCATENATE($S3,\" \",$T3,\" \",IF($Q3=\"\",\"\",CONCATENATE($Q3,\"-\",$M$10)))","v":"Raw Women 3-Lift 52-kg cls"},{"$f":"CONCATENATE(P3,\"/\",Q3,\"/\",R3)","v":"FR-O/52/PL"}]
[1,{"$f":"IFERROR(INDIRECT(CONCATENATE(\"QuickPrint!B\",I4)),\"\")","v":"William Chapman"},{"$f":"IFERROR(INDIRECT(CONCATENATE(\"QuickPrint!Y\",I4)),\"\")","v":682.5},{"$f":"IFERROR(INDIRECT(CONCATENATE(\"QuickPrint!\",IF($J$10=3,\"AD\",\"AC\"),I4)),\"\")","v":388.75199049711227},{"$f":"IFERROR(VLOOKUP(INDIRECT(CONCATENATE(\"QuickPrint!c\",I4)),Setup!$M$6:$N$93,2,FALSE),\"\")","v":"South Carolina"},null,null,null,{"$f":"MATCH(J4,INDIRECT(CONCATENATE(\"QuickPrint!$Z:$Z\")),0)","v":103},{"$f":"CONCATENATE(\"1/\",$J$2)","v":"1/MR-O/120+/PL"},null,"BP","Bench Press",null,null,"FR-O",57,"PL",{"$f":"IF($P4=\"Wilks\",$P4,VLOOKUP($P4,Setup!$I:$J,2,FALSE))","v":"Raw Women"},{"$f":"VLOOKUP(R4,$L$3:$M$7,2,FALSE)","v":"3-Lift"},{"$f":"CONCATENATE($S4,\" \",$T4,\" \",IF($Q4=\"\",\"\",CONCATENATE($Q4,\"-\",$M$10)))","v":"Raw Women 3-Lift 57-kg cls"},{"$f":"CONCATENATE(P4,\"/\",Q4,\"/\",R4)","v":"FR-O/57/PL"}]
[2,{"$f":"IFERROR(INDIRECT(CONCATENATE(\"QuickPrint!B\",I5)),\"\")","v":"Scott Sherrill"},{"$f":"IFERROR(INDIRECT(CONCATENATE(\"QuickPrint!Y\",I5)),\"\")","v":645},{"$f":"IFERROR(INDIRECT(CONCATENATE(\"QuickPrint!\",IF($J$10=3,\"AD\",\"AC\"),I5)),\"\")","v":365.65050959587097},{"$f":"IFERROR(VLOOKUP(INDIRECT(CONCATENATE(\"QuickPrint!c\",I5)),Setup!$M$6:$N$93,2,FALSE),\"\")","v":"North Carolina"},null,null,null,{"$f":"MATCH(J5,INDIRECT(CONCATENATE(\"QuickPrint!$Z:$Z\")),0)","v":104},{"$f":"CONCATENATE(\"2/\",$J$2)","v":"2/MR-O/120+/PL"},null,"SQ","Squat",null,null,"FR-O",63,"PL",{"$f":"IF($P5=\"Wilks\",$P5,VLOOKUP($P5,Setup!$I:$J,2,FALSE))","v":"Raw Women"},"3-Lift","Raw Women 3-Lift 63-kg cls","FR-O/63/PL"]
[3,{"$f":"IFERROR(INDIRECT(CONCATENATE(\"QuickPrint!B\",I6)),\"\")","v":"Greg Simmons"},{"$f":"IFERROR(INDIRECT(CONCATENATE(\"QuickPrint!Y\",I6)),\"\")","v":597.5},{"$f":"IFERROR(INDIRECT(CONCATENATE(\"QuickPrint!\",IF($J$10=3,\"AD\",\"AC\"),I6)),\"\")","v":331.61250427365303},{"$f":"IFERROR(VLOOKUP(INDIRECT(CONCATENATE(\"QuickPrint!c\",I6)),Setup!$M$6:$N$93,2,FALSE),\"\")","v":"South Carolina"},null,null,null,{"$f":"MATCH(J6,INDIRECT(CONCATENATE(\"QuickPrint!$Z:$Z\")),0)","v":105},{"$f":"CONCATENATE(\"3/\",$J$2)","v":"3/MR-O/120+/PL"},null,"DL","Deadlift",null,null,"FR-O",72,"PL",{"$f":"IF($P6=\"Wilks\",$P6,VLOOKUP($P6,Setup!$I:$J,2,FALSE))","v":"Raw Women"},"3-Lift","Raw Women 3-Lift 72-kg cls","FR-O/72/PL"]
[4,{"$f":"IFERROR(INDIRECT(CONCATENATE(\"QuickPrint!B\",I7)),\"\")","v":"Forrest Faulk"},{"$f":"IFERROR(INDIRECT(CONCATENATE(\"QuickPrint!Y\",I7)),\"\")","v":527.5},{"$f":"IFERROR(INDIRECT(CONCATENATE(\"QuickPrint!\",IF($J$10=3,\"AD\",\"AC\"),I7)),\"\")","v":289.38650950789452},{"$f":"IFERROR(VLOOKUP(INDIRECT(CONCATENATE(\"QuickPrint!c\",I7)),Setup!$M$6:$N$93,2,FALSE),\"\")","v":"Georgia"},null,null,null,{"$f":"MATCH(J7,INDIRECT(CONCATENATE(\"QuickPrint!$Z:$Z\")),0)","v":106},{"$f":"CONCATENATE(\"4/\",$J$2)","v":"4/MR-O/120+/PL"},null,"PP","Push Pull",null,null,"FR-O",84,"PL",{"$f":"IF($P7=\"Wilks\",$P7,VLOOKUP($P7,Setup!$I:$J,2,FALSE))","v":"Raw Women"},"3-Lift","Raw Women 3-Lift 84-kg cls","FR-O/84/PL"]
[5,{"$f":"IFERROR(INDIRECT(CONCATENATE(\"QuickPrint!B\",I8)),\"\")","v":""},{"$f":"IFERROR(INDIRECT(CONCATENATE(\"QuickPrint!Y\",I8)),\"\")","v":""},{"$f":"IFERROR(INDIRECT(CONCATENATE(\"QuickPrint!\",IF($J$10=3,\"AD\",\"AC\"),I8)),\"\")","v":""},{"$f":"IFERROR(VLOOKUP(INDIRECT(CONCATENATE(\"QuickPrint!c\",I8)),Setup!$M$6:$N$93,2,FALSE),\"\")","v":""},null,null,null,{"$f":"MATCH(J8,INDIRECT(CONCATENATE(\"QuickPrint!$Z:$Z\")),0)","v":{"$error":"#N/A"}},{"$f":"CONCATENATE(\"5/\",$J$2)","v":"5/MR-O/120+/PL"},null,null,null,null,null,"FR-O","84+","PL",{"$f":"IF($P8=\"Wilks\",$P8,VLOOKUP($P8,Setup!$I:$J,2,FALSE))","v":"Raw Women"},"3-Lift","Raw Women 3-Lift 84+-kg cls","FR-O/84+/PL"]
[null,null,null,null,null,null,null,null,null,null,null,null,null,null,null,"FR-M1a",null,"PL",{"$f":"IF($P9=\"Wilks\",$P9,VLOOKUP($P9,Setup!$I:$J,2,FALSE))","v":"Raw Women (40-49)"},"3-Lift","Raw Women (40-49) 3-Lift ","FR-M1a//PL"]
[null,null,null,null,null,null,null,null,"score code",{"$f":"IF(P3=\"Wilks\",4,VLOOKUP(OFFSET($P$1,MATCH(A2,$U:$U,0)-1,0),Setup!I5:K201,3,FALSE))","v":1},null,{"$f":"Setup!B39","v":"Kilograms"},{"$f":"IF(L10=\"Pounds\",\"lb cls\",\"kg cls\")","v":"kg cls"},null,null,"FR-M2a",null,"PL",{"$f":"IF($P10=\"Wilks\",$P10,VLOOKUP($P10,Setup!$I:$J,2,FALSE))","v":"Raw Women (50-59)"},"3-Lift","Raw Women (50-59) 3-Lift ","FR-M2a//PL"]
[null,null,null,null,null,null,null,null,null,null,null,null,null,null,null,"FR-M3a",null,"PL",{"$f":"IF($P11=\"Wilks\",$P11,VLOOKUP($P11,Setup!$I:$J,2,FALSE))","v":"Raw Women (60-69)"},"3-Lift","Raw Women (60-69) 3-Lift ","FR-M3a//PL"]
[null,null,null,null,null,null,null,null,null,null,null,null,null,null,null,"FR-M4a",null,"PL",{"$f":"IF($P12=\"Wilks\",$P12,VLOOKUP($P12,Setup!$I:$J,2,FALSE))","v":"Raw Women (70-79)"},"3-Lift","Raw Women (70-79) 3-Lift ","FR-M4a//PL"]
[null,null,null,null,null,null,null,null,null,null,null,null,null,null,null,"MR-T1",53,"PL",{"$f":"IF($P13=\"Wilks\",$P13,VLOOKUP($P13,Setup!$I:$J,2,FALSE))","v":"Raw Men (14-15)"},"3-Lift","Raw Men (14-15) 3-Lift 53-kg cls","MR-T1/53/PL"]
[null,null,null,null,null,null,null,null,null,null,null,null,null,null,null,"MR-T1",74,"PL",{"$f":"IF($P14=\"Wilks\",$P14,VLOOKUP($P14,Setup!$I:$J,2,FALSE))","v":"Raw Men (14-15)"},"3-Lift","Raw Men (14-15) 3-Lift 74-kg cls","MR-T1/74/PL"]
[null,null,null,null,null,null,null,null,null,null,null,null,null,null,null,"MR-T1",83,"PL",{"$f":"IF($P15=\"Wilks\",$P15,VLOOKUP($P15,Setup!$I:$J,2,FALSE))","v":"Raw Men (14-15)"},"3-Lift","Raw Men (14-15) 3-Lift 83-kg cls","MR-T1/83/PL"]
[null,null,null,null,null,null,null,null,null,null,null,null,null,null,null,"MR-T1",93,"PL",{"$f":"IF($P16=\"Wilks\",$P16,VLOOKUP($P16,Setup!$I:$J,2,FALSE))","v":"Raw Men (14-15)"},"3-Lift","Raw Men (14-15) 3-Lift 93-kg cls","MR-T1/93/PL"]
[null,null,null,null,null,null,null,null,null,null,null,null,null,null,null,"MR-T2",59,"PL",{"$f":"IF($P17=\"Wilks\",$P17,VLOOKUP($P17,Setup!$I:$J,2,FALSE))","v":"Raw Men (16-17)"},"3-Lift","Raw Men (16-17) 3-Lift 59-kg cls","MR-T2/59/PL"]
[null,null,null,null,null,null,null,null,null,null,null,null,null,null,null,"MR-T2",83,"PL",{"$f":"IF($P18=\"Wilks\",$P18,VLOOKUP($P18,Setup!$I:$J,2,FALSE))","v":"Raw Men (16-17)"},"3-Lift","Raw Men (16-17) 3-Lift 83-kg cls","MR-T2/83/PL"]
[null,null,null,null,null,null,null,null,null,null,null,null,null,null,null,"MR-T2",93,"PL",{"$f":"IF($P19=\"Wilks\",$P19,VLOOKUP($P19,Setup!$I:$J,2,FALSE))","v":"Raw Men (16-17)"},"3-Lift","Raw Men (16-17) 3-Lift 93-kg cls","MR-T2/93/PL"]
[null,null,null,null,null,null,null,null,null,null,null,null,null,null,null,"MR-T3",120,"PL",{"$f":"IF($P20=\"Wilks\",$P20,VLOOKUP($P20,Setup!$I:$J,2,FALSE))","v":"Raw Men (18-19)"},"3-Lift","Raw Men (18-19) 3-Lift 120-kg cls","MR-T3/120/PL"]
[null,null,null,null,null,null,null,null,null,null,null,null,null,null,null,"MR-O",66,"PL",{"$f":"IF($P21=\"Wilks\",$P21,VLOOKUP($P21,Setup!$I:$J,2,FALSE))","v":"Raw Men"},"3-Lift","Raw Men 3-Lift 66-kg cls","MR-O/66/PL"]
[null,null,null,null,null,null,null,null,null,null,null,null,null,null,null,"MR-O",74,"PL",{"$f":"IF($P22=\"Wilks\",$P22,VLOOKUP($P22,Setup!$I:$J,2,FALSE))","v":"Raw Men"},"3-Lift","Raw Men 3-Lift 74-kg cls","MR-O/74/PL"]
[null,null,null,null,null,null,null,null,null,null,null,null,null,null,null,"MR-O",83,"PL",{"$f":"IF($P23=\"Wilks\",$P23,VLOOKUP($P23,Setup!$I:$J,2,FALSE))","v":"Raw Men"},"3-Lift","Raw Men 3-Lift 83-kg cls","MR-O/83/PL"]
[null,null,null,null,null,null,null,null,null,null,null,null,null,null,null,"MR-O",93,"PL",{"$f":"IF($P24=\"Wilks\",$P24,VLOOKUP($P24,Setup!$I:$J,2,FALSE))","v":"Raw Men"},"3-Lift","Raw Men 3-Lift 93-kg cls","MR-O/93/PL"]
[null,null,null,null,null,null,null,null,null,null,null,null,null,null,null,"MR-O",105,"PL",{"$f":"IF($P25=\"Wilks\",$P25,VLOOKUP($P25,Setup!$I:$J,2,FALSE))","v":"Raw Men"},"3-Lift","Raw Men 3-Lift 105-kg cls","MR-O/105/PL"]
[null,null,null,null,null,null,null,null,null,null,null,null,null,null,null,"MR-O",120,"PL",{"$f":"IF($P26=\"Wilks\",$P26,VLOOKUP($P26,Setup!$I:$J,2,FALSE))","v":"Raw Men"},"3-Lift","Raw Men 3-Lift 120-kg cls","MR-O/120/PL"]
[null,null,null,null,null,null,null,null,null,null,null,null,null,null,null,"MR-O","120+","PL",{"$f":"IF($P27=\"Wilks\",$P27,VLOOKUP($P27,Setup!$I:$J,2,FALSE))","v":"Raw Men"},"3-Lift","Raw Men 3-Lift 120+-kg cls","MR-O/120+/PL"]
[null,null,null,null,null,null,null,null,null,null,null,null,null,null,null,"MR-M1a",null,"PL",{"$f":"IF($P28=\"Wilks\",$P28,VLOOKUP($P28,Setup!$I:$J,2,FALSE))","v":"Raw Men (40-49)"},"3-Lift","Raw Men (40-49) 3-Lift ","MR-M1a//PL"]
[null,null,null,null,null,null,null,null,null,null,null,null,null,null,null,"MR-M2a",null,"PL",{"$f":"IF($P29=\"Wilks\",$P29,VLOOKUP($P29,Setup!$I:$J,2,FALSE))","v":"Raw Men (50-59)"},"3-Lift","Raw Men (50-59) 3-Lift ","MR-M2a//PL"]
[null,null,null,null,null,null,null,null,null,null,null,null,null,null,null,"M-O",93,"PL",{"$f":"IF($P30=\"Wilks\",$P30,VLOOKUP($P30,Setup!$I:$J,2,FALSE))","v":"Men"},"3-Lift","Men 3-Lift 93-kg cls","M-O/93/PL"]
[null,null,null,null,null,null,null,null,null,null,null,null,null,null,null,"M-O",120,"PL",{"$f":"IF($P31=\"Wilks\",$P31,VLOOKUP($P31,Setup!$I:$J,2,FALSE))","v":"Men"},"3-Lift","Men 3-Lift 120-kg cls","M-O/120/PL"]
[null,null,null,null,null,null,null,null,null,null,null,null,null,null,null,"FR-O",63,"BP",{"$f":"IF($P32=\"Wilks\",$P32,VLOOKUP($P32,Setup!$I:$J,2,FALSE))","v":"Raw Women"},"Bench Press","Raw Women Bench Press 63-kg cls","FR-O/63/BP"]
[null,null,null,null,null,null,null,null,null,null,null,null,null,null,null,"FR-O",72,"BP",{"$f":"IF($P33=\"Wilks\",$P33,VLOOKUP($P33,Setup!$I:$J,2,FALSE))","v":"Raw Women"},"Bench Press","Raw Women Bench Press 72-kg cls","FR-O/72/BP"]
[null,null,null,null,null,null,null,null,null,null,null,null,null,null,null,"FR-O","84+","BP",{"$f":"IF($P34=\"Wilks\",$P34,VLOOKUP($P34,Setup!$I:$J,2,FALSE))","v":"Raw Women"},"Bench Press","Raw Women Bench Press 84+-kg cls","FR-O/84+/BP"]
[null,null,null,null,null,null,null,null,null,null,null,null,null,null,null,"FR-M1a",null,"BP",{"$f":"IF($P35=\"Wilks\",$P35,VLOOKUP($P35,Setup!$I:$J,2,FALSE))","v":"Raw Women (40-49)"},"Bench Press","Raw Women (40-49) Bench Press ","FR-M1a//BP"]
[null,null,null,null,null,null,null,null,null,null,null,null,null,null,null,"FR-M2a",null,"BP",{"$f":"IF($P36=\"Wilks\",$P36,VLOOKUP($P36,Setup!$I:$J,2,FALSE))","v":"Raw Women (50-59)"},"Bench Press","Raw Women (50-59) Bench Press ","FR-M2a//BP"]
[null,null,null,null,null,null,null,null,null,null,null,null,null,null,null,"MR-O",74,"BP",{"$f":"IF($P37=\"Wilks\",$P37,VLOOKUP($P37,Setup!$I:$J,2,FALSE))","v":"Raw Men"},"Bench Press","Raw Men Bench Press 74-kg cls","MR-O/74/BP"]
[null,null,null,null,null,null,null,null,null,null,null,null,null,null,null,"MR-O",83,"BP",{"$f":"IF($P38=\"Wilks\",$P38,VLOOKUP($P38,Setup!$I:$J,2,FALSE))","v":"Raw Men"},"Bench Press","Raw Men Bench Press 83-kg cls","MR-O/83/BP"]
[null,null,null,null,null,null,null,null,null,null,null,null,null,null,null,"MR-O",93,"BP",{"$f":"IF($P39=\"Wilks\",$P39,VLOOKUP($P39,Setup!$I:$J,2,FALSE))","v":"Raw Men"},"Bench Press","Raw Men Bench Press 93-kg cls","MR-O/93/BP"]
[null,null,null,null,null,null,null,null,null,null,null,null,null,null,null,"MR-O",105,"BP",{"$f":"IF($P40=\"Wilks\",$P40,VLOOKUP($P40,Setup!$I:$J,2,FALSE))","v":"Raw Men"},"Bench Press","Raw Men Bench Press 105-kg cls","MR-O/105/BP"]
[null,null,null,null,null,null,null,null,null,null,null,null,null,null,null,"MR-O",105,"BP",{"$f":"IF($P41=\"Wilks\",$P41,VLOOKUP($P41,Setup!$I:$J,2,FALSE))","v":"Raw Men"},"Bench Press","Raw Men Bench Press 105-kg cls","MR-O/105/BP"]
[null,null,null,null,null,null,null,null,null,null,null,null,null,null,null,"MR-O",120,"BP",{"$f":"IF($P42=\"Wilks\",$P42,VLOOKUP($P42,Setup!$I:$J,2,FALSE))","v":"Raw Men"},"Bench Press","Raw Men Bench Press 120-kg cls","MR-O/120/BP"]
[null,null,null,null,null,null,null,null,null,null,null,null,null,null,null,"MR-O","120+","BP",{"$f":"IF($P43=\"Wilks\",$P43,VLOOKUP($P43,Setup!$I:$J,2,FALSE))","v":"Raw Men"},"Bench Press","Raw Men Bench Press 120+-kg cls","MR-O/120+/BP"]
[null,null,null,null,null,null,null,null,null,null,null,null,null,null,null,"MR-M1a",null,"BP",{"$f":"IF($P44=\"Wilks\",$P44,VLOOKUP($P44,Setup!$I:$J,2,FALSE))","v":"Raw Men (40-49)"},"Bench Press","Raw Men (40-49) Bench Press ","MR-M1a//BP"]
[null,null,null,null,null,null,null,null,null,null,null,null,null,null,null,"MR-M2a",null,"BP",{"$f":"IF($P45=\"Wilks\",$P45,VLOOKUP($P45,Setup!$I:$J,2,FALSE))","v":"Raw Men (50-59)"},"Bench Press","Raw Men (50-59) Bench Press ","MR-M2a//BP"]
[null,null,null,null,null,null,null,null,null,null,null,null,null,null,null,"MR-M3a",null,"BP",{"$f":"IF($P46=\"Wilks\",$P46,VLOOKUP($P46,Setup!$I:$J,2,FALSE))","v":"Raw Men (60-69)"},"Bench Press","Raw Men (60-69) Bench Press ","MR-M3a//BP"]
[null,null,null,null,null,null,null,null,null,null,null,null,null,null,null,"M-O",93,"BP",{"$f":"IF($P47=\"Wilks\",$P47,VLOOKUP($P47,Setup!$I:$J,2,FALSE))","v":"Men"},"Bench Press","Men Bench Press 93-kg cls","M-O/93/BP"]
[null,null,null,null,null,null,null,null,null,null,null,null,null,null,null,"M-O",120,"BP",{"$f":"IF($P48=\"Wilks\",$P48,VLOOKUP($P48,Setup!$I:$J,2,FALSE))","v":"Men"},"Bench Press","Men Bench Press 120-kg cls","M-O/120/BP"]

{"sheet":"SpeakersCard","index":7,"n_rows":26,"n_cols":15,"rows_kept":26,"cut":false,"hidden":false,"merged":[[1,0,1,4],[1,8,1,12],[3,11,3,12],[2,1,2,3],[2,9,2,11],[11,8,11,9],[3,3,3,4],[5,0,5,1],[9,0,9,1],[4,3,4,4],[9,8,9,9],[5,3,5,4],[4,5,4,6],[5,5,5,6],[22,0,22,1],[17,3,17,4],[17,11,17,12],[12,0,12,6],[12,8,12,14],[14,0,14,4],[14,8,14,12],[18,13,18,14],[18,3,18,4],[18,11,18,12],[18,0,18,1],[18,5,18,6],[18,8,18,9],[22,8,22,9],[23,0,23,1],[23,8,23,9],[24,0,24,1],[24,8,24,9],[25,0,25,6],[25,8,25,14],[24,2,24,3],[24,10,24,11],[4,13,4,14],[5,8,5,9],[5,13,5,14],[16,3,16,4],[17,5,17,6],[16,11,16,12],[17,13,17,14],[11,2,11,3],[11,10,11,11],[4,11,4,12],[5,11,5,12],[15,1,15,3],[15,9,15,11],[10,0,10,1],[10,8,10,9],[11,0,11,1]]}
[]
[{"$f":"Setup!$B$6","v":"2018 Battle on the  Border"},null,null,null,null,"Flight/\nGroup:","2D",null,{"$f":"Setup!$B$6","v":"2018 Battle on the  Border"},null,null,null,null,"Flight/\nGroup:","1B"]
["Name &\nMbr #:","Zach Henderson-",null,null,"TN","Lot number:",907,null,"Name &\nMbr #:","Zak Mayo-100399",null,null,"NC","Lot number:",105]
["DOB:","1988-07-11","Team:","TN",null,"Weight\nClass:","74 Kg",null,"DOB:","1974-04-30","Team:","NC",null,"Weight\nClass:","93 Kg"]
["Body Weight:",null,null,"Events Entered:",null,"Division(s)",null,null,"Body Weight:",null,null,"Events Entered:",null,"Division(s)"]
["Lifter/Coach\nInitials:",null,null,"PL",null,"MR-O",null,null,"Lifter/Coach\nInitials:",null,null,"PL",null,"MR-O MR-M1a"]
["Event","Rack Hts","1st\nAttempt","2nd Attempt","3rd\nAttempt","Best Attempt","Place",null,"Event","Rack Hts","1st\nAttempt","2nd Attempt","3rd\nAttempt","Best Attempt","Place"]
["Squat","13",null,null,null,null,null,null,"Squat","16"]
["Bench Press","13-5",null,null,null,null,null,null,"Bench Press","13-7"]
[null,null,null,null,"Subtotal",null,null,null,null,null,null,null,"Subtotal"]
["Deadlift",null,null,null,null,null,null,null,"Deadlift"]
["Wilks Points:",null,null,null,"Total",null,null,null,"Wilks Points:",null,null,null,"Total"]
["NextLifter.com",null,null,null,null,null,null,null,{"$f":"A13","v":"NextLifter.com"}]
[]
[{"$f":"Setup!$B$6","v":"2018 Battle on the  Border"},null,null,null,null,"Flight/\nGroup:","3C",null,{"$f":"Setup!$B$6","v":"2018 Battle on the  Border"},null,null,null,null,"Flight/\nGroup:","3A"]
["Name &\nMbr #:","William Chapman-1015454",null,null,"SC","Lot number:",810,null,"Name &\nMbr #:","William Horstmann-1012064",null,null,"TN","Lot number:",603]
["DOB:","1993-04-02","Team:","SC",null,"Weight\nClass:","120+ Kg",null,"DOB:","1994-12-09","Team:","TN",null,"Weight\nClass:","93 Kg"]
["Body Weight:",null,null,"Events Entered:",null,"Division(s)",null,null,"Body Weight:",null,null,"Events Entered:",null,"Division(s)"]
["Lifter/Coach\nInitials:",null,null,"PL",null,"MR-O",null,null,"Lifter/Coach\nInitials:",null,null,"PL",null,"MR-O"]
["Event","Rack Hts","1st\nAttempt","2nd Attempt","3rd\nAttempt","Best Attempt","Place",null,"Event","Rack Hts","1st\nAttempt","2nd Attempt","3rd\nAttempt","Best Attempt","Place"]
["Squat",null,null,null,null,null,null,null,"Squat"]
["Bench Press",null,null,null,null,null,null,null,"Bench Press"]
[null,null,null,null,"Subtotal",null,null,null,null,null,null,null,"Subtotal"]
["Deadlift",null,null,null,null,null,null,null,"Deadlift"]
["Wilks Points:",null,null,null,"Total",null,null,null,"Wilks Points:",null,null,null,"Total"]
[{"$f":"A13","v":"NextLifter.com"},null,null,null,null,null,null,null,{"$f":"A13","v":"NextLifter.com"}]

{"sheet":"ContestResults","index":8,"n_rows":1,"n_cols":33,"rows_kept":1,"cut":false,"hidden":false,"merged":[]}
[null,null,null,null,null,null,null,null,null,null,null,null,null,null,null,null,null,null,null,null,null,null,null,null,null,null,null,null,null,null,null,null,{"$f":"3*COUNTA(C:C)","v":0}]

{"sheet":"ContestLog","index":9,"n_rows":304,"n_cols":10,"rows_kept":304,"cut":false,"hidden":false,"merged":[]}
["Time","Name",{"$f":"\"Weight Cls \"&IF(Setup!B39=\"Kilograms\",\"(Kg)\",\"(Lb)\")","v":"Weight Cls (Kg)"},"Lift",{"$f":"\"Weight (\"&Setup!G15&\")\"","v":"Weight (Kg)"},{"$f":"\"Total (\"&Setup!G15&\")\"","v":"Total (Kg)"},"Record?",null,null,{"$f":"COUNTA(B:B)+1","v":305}]
["10:33:03","Michele Moe",63,"Squat 1",80,null,"Record Attempt"]
["10:34:20","Arielle Patra",57,"Squat 1",85]
["10:35:11","Leslie Snapper",63,"Squat 1",85]
["10:36:19","Lisa Womble",57,"Squat 1",95]
["10:37:05","Karen Naegel",57,"Squat 1",-95]
["10:37:53","Brianna Green",63,"Squat 1",97.5]
["10:38:58","Betty Polerik",63,"Squat 1",100,null,"Record Attempt"]
["10:40:13","Jerri Lamar",57,"Squat 1",102.5]
["10:41:35","Heather Faas",52,"Squat 1",117.5]
["10:43:28","Amy Mason",63,"Squat 1",132.5]
["10:44:49","Michele Moe",63,"Squat 2",85,null,"Record Attempt"]
["10:45:47","Karen Naegel",57,"Squat 2",95]
["10:46:50","Arielle Patra",57,"Squat 2",100]
["10:48:17","Lisa Womble",57,"Squat 2",-100,260]
["10:49:13","Leslie Snapper",63,"Squat 2",100]
["10:50:07","Brianna Green",63,"Squat 2",105]
["10:51:08","Jerri Lamar",57,"Squat 2",107.5]
["10:52:05","Betty Polenik",63,"Squat 2",107.5,null,"Record Attempt"]
["10:53:20","Heather Faas",52,"Squat 2",122.5]
["10:54:36","Amy Mason",63,"Squat 2",137.5]
["10:55:43","Michele Moe",63,"Squat 3",92.5,null,"Record Attempt"]
["10:56:42","Karen Naegel",57,"Squat 3",97.5]
["10:57:34","Arielle Patra",57,"Squat 3",105]
["10:58:47","Lisa Womble",57,"Squat 3",105]
["10:59:30","Leslie Snapper",63,"Squat 3",-105,257.5]
["11:00:16","Jerri Lamar",57,"Squat 3",-110,272.5]
["11:01:08","Brianna Green",63,"Squat 3",110]
["11:02:05","Betty Polenik",63,"Squat 3",110,null,"Record Attempt"]
["11:03:12","Heather Faas",52,"Squat 3",125,null,"Record Attempt"]
["11:04:16","Amy Mason",63,"Squat 3",-140,350]
["11:06:19","Erin Ball",72,"Squat 1",72.5]
["11:07:25","Rebecca Marino",72,"Squat 1",77.5]
["11:08:33","Linda Mertens",72,"Squat 1",90]
["11:10:40","Michelle Wittke",72,"Squat 1",92.5]
["11:11:27","Jessica Dulkis",72,"Squat 1",110]
["11:12:16","Meghan Bradsher-James",72,"Squat 1",117.5]
["11:13:26","Tracy Cook",72,"Squat 1",127.5]
["11:14:43","Erin Ball",72,"Squat 2",82.5]
["11:15:26","Rebecca Marino",72,"Squat 2",87.5]
["11:16:11","Linda Mertens",72,"Squat 2",97.5]
["11:17:07","Michelle Wittke",72,"Squat 2",102.5]
["11:18:03","Jessica Dulkis",72,"Squat 2",120]
["11:18:55","Meghan Bradsher-James",72,"Squat 2",125]
["11:19:57","Tracy Cook",72,"Squat 2",137.5]
["11:21:16","Erin Ball",72,"Squat 3",87.5]
["11:22:05","Rebecca Marino",72,"Squat 3",95]
["11:22:49","Linda Mertens",72,"Squat 3",102.5]
["11:23:55","Michelle Wittke",72,"Squat 3",-110,270]
["11:24:52","Jessica Dulkis",72,"Squat 3",122.5]
["11:25:51","Meghan Bradsher-James",72,"Squat 3",130]
["11:26:50","Tracy Cook",72,"Squat 3",-140,365]
["11:28:10","Linda Odum",84,"Squat 1",45,null,"Record Attempt"]
["11:29:33","Kim Lewis",84,"Squat 1",-97.5]
["11:30:36","Chrissy Helton","84+","Squat 1",102.5]
["11:31:46","Patricia Rumsey",84,"Squat 1",-107.5]
["11:32:50","Tomika Baldwin",84,"Squat 1",-120]
["11:33:52","Daynya Quigley",84,"Squat 1",125]
["11:34:37","Kristin McCarthy","84+","Squat 1",125,null,"Record Attempt"]
["11:35:27","Ashley Banks",84,"Squat 1",142.5]
["11:36:31","Mary Rodriguez","84+","Squat 1",160]
["11:37:50","Linda Odum",84,"Squat 2",52.5,null,"Record Attempt"]
["11:38:56","Kim Lewis",84,"Squat 2",-97.5]
["11:39:53","Patricia Rumsey",84,"Squat 2",-107.5]
["11:41:04","Chrissy Helton","84+","Squat 2",110]
["11:42:09","Tomika Baldwin",84,"Squat 2",-120]
["11:43:09","Kristin McCarthy","84+","Squat 2",130,null,"Record Attempt"]
["11:43:58","Daynya Quigley",84,"Squat 2",132.5]
["11:45:12","Ashley Banks",84,"Squat 2",152.5]
["11:46:29","Mary Rodriguez","84+","Squat 2",175]
["11:47:54","Linda Odum",84,"Squat 3",57.5,null,"Record Attempt"]
["11:48:51","Kim Lewis",84,"Squat 3",97.5]
["11:50:14","Patricia Rumsey",84,"Squat 3",-107.5]
["11:51:30","Chrissy Helton","84+","Squat 3",-117.5,307.5]
["11:52:38","Tomika Baldwin",84,"Squat 3",-120]
["11:53:46","Kristin McCarthy","84+","Squat 3",132.5,null,"Record Attempt"]
["11:54:45","Daynya Quigley",84,"Squat 3",140]
["11:55:39","Ashley Banks",84,"Squat 3",-155,360]
["11:56:47","Mary Rodriguez","84+","Squat 3",192.5,null,"Record Attempt"]
["11:58:53","Frank Bottone Jr. ",66,"Squat 1",120]
["11:59:39","Mike Jordan",74,"Squat 1",122.5]
["12:00:51","Zach Henderson",74,"Squat 1",152.5]
["12:01:46","Simon Jiang",74,"Squat 1",165]
["12:03:13","Mark Langley",74,"Squat 1",175]
["12:04:17","Scottie Duncan",74,"Squat 1",200]
["12:05:12","Rodney Alexander",74,"Squat 1",200]
["12:06:17","Frank Bottone Jr. ",66,"Squat 2",130]
["12:07:07","Mike Jordan",74,"Squat 2",132.5]
["12:08:30","Zach Henderson",74,"Squat 2",157.5]
["12:09:27","Simon Jiang",74,"Squat 2",175]
["12:10:29","Mark Langley",74,"Squat 2",187.5]
["12:11:37","Scottie Duncan",74,"Squat 2",212.5]
["12:12:26","Rodney Alexander",74,"Squat 2",212.5]
["12:13:36","Frank Bottone Jr. ",66,"Squat 3",-137.5,360]
["12:14:30","Mike Jordan",74,"Squat 3",142.5]
["12:15:37","Zach Henderson",74,"Squat 3",167.5]
["12:16:45","Simon Jiang",74,"Squat 3",185]
["12:17:45","Mark Langley",74,"Squat 3",-190,492.5]
["12:19:04","Rodney Alexander",74,"Squat 3",220]
["12:20:28","Scottie Duncan",74,"Squat 3",222.5]
["12:43:48","Arielle Patra",57,"Bench Press 1",42.5]
["12:45:12","Lisa Womble",57,"Bench Press 1",52.5]
["12:46:06","Michele Moe",63,"Bench Press 1",52.5,null,"Record Attempt"]
["12:47:09","Jerri Lamar",57,"Bench Press 1",-55]
["12:48:13","Betty Polenik",63,"Bench Press 1",55,null,"Record Attempt"]
["12:49:15","Karen Naegel",57,"Bench Press 1",57.5]
["12:50:08","Leslie Snapper",63,"Bench Press 1",60]
["12:50:59","Heather Faas",52,"Bench Press 1",62.5]
["12:51:53","Amy Mason",63,"Bench Press 1",62.5]
["12:52:43","Brianna Green",63,"Bench Press 1",65]
["12:53:50","Arielle Patra",57,"Bench Press 2",47.5]
["12:54:44","Jerri Lamar",57,"Bench Press 2",-55]
["12:55:50","Lisa Womble",57,"Bench Press 2",57.5]
["12:56:39","Michele Moe",63,"Bench Press 2",57.5,null,"Record Attempt"]
["12:57:30","Karen Naegel",57,"Bench Press 2",-60,285]
["12:58:49","Betty Polenik",63,"Bench Press 2",-60,277.5]
["12:59:59","Heather Faas",52,"Bench Press 2",65]
["13:00:43","Leslie Snapper",63,"Bench Press 2",65]
["13:01:40","Amy Mason",63,"Bench Press 2",65]
["13:02:30","Brianna Green",63,"Bench Press 2",70]
["13:03:41","Arielle Patra",57,"Bench Press 3",-55,267.5]
["13:04:41","Jerri Lamar",57,"Bench Press 3",-55]
["13:05:44","Lisa Womble",57,"Bench Press 3",-60,275]
["13:06:40","Karen Naegel",57,"Bench Press 3",-60,285]
["13:07:32","Michele Moe",63,"Bench Press 3",-60,265]
["13:08:24","Betty Polenik",63,"Bench Press 3",-60,277.5]
["13:10:14","Heather Faas",52,"Bench Press 3",67.5]
["13:11:00","Amy Mason",63,"Bench Press 3",-67.5,352.5]
["13:11:53","Leslie Snapper",63,"Bench Press 3",70]
["13:12:38","Brianna Green",63,"Bench Press 3",-72.5,305]
["13:14:00","Erin Ball",72,"Bench Press 1",35]
["13:14:58","Michelle Wittke",72,"Bench Press 1",47.5]
["13:15:39","Linda Mertens",72,"Bench Press 1",47.5]
["13:16:29","Rebecca Marino",72,"Bench Press 1",57.5]
["13:17:27","Meghan Bradsher-James",72,"Bench Press 1",67.5]
["13:18:19","Tracy Cook",72,"Bench Press 1",72.5]
["13:19:21","Jessica Dulkis",72,"Bench Press 1",80]
["13:19:30","Jessica Dulkis",72,"Bench Press 1",80]
["13:20:37","Erin Ball",72,"Bench Press 2",40]
["13:21:38","Michelle Wittke",72,"Bench Press 2",52.5]
["13:22:22","Linda Mertens",72,"Bench Press 2",52.5]
["13:23:15","Rebecca Marino",72,"Bench Press 2",60]
["13:24:12","Meghan Bradsher-James",72,"Bench Press 2",72.5]
["13:25:10","Tracy Cook",72,"Bench Press 2",75]
["13:26:02","Jessica Dulkis",72,"Bench Press 2",85]
["13:27:06","Erin Ball",72,"Bench Press 3",45]
["13:28:02","Michelle Wittke",72,"Bench Press 3",55]
["13:28:41","Linda Mertens",72,"Bench Press 3",57.5]
["13:29:24","Rebecca Marino",72,"Bench Press 3",-62.5,272.5]
["13:30:21","Meghan Bradsher-James",72,"Bench Press 3",75]
["13:31:19","Tracy Cook",72,"Bench Press 3",80]
["13:32:20","Jessica Dulkis",72,"Bench Press 3",87.5]
["13:33:28","Linda Odum",84,"Bench Press 1",-32.5]
["13:34:18","Kim Lewis",84,"Bench Press 1",40]
["13:35:22","Patricia Rumsey",84,"Bench Press 1",52.5,null,"Record Attempt"]
["13:36:20","Ashley Banks",84,"Bench Press 1",55]
["13:37:04","Daynya Quigley",84,"Bench Press 1",55]
["13:37:59","Chrissy Helton","84+","Bench Press 1",67.5]
["13:38:40","Kristin McCarthy","84+","Bench Press 1",67.5,null,"Record Attempt"]
["13:38:46","Tomika Baldwin",84,"Bench Press 1",72.5]
["13:39:41","Tomika Baldwin",84,"Bench Press 1",72.5]
["13:40:39","Jennifer Patton","84+","Bench Press 1",85]
["13:41:45","Mary Rodriguez","84+","Bench Press 1",95]
["13:43:02","Linda Odum",84,"Bench Press 2",32.5,null,"Record Attempt"]
["13:43:30","Kim Lewis",84,"Bench Press 2",47.5]
["13:44:25","Patricia Rumsey",84,"Bench Press 2",55,null,"Record Attempt"]
["13:45:05","Ashley Banks",84,"Bench Press 2",60]
["13:45:53","Daynya Quigley",84,"Bench Press 2",60]
["13:46:39","Kristin McCarthy","84+","Bench Press 2",70,null,"Record Attempt"]
["13:47:29","Chrissy Helton","84+","Bench Press 2",-72.5,307.5]
["13:48:26","Tomika Baldwin",84,"Bench Press 2",75]
["13:49:23","Jennifer Patton","84+","Bench Press 2",90]
["13:50:24","Mary Rodriguez","84+","Bench Press 2",102.5]
["13:51:33","Linda Odum",84,"Bench Press 3",37.5,null,"Record Attempt"]
["13:52:21","Kim Lewis",84,"Bench Press 3",55]
["13:53:21","Patricia Rumsey",84,"Bench Press 3",-57.5]
["13:54:00","Ashley Banks",84,"Bench Press 3",-62.5,365]
["13:54:41","Daynya Quigley",84,"Bench Press 3",-62.5,335]
["13:55:50","Chrissy Helton","84+","Bench Press 3",-72.5,307.5]
["13:56:39","Kristin McCarthy","84+","Bench Press 3",-72.5,342.5]
["13:57:42","Tomika Baldwin",84,"Bench Press 3",-77.5]
["13:59:07","Jennifer Patton","84+","Bench Press 3",92.5]
["14:00:31","Mary Rodriguez","84+","Bench Press 3",-112.5,445]
["14:01:55","Frank Bottone Jr. ",66,"Bench Press 1",87.5]
["14:02:49","Zach Henderson",74,"Bench Press 1",92.5]
["14:03:55","Mike Jordan",74,"Bench Press 1",110]
["14:04:49","Mark Langley",74,"Bench Press 1",115]
["14:05:50","Simon Jiang",74,"Bench Press 1",120]
["14:06:55","Rodney Alexander",74,"Bench Press 1",135]
["14:07:53","Scottie Duncan",74,"Bench Press 1",-140]
["14:09:17","Frank Bottone Jr. ",66,"Bench Press 2",92.5]
["14:10:15","Zach Henderson",74,"Bench Press 2",100]
["14:10:59","Mike Jordan",74,"Bench Press 2",117.5]
["14:11:51","Mark Langley",74,"Bench Press 2",122.5]
["14:13:00","Simon Jiang",74,"Bench Press 2",130]
["14:13:59","Scottie Duncan",74,"Bench Press 2",140]
["14:14:57","Rodney Alexander",74,"Bench Press 2",140]
["14:16:10","Frank Bottone Jr. ",66,"Bench Press 3",97.5]
["14:17:02","Zach Henderson",74,"Bench Press 3",107.5]
["14:17:56","Mike Jordan",74,"Bench Press 3",122.5]
["14:18:45","Mark Langley",74,"Bench Press 3",-127.5,500]
["14:19:47","Simon Jiang",74,"Bench Press 3",-135,515]
["14:20:51","Scottie Duncan",74,"Bench Press 3",-142.5,577.5]
["14:21:46","Rodney Alexander",74,"Bench Press 3",-145,582.5]
["14:44:17","Leslie Snapper",63,"Deadlift 1",97.5,267.5]
["14:45:23","Jerri Lamar",57,"Deadlift 1",110]
["14:46:50","Lisa Womble",57,"Deadlift 1",112.5,275]
["14:46:54","Betty Polenik",63,"Deadlift 1",112.5,277.5,"Record Attempt"]
["14:47:44","Arielle Patra",57,"Deadlift 1",-115]
["14:48:48","Michele Moe",63,"Deadlift 1",115,275,"Record Attempt"]
["14:49:25","Brianna Green",63,"Deadlift 1",125,305]
["14:49:58","Karen Naegel",57,"Deadlift 1",130,285,"Record Attempt"]
["14:50:51","Heather Faas",52,"Deadlift 1",150,342.5]
["14:51:24","Amy Mason",63,"Deadlift 1",150,352.5,"Record Attempt"]
["14:52:34","Leslie Snapper",63,"Deadlift 2",105,275]
["14:53:13","Jerri Lamar",57,"Deadlift 2",112.5]
["14:54:08","Lisa Womble",57,"Deadlift 2",122.5,285]
["14:54:37","Betty Polenik",63,"Deadlift 2",122.5,287.5,"Record Attempt"]
["14:55:25","Arielle Patra",57,"Deadlift 2",125,277.5]
["14:55:49","Michele Moe",63,"Deadlift 2",125,275,"Record Attempt"]
["14:56:27","Brianna Green",63,"Deadlift 2",135,315]
["14:56:57","Karen Naegel",57,"Deadlift 2",135,290,"Record Attempt"]
["14:57:46","Heather Faas",52,"Deadlift 2",157.5,350,"Record Attempt"]
["14:58:26","Amy Mason",63,"Deadlift 2",157.5,360,"Record Attempt"]
["14:59:23","Jerri Lamar",57,"Deadlift 3",115]
["14:59:58","Leslie Snapper",63,"Deadlift 3",115,285]
["15:00:42","Betty Polenik",63,"Deadlift 3",127.5,292.5,"Record Attempt"]
["15:01:23","Lisa Womble",57,"Deadlift 3",130,292.5,"Record Attempt"]
["15:02:03","Michele Moe",63,"Deadlift 3",132.5,282.5,"Record Attempt"]
["15:02:40","Arielle Patra",57,"Deadlift 3",140,292.5]
["15:03:14","Brianna Green",63,"Deadlift 3",-142.5,315]
["15:03:59","Karen Naegel",57,"Deadlift 3",142.5,297.5,"Record Attempt"]
["15:05:33","Heather Faas",52,"Deadlift 3",-165,350]
["15:06:32","Amy Mason",63,"Deadlift 3",165,367.5,"Record Attempt"]
["15:08:10","Erin Ball",72,"Deadlift 1",82.5,215]
["15:08:50","Rebecca Marino",72,"Deadlift 1",117.5,272.5]
["15:10:00","Michelle Wittke",72,"Deadlift 1",120,277.5]
["15:11:10","Linda Mertens",72,"Deadlift 1",127.5,287.5]
["15:12:00","Jessica Dulkis",72,"Deadlift 1",137.5,347.5]
["15:12:46","Meghan Bradsher-James",72,"Deadlift 1",155,360]
["15:13:09","Tracy Cook",72,"Deadlift 1",155,372.5]
["15:14:08","Erin Ball",72,"Deadlift 2",92.5,225]
["15:15:16","Michelle Wittke",72,"Deadlift 2",127.5,285]
["15:16:18","Rebecca Marino",72,"Deadlift 2",127.5,287.5]
["15:16:33","Michelle Wittke",72,"Deadlift 2",127.5,295]
["15:16:57","Linda Mertens",72,"Deadlift 2",135,295]
["15:17:37","Jessica Dulkis",72,"Deadlift 2",150,360]
["15:18:25","Meghan Bradsher-James",72,"Deadlift 2",165,370]
["15:19:22","Tracy Cook",72,"Deadlift 2",165,387.5]
["15:20:06","Erin Ball",72,"Deadlift 3",105,237.5]
["15:20:55","Rebecca Marino",72,"Deadlift 3",132.5,287.5]
["15:21:10","Michelle Wittke",72,"Deadlift 3",137.5,295]
["15:24:08","Michelle Wittke",72,"Deadlift 3",-137.5,285]
["15:25:02","Linda Mertens",72,"Deadlift 3",140,300]
["15:25:51","Jessica Dulkis",72,"Deadlift 3",155,365]
["15:26:53","Meghan Bradsher-James",72,"Deadlift 3",167.5,372.5]
["15:27:53","Tracy Cook",72,"Deadlift 3",170,387.5]
["15:29:20","Linda Odum",84,"Deadlift 1",87.5,182.5,"Record Attempt"]
["15:30:17","Patricia Rumsey",84,"Deadlift 1",105,null,"Record Attempt"]
["15:31:13","Kim Lewis",84,"Deadlift 1",120,272.5]
["15:32:12","Chrissy Helton","84+","Deadlift 1",130,307.5]
["15:33:00","Daynya Quigley",84,"Deadlift 1",135,335]
["15:33:36","Kristin McCarthy","84+","Deadlift 1",140,342.5,"Record Attempt"]
["15:34:27","Mary Rodriguez","84+","Deadlift 1",-150]
["15:35:06","Ashley Banks",84,"Deadlift 1",152.5,365]
["15:36:04","Tomika Baldwin",84,"Deadlift 1",157.5]
["15:37:46","Linda Odum",84,"Deadlift 2",97.5,192.5,"Record Attempt"]
["15:38:34","Patricia Rumsey",84,"Deadlift 2",110,null,"Record Attempt"]
["15:39:20","Kim Lewis",84,"Deadlift 2",127.5,280]
["15:40:12","Chrissy Helton","84+","Deadlift 2",137.5,315]
["15:40:57","Daynya Quigley",84,"Deadlift 2",142.5,342.5]
["15:42:03","Kristin McCarthy","84+","Deadlift 2",147.5,350,"Record Attempt"]
["15:42:50","Ashley Banks",84,"Deadlift 2",167.5,380]
["15:44:26","Mary Rodriguez","84+","Deadlift 2",170,465,"Record Attempt"]
["15:45:41","Linda Odum",84,"Deadlift 3",105,200,"Record Attempt"]
["15:47:09","Patricia Rumsey",84,"Deadlift 3",-117.5]
["15:48:17","Kim Lewis",84,"Deadlift 3",137.5,290,"Record Attempt"]
["15:49:18","Chrissy Helton","84+","Deadlift 3",-145,315]
["15:50:04","Daynya Quigley",84,"Deadlift 3",-150,342.5]
["15:50:59","Kristin McCarthy","84+","Deadlift 3",155,357.5,"Record Attempt"]
["15:51:58","Mary Rodriguez","84+","Deadlift 3",-175,465]
["15:52:57","Ashley Banks",84,"Deadlift 3",-177.5,380]
["15:55:21","Frank Bottone Jr. ",66,"Deadlift 1",142.5,370]
["15:56:24","Mike Jordan",74,"Deadlift 1",170,435]
["15:57:29","Zach Henderson",74,"Deadlift 1",185,460]
["15:58:18","Mark Langley",74,"Deadlift 1",190,500]
["15:59:15","Simon Jiang",74,"Deadlift 1",200,515]
["16:00:05","Scottie Duncan",74,"Deadlift 1",215,577.5]
["16:01:21","Rodney Alexander",74,"Deadlift 1",222.5,582.5]
["16:02:46","Frank Bottone Jr. ",66,"Deadlift 2",155,382.5]
["16:03:34","Mike Jordan",74,"Deadlift 2",175,440]
["16:04:21","Zach Henderson",74,"Deadlift 2",190,465]
["16:05:26","Mark Langley",74,"Deadlift 2",205,515]
["16:06:26","Simon Jiang",74,"Deadlift 2",215,530]
["16:07:17","Scottie Duncan",74,"Deadlift 2",225,587.5]
["16:08:34","Rodney Alexander",74,"Deadlift 2",-232.5,582.5]
["16:10:10","Frank Bottone Jr. ",66,"Deadlift 3",160,387.5]
["16:11:04","Mike Jordan",74,"Deadlift 3",182.5,447.5]
["16:12:19","Zach Henderson",74,"Deadlift 3",195,470]
["16:13:26","Mark Langley",74,"Deadlift 3",212.5,522.5]
["16:14:45","Simon Jiang",74,"Deadlift 3",227.5,542.5]
["16:15:36","Scottie Duncan",74,"Deadlift 3",-230,587.5]
["16:16:48","Rodney Alexander",74,"Deadlift 3",232.5,592.5]
["16:17:12","Rodney Alexander",74,"Deadlift 3",232.5,592.5]

{"sheet":"KG Records","index":10,"n_rows":151,"n_cols":38,"rows_kept":151,"cut":false,"hidden":true,"merged":[]}
[null,"Raw Sub-Master","Sub-Master","T","Y","T1","T2","T3","JR","C","O","M1a","M1b","M2a","M2b","M3a","M3b","M4a","M4b","M5a","R-T","R-T1","R-T2","R-T3","R-Y","R-Y3","R-JR","R-O","R-M1A","R-M1B","R-M2A","R-M2B","R-M3A","R-M3B","R-M4A","R-M4B","R-M5A","R-M5B"]
["30-SQ",0,0,0,0,0,0,0,0,0,0,0,0,0,0,0,0,0,0,0,0,0,0,0,0,0,0,0,0,0,0,0,0,0,0,0,0,0]
["30-BP",0,0,0,0,0,0,0,0,0,0,0,0,0,0,0,0,0,0,0,0,0,0,0,0,0,0,0,0,0,0,0,0,0,0,0,0,0]
["30-DL",0,0,0,0,0,0,0,0,0,0,0,0,0,0,0,0,0,0,0,0,0,0,0,0,0,0,0,0,0,0,0,0,0,0,0,0,0]
["30-TL",0,0,0,0,0,0,0,0,0,0,0,0,0,0,0,0,0,0,0,0,0,0,0,0,0,0,0,0,0,0,0,0,0,0,0,0,0]
["35-SQ",0,0,0,0,0,0,0,0,0,0,0,0,0,0,0,0,0,0,0,0,0,0,0,0,0,0,0,0,0,0,0,0,0,0,0,0,0]
["35-BP",0,0,0,0,0,0,0,0,0,0,0,0,0,0,0,0,0,0,0,0,0,0,0,0,0,0,0,0,0,0,0,0,0,0,0,0,0]
["35-DL",0,0,0,0,0,0,0,0,0,0,0,0,0,0,0,0,0,0,0,0,0,0,0,0,0,0,0,0,0,0,0,0,0,0,0,0,0]
["35-TL",0,0,0,0,0,0,0,0,0,0,0,0,0,0,0,0,0,0,0,0,0,0,0,0,0,0,0,0,0,0,0,0,0,0,0,0,0]
["40-SQ",0,0,0,0,0,0,0,0,0,0,0,0,0,0,0,0,0,0,0,0,0,0,0,0,82.5,0,0,0,0,0,0,0,0,0,0,0,0]
["40-BP",0,0,0,0,0,0,0,0,0,0,0,0,0,0,0,0,0,0,0,0,0,0,0,0,50,0,0,0,0,0,0,0,0,0,0,0,0]
["40-DL",0,0,0,0,0,0,0,0,0,0,0,0,0,0,0,0,0,0,0,0,0,0,0,0,100.5,0,0,0,0,0,0,0,0,0,0,0,0]
["40-TL",0,0,0,0,0,0,0,0,0,0,0,0,0,0,0,0,0,0,0,0,0,0,0,0,232,0,0,0,0,0,0,0,0,0,0,0,0]
["44-SQ",0,0,0,0,0,0,0,0,0,0,0,0,0,0,0,0,0,0,0,0,0,0,0,0,65,0,0,0,0,0,0,0,0,0,0,0,0]
["44-BP",0,0,0,0,0,0,0,0,0,0,0,0,0,0,0,0,0,0,0,0,0,0,0,0,40,0,0,0,0,0,0,0,0,0,0,0,0]
["44-DL",0,0,0,0,0,0,0,0,0,0,0,0,0,0,0,0,0,0,0,0,0,0,0,0,102.5,0,0,0,0,0,0,0,0,0,0,0,0]
["44-TL",0,0,0,0,0,0,0,0,0,0,0,0,0,0,0,0,0,0,0,0,0,0,0,0,207.5,0,0,0,0,0,0,0,0,0,0,0,0]
["48-SQ",0,0,0,0,0,0,0,0,0,0,0,0,0,0,0,0,0,0,0,0,0,0,0,0,97.5,0,0,0,0,0,0,0,0,0,0,0,0]
["48-BP",0,0,0,0,0,0,0,0,0,0,0,0,0,0,0,0,0,0,0,0,0,0,0,0,58,0,0,0,0,0,0,0,0,0,0,0,0]
["48-DL",0,0,0,0,0,0,0,0,0,0,0,0,0,0,0,0,0,0,0,0,0,0,0,0,109,0,0,0,0,0,0,0,0,0,0,0,0]
["48-TL",0,0,0,0,0,0,0,0,0,0,0,0,0,0,0,0,0,0,0,0,0,0,0,0,264.5,0,0,0,0,0,0,0,0,0,0,0,0]
["53-SQ",0,0,0,112.5,112.5,127,129.30000000000001,0,0,0,0,0,0,0,0,0,0,0,0,112.5,112.5,112.5,112.5,112.5,0,112.5,0,0,0,0,0,0,0,0,0,0,0]
["53-BP",0,0,0,75,75,90.7,108.9,0,0,0,0,0,0,0,0,0,0,0,0,75,75,75,75,75,0,75,0,0,0,0,0,0,0,0,0,0,0]
["53-DL",0,0,0,127.5,127.5,138.4,142.9,0,0,0,0,0,0,0,0,0,0,0,0,127.5,127.5,127.5,112.5,127.5,0,127.5,0,0,0,0,0,0,0,0,0,0,0]
["53-TL",0,0,0,315,315,351.5,365.2,0,0,0,0,0,0,0,0,0,0,0,0,315,315,315,315,315,0,315,0,0,0,0,0,0,0,0,0,0,0]
["59-SQ",0,0,105,0,105,105,105,105,0,183.7,0,0,0,0,0,0,0,0,0,105,105,105,105,0,97.5,110,155,110,110,0,0,0,0,0,0,0,0]
["59-BP",0,0,77.5,0,77.5,77.5,0,87.5,0,127,0,0,0,0,0,0,0,0,0,77.5,77.5,77.5,77.5,0,58,87.5,107.5,90,90,0,0,0,0,0,0,0,0]
["59-DL",0,0,140,0,140,140,140,175,0,213.2,0,0,0,0,0,0,0,0,0,132.5,140,140,140,0,109,175,197.5,117.5,117.5,0,0,0,0,0,0,0,0]
["59-TL",0,0,317.5,0,317.5,317.5,317.5,345,0,523.9,0,0,0,0,0,0,0,0,0,317.5,317.5,317.5,317.5,0,264.5,357.5,460,317.5,317.5,0,0,0,0,0,0,0,0]
["66-SQ",0,0,152.5,82.5,127,147.5,195,597.5,0,209.1,175,175,117.5,0,0,0,0,0,0,152.5,100,152.5,207.5,80,0,212.5,212.5,177.5,177.5,177.5,0,0,0,0,0,0,0]
["66-BP",0,0,99.8,57.5,92.5,95.3,120,142.5,0,159.19999999999999,112.5,112.5,100,0,0,0,0,0,0,92.5,92.5,97.5,127.5,52.5,0,147.5,155,115,115,115,0,0,0,0,0,0,0]
["66-DL",0,0,192.5,100,165,181.4,218.5,250,0,250,215,215,215,0,0,0,0,0,0,192.5,165,172.5,240,95,0,265,265,217.5,217.5,217.5,0,0,0,0,0,0,0]
["66-TL",0,0,437.5,240,362.9,415,532.5,442.5,0,597.5,502.5,502.5,502.5,0,0,0,0,0,0,437.5,357.5,417.5,575,227.5,0,622.5,622.5,510,510,510,0,0,0,0,0,0,0]
["74-SQ",0,0,227.5,167.5,181.4,190.5,227.5,230,0,254,226.8,183.7,183.7,183.7,140,140,0,0,0,227.5,167.5,192.5,235,167.5,167.5,247.5,247.5,182.5,182.5,182.5,182.5,140,140,0,0,0,0]
["74-BP",0,0,147.5,97.5,122.5,138.4,147.5,147.5,0,172.4,142.9,122.5,122.5,108.9,85,85,0,0,0,147.5,110,122.5,155,97.5,97.5,157.5,157.5,127.5,122.5,122.5,105,85,85,0,0,0,0]
["74-DL",0,0,265,172.5,195.1,215,265,265,0,267.5,220,217.5,217.5,204.1,185,185,0,0,0,265,172.5,215,265,172.5,172.5,272.5,272.5,220,217.5,217.5,217.5,185,185,0,0,0,0]
["74-TL",0,0,620,437.5,499,499,620,620,0,660,582.9,505,505,496.7,392.5,392.5,0,0,0,620,437.5,482.5,630,437.5,437.5,665,665,512.5,505,505,505,392.5,392.5,0,0,0,0]
["83-SQ",0,0,220,177.5,177.5,210,220,265.39999999999998,0,294.8,260,260,220,207.5,207.5,0,90.7,0,0,215,177.5,210,230,177.5,177.5,277.5,277.5,227.5,227.5,205,165,162.5,0,0,0,0,0]
["83-BP",0,0,157.5,97.5,127.5,157.5,157.5,192.8,0,192.8,192.5,192.5,157.5,157.5,157.5,0,59,0,0,157.5,122.5,157.5,162.5,97.5,97.5,162.5,165,163,163,162.5,110,107.5,0,0,0,0,0]
["83-DL",0,0,255.5,180,220,237.5,255.5,275,0,304.8,272.5,257.5,242.5,224.5,206.4,0,136.1,0,0,255.5,220,237.5,255.5,180,180,300,300,257.5,257.5,235,200,192.5,0,0,0,0,0]
["83-TL",0,0,592.5,455,512.5,592.5,592.5,703.1,0,772.5,700,692.5,587.5,560,560,0,285.8,0,0,592.5,512.5,592.5,630,455,455,732.5,732.5,610,610,602.5,475,462.5,0,0,0,0,0]
["93-SQ",0,0,252.5,0,167.8,222.5,252.5,272.5,0,294.8,282.5,237.5,237.5,220,215,83.9,47.5,83.9,47.5,252.5,0,222.5,252.5,0,0,272.5,272.5,240,240,220,220,185,47.5,47.5,47.5,47.5,42.5]
["93-BP",0,0,170,0,136.1,152.5,170,183.7,0,220,215.5,197.5,197.5,162.5,137.5,62.5,62.5,62.5,62.5,170,0,150,170,0,0,182.5,197.5,175,165,162.5,162.5,120,62.5,62.5,62.5,62.5,52.5]
["93-DL",0,0,265,0,190.5,252.5,265,282.5,0,305,292.5,249.5,249.5,235,227.5,102.1,102.1,102.1,90,262.5,0,245,232.5,0,0,282.5,297.5,275,250,235,235,205,90,90,90,90,85]
["93-TL",0,0,672.5,0,492.2,622.5,672.5,707.5,0,787,757.5,672.5,672.5,617.5,580,240.4,240.4,240.4,192.5,672.5,0,615,672.5,0,0,707.5,745,665,620,617.5,617.5,510,192.5,192.5,192.5,192.5,180]
["105-SQ",0,0,282.5,0,190,240,282.5,295,0,340.2,300,282.5,247.5,247.5,217.5,217.5,136.1,0,0,282.5,120,182.5,282.5,0,0,282.5,297.5,272.5,230,227.5,212.5,205,172.5,0,0,0,0]
["105-BP",0,0,187.5,0,182.5,175,187.5,192.5,0,233.6,233.6,202.5,165,157.5,127.5,127.5,95.3,0,0,187.5,110,132.5,187.5,0,0,187.5,215,215,167.5,167.5,167.5,127.5,122.5,0,0,0,0]
["105-DL",0,0,325,0,242.5,238.1,325,325,0,325,302.5,285,245,238.1,215,215,176.9,0,0,325,182.5,215,325,0,0,325,325,300,260,255,255,215,195,0,0,0,0]
["105-TL",0,0,795,0,615,615,795,795,0,848.2,795,770,632.5,632.5,560,560,408.2,0,0,795,412.5,530,795,0,0,795,795,752.5,642.5,627.5,605,540,490,0,0,0,0]
["120-SQ",0,0,290,0,206.4,272.5,290,294.8,0,365.2,275,253,247.5,245,245,245,0,0,0,210,162.5,210,267.5,0,0,275,287.5,275,272.5,272.5,200,160,0,0,0,0,0]
["120-BP",0,0,235,0,102.5,217.5,235,235,0,256.3,205,190,178.5,155,155,155,0,0,0,167.5,98,132.5,195,0,0,170,215,205,197.5,180,152.5,152.5,0,0,0,0,0]
["120-DL",0,0,305,0,241.5,290,305,303.89999999999998,0,328.9,307.5,298,272.5,230,230,230,0,0,0,240,190,240,272.5,0,0,275,312.5,307.5,302.5,295,222.5,200,0,0,0,0,0]
["120-TL",0,0,830,0,550,772.5,830,830,0,877.7,782.5,740.5,667.5,615,615,615,0,0,0,582.5,450.5,582.5,735,0,0,655,782.5,782.5,770,747.5,540,512.5,0,0,0,0,0]
["120+-SQ",0,0,312.5,0,197.5,272.2,312.5,317.5,0,385.6,345,345,269.89999999999998,267.5,257.5,242.5,200,0,0,230,200,230,230,0,0,275,345,325,272.5,230,220,125,125,0,0,0,0]
["120+-BP",0,0,242.5,0,125,182.5,242.5,242.5,0,297.5,297.5,297.5,177.5,177.5,160,155,145,0,0,200,95,145,200,0,0,230,262.5,242.5,205,177.5,177.5,137.5,137.5,0,0,0,0]
["120+-DL",0,0,317.5,0,197.5,254,317.5,317.5,0,345,307.5,307.5,300,300,240,222.5,192.5,0,0,275,215,235,275,0,0,300,345,300,250,250,250,182.5,182.5,0,0,0,0]
["120+-TL",0,0,872.5,0,505,703.1,872.5,872.5,0,955,917.5,917.5,740,740,657.5,615,532.5,0,0,680,510,610,680,0,0,680,937.5,855,727.5,642.5,635,445,445,0,0,0,0]
["30-BPO",0,0,0,0,0,0,0,0,0,0,0,0,0,0,0,0,0,0,0,0,0,0,0,0,0,0,0,0,0,0,0,0,0,0,0,0,0]
["35-BPO",0,0,0,0,0,0,0,0,0,0,0,0,0,0,0,0,0,0,0,0,0,0,0,0,0,0,0,0,0,0,0,0,0,0,0,0,0]
["40-BPO",0,0,0,0,0,0,0,0,0,0,0,0,0,0,0,0,0,0,0,0,0,0,0,0,50,0,0,0,0,0,0,0,0,0,0,0,0]
["44-BPO",0,0,0,0,0,0,0,0,0,0,0,0,0,0,0,0,0,0,0,0,0,0,0,0,40,0,0,0,0,0,0,0,0,0,0,0,0]
["48-BPO",0,0,0,0,0,0,0,0,0,0,0,0,0,0,0,0,0,0,0,0,0,0,0,0,58,0,0,0,0,0,0,0,0,0,0,0,0]
["53-BPO",0,0,108.9,75,75,90.7,108.9,0,0,0,0,0,0,0,0,0,0,0,0,75,75,75,75,75,0,75,0,0,0,0,0,0,0,0,0,0,0]
["59-BPO",0,0,95,0,77.5,95,95,125,0,127,105,105,0,0,0,0,0,0,0,95,77.5,95,95,0,58,95,107.5,92.5,92.5,0,0,0,0,0,0,0,0]
["66-BPO",0,0,99.8,65,92.5,95.3,120,142.5,0,159.19999999999999,122.5,122.5,122.5,122.5,0,0,0,0,0,92.5,92.5,97.5,127.5,65,0,147.5,155,122.5,122.5,122.5,122.5,0,0,0,0,0,0]
["74-BPO",0,0,147.5,97.5,122.5,138.4,147.5,147.5,0,172.4,142.9,132.5,132.5,108.9,127.5,127.5,127.5,72.5,0,147.5,110,122.5,155,97.5,97.5,157.5,157.5,132.5,132.5,132.5,125.5,127.5,127.5,127.5,72.5,65,0]
["83-BPO",0,0,157.5,97.5,127.5,157.5,157.5,192.8,0,217.5,217.5,217.5,212.5,157.5,157.5,130,100,100,0,157.5,122.5,157.5,162.5,97.5,97.5,162.5,172.5,163,163,162.5,140,130,130,92.5,92.5,0,0]
["93-BPO",0,0,172.5,0,136.1,172.5,172.5,185,0,220,233.6,192.5,192.5,162.5,152.5,140,140,62.5,62.5,172.5,0,172.5,172.5,0,0,185,197.5,165,165,162.5,162.5,140,140,140,62.5,62.5,52.5]
["105-BPO",0,0,187.5,0,182.5,175,187.5,192.5,0,238.1,238.1,210,170,150,140,127.5,95.3,0,0,187.5,110,132.5,187.5,0,0,190,215,215,177.5,167.5,167.5,140,122.5,0,0,0,0]
["120-BPO",0,0,235,0,135,217.5,235,235,0,256.3,227.5,192.5,192.5,177.5,167.5,165,0,0,0,167.5,98,162.5,195,0,0,210,225.5,205,197.5,180,177.5,167.5,0,0,0,0,0]
["120+-BPO",0,0,242.5,0,125,182.5,242.5,242.5,0,362.5,362.5,362.5,185,185,157.5,157.5,142.5,0,0,200,95,145,200,0,0,230,275,242.5,205,185,185,155,137.5,0,0,0,0]
["30-DLO",0,0,0,0,0,0,0,0,0,0,0,0,0,0,0,0,0,0,0,0,0,0,0,0,0,0,0,0,0,0,0,0,0,0,0,0,0]
["35-DLO",0,0,0,0,0,0,0,0,0,0,0,0,0,0,0,0,0,0,0,0,0,0,0,0,0,0,0,0,0,0,0,0,0,0,0,0,0]
["40-DLO",0,0,0,0,0,0,0,0,0,0,0,0,0,0,0,0,0,0,0,0,0,0,0,0,0,0,0,0,0,0,0,0,0,0,0,0,0]
["44-DLO",0,0,0,0,0,0,0,0,0,0,0,0,0,0,0,0,0,0,0,0,0,0,0,0,0,0,0,0,0,0,0,0,0,0,0,0,0]
["48-DLO",0,0,0,0,0,0,0,0,0,0,0,0,0,0,0,0,0,0,0,0,0,0,0,0,0,0,0,0,0,0,0,0,0,0,0,0,0]
["53-DLO",0,0,0,0,0,0,0,0,0,0,0,0,0,0,0,0,0,0,0,0,0,0,0,0,0,0,0,0,0,0,0,0,0,0,0,0,0]
["59-DLO",0,0,0,0,0,0,0,0,0,0,0,0,0,0,0,0,0,0,0,0,0,0,0,0,0,0,0,0,0,0,0,0,0,0,0,0,0]
["66-DLO",0,0,0,0,0,0,0,0,0,0,0,0,0,0,0,0,0,0,0,0,0,0,0,0,0,0,0,0,0,0,0,0,0,0,0,0,0]
["74-DLO",0,0,0,0,0,0,0,0,0,0,0,0,0,0,0,0,0,0,0,0,0,0,0,0,0,0,0,0,0,0,0,0,0,0,0,0,0]
["83-DLO",0,0,0,0,0,0,0,0,0,250,250,250,0,0,0,0,0,0,0,0,0,0,0,0,0,0,0,0,0,0,0,0,0,0,0,0,0]
["93-DLO",0,0,0,0,0,0,0,240,0,240,0,0,0,0,0,0,0,0,0,0,0,0,0,0,0,0,0,0,0,0,0,0,0,0,0,0,0]
["105-DLO",0,0,0,0,0,0,0,0,0,0,0,0,0,0,0,0,0,0,0,0,0,0,0,0,0,0,0,0,0,0,0,0,0,0,0,0,0]
["120-DLO",0,0,0,0,0,0,0,0,0,0,0,0,0,0,0,0,0,0,0,0,0,0,0,0,0,0,0,0,0,0,0,0,0,0,0,0,0]
["120+-DLO",0,0,0,0,0,0,0,0,0,0,0,0,0,0,0,0,0,0,0,0,0,0,0,0,0,0,0,0,0,0,0,0,0,0,0,0,0]
["30-SQ",0,0,0,0,0,0,0,0,0,0,0,0,0,0,0,0,0,0,0,0,0,0,0,0,0,0,0,0,0,0,0,0,0,0,0,0,0]
["30-BP",0,0,0,0,0,0,0,0,0,0,0,0,0,0,0,0,0,0,0,0,0,0,0,0,0,0,0,0,0,0,0,0,0,0,0,0,0]
["30-DL",0,0,0,0,0,0,0,0,0,0,0,0,0,0,0,0,0,0,0,0,0,0,0,0,0,0,0,0,0,0,0,0,0,0,0,0,0]
["30-TL",0,0,0,0,0,0,0,0,0,0,0,0,0,0,0,0,0,0,0,0,0,0,0,0,0,0,0,0,0,0,0,0,0,0,0,0,0]
["35-SQ",0,0,0,0,0,0,0,0,0,0,0,0,0,0,0,0,0,0,0,0,0,0,0,0,0,0,0,0,0,0,0,0,0,0,0,0,0]
["35-BP",0,0,0,0,0,0,0,0,0,0,0,0,0,0,0,0,0,0,0,0,0,0,0,0,0,0,0,0,0,0,0,0,0,0,0,0,0]
["35-DL",0,0,0,0,0,0,0,0,0,0,0,0,0,0,0,0,0,0,0,0,0,0,0,0,0,0,0,0,0,0,0,0,0,0,0,0,0]
["35-TL",0,0,0,0,0,0,0,0,0,0,0,0,0,0,0,0,0,0,0,0,0,0,0,0,0,0,0,0,0,0,0,0,0,0,0,0,0]
["40-SQ",0,0,0,0,0,0,0,0,0,0,0,0,0,0,0,0,0,0,0,0,0,0,0,0,0,0,0,0,0,0,0,0,0,0,0,0,0]
["40-BP",0,0,0,0,0,0,0,0,0,0,0,0,0,0,0,0,0,0,0,0,0,0,0,0,0,0,0,0,0,0,0,0,0,0,0,0,0]
["40-DL",0,0,0,0,0,0,0,0,0,0,0,0,0,0,0,0,0,0,0,0,0,0,0,0,0,0,0,0,0,0,0,0,0,0,0,0,0]
["40-TL",0,0,0,0,0,0,0,0,0,0,0,0,0,0,0,0,0,0,0,0,0,0,0,0,0,0,0,0,0,0,0,0,0,0,0,0,0]
["43-SQ",0,0,0,0,0,0,0,0,0,0,0,0,0,0,0,0,0,0,0,0,0,0,0,0,0,0,0,0,0,0,0,0,0,0,0,0,0]
["43-BP",0,0,0,0,0,0,0,0,0,0,0,0,0,0,0,0,0,0,0,0,0,0,0,0,0,0,0,0,0,0,0,0,0,0,0,0,0]
["43-DL",0,0,0,0,0,0,0,0,0,0,0,0,0,0,0,0,0,0,0,0,0,0,0,0,0,0,0,0,0,0,0,0,0,0,0,0,0]
["43-TL",0,0,0,0,0,0,0,0,0,0,0,0,0,0,0,0,0,0,0,0,0,0,0,0,0,0,0,0,0,0,0,0,0,0,0,0,0]
["47-SQ",0,0,110,47.5,50,50,110,110,0,117.5,0,0,0,0,0,0,0,0,0,110,50,50,110,47.5,0,110,130.5,0,0,0,0,0,0,0,0,0,0]
["47-BP",0,0,62.5,35,37.5,37.5,36.299999999999997,62.5,0,65,0,0,0,0,0,0,0,0,0,62.5,37.5,37.5,62.5,35,0,62.5,70.5,0,0,0,0,0,0,0,0,0,0]
["47-DL",0,0,105,67.5,72.5,72.5,105,105,0,160,0,0,0,0,0,0,0,0,0,105,72.5,72.5,105,67.5,0,120,168.5,0,0,0,0,0,0,0,0,0,0]
["47-TL",0,0,277.5,150,160,160,277.5,277.5,0,342.5,0,0,0,0,0,0,0,0,0,277.5,160,160,277.5,150,0,277.5,369.5,0,0,0,0,0,0,0,0,0,0]
["52-SQ",0,0,90,62.5,90,90,86.2,97.5,0,122.5,83.9,47.5,47.5,0,0,0,0,0,0,90,90,85,90,62.5,0,117.5,122.5,47.5,47.5,47.5,0,0,0,0,0,0,0]
["52-BP",0,0,52.5,37.5,52.5,47.5,50,70,0,70,47.6,43.1,43.1,0,0,0,0,0,0,52.5,52.5,47.5,50,37.5,0,75,75,32.5,32.5,32.5,0,0,0,0,0,0,0]
["52-DL",0,0,122.5,90,120,120,122.5,137.5,0,158,95.3,93,93,0,0,0,0,0,0,122.5,120,100,122.5,90,0,137.5,158,72.5,72.5,72.5,0,0,0,0,0,0,0]
["52-TL",0,0,257.5,190,257.5,257.5,257.5,295,0,348,226.8,181.4,181.4,0,0,0,0,0,0,257.5,257.5,230,257.5,190,0,337.5,348,152.5,152.5,152.5,0,0,0,0,0,0,0]
["57-SQ",0,0,85,0,85,85,85,105,0,136.1,117.9,70,0,70,0,0,0,0,0,85,85,87.5,105,0,0,115,130,107.5,107.5,97.5,70,0,0,0,0,0,0]
["57-BP",0,0,52.5,0,52.5,52.5,52.5,52.5,0,80,63.5,45,0,0,0,0,0,0,0,52.5,52.5,57.5,57.5,0,0,70,80,62.5,62.5,62.5,0,0,0,0,0,0,0]
["57-DL",0,0,120,0,120,120,120,142.5,0,154.19999999999999,136.1,97.5,0,0,0,0,0,0,0,120,120,127.5,127.5,0,0,142.5,152.5,127.5,127.5,115,0,0,0,0,0,0,0]
["57-TL",0,0,257.5,0,257.5,257.5,257.5,295,0,358.3,317.5,212.5,0,0,0,0,0,0,0,257.5,257.5,272.5,272.5,0,0,307.5,357.5,295,295,275,0,0,0,0,0,0,0]
["63-SQ",0,0,125,62.5,106.6,0,125,182.5,0,182.5,80,90.7,67.5,0,0,0,0,0,0,125,62.5,87.5,125,62.5,0,142.5,150,150,67.5,67.5,0,0,0,0,0,0,0]
["63-BP",0,0,50,32.5,45.4,0,50,95,0,150,141.5,49.9,47.5,0,0,0,0,0,0,50,32.5,60,60,32.5,0,77.5,142.5,142.5,47.5,47.5,0,0,0,0,0,0,0]
["63-DL",0,0,130,75,93,0,130,182.5,0,202.5,95,102.5,102.5,0,0,0,0,0,0,130,75,115,130,75,0,170,202.5,95,102.5,102.5,0,0,0,0,0,0,0]
["63-TL",0,0,305,170,244.9,0,305,460,0,522.5,486,235.9,217.5,0,0,0,0,0,0,305,170,262.5,305,170,0,385,490,490,217.5,217.5,0,0,0,0,0,0,0]
["72-SQ",0,0,85,0,79.400000000000006,81.7,85,160,0,160,125,120,87.5,92.5,70,0,0,0,0,85,52.5,90,90,0,0,160,160,150,137.5,137.5,97.5,85,0,0,0,0,0]
["72-BP",0,0,57.5,0,34,57.5,57.5,87.5,0,87.5,75,75,55,52.5,42.5,0,0,0,0,57.5,25,57.5,57.5,0,0,87.5,92.5,80,80,80,57.5,47.5,0,0,0,0,0]
["72-DL",0,0,125,0,97.5,125,125,177.5,0,177.5,155,155,117.5,102.5,102.5,0,0,0,0,125,62.5,125,125,0,0,187.5,187.5,177.5,172.5,172.5,110,102.5,0,0,0,0,0]
["72-TL",0,0,257.5,0,210.9,257.5,257.5,425,0,425,355,350,265,227.5,215,0,0,0,0,257.5,130,257.5,257.5,0,0,427.5,427.5,407.5,390,390,265,235,0,0,0,0,0]
["84-SQ",0,0,163.30000000000001,35,106.6,163.30000000000001,107.5,163.30000000000001,0,242.5,242.5,242.5,131.5,85,65.8,0,0,0,0,47.5,35,47.5,47.5,35,0,122.5,155,137.5,132.5,105,85,0,0,0,0,0,0]
["84-BP",0,0,60,40,47.6,59,60,70,0,182.5,182.5,182.5,68,68,36.299999999999997,0,0,0,0,40,40,40,40,40,0,70,125,125,125,75,45,0,0,0,0,0,0]
["84-DL",0,0,140.6,102.5,140.6,127,130,142.5,0,217.5,217.5,217.5,147.4,147.4,90.7,0,0,0,0,107.5,102.5,107.5,107.5,102.5,0,145,175,165,165,132.5,100,0,0,0,0,0,0]
["84-TL",0,0,349.3,177.5,294.8,349.3,297.5,349.3,0,642.5,642.5,642.5,347,347,192.8,0,0,0,0,190,177.5,190,190,177.5,0,332.5,402.5,402.5,367.5,310,230,0,0,0,0,0,0]
["84+-SQ",0,0,112.5,0,0,112.5,112.5,150,0,165.6,130,47.5,47.5,0,0,0,0,0,0,112.5,122.5,122.5,122.5,0,0,150,190,186.5,47.5,47.5,37.5,37.5,37.5,37.5,37.5,37.5,37.5]
["84+-BP",0,0,67.5,0,0,67.5,67.5,97.5,0,110,110,42.5,42.5,0,0,0,0,0,0,67.5,62.5,67.5,67.5,0,0,97.5,110,110,55,55,55,55,55,55,55,55,55]
["84+-DL",0,0,120,0,0,120,120,187.5,0,192.5,155,112.5,112.5,0,0,0,0,0,0,120,130,130,130,0,0,187.5,195,155,112.5,112.5,90,90,90,90,90,90,90]
["84+-TL",0,0,317.5,0,0,317.5,317.5,415,0,457.5,457.5,202.5,202.5,0,0,0,0,0,0,317.5,315,317.5,317.5,0,0,415,464,464,202.5,202.5,182.5,182.5,182.5,182.5,182.5,182.5,182.5]
["30-BPO",0,0,0,0,0,0,0,0,0,0,0,0,0,0,0,0,0,0,0,0,0,0,0,0,0,0,0,0,0,0,0,0,0,0,0,0,0]
["35-BPO",0,0,0,0,0,0,0,0,0,0,0,0,0,0,0,0,0,0,0,0,0,0,0,0,0,0,0,0,0,0,0,0,0,0,0,0,0]
["40-BPO",0,0,0,0,0,0,0,0,0,0,0,0,0,0,0,0,0,0,0,0,0,0,0,0,0,0,0,0,0,0,0,0,0,0,0,0,0]
["43-BPO",0,0,0,0,0,0,0,0,0,0,0,0,0,0,0,0,0,0,0,0,0,0,0,0,0,0,0,0,0,0,0,0,0,0,0,0,0]
["47-BPO",0,0,62.5,35,37.5,37.5,36.299999999999997,62.5,0,65,52.5,52.5,52.5,52.5,52.5,0,0,0,0,62.5,37.5,37.5,62.5,35,0,62.5,70.5,52.5,52.5,52.5,52.5,52.5,0,0,0,0,0]
["52-BPO",0,0,52.5,37.5,52.5,47.5,52.5,70,0,70,47.6,45,45,37.5,37.5,0,0,0,0,52.5,52.5,47.5,50,37.5,0,75,75,45,45,45,37.5,37.5,0,0,0,0,0]
["57-BPO",0,0,52.5,0,52.5,52.5,52.5,52.5,0,95,63.5,50,50,50,42.5,0,0,0,0,52.5,52.5,57.5,57.5,0,0,70,85,62.5,62.5,62.5,42.5,42.5,0,0,0,0,0]
["63-BPO",0,0,57.5,32.5,47.5,57.5,57.5,95,0,150,141.5,49.9,47.5,0,0,0,0,0,0,50,32.5,60,60,32.5,0,77.5,142.5,142.5,47.5,47.5,0,0,0,0,0,0,0]
["72-BPO",0,0,70,0,34,60,70,87.5,0,87.5,75,75,55,52.5,42.5,0,0,0,0,57.5,25,57.5,57.5,0,0,87.5,92.5,80,80,80,57.5,47.5,0,0,0,0,0]
["84-BPO",0,0,75,40,47.6,75,60,75,0,182.5,182.5,182.5,68,68,36.299999999999997,0,0,0,0,40,40,40,40,40,0,70,125,125,125,80,45,0,0,0,0,0,0]
["84+-BPO",0,0,67.5,0,57.5,67.5,67.5,115,0,157.5,157.5,157.5,60,0,0,0,0,0,0,67.5,62.5,67.5,67.5,0,0,115,115,110,97.5,60,55,55,55,55,55,55,55]
["30-DLO",0,0,0,0,0,0,0,0,0,0,0,0,0,0,0,0,0,0,0,0,0,0,0,0,0,0,0,0,0,0,0,0,0,0,0,0,0]
["35-DLO",0,0,0,0,0,0,0,0,0,0,0,0,0,0,0,0,0,0,0,0,0,0,0,0,0,0,0,0,0,0,0,0,0,0,0,0,0]
["40-DLO",0,0,0,0,0,0,0,0,0,0,0,0,0,0,0,0,0,0,0,0,0,0,0,0,0,0,0,0,0,0,0,0,0,0,0,0,0]
["43-DLO",0,0,0,0,0,0,0,0,0,0,0,0,0,0,0,0,0,0,0,0,0,0,0,0,0,0,0,0,0,0,0,0,0,0,0,0,0]
["47-DLO",0,0,0,0,0,0,0,0,0,0,0,0,0,0,0,0,0,0,0,0,0,0,0,0,0,0,0,0,0,0,0,0,0,0,0,0,0]
["52-DLO",0,0,0,0,0,0,0,0,0,0,0,0,0,0,0,0,0,0,0,0,0,0,0,0,0,0,0,0,0,0,0,0,0,0,0,0,0]
["57-DLO",0,0,0,0,0,0,0,0,0,0,0,0,0,0,0,0,0,0,0,0,0,0,0,0,0,0,0,0,0,0,0,0,0,0,0,0,0]
["63-DLO",0,0,0,0,0,0,0,182.5,0,182.5,0,0,0,0,0,0,0,0,0,0,0,0,0,0,0,0,0,0,0,0,0,0,0,0,0,0,0]
["72-DLO",0,0,0,0,0,0,0,0,0,0,0,0,0,0,0,0,0,0,0,0,0,0,0,0,0,0,0,0,0,0,0,0,0,0,0,0,0]
["84-DLO",0,0,0,0,0,0,0,0,0,217.5,217.5,217.5,0,0,0,0,0,0,0,0,0,0,0,0,0,0,0,0,0,0,0,0,0,0,0,0,0]
["84+-DLO",0,0,0,0,0,0,0,0,0,0,0,0,0,0,0,0,0,0,0,0,0,0,0,0,0,0,0,0,0,0,0,0,0,0,0,0,0]

{"sheet":"LB Records","index":11,"n_rows":151,"n_cols":38,"rows_kept":151,"cut":false,"hidden":true,"merged":[]}
[null,"Raw Sub-Master","Sub-Master","T","Y","T1","T2","T3","JR","C","O","M1a","M1b","M2a","M2b","M3a","M3b","M4a","M4b","M5a","R-T","R-T1","R-T2","R-T3","R-Y","R-Y3","R-JR","R-O","R-M1A","R-M1B","R-M2A","R-M2B","R-M3A","R-M3B","R-M4A","R-M4B","R-M5A","R-M5B"]
["66-SQ",0,0,0,0,0,0,0,0,0,0,0,0,0,0,0,0,0,0,0,0,0,0,0,0,0,0,0,0,0,0,0,0,0,0,0,0,0]
["66-BP",0,0,0,0,0,0,0,0,0,0,0,0,0,0,0,0,0,0,0,0,0,0,0,0,0,0,0,0,0,0,0,0,0,0,0,0,0]
["66-DL",0,0,0,0,0,0,0,0,0,0,0,0,0,0,0,0,0,0,0,0,0,0,0,0,0,0,0,0,0,0,0,0,0,0,0,0,0]
["66-TL",0,0,0,0,0,0,0,0,0,0,0,0,0,0,0,0,0,0,0,0,0,0,0,0,0,0,0,0,0,0,0,0,0,0,0,0,0]
["77-SQ",0,0,0,0,0,0,0,0,0,0,0,0,0,0,0,0,0,0,0,0,0,0,0,0,0,0,0,0,0,0,0,0,0,0,0,0,0]
["77-BP",0,0,0,0,0,0,0,0,0,0,0,0,0,0,0,0,0,0,0,0,0,0,0,0,0,0,0,0,0,0,0,0,0,0,0,0,0]
["77-DL",0,0,0,0,0,0,0,0,0,0,0,0,0,0,0,0,0,0,0,0,0,0,0,0,0,0,0,0,0,0,0,0,0,0,0,0,0]
["77-TL",0,0,0,0,0,0,0,0,0,0,0,0,0,0,0,0,0,0,0,0,0,0,0,0,0,0,0,0,0,0,0,0,0,0,0,0,0]
["88-SQ",0,0,0,0,0,0,0,0,0,0,0,0,0,0,0,0,0,0,0,0,0,0,0,0,181.9,0,0,0,0,0,0,0,0,0,0,0,0]
["88-BP",0,0,0,0,0,0,0,0,0,0,0,0,0,0,0,0,0,0,0,0,0,0,0,0,110.2,0,0,0,0,0,0,0,0,0,0,0,0]
["88-DL",0,0,0,0,0,0,0,0,0,0,0,0,0,0,0,0,0,0,0,0,0,0,0,0,221.6,0,0,0,0,0,0,0,0,0,0,0,0]
["88-TL",0,0,0,0,0,0,0,0,0,0,0,0,0,0,0,0,0,0,0,0,0,0,0,0,511.5,0,0,0,0,0,0,0,0,0,0,0,0]
["97-SQ",0,0,0,0,0,0,0,0,0,0,0,0,0,0,0,0,0,0,0,0,0,0,0,0,143.30000000000001,0,0,0,0,0,0,0,0,0,0,0,0]
["97-BP",0,0,0,0,0,0,0,0,0,0,0,0,0,0,0,0,0,0,0,0,0,0,0,0,88.2,0,0,0,0,0,0,0,0,0,0,0,0]
["97-DL",0,0,0,0,0,0,0,0,0,0,0,0,0,0,0,0,0,0,0,0,0,0,0,0,226,0,0,0,0,0,0,0,0,0,0,0,0]
["97-TL",0,0,0,0,0,0,0,0,0,0,0,0,0,0,0,0,0,0,0,0,0,0,0,0,457.5,0,0,0,0,0,0,0,0,0,0,0,0]
["105-SQ",0,0,0,0,0,0,0,0,0,0,0,0,0,0,0,0,0,0,0,0,0,0,0,0,215,0,0,0,0,0,0,0,0,0,0,0,0]
["105-BP",0,0,0,0,0,0,0,0,0,0,0,0,0,0,0,0,0,0,0,0,0,0,0,0,127.9,0,0,0,0,0,0,0,0,0,0,0,0]
["105-DL",0,0,0,0,0,0,0,0,0,0,0,0,0,0,0,0,0,0,0,0,0,0,0,0,240.3,0,0,0,0,0,0,0,0,0,0,0,0]
["105-TL",0,0,0,0,0,0,0,0,0,0,0,0,0,0,0,0,0,0,0,0,0,0,0,0,583.1,0,0,0,0,0,0,0,0,0,0,0,0]
["116-SQ",0,0,0,248,248,280,285,0,0,0,0,0,0,0,0,0,0,0,0,248,248,248,248,248,0,248,0,0,0,0,0,0,0,0,0,0,0]
["116-BP",0,0,0,165.3,165.3,200,240,0,0,0,0,0,0,0,0,0,0,0,0,165.3,165.3,165.3,165.3,165.3,0,165.3,0,0,0,0,0,0,0,0,0,0,0]
["116-DL",0,0,0,281.10000000000002,281.10000000000002,305,315,0,0,0,0,0,0,0,0,0,0,0,0,281.10000000000002,281.10000000000002,281.10000000000002,248,281.10000000000002,0,281.10000000000002,0,0,0,0,0,0,0,0,0,0,0]
["116-TL",0,0,0,694.5,694.5,775,805,0,0,0,0,0,0,0,0,0,0,0,0,694.5,694.5,694.5,694.5,694.5,0,694.5,0,0,0,0,0,0,0,0,0,0,0]
["130-SQ",0,0,231.5,0,231.5,231.5,231.5,231.5,0,405,0,0,0,0,0,0,0,0,0,231.5,231.5,231.5,231.5,0,215,242.5,341.7,242.5,242.5,0,0,0,0,0,0,0,0]
["130-BP",0,0,170.9,0,170.9,170.9,0,192.9,0,280,0,0,0,0,0,0,0,0,0,170.9,170.9,170.9,170.9,0,127.9,192.9,237,198.4,198.4,0,0,0,0,0,0,0,0]
["130-DL",0,0,308.60000000000002,0,308.60000000000002,308.60000000000002,308.60000000000002,385.8,0,470,0,0,0,0,0,0,0,0,0,292.10000000000002,308.60000000000002,308.60000000000002,308.60000000000002,0,240.3,385.8,435.4,259,259,0,0,0,0,0,0,0,0]
["130-TL",0,0,700,0,700,700,700,760.6,0,1155,0,0,0,0,0,0,0,0,0,700,700,700,700,0,583.1,788.2,1014.1,700,700,0,0,0,0,0,0,0,0]
["145-SQ",0,0,336.2,181.9,280,325.2,429.9,1317.3,0,461,385.8,385.8,259,0,0,0,0,0,0,336.2,220.5,336.2,457.5,176.4,0,468.5,468.5,391.3,391.3,391.3,0,0,0,0,0,0,0]
["145-BP",0,0,220,126.8,203.9,210,264.60000000000002,314.2,0,351,248,248,220.5,0,0,0,0,0,0,203.9,203.9,215,281.10000000000002,115.7,0,325.2,341.7,253.5,253.5,253.5,0,0,0,0,0,0,0]
["145-DL",0,0,424.4,220.5,363.8,400,481.7,551.20000000000005,0,551.20000000000005,474,474,474,0,0,0,0,0,0,424.4,363.8,380.3,529.1,209.4,0,584.20000000000005,584.20000000000005,479.5,479.5,479.5,0,0,0,0,0,0,0]
["145-TL",0,0,964.5,529.1,800,915,1174,975.5,0,1317.3,1107.8,1107.8,1107.8,0,0,0,0,0,0,964.5,788.2,920.4,1267.7,501.6,0,1372.4,1372.4,1124.4000000000001,1124.4000000000001,1124.4000000000001,0,0,0,0,0,0,0]
["163-SQ",0,0,501.6,369.3,400,420,501.6,507.1,0,560,500,405,405,405,308.60000000000002,308.60000000000002,0,0,0,501.6,369.3,424.4,518.1,369.3,369.3,545.6,545.6,402.3,402.3,402.3,402.3,308.60000000000002,308.60000000000002,0,0,0,0]
["163-BP",0,0,325.2,215,270,305,325.2,325.2,0,380,315,270.10000000000002,270.10000000000002,240,187.4,187.4,0,0,0,325.2,242.5,270.10000000000002,341.7,215,215,347.2,347.2,281.10000000000002,270.10000000000002,270.10000000000002,231.5,187.4,187.4,0,0,0,0]
["163-DL",0,0,584.20000000000005,380.3,430,474,584.20000000000005,584.20000000000005,0,589.70000000000005,485,479.5,479.5,450,407.9,407.9,0,0,0,584.20000000000005,380.3,474,584.20000000000005,380.3,380.3,600.79999999999995,600.79999999999995,485,479.5,479.5,479.5,407.9,407.9,0,0,0,0]
["163-TL",0,0,1366.9,964.5,1100,1100,1366.9,1366.9,0,1455.1,1285,1113.3,1113.3,1095,865.3,865.3,0,0,0,1366.9,964.5,1063.7,1388.9,964.5,964.5,1466.1,1466.1,1129.9000000000001,1113.3,1113.3,1113.3,865.3,865.3,0,0,0,0]
["183-SQ",0,0,485,391.3,391.3,463,485,585,0,650,573.20000000000005,573.20000000000005,485,457.5,457.5,0,200,0,0,474,391.3,463,507.1,391.3,391.3,611.79999999999995,611.79999999999995,501.6,501.6,451.9,363.8,358.3,0,0,0,0,0]
["183-BP",0,0,347.2,215,281.10000000000002,347.2,347.2,425,0,425,424.4,424.4,347.2,347.2,347.2,0,130,0,0,347.2,270.10000000000002,347.2,358.3,215,215,358.3,363.8,359.4,359.4,358.3,242.5,237,0,0,0,0,0]
["183-DL",0,0,563.29999999999995,396.8,485,523.6,563.29999999999995,606.29999999999995,0,672,600.79999999999995,567.70000000000005,534.6,495,455,0,300,0,0,563.29999999999995,485,523.6,563.29999999999995,396.8,396.8,661.4,661.4,567.70000000000005,567.70000000000005,518.1,440.9,424.4,0,0,0,0,0]
["183-TL",0,0,1306.2,1003.1,1129.9000000000001,1306.2,1306.2,1550,0,1703,1543.2,1526.7,1295.2,1234.5999999999999,1234.5999999999999,0,630,0,0,1306.2,1129.9000000000001,1306.2,1388.9,1003.1,1003.1,1614.9,1614.9,1344.8,1344.8,1328.3,1047.2,1019.6,0,0,0,0,0]
["205-SQ",0,0,556.70000000000005,0,370,490.5,556.70000000000005,600.79999999999995,0,650,622.79999999999995,523.6,523.6,485,474,185,104.7,185,104.7,556.70000000000005,0,490.5,556.70000000000005,0,0,600.79999999999995,600.79999999999995,529.1,529.1,485,485,407.9,104.7,104.7,104.7,104.7,93.7]
["205-BP",0,0,374.8,0,300,336.2,374.8,405,0,485,475,435.4,435.4,358.3,303.10000000000002,137.80000000000001,137.80000000000001,137.80000000000001,137.80000000000001,374.8,0,330.7,374.8,0,0,402.3,435.4,385.8,363.8,358.3,358.3,264.60000000000002,137.80000000000001,137.80000000000001,137.80000000000001,137.80000000000001,115.7]
["205-DL",0,0,584.20000000000005,0,420,556.70000000000005,584.20000000000005,622.79999999999995,0,672.4,644.9,550,550,518.1,501.6,225,225,225,198.4,578.70000000000005,0,540.1,512.6,0,0,622.79999999999995,655.9,606.29999999999995,551.20000000000005,518.1,518.1,451.9,198.4,198.4,198.4,198.4,187.4]
["205-TL",0,0,1482.6,0,1085,1372.4,1482.6,1559.8,0,1735,1670,1482.6,1482.6,1361.4,1278.7,530,530,530,424.4,1482.6,0,1355.8,1482.6,0,0,1559.8,1642.4,1466.1,1366.9,1361.4,1361.4,1124.4000000000001,424.4,424.4,424.4,424.4,396.8]
["231-SQ",0,0,622.79999999999995,0,418.9,529.1,622.79999999999995,650.4,0,750,661.4,622.79999999999995,545.6,545.6,479.5,479.5,300,0,0,622.79999999999995,264.60000000000002,402.3,622.79999999999995,0,0,622.79999999999995,655.9,600.79999999999995,507.1,501.6,468.5,451.9,380.3,0,0,0,0]
["231-BP",0,0,413.4,0,402.3,385.8,413.4,424.4,0,515,515,446.4,363.8,347.2,281.10000000000002,281.10000000000002,210,0,0,413.4,242.5,292.10000000000002,413.4,0,0,413.4,474,474,369.3,369.3,369.3,281.10000000000002,270.10000000000002,0,0,0,0]
["231-DL",0,0,716.5,0,534.6,525,716.5,716.5,0,716.5,666.9,628.29999999999995,540.1,525,474,474,390,0,0,716.5,402.3,474,716.5,0,0,716.5,716.5,661.4,573.20000000000005,562.20000000000005,562.20000000000005,474,429.9,0,0,0,0]
["231-TL",0,0,1752.7,0,1355.8,1355.8,1752.7,1752.7,0,1870,1752.7,1697.6,1394.4,1394.4,1234.5999999999999,1234.5999999999999,900,0,0,1752.7,909.4,1168.4000000000001,1752.7,0,0,1752.7,1752.7,1659,1416.5,1383.4,1333.8,1190.5,1080.3,0,0,0,0]
["264-SQ",0,0,639.29999999999995,0,455,600.79999999999995,639.29999999999995,650,0,805,606.29999999999995,557.79999999999995,545.6,540.1,540.1,540.1,0,0,0,463,358.3,463,589.70000000000005,0,0,606.29999999999995,633.79999999999995,606.29999999999995,600.79999999999995,600.79999999999995,440.9,352.7,0,0,0,0,0]
["264-BP",0,0,518.1,0,226,479.5,518.1,518.1,0,565,451.9,418.9,393.5,341.7,341.7,341.7,0,0,0,369.3,216.1,292.10000000000002,429.9,0,0,374.8,474,451.9,435.4,396.8,336.2,336.2,0,0,0,0,0]
["264-DL",0,0,672.4,0,532.5,639.29999999999995,672.4,670,0,725,677.9,657,600.79999999999995,507.1,507.1,507.1,0,0,0,529.1,418.9,529.1,600.79999999999995,0,0,606.29999999999995,688.9,677.9,666.9,650.4,490.5,440.9,0,0,0,0,0]
["264-TL",0,0,1829.8,0,1212.5,1703.1,1829.8,1829.8,0,1935,1725.1,1632.5,1471.6,1355.8,1355.8,1355.8,0,0,0,1284.2,993.2,1284.2,1620.4,0,0,1444,1725.1,1725.1,1697.6,1648,1190.5,1129.9000000000001,0,0,0,0,0]
["264+-SQ",0,0,688.9,0,435.4,600,688.9,700,0,850,760.6,760.6,595,589.70000000000005,567.70000000000005,534.6,440.9,0,0,507.1,440.9,507.1,507.1,0,0,606.29999999999995,760.6,716.5,600.79999999999995,507.1,485,275.60000000000002,275.60000000000002,0,0,0,0]
["264+-BP",0,0,534.6,0,275.60000000000002,402.3,534.6,534.6,0,655.9,655.9,655.9,391.3,391.3,352.7,341.7,319.7,0,0,440.9,209.4,319.7,440.9,0,0,507.1,578.70000000000005,534.6,451.9,391.3,391.3,303.10000000000002,303.10000000000002,0,0,0,0]
["264+-DL",0,0,700,0,435.4,560,700,700,0,760.6,677.9,677.9,661.4,661.4,529.1,490.5,424.4,0,0,606.29999999999995,474,518.1,606.29999999999995,0,0,661.4,760.6,661.4,551.20000000000005,551.20000000000005,551.20000000000005,402.3,402.3,0,0,0,0]
["264+-TL",0,0,1923.5,0,1113.3,1550,1923.5,1923.5,0,2105.4,2022.7,2022.7,1631.4,1631.4,1449.5,1355.8,1174,0,0,1499.1,1124.4000000000001,1344.8,1499.1,0,0,1499.1,2066.8000000000002,1885,1603.9,1416.5,1399.9,981.1,981.1,0,0,0,0]
["66-BPO",0,0,0,0,0,0,0,0,0,0,0,0,0,0,0,0,0,0,0,0,0,0,0,0,0,0,0,0,0,0,0,0,0,0,0,0,0]
["77-BPO",0,0,0,0,0,0,0,0,0,0,0,0,0,0,0,0,0,0,0,0,0,0,0,0,0,0,0,0,0,0,0,0,0,0,0,0,0]
["88-BPO",0,0,0,0,0,0,0,0,0,0,0,0,0,0,0,0,0,0,0,0,0,0,0,0,110.2,0,0,0,0,0,0,0,0,0,0,0,0]
["97-BPO",0,0,0,0,0,0,0,0,0,0,0,0,0,0,0,0,0,0,0,0,0,0,0,0,88.2,0,0,0,0,0,0,0,0,0,0,0,0]
["105-BPO",0,0,0,0,0,0,0,0,0,0,0,0,0,0,0,0,0,0,0,0,0,0,0,0,127.9,0,0,0,0,0,0,0,0,0,0,0,0]
["116-BPO",0,0,240,165.3,165.3,200,240,0,0,0,0,0,0,0,0,0,0,0,0,165.3,165.3,165.3,165.3,165.3,0,165.3,0,0,0,0,0,0,0,0,0,0,0]
["130-BPO",0,0,209.4,0,170.9,209.4,209.4,275.60000000000002,0,280,231.5,231.5,0,0,0,0,0,0,0,209.4,170.9,209.4,209.4,0,127.9,209.4,237,203.9,203.9,0,0,0,0,0,0,0,0]
["145-BPO",0,0,220,143.30000000000001,203.9,210,264.60000000000002,314.2,0,351,270.10000000000002,270.10000000000002,270.10000000000002,270.10000000000002,0,0,0,0,0,203.9,203.9,215,281.10000000000002,143.30000000000001,0,325.2,341.7,270.10000000000002,270.10000000000002,270.10000000000002,270.10000000000002,0,0,0,0,0,0]
["163-BPO",0,0,325.2,215,270,305,325.2,325.2,0,380,315,292.10000000000002,292.10000000000002,240,281.10000000000002,281.10000000000002,281.10000000000002,159.80000000000001,0,325.2,242.5,270.10000000000002,341.7,215,215,347.2,347.2,292.10000000000002,292.10000000000002,292.10000000000002,276.7,281.10000000000002,281.10000000000002,281.10000000000002,159.80000000000001,143.30000000000001,0]
["183-BPO",0,0,347.2,215,281.10000000000002,347.2,347.2,425,0,479.5,479.5,479.5,468.5,347.2,347.2,286.60000000000002,220.5,220.5,0,347.2,270.10000000000002,347.2,358.3,215,215,358.3,380.3,359.4,359.4,358.3,308.60000000000002,286.60000000000002,286.60000000000002,203.9,203.9,0,0]
["205-BPO",0,0,380.3,0,300,380.3,380.3,407.9,0,485,515,424.4,424.4,358.3,336.2,308.60000000000002,308.60000000000002,137.80000000000001,137.80000000000001,380.3,0,380.3,380.3,0,0,407.9,435.4,363.8,363.8,358.3,358.3,308.60000000000002,308.60000000000002,308.60000000000002,137.80000000000001,137.80000000000001,115.7]
["231-BPO",0,0,413.4,0,402.3,385.8,413.4,424.4,0,525,525,463,374.8,330.7,308.60000000000002,281.10000000000002,210,0,0,413.4,242.5,292.10000000000002,413.4,0,0,418.9,474,474,391.3,369.3,369.3,308.60000000000002,270.10000000000002,0,0,0,0]
["264-BPO",0,0,518.1,0,297.60000000000002,479.5,518.1,518.1,0,565,501.6,424.4,424.4,391.3,369.3,363.8,0,0,0,369.3,216.1,358.3,429.9,0,0,463,497.1,451.9,435.4,396.8,391.3,369.3,0,0,0,0,0]
["264+-BPO",0,0,534.6,0,275.60000000000002,402.3,534.6,534.6,0,799.2,799.2,799.2,407.9,407.9,347.2,347.2,314.2,0,0,440.9,209.4,319.7,440.9,0,0,507.1,606.29999999999995,534.6,451.9,407.9,407.9,341.7,303.10000000000002,0,0,0,0]
["66-DLO",0,0,0,0,0,0,0,0,0,0,0,0,0,0,0,0,0,0,0,0,0,0,0,0,0,0,0,0,0,0,0,0,0,0,0,0,0]
["77-DLO",0,0,0,0,0,0,0,0,0,0,0,0,0,0,0,0,0,0,0,0,0,0,0,0,0,0,0,0,0,0,0,0,0,0,0,0,0]
["88-DLO",0,0,0,0,0,0,0,0,0,0,0,0,0,0,0,0,0,0,0,0,0,0,0,0,0,0,0,0,0,0,0,0,0,0,0,0,0]
["97-DLO",0,0,0,0,0,0,0,0,0,0,0,0,0,0,0,0,0,0,0,0,0,0,0,0,0,0,0,0,0,0,0,0,0,0,0,0,0]
["105-DLO",0,0,0,0,0,0,0,0,0,0,0,0,0,0,0,0,0,0,0,0,0,0,0,0,0,0,0,0,0,0,0,0,0,0,0,0,0]
["116-DLO",0,0,0,0,0,0,0,0,0,0,0,0,0,0,0,0,0,0,0,0,0,0,0,0,0,0,0,0,0,0,0,0,0,0,0,0,0]
["130-DLO",0,0,0,0,0,0,0,0,0,0,0,0,0,0,0,0,0,0,0,0,0,0,0,0,0,0,0,0,0,0,0,0,0,0,0,0,0]
["145-DLO",0,0,0,0,0,0,0,0,0,0,0,0,0,0,0,0,0,0,0,0,0,0,0,0,0,0,0,0,0,0,0,0,0,0,0,0,0]
["163-DLO",0,0,0,0,0,0,0,0,0,0,0,0,0,0,0,0,0,0,0,0,0,0,0,0,0,0,0,0,0,0,0,0,0,0,0,0,0]
["183-DLO",0,0,0,0,0,0,0,0,0,551.20000000000005,551.20000000000005,551.20000000000005,0,0,0,0,0,0,0,0,0,0,0,0,0,0,0,0,0,0,0,0,0,0,0,0,0]
["205-DLO",0,0,0,0,0,0,0,529.1,0,529.1,0,0,0,0,0,0,0,0,0,0,0,0,0,0,0,0,0,0,0,0,0,0,0,0,0,0,0]
["231-DLO",0,0,0,0,0,0,0,0,0,0,0,0,0,0,0,0,0,0,0,0,0,0,0,0,0,0,0,0,0,0,0,0,0,0,0,0,0]
["264-DLO",0,0,0,0,0,0,0,0,0,0,0,0,0,0,0,0,0,0,0,0,0,0,0,0,0,0,0,0,0,0,0,0,0,0,0,0,0]
["264+-DLO",0,0,0,0,0,0,0,0,0,0,0,0,0,0,0,0,0,0,0,0,0,0,0,0,0,0,0,0,0,0,0,0,0,0,0,0,0]
["66-SQ",0,0,0,0,0,0,0,0,0,0,0,0,0,0,0,0,0,0,0,0,0,0,0,0,0,0,0,0,0,0,0,0,0,0,0,0,0]
["66-BP",0,0,0,0,0,0,0,0,0,0,0,0,0,0,0,0,0,0,0,0,0,0,0,0,0,0,0,0,0,0,0,0,0,0,0,0,0]
["66-DL",0,0,0,0,0,0,0,0,0,0,0,0,0,0,0,0,0,0,0,0,0,0,0,0,0,0,0,0,0,0,0,0,0,0,0,0,0]
["66-TL",0,0,0,0,0,0,0,0,0,0,0,0,0,0,0,0,0,0,0,0,0,0,0,0,0,0,0,0,0,0,0,0,0,0,0,0,0]
["77-SQ",0,0,0,0,0,0,0,0,0,0,0,0,0,0,0,0,0,0,0,0,0,0,0,0,0,0,0,0,0,0,0,0,0,0,0,0,0]
["77-BP",0,0,0,0,0,0,0,0,0,0,0,0,0,0,0,0,0,0,0,0,0,0,0,0,0,0,0,0,0,0,0,0,0,0,0,0,0]
["77-DL",0,0,0,0,0,0,0,0,0,0,0,0,0,0,0,0,0,0,0,0,0,0,0,0,0,0,0,0,0,0,0,0,0,0,0,0,0]
["77-TL",0,0,0,0,0,0,0,0,0,0,0,0,0,0,0,0,0,0,0,0,0,0,0,0,0,0,0,0,0,0,0,0,0,0,0,0,0]
["88-SQ",0,0,0,0,0,0,0,0,0,0,0,0,0,0,0,0,0,0,0,0,0,0,0,0,0,0,0,0,0,0,0,0,0,0,0,0,0]
["88-BP",0,0,0,0,0,0,0,0,0,0,0,0,0,0,0,0,0,0,0,0,0,0,0,0,0,0,0,0,0,0,0,0,0,0,0,0,0]
["88-DL",0,0,0,0,0,0,0,0,0,0,0,0,0,0,0,0,0,0,0,0,0,0,0,0,0,0,0,0,0,0,0,0,0,0,0,0,0]
["88-TL",0,0,0,0,0,0,0,0,0,0,0,0,0,0,0,0,0,0,0,0,0,0,0,0,0,0,0,0,0,0,0,0,0,0,0,0,0]
["94-SQ",0,0,0,0,0,0,0,0,0,0,0,0,0,0,0,0,0,0,0,0,0,0,0,0,0,0,0,0,0,0,0,0,0,0,0,0,0]
["94-BP",0,0,0,0,0,0,0,0,0,0,0,0,0,0,0,0,0,0,0,0,0,0,0,0,0,0,0,0,0,0,0,0,0,0,0,0,0]
["94-DL",0,0,0,0,0,0,0,0,0,0,0,0,0,0,0,0,0,0,0,0,0,0,0,0,0,0,0,0,0,0,0,0,0,0,0,0,0]
["94-TL",0,0,0,0,0,0,0,0,0,0,0,0,0,0,0,0,0,0,0,0,0,0,0,0,0,0,0,0,0,0,0,0,0,0,0,0,0]
["103-SQ",0,0,242.5,104.7,110.2,110.2,242.5,242.5,0,259,0,0,0,0,0,0,0,0,0,242.5,110.2,110.2,242.5,104.7,0,242.5,287.7,0,0,0,0,0,0,0,0,0,0]
["103-BP",0,0,137.80000000000001,77.2,82.7,82.7,80,137.80000000000001,0,143.30000000000001,0,0,0,0,0,0,0,0,0,137.80000000000001,82.7,82.7,137.80000000000001,77.2,0,137.80000000000001,155.4,0,0,0,0,0,0,0,0,0,0]
["103-DL",0,0,231.5,148.80000000000001,159.80000000000001,159.80000000000001,231.5,231.5,0,352.7,0,0,0,0,0,0,0,0,0,231.5,159.80000000000001,159.80000000000001,231.5,148.80000000000001,0,264.60000000000002,371.5,0,0,0,0,0,0,0,0,0,0]
["103-TL",0,0,611.79999999999995,330.7,352.7,352.7,611.79999999999995,611.79999999999995,0,755.1,0,0,0,0,0,0,0,0,0,611.79999999999995,352.7,352.7,611.79999999999995,330.7,0,611.79999999999995,814.6,0,0,0,0,0,0,0,0,0,0]
["114-SQ",0,0,198.4,137.80000000000001,198.4,198.4,190,215,0,270.10000000000002,185,104.7,104.7,0,0,0,0,0,0,198.4,198.4,187.4,198.4,137.80000000000001,0,259,270.10000000000002,104.7,104.7,104.7,0,0,0,0,0,0,0]
["114-BP",0,0,115.7,82.7,115.7,104.7,110.2,154.30000000000001,0,154.30000000000001,105,95,95,0,0,0,0,0,0,115.7,115.7,104.7,110.2,82.7,0,165.3,165.3,71.7,71.7,71.7,0,0,0,0,0,0,0]
["114-DL",0,0,270.10000000000002,198.4,264.60000000000002,264.60000000000002,270.10000000000002,303.10000000000002,0,348.3,210,205,205,0,0,0,0,0,0,270.10000000000002,264.60000000000002,220.5,270.10000000000002,198.4,0,303.10000000000002,348.3,159.80000000000001,159.80000000000001,159.80000000000001,0,0,0,0,0,0,0]
["114-TL",0,0,567.70000000000005,418.9,567.70000000000005,567.70000000000005,567.70000000000005,650.4,0,767.2,500,400,400,0,0,0,0,0,0,567.70000000000005,567.70000000000005,507.1,567.70000000000005,418.9,0,744.1,767.2,336.2,336.2,336.2,0,0,0,0,0,0,0]
["125-SQ",0,0,187.4,0,187.4,187.4,187.4,231.5,0,300,260,154.30000000000001,0,154.30000000000001,0,0,0,0,0,187.4,187.4,192.9,231.5,0,0,253.5,286.60000000000002,237,237,215,154.30000000000001,0,0,0,0,0,0]
["125-BP",0,0,115.7,0,115.7,115.7,115.7,115.7,0,176.4,140,99.2,0,0,0,0,0,0,0,115.7,115.7,126.8,126.8,0,0,154.30000000000001,176.4,137.80000000000001,137.80000000000001,137.80000000000001,0,0,0,0,0,0,0]
["125-DL",0,0,264.60000000000002,0,264.60000000000002,264.60000000000002,264.60000000000002,314.2,0,340,300,215,0,0,0,0,0,0,0,264.60000000000002,264.60000000000002,281.10000000000002,281.10000000000002,0,0,314.2,336.2,281.10000000000002,281.10000000000002,253.5,0,0,0,0,0,0,0]
["125-TL",0,0,567.70000000000005,0,567.70000000000005,567.70000000000005,567.70000000000005,650.4,0,790,700,468.5,0,0,0,0,0,0,0,567.70000000000005,567.70000000000005,600.79999999999995,600.79999999999995,0,0,677.9,788.2,650.4,650.4,606.29999999999995,0,0,0,0,0,0,0]
["138-SQ",0,0,275.60000000000002,137.80000000000001,235,0,275.60000000000002,402.3,0,402.3,176.4,200,148.80000000000001,0,0,0,0,0,0,275.60000000000002,137.80000000000001,192.9,275.60000000000002,137.80000000000001,0,314.2,330.7,330.7,148.80000000000001,148.80000000000001,0,0,0,0,0,0,0]
["138-BP",0,0,110.2,71.7,100,0,110.2,209.4,0,330.7,312,110,104.7,0,0,0,0,0,0,110.2,71.7,132.30000000000001,132.30000000000001,71.7,0,170.9,314.2,314.2,104.7,104.7,0,0,0,0,0,0,0]
["138-DL",0,0,286.60000000000002,165.3,205,0,286.60000000000002,402.3,0,446.4,209.4,226,226,0,0,0,0,0,0,286.60000000000002,165.3,253.5,286.60000000000002,165.3,0,374.8,446.4,209.4,226,226,0,0,0,0,0,0,0]
["138-TL",0,0,672.4,374.8,540,0,672.4,1014.1,0,1151.9000000000001,1071.4000000000001,520,479.5,0,0,0,0,0,0,672.4,374.8,578.70000000000005,672.4,374.8,0,848.8,1080.3,1080.3,479.5,479.5,0,0,0,0,0,0,0]
["158-SQ",0,0,187.4,0,175,180,187.4,352.7,0,352.7,275.60000000000002,264.60000000000002,192.9,203.9,154.30000000000001,0,0,0,0,187.4,115.7,198.4,198.4,0,0,352.7,352.7,330.7,303.10000000000002,303.10000000000002,215,187.4,0,0,0,0,0]
["158-BP",0,0,126.8,0,75,126.8,126.8,192.9,0,192.9,165.3,165.3,121.3,115.7,93.7,0,0,0,0,126.8,55.1,126.8,126.8,0,0,192.9,203.9,176.4,176.4,176.4,126.8,104.7,0,0,0,0,0]
["158-DL",0,0,275.60000000000002,0,215,275.60000000000002,275.60000000000002,391.3,0,391.3,341.7,341.7,259,226,226,0,0,0,0,275.60000000000002,137.80000000000001,275.60000000000002,275.60000000000002,0,0,413.4,413.4,391.3,380.3,380.3,242.5,226,0,0,0,0,0]
["158-TL",0,0,567.70000000000005,0,465,567.70000000000005,567.70000000000005,937,0,937,782.6,771.6,584.20000000000005,501.6,474,0,0,0,0,567.70000000000005,286.60000000000002,567.70000000000005,567.70000000000005,0,0,942.5,942.5,898.4,859.8,859.8,584.20000000000005,518.1,0,0,0,0,0]
["185-SQ",0,0,360,77.2,235,360,237,360,0,534.6,534.6,534.6,290,187.4,145,0,0,0,0,104.7,77.2,104.7,104.7,77.2,0,270.10000000000002,341.7,303.10000000000002,292.10000000000002,231.5,187.4,0,0,0,0,0,0]
["185-BP",0,0,132.30000000000001,88.2,105,130,132.30000000000001,154.30000000000001,0,402.3,402.3,402.3,150,150,80,0,0,0,0,88.2,88.2,88.2,88.2,88.2,0,154.30000000000001,275.60000000000002,275.60000000000002,275.60000000000002,165.3,99.2,0,0,0,0,0,0]
["185-DL",0,0,310,226,310,280,286.60000000000002,314.2,0,479.5,479.5,479.5,325,325,200,0,0,0,0,237,226,237,237,226,0,319.7,385.8,363.8,363.8,292.10000000000002,220.5,0,0,0,0,0,0]
["185-TL",0,0,770,391.3,650,770,655.9,770,0,1416.5,1416.5,1416.5,765,765,425,0,0,0,0,418.9,391.3,418.9,418.9,391.3,0,733,887.4,887.4,810.2,683.4,507.1,0,0,0,0,0,0]
["185+-SQ",0,0,248,0,0,248,248,330.7,0,365,286.60000000000002,104.7,104.7,0,0,0,0,0,0,248,270.10000000000002,270.10000000000002,270.10000000000002,0,0,330.7,418.9,411.2,104.7,104.7,82.7,82.7,82.7,82.7,82.7,82.7,82.7]
["185+-BP",0,0,148.80000000000001,0,0,148.80000000000001,148.80000000000001,215,0,242.5,242.5,93.7,93.7,0,0,0,0,0,0,148.80000000000001,137.80000000000001,148.80000000000001,148.80000000000001,0,0,215,242.5,242.5,121.3,121.3,121.3,121.3,121.3,121.3,121.3,121.3,121.3]
["185+-DL",0,0,264.60000000000002,0,0,264.60000000000002,264.60000000000002,413.4,0,424.4,341.7,248,248,0,0,0,0,0,0,264.60000000000002,286.60000000000002,286.60000000000002,286.60000000000002,0,0,413.4,429.9,341.7,248,248,198.4,198.4,198.4,198.4,198.4,198.4,198.4]
["185+-TL",0,0,700,0,0,700,700,914.9,0,1008.6,1008.6,446.4,446.4,0,0,0,0,0,0,700,694.5,700,700,0,0,914.9,1022.9,1022.9,446.4,446.4,402.3,402.3,402.3,402.3,402.3,402.3,402.3]
["66-BPO",0,0,0,0,0,0,0,0,0,0,0,0,0,0,0,0,0,0,0,0,0,0,0,0,0,0,0,0,0,0,0,0,0,0,0,0,0]
["77-BPO",0,0,0,0,0,0,0,0,0,0,0,0,0,0,0,0,0,0,0,0,0,0,0,0,0,0,0,0,0,0,0,0,0,0,0,0,0]
["88-BPO",0,0,0,0,0,0,0,0,0,0,0,0,0,0,0,0,0,0,0,0,0,0,0,0,0,0,0,0,0,0,0,0,0,0,0,0,0]
["94-BPO",0,0,0,0,0,0,0,0,0,0,0,0,0,0,0,0,0,0,0,0,0,0,0,0,0,0,0,0,0,0,0,0,0,0,0,0,0]
["103-BPO",0,0,137.80000000000001,77.2,82.7,82.7,80,137.80000000000001,0,143.30000000000001,115.7,115.7,115.7,115.7,115.7,0,0,0,0,137.80000000000001,82.7,82.7,137.80000000000001,77.2,0,137.80000000000001,155.4,115.7,115.7,115.7,115.7,115.7,0,0,0,0,0]
["114-BPO",0,0,115.7,82.7,115.7,104.7,115.7,154.30000000000001,0,154.30000000000001,105,99.2,99.2,82.7,82.7,0,0,0,0,115.7,115.7,104.7,110.2,82.7,0,165.3,165.3,99.2,99.2,99.2,82.7,82.7,0,0,0,0,0]
["125-BPO",0,0,115.7,0,115.7,115.7,115.7,115.7,0,209.4,140,110.2,110.2,110.2,93.7,0,0,0,0,115.7,115.7,126.8,126.8,0,0,154.30000000000001,187.4,137.80000000000001,137.80000000000001,137.80000000000001,93.7,93.7,0,0,0,0,0]
["138-BPO",0,0,126.8,71.7,104.7,126.8,126.8,209.4,0,330.7,312,110,104.7,0,0,0,0,0,0,110.2,71.7,132.30000000000001,132.30000000000001,71.7,0,170.9,314.2,314.2,104.7,104.7,0,0,0,0,0,0,0]
["158-BPO",0,0,154.30000000000001,0,75,132.30000000000001,154.30000000000001,192.9,0,192.9,165.3,165.3,121.3,115.7,93.7,0,0,0,0,126.8,55.1,126.8,126.8,0,0,192.9,203.9,176.4,176.4,176.4,126.8,104.7,0,0,0,0,0]
["185-BPO",0,0,165.3,88.2,105,165.3,132.30000000000001,165.3,0,402.3,402.3,402.3,150,150,80,0,0,0,0,88.2,88.2,88.2,88.2,88.2,0,154.30000000000001,275.60000000000002,275.60000000000002,275.60000000000002,176.4,99.2,0,0,0,0,0,0]
["185+-BPO",0,0,148.80000000000001,0,126.8,148.80000000000001,148.80000000000001,253.5,0,347.2,347.2,347.2,132.30000000000001,0,0,0,0,0,0,148.80000000000001,137.80000000000001,148.80000000000001,148.80000000000001,0,0,253.5,253.5,242.5,215,132.30000000000001,121.3,121.3,121.3,121.3,121.3,121.3,121.3]
["66-DLO",0,0,0,0,0,0,0,0,0,0,0,0,0,0,0,0,0,0,0,0,0,0,0,0,0,0,0,0,0,0,0,0,0,0,0,0,0]
["77-DLO",0,0,0,0,0,0,0,0,0,0,0,0,0,0,0,0,0,0,0,0,0,0,0,0,0,0,0,0,0,0,0,0,0,0,0,0,0]
["88-DLO",0,0,0,0,0,0,0,0,0,0,0,0,0,0,0,0,0,0,0,0,0,0,0,0,0,0,0,0,0,0,0,0,0,0,0,0,0]
["94-DLO",0,0,0,0,0,0,0,0,0,0,0,0,0,0,0,0,0,0,0,0,0,0,0,0,0,0,0,0,0,0,0,0,0,0,0,0,0]
["103-DLO",0,0,0,0,0,0,0,0,0,0,0,0,0,0,0,0,0,0,0,0,0,0,0,0,0,0,0,0,0,0,0,0,0,0,0,0,0]
["114-DLO",0,0,0,0,0,0,0,0,0,0,0,0,0,0,0,0,0,0,0,0,0,0,0,0,0,0,0,0,0,0,0,0,0,0,0,0,0]
["125-DLO",0,0,0,0,0,0,0,0,0,0,0,0,0,0,0,0,0,0,0,0,0,0,0,0,0,0,0,0,0,0,0,0,0,0,0,0,0]
["138-DLO",0,0,0,0,0,0,0,402.3,0,402.3,0,0,0,0,0,0,0,0,0,0,0,0,0,0,0,0,0,0,0,0,0,0,0,0,0,0,0]
["158-DLO",0,0,0,0,0,0,0,0,0,0,0,0,0,0,0,0,0,0,0,0,0,0,0,0,0,0,0,0,0,0,0,0,0,0,0,0,0]
["185-DLO",0,0,0,0,0,0,0,0,0,479.5,479.5,479.5,0,0,0,0,0,0,0,0,0,0,0,0,0,0,0,0,0,0,0,0,0,0,0,0,0]
["185+-DLO",0,0,0,0,0,0,0,0,0,0,0,0,0,0,0,0,0,0,0,0,0,0,0,0,0,0,0,0,0,0,0,0,0,0,0,0,0]

{"sheet":"Quick-Reference","index":12,"n_rows":40,"n_cols":7,"rows_kept":40,"cut":false,"hidden":false,"merged":[]}
[null,null,null,null,null,null,"Quick Reference Sheet"]
[null,null,null,null,null,null,"video tutorial:  https://www.youtube.com/watch?v=o-PyI1n_EMI"]
[]
[null,"1.      Setup sheet"]
[null,"a.      Reset for New Contest"]
[null,"b.      Contest Name"]
[null,"c.       Select type of meet from the drop down menu."]
[null,"d.      Select Lb or Kg and use drop downs to enter the actual weights on the platform"]
[null,"e.      Enter Divisions – Abbreviation, Description, Placing code "]
[null,"f.       Enter Teams & Abbreviations"]
[null,"g.      Enter Flights/Groups you will use in your contest"]
[null,"h.      Select the weight of bar & collars"]
[null,"i.        Lifter Body Weight in pounds or kilos, and IPF or USAPL High School weight classes "]
[null,"j.        Click the link just below Update USAPL Records to update the USAPL  or state records prior to your meet (internet must be available)."]
[null,"k.      Create Web Scoreboard File for live scoring on the web."]
[null,"2.      Before the contest, insert your Contest logo into the Awards sheet - change font, background and text colors."]
[null,"3.      Clock software - Ensure it is loaded on the scoring computer before the contest."]
[null,"4.      Weigh-in sheet"]
[null,"a.      If you copy/paste data into the Weigh-in sheet, paste Values only to preserve formatting and validation.  Red Text indicates an error."]
[null,"b.      Print Speaker Cards"]
[null,"                                                     i.     Click Print Cards button on Weigh-in sheet to print cards with data"]
[null,"                                                   ii.     For blank cards, go to the SpeakersCard sheet and click Print Blank Cards"]
[null,"c.       Do not leave blank rows between Lifters"]
[null,"d.      Click the button to copy weighed-in athletes to the Lifting sheet"]
[null,"5.      Lifting sheet"]
[null,"a.      Select the 1st flight/group from the pulldown in cell A11"]
[null,"b.      Select Squat 1, Benchpress 1 or Deadlift 1 from the pulldown"]
[null,"c.       Select Next Auto, Next Delay 2, Next Man"]
[null,"                                                     i.     Auto for regular contests"]
[null,"                                                   ii.     Delay for livestreamed contests – then select a Delay time (2-5 seconds)"]
[null,"                                                  iii.     Man for manual advance during 3rd attempts – then click Next to advance to the next lifter"]
[null,"d.      Click Good or NoLift"]
[null,"e.      Use Ctrl + G (good) or Ctrl + N (no-lift) to go back and fix an incorrect entry"]
[null,"f.       Add DQ to Events Entered column for disqualified lifters.  Add DT to the events for a drug tested lifter."]
[null,"g.      Re-attempts - type the weight in the cell when a re-attempt is granted"]
[null,"                                                     i.     Use the dropdown menu in the name block (cell A1) to select a lifter for a re-attempt "]
[null,"h.      Printouts - Use the dropdown menu next to the printer icon to select the type of printout desired – click the printer icon to print"]
[null,"i.        Select Sorted Results at the end of the lifting session for a sorted printout (this step is necessary to load data for the Awards sheet.  Have the refs sign a printout of this sheet."]
[null,"6.      Awards sheet.  Use the dropdown menu to select the awards to display (only the divisions, weight classes, and events actually used in the contest will be in the menu)"]
[null,"7.      On the Setup page click Generate Results File and use Meet Results Upload tool to transmit the results file to the USA Powerlifting results database."]